{"text_format":"1","workbook":"xlsx","n_sheets":24,"sheets":["Instructions","Definitions","General Information","Multiple Buildings Details","Schedules","EFLH Calculator","Multifamily Details","Opaque Assemblies","Shading and Fenestration","Envelope Assumptions","Lighting","Lighting Assumptions","Process Loads","Service Water Heating","General HVAC","Air-Side HVAC","Water-Side HVAC","Performance_Outputs_1","Performance_Outputs_0","Performance_Outputs_Summary","Summary","DropdownData","HVAC Lookup","District Energy Path 3"],"not_rendered":{"charts":0,"images":1,"macros":1,"external_links":1,"defined_names":596,"comments":4,"pivot_tables":0},"unopened":[],"bounds":{"document_bytes":16777216,"sheet_cells":100000,"rows_first":2000,"rows_last":500,"rows_between":2000,"halvings":0,"cell_chars":16384,"cell_head_chars":4096},"cells_cut":0,"cells_raw":0,"read":"whole","date_system":"1900"}

{"sheet":"Instructions","index":0,"n_rows":85,"n_cols":10,"rows_kept":85,"cut":false,"hidden":false,"merged":[[2,4,2,5],[13,4,13,5],[16,4,16,5],[5,4,5,5],[17,4,17,5],[3,4,3,5],[6,4,6,5]]}
[]
[]
[null,null,null,null,"Minimum Energy Performance Calculator\nLEED v4 EA Prerequisite Minimum Energy Performance and EA Credit Optimize Energy Performance"]
[null,null,null,null,"2016-01-06"]
[null,null,null,null,"INSTRUCTIONS:"]
[null,null,null,null,"Complete this calculator to document the LEED Minimum Energy Performance prerequisite when using ASHRAE 90.1-2010 or a LEED approved alternative energy standard)."]
[null,null,null,null,"Note: This calculator shall be used for any LEED 2009 project using the ASHRAE 90.1-2010 pathway (via LEED\n Interpretation #10421."]
[]
[null,null,null,null,"Step 1."]
[null,null,null,null,"Enable macros."]
[null,null,null,null,"Note: This calculator is for use with Excel for Mac 2011 and Excel 2007 or later."]
[]
[null,null,null,null,"Step 2."]
[null,null,null,null,"Complete all sheets. \n\nComplete the General Info tab before completing any other tabs, since this will show or hide rating system specific information, and other project-specific information. \n\nIf the project has multiple buildings, complete the Multiple Buildings Details tab second.\n\nThen continue by filling out all additional tabs.\nThese sheets are intended to assist energy modelers in developing the ASHRAE 90.1 Appendix G building energy models. The inputs include specific information about the baseline and proposed ASHRAE 90.1-2010 Appendix G modeling requirements, and provide the energy modeler with quality control checks for the energy modeling inputs and outputs. These sheets provide the greatest value to the project team if they are completed during the design process, with involvement from the building owner, architect(s), and engineer(s). Prior to LEED submission, the energy modeler should confirm that the energy model inputs listed are consistent with those modeled, and provide quality control (QC) to confirm that the outputs are reasonable based on the energy inputs listed.  \n\nNote: If the energy modeler and project team waits to fill out the spreadsheet until near the completion of the building design, the team may discover some ASHRAE 90.1 mandatory requirements that have been overlooked, modeling requirements that have not been addressed, and additional time may be required to revise the model and show compliance."]
[]
[null,null,null,null,"Step 3."]
[null,null,null,null,"Upload the completed spreadsheet to LEED Online in Excel (*.xlsm) format.  Complete any related summary fields in the LEED prerequisite form and provide all additional required uploads along with the results of the calculator\n"]
[null,null,null,null,"Note: For LEED 2009 projects using ASHRAE 90.1-2010 via LEED Interpretation #10421, provide the following sections of the LEED prerequisite form:\n\n1. Target Finder.\n2. Check the additional details checkbox: \"The project team is using an alternative compliance approach...\"\n3. For the \"Alternative Compliance Path\" narrative, reference LEED Interpretation #10421.\n4. For the \"Alternative Compliance Path\" uploads, provide:\n    a. The ASHRAE 90.1-2010 Mandatory measures checklist, or a document confirming compliance with all \n         mandatory measures of ASHRAE 90.1-2010 or LEED approved alternative standard.\n    b. This completed spreadsheet in Excel (*.xlsm) format.\n    c. Upload of Target Finder results.\n    d. Upload of the following energy simulation reports for the proposed and 0 degree baseline buildings.\n        (1) A sample of the wall, roof, floor, and window assembly inputs showing U-values and window SHGC,\n             as well as the infiltration for a few representative spaces\n        (2) Sample lighting and plug load inputs for a few representative spaces\n        (3) Sample inputs at the thermal zone, system, and plant level (as applicable) for each system type, including\n              the cooling, heating, fans, controls, outside air, and service water heating system\n        (4) Inputs for the utility tariffs, if there is a variance of at least 10% between the baseline and proposed virtual \n              rates, or if the percentage consumption savings for each non-electric utility varies by more than 5% from the \n              percentage consumption savings for the electric utility.\n        (5) Output summary report of energy consumption by end use and fuel source\n        (6) Output summary report of total energy consumption and cost by fuel source\n"]
[]
[null,null,null,null,null,null,null,null,"UfactorMethod"]
[null,null,null,null,null,null,"V02",null,"NFRC testing for site-assembled fenestration"]
[null,null,null,null,null,null,"Copyright © 2012",null,"NFRC testing for manufactured fenestration assemblies"]
[null,null,null,null,null,null,"U.S. Green Building Council",null,"Table A8.2 (windows) and Table A8.1 (skylights)"]
[null,null,null,null,null,null,"All Rights Reserved",null,"LBNL Window 5 or Window 6 calculations"]
[null,null,null,null,null,null,null,null,"Energy simulation includes separate frame and glazing"]
[null,null,null,null,null,null,null,null,"Other (Describe)"]
[]
[null,null,null,null,null,null,null,null,"General HVAC drop-down"]
[null,null,null,null,null,null,null,null,"All equipment in the unfinished spaces not included in the project scope of work has been modeled identically in the Baseline and Proposed case using the Baseline modeling requirements"]
[null,null,null,null,null,null,null,null,"Credit has been modeled in the Proposed case for energy efficiency measures that are specifically identified in signed tenant sales and lease agreements (LEED Core & Shell only.  New Construction must be modeled identically in the Baseline and Proposed Case)."]
[]
[null,null,null,null,null,null,null,null,"Opaque Envelope - Construction"]
[null,null,null,null,null,null,null,null,"New"]
[null,null,null,null,null,null,null,null,"Existing"]
[]
[null,null,null,null,null,null,null,null,"Opaque Envelope - Space Conditioning"]
[null,null,null,null,null,null,null,null,"Nonresidential"]
[null,null,null,null,null,null,null,null,"Residential"]
[null,null,null,null,null,null,null,null,"Semiheated"]
[null,null,null,null,null,null,null,null,"Unconditioned"]
[]
[null,null,null,null,null,null,null,null,"Climate Zone"]
[null,null,null,null,null,null,null,null,"1A"]
[null,null,null,null,null,null,null,null,"1B"]
[null,null,null,null,null,null,null,null,"2A"]
[null,null,null,null,null,null,null,null,"2B"]
[null,null,null,null,null,null,null,null,"3A"]
[null,null,null,null,null,null,null,null,"3B"]
[null,null,null,null,null,null,null,null,"3C"]
[null,null,null,null,null,null,null,null,"4A"]
[null,null,null,null,null,null,null,null,"4B"]
[null,null,null,null,null,null,null,null,"4C"]
[null,null,null,null,null,null,null,null,"5A"]
[null,null,null,null,null,null,null,null,"5B"]
[null,null,null,null,null,null,null,null,"5C"]
[null,null,null,null,null,null,null,null,"6A"]
[null,null,null,null,null,null,null,null,"6B"]
[null,null,null,null,null,null,null,null,"7A"]
[null,null,null,null,null,null,null,null,"7B"]
[null,null,null,null,null,null,null,null,8]
[]
[null,null,null,null,null,null,null,null,"Air-Side HVAC adjustment drop-down (IP)","SI"]
[null,null,null,null,null,null,null,null,0.5,125]
[null,null,null,null,null,null,null,null,2.15,535]
[]
[null,null,null,null,null,null,null,null,"LEED Rating System"]
[null,null,null,null,null,null,null,null,"LEED v4 BD+C: New Construction"]
[null,null,null,null,null,null,null,null,"LEED v4 BD+C: Core and Shell"]
[null,null,null,null,null,null,null,null,"LEED v4 BD+C: Schools"]
[null,null,null,null,null,null,null,null,"LEED v4 BD+C: Retail"]
[null,null,null,null,null,null,null,null,"LEED v4 BD+C: Data Centers"]
[null,null,null,null,null,null,null,null,"LEED v4 BD+C: Warehouses and Distribution Centers"]
[null,null,null,null,null,null,null,null,"LEED v4 BD+C: Hospitality"]
[null,null,null,null,null,null,null,null,"LEED v4 BD+C: Healthcare"]
[null,null,null,null,null,null,null,null,"LEED v4 ID+C: Commercial Interiors"]
[null,null,null,null,null,null,null,null,"LEED v4 ID+C: Retail"]
[null,null,null,null,null,null,null,null,"LEED v4 ID+C: Hospitality"]
[null,null,null,null,null,null,null,null,"LEED v4 BD+C: Multifamily Midrise"]
[null,null,null,null,null,null,null,null,"LEED v4: Neighborhood Development"]
[]
[null,null,null,null,null,null,null,null,"LEED project phase completeness"]
[null,null,null,null,null,null,null,null,"90% Construction Documents"]
[null,null,null,null,null,null,null,null,"100% Construction Documents"]
[null,null,null,null,null,null,null,null,"As-built Construction Documents"]
[null,null,null,null,null,null,null,null,"Other - Please Describe"]

{"sheet":"Definitions","index":1,"n_rows":18,"n_cols":3,"rows_kept":18,"cut":false,"hidden":false,"merged":[]}
[]
[null,"DEFINITIONS"]
[]
[]
[null,"baseline building performance","The annual energy cost for a building design, used as a baseline for comparison with above-standard design"]
[]
[null,"combined heat and power","An integrated system that captures the heat, otherwise unused, generated by a single fuel source in the production of electrical power. Also known as cogeneration. (Adapted from U.S. Environmental Protection Agency)"]
[null,"district energy system (DES)","A central energy conversion plant and transmission and distribution system that provides thermal energy to a group of buildings (e.g., a central cooling plant on a university campus). It does not include central energy systems that provide only electricity."]
[null,"DES: downstream equipment","The heating and cooling systems, equipment, and controls located in the project building or on the project site and associated with transporting the thermal energy of the district energy system (DES) into heated and cooled spaces. Downstream equipment includes the thermal connection or interface with the DES, secondary distribution systems in the building, and terminal units."]
[null,"DES: upstream equipment","A heating or cooling system or control associated with the district energy system (DES) but not part of the thermal connection or interface with the DES. Upstream equipment includes the thermal energy conversion plant and all the transmission and distribution equipment associated with transporting the thermal energy to the project building or site."]
[null,"DES Modeling Paths:"]
[null,"DES Path 1: ASHRAE 90.1-2010","Purchased heating and cooling (as applicable) are modeled as cost-neutral in the baseline and proposed case. Local rates for purchased heating and cooling are used to establish the purchased heating and cooling costs. The energy model's scope accounts for only downstream equipment, plus purchased heating and cooling. (Refer to ASHRAE 90.1-2010 for details)."]
[null,"DES Path 2: Full DES Performance Accounting","A virtual DES-equivalent plant for the Proposed case is constructed and compared to code-compliant on-site equipment for the Baseline Case. The Baseline case system type is modeled consistent with an on-site system in ASHRAE 90.1 Appendix G. Average efficiencies for the proposed case are modeled or monitored. (Refer to the LEED v4 Building Design & Constrution Reference Guide, Minimum Energy Performance Prerequisite for details.)"]
[null,"DES Path 3: Streamlined DES Modeling","The district thermal energy is metered in both the Baseline and Proposed Case models and reported in this spreadsheet. This spreadsheet assigns default average efficiencies for the baseline case calculated using ASHRAE 90.1-2010 prescriptive requirements for DES equipment. Average efficiencies for the proposed case are modeled or monitored. (Refer to the LEED v4 Building Design & Constrution Reference Guide, Minimum Energy Performance Prerequisite for details.)"]
[null,"IT annual energy","Dlectricity consumption by information technology and telecom equipment which includes servers, networking, and storage equipment over the course of a year"]
[null,"Power Utilization Effectiveness (PUE)","a measure of how efficiently a data center uses its power; specifically, how much power is used by computing equipment rather than for cooling and other overhead"]
[null,"Regulated load","Any building end use that has either a mandatory or a prescriptive requirement in ANSI/ASHRAE/IES Standard 90.1–2007"]
[null,"Server input","the information technology (IT) load as measured at the point of connection (e.g., power receptacle ) of the IT device to the electrical power system. Server input captures the actual power load of the IT device exclusive of any power distribution losses and non-IT loads (e.g., rack-mounted fans)."]

{"sheet":"General Information","index":2,"n_rows":70,"n_cols":13,"rows_kept":70,"cut":false,"hidden":false,"merged":[[3,1,3,5],[41,2,41,5],[45,2,45,5],[43,2,43,5],[50,1,50,5],[47,2,47,5],[49,1,49,5],[5,4,5,5],[7,4,7,5],[36,2,36,5],[38,1,38,5],[39,1,39,5],[9,4,9,5],[34,2,34,5],[52,1,52,5],[60,1,60,2],[60,3,60,5],[59,3,59,5],[59,1,59,2],[58,1,58,2],[55,1,55,5],[56,1,56,5],[69,1,69,5],[68,2,68,5],[53,1,53,5],[61,3,61,5],[61,1,61,2],[67,1,67,5],[63,1,63,5],[65,1,65,3],[65,4,65,5],[64,1,64,3],[64,4,64,5]]}
[]
[null,"General Information"]
[]
[null,"Complete the General Information tab before completing any other tabs. Note that the selections in this tab will determine the selections available within other tabs, including multiple building selections, residential dwelling unit selections, rating system dependent selections, and district energy selections."]
[]
[null,"LEED Project ID #"]
[]
[null,"LEED Project Name",null,null,"Project Name"]
[]
[null,"Rating system",null,null,"LEED v4 BD+C: New Construction",null,null,null,{"$f":"IFERROR(VLOOKUP(E10,DropdownData!Y:Z,2,FALSE),\"\")","v":"New Construction"}]
[]
[null,"Unit of measurement",null,null,null,"IP units",null,null,{"$f":"IF(F12=\"SI units\",\"SI\",\"IP\")","v":"IP"},{"$f":"CONCATENATE(C48,\" (\",'General Information'!I12,\")\")","v":" (IP)"}]
[null,"Note: The selections above must match the rating system and unit of measurement chosen during project registration."]
[null,"Percent new construction (%)*",null,null,null,1]
[]
[null,"Percent renovation/existing (%)*",null,null,null,{"$f":"IF(pctNew>=0,1-F14,0)","v":0}]
[]
[null,"* Percentage based on  floor area"]
[]
[null,"Project has multiple buildings?",null,null,null,"No"]
[null,{"$f":"IF(MultipleBuildingsExist=\"Yes\",\"Note: After completing the General Info tab, complete the Multiple Building Details Tab before proceeding to the other tabs.\",\"\")","v":""}]
[]
[null,{"$f":"IF($I$12=\"IP\",\"Conditioned building area (sq ft)\",\"Conditioned building area (sq m)\")","v":"Conditioned building area (sq ft)"}]
[]
[null,{"$f":"IF($I$12=\"IP\",\"Unconditioned building area (sq ft)\",\"Unconditioned building area (sq m)\")","v":"Unconditioned building area (sq ft)"}]
[]
[null,{"$f":"IF($I$12=\"IP\",\"Total building area (sq ft)\",\"Total building area (sq m)\")","v":"Total building area (sq ft)"},null,null,null,{"$f":"F23+F25","v":0}]
[]
[null,"Project has residential Dwelling Units?",null,null,null,"No"]
[]
[null,"Number of floors",null,null,null,6]
[]
[null,"Energy Model Information"]
[]
[null,"Energy modeler"]
[]
[null,"Energy model based on"]
[]
[null,"Please describe the phase in which the Energy model is based on"]
[]
[]
[null,"Simulation program"]
[]
[null,"Energy code used",null,null,null,null,null,null,{"$f":"IF(C44=\"California Title-24 2013, Part 6\",\"TRUE\",\"FALSE\")","v":"FALSE"}]
[]
[null,"Simulation weather file "]
[]
[null,"Climate zone"]
[]
[null,"ASHRAE 90.1 Addenda used in the energy model(s), if any.  Addenda are not required to be used for the project. However, each addenda must be used in its entirety if applied to the project, and must be consistent across all relevant LEED Credits."]
[]
[]
[null,"Compliant energy simulation software. The energy simulation software used for this project has all capabilities described in EITHER section \"G2 Simulation General Requirements\" in Appendix G of ASHRAE 90.1-2010 OR the analogous section of the alternative qualifying energy code used."]
[null,"Compliant energy modeling methodology.   Energy simulation runs for both the baseline and proposed use the assumptions and modeling methodology described in EITHER ASHRAE 90.1-2010 Appendix G OR the analogous section of the alternative qualifying energy code used."]
[]
[null,"District Energy Systems"]
[null,"The project is connected to a district or campus thermal energy system. For projects connected to a district or campus thermal energy system where thermal energy is produced for or distributed to multiple buildings, complete the applicable fields below. "]
[null,null,null,null,null,null,null,null,false]
[null,"The district energy system includes (select all that apply)",null,null,null,null,null,null,false,false,false]
[null,"Select how the district energy system has been modeled (see Definitions Tab)",null,null,null,null,null,null,{"$f":"IF(AND(I58=TRUE,LEFT(D60,6)=\"Path 1\"),TRUE,FALSE)","v":false},{"$f":"IF(AND(I58=TRUE,LEFT(D60,6)=\"Path 2\"),TRUE,FALSE)","v":false},{"$f":"IF(AND(I58=TRUE,LEFT(D60,6)=\"Path 3\"),TRUE,FALSE)","v":false},{"$f":"IF(AND(I58=TRUE,LEFT(D60,6)=\"Path 4\"),TRUE,FALSE)","v":false}]
[null,"For DES Paths 2 or 3, identify the method for evaluating the district plant average efficiency.",null,null,null,null,null,null,{"$f":"IF(D61=\"Modeling Method\",TRUE,FALSE)","v":false},{"$f":"IF(D61=\"Monitoring Method\",TRUE,FALSE)","v":false}]
[null,"If using the DES Path 2 or 3 and the Modeling Method, describe how the average efficiency was determined. Include information about how the thermal distribution losses and distribution pump energy was accounted for. If using the modeling method, upload summary simulation files or spreadsheet calculations as supporting documentation."]
[]
[null,"Rating System Variation",null,null,null,null,null,null,{"$f":"IF(OR(I65=TRUE,I66=TRUE),TRUE,FALSE)","v":false}]
[null,"An ID+C rating system has been selected. Provide a detailed narrative reagarding the method for assigning relative contribution of base building HVAC and service water heating systems. Refer to the LEED v4 ID+C Reference Guide for additional information.",null,null,null,null,null,null,{"$f":"IF(OR($E$10=\"LEED v4 ID+C: Commercial Interiors\",$E$10=\"LEED v4 ID+C: Retail\",$E$10=\"LEED v4 ID+C: Hospitality\"),TRUE,FALSE)","v":false}]
[null,"The BD+C: Data Center rating system has been selected. By default, the full buildout IT loads are used to determine prerequisite and credit compliance. Select \"Avg of Full IT Load + Startup IT Load\" to the right in order to use the average of the energy modeling results for the full buildout IT loads and the energy modeling results for the startup IT loads to determine prerequisite and credit compliance.",null,null,null,null,null,null,{"$f":"IF($E$10=\"LEED v4 BD+C: Data Centers\",TRUE,FALSE)","v":false},null,{"$f":"IF(AND(I66=TRUE,E66=\"Avg of Full IT Load + Startup IT Load\"),TRUE,FALSE)","v":false},{"$f":"I66","v":false},{"$f":"IF(OR($E$10=\"LEED v4 ID+C: Retail\",$E$10=\"LEED v4 BD+C: Retail\"),TRUE,FALSE)","v":false}]
[null,null,null,null,null,null,null,null,null,null,"Data Center Avg.","Data Center","Retail"]
[null,"Unfinished Spaces"]
[null,"Select how any unfinished spaces have been modeled"]
[null,"Refer to the Teant Lease and Sales Agreement section of the LEED Reference Guide. Upload all required documentation to substantiate the savings claimed for the unfinished spaces."]

{"sheet":"Multiple Buildings Details","index":3,"n_rows":34,"n_cols":15,"rows_kept":34,"cut":false,"hidden":true,"merged":[[32,1,32,4],[14,9,14,10],[30,1,31,2],[14,1,14,8],[9,1,9,10],[10,1,10,10],[22,1,22,3],[23,1,23,3],[16,1,16,8],[16,9,16,10]]}
["G"]
["G","Multiple Building Energy Model Information"]
["G"]
["G"]
["G","How are the buildings modeled?"]
[null,null,null,null,null,null,null,null,null,null,null,null,null,null,1]
[]
[]
[]
["G",{"$f":"IF(proj_RatingSystem=\"ND\",CONCATENATE(\"The minimum average building energy improvement over ASHRAE 90.1-2010 must be 5% for new buildings, 3% for major building renovations, or 2% for core and shell buildings.\",\" Multiple buildings may be grouped into a single energy model, provided (1) the building type (new construction, major renovation, or core and shell) is consistent for all buildings included in the energy model, \",\"or (2) an average 5% improvement is demonstrated for the entire energy model.\", \"If only a subset of the building energy model details is reported, check the box below, and for the buildings without the details reported here, \",\"report the sum total energy  consumption for the buildings not reported here in the Performance_Output_Residual tab.\",\" Provide a narrative confirming that at least 90% of the building area for ND non-residential, mixed-use and multiunit residential buildings 4 stories or more were modeled\",\", and briefly describing the energy efficiency measures for any buildings where energy model details are not reported here.\"),CONCATENATE(\"The documentation must be sufficient to show that each building individually complies with the prerequisite performance improvement requirements.\",\" If not modeling each building in a separate energy model to show individual compliance, complete the narrative below to justify that all buildings meet the prerequisite performance improvement requirements. \",\"Note: if insufficient information is available in the narrative and input data to prove that all buildings individually meet the prerequisite performance improvement requirements, \",\"additional energy simulation outputs including submetered data per building may be required during the review process to confirm prerequisite compliance per building.\"))","v":"The documentation must be sufficient to show that each building individually complies with the prerequisite performance improvement requirements. If not modeling each building in a separate energy model to show individual compliance, complete the narrative below to justify that all buildings meet the prerequisite performance improvement requirements. Note: if insufficient information is available in the narrative and input data to prove that all buildings individually meet the prerequisite performance improvement requirements, additional energy simulation outputs including submetered data per building may be required during the review process to confirm prerequisite compliance per building."}]
["G"]
[null,null,null,null,null,null,null,null,null,null,null,null,null,null,false]
["G","Energy Model Information"]
["G"]
["G","Energy Simulation ID",null,null,null,null,null,null,null,"Multiplier"]
["G","Simulation ID",null,null,null,null,null,null,null,"Multiplier"]
[null,{"$f":"INDEX(MBD_BS_Table,3,1)","v":"Project Name"},null,null,null,null,null,null,null,1]
[]
["G"]
[null,"Building Information for Multiple Building Projects"]
["G",null,null,null,"Energy Model",{"$f":"\"Modeled Building Area \"&IF(SI_IP_Units=\"IP\",\"(sq. ft.)\",\"(sq. m.)\")","v":"Modeled Building Area (sq. ft.)"},null,null,"Percent Construction"]
["G","Building ID",null,null,"Simulation ID","Multiplier","Conditioned","Unconditioned","New","Renovation/Existing"]
[null,"Residual Project",null,null,{"$f":"INDEX(MBD_BS_Table,2, 1)","v":"Residual Project"},null,null,null,null,{"$f":"I23","v":0}]
["G",{"$f":"GI_Project_Name","v":"Project Name"},null,null,1,2,1000,500,1,{"$f":"1-I24","v":0}]
["G","All"]
[]
["G"]
["G"]
["G","Project Summary"]
["G"]
["G",null,null,null,null,{"$f":"\"Modeled Building Area \"&IF(SI_IP_Units=\"IP\",\"(sq. ft.)\",\"(sq. m.)\")","v":"Modeled Building Area (sq. ft.)"},null,null,"Percent Construction"]
["G",null,null,null,null,"Total Buildings","Conditioned","Unconditioned","New","Renovation/Existing"]
["G"," Total",null,null,null,{"$f":"SUM(OFFSET(MBD_BS_Index,1,MATCH($F$22,MBD_BS_Hdr,0)-1,ROWS(MBD_BS_Index)-1,1))","v":2},{"$f":"SUM(OFFSET(MBD_BS_Index,1,MATCH($G$22,MBD_BS_Hdr,0)-1,ROWS(MBD_BS_Index)-1,1))","v":1000},{"$f":"SUM(OFFSET(MBD_BS_Index,1,MATCH($H$22,MBD_BS_Hdr,0)-1,ROWS(MBD_BS_Index)-1,1))","v":500},{"$f":"(SUMPRODUCT(OFFSET(MBD_BS_Index,1,MATCH($F$22,MBD_BS_Hdr,0)-1,ROWS(MBD_BS_Index)-1,1),OFFSET(MBD_BS_Index,1,MATCH($G$22,MBD_BS_Hdr,0)-1,ROWS(MBD_BS_Index)-1,1),OFFSET(MBD_BS_Index,1,MATCH($I$22,MBD_BS_Hdr,0)-1,ROWS(MBD_BS_Index)-1,1))+SUMPRODUCT(OFFSET(MBD_BS_Index,1,MATCH($F$22,MBD_BS_Hdr,0)-1,ROWS(MBD_BS_Index)-1,1),OFFSET(MBD_BS_Index,1,MATCH($H$22,MBD_BS_Hdr,0)-1,ROWS(MBD_BS_Index)-1,1),OFFSET(MBD_BS_Index,1,MATCH($I$22,MBD_BS_Hdr,0)-1,ROWS(MBD_BS_Index)-1,1)))/(SUMPRODUCT(OFFSET(MBD_BS_Index,1,MATCH($F$22,MBD_BS_Hdr,0)-1,ROWS(MBD_BS_Index)-1,1),OFFSET(MBD_BS_Index,1,MATCH($G$22,MBD_BS_Hdr,0)-1,ROWS(MBD_BS_Index)-1,1))+SUMPRODUCT(OFFSET(MBD_BS_Index,1,MATCH($F$22,MBD_BS_Hdr,0)-1,ROWS(MBD_BS_Index)-1,1),OFFSET(MBD_BS_Index,1,MATCH($H$22,MBD_BS_Hdr,0)-1,ROWS(MBD_BS_Index)-1,1)))","v":1},{"$f":"1-I33","v":0}]
["G"]

{"sheet":"Schedules","index":4,"n_rows":105,"n_cols":18,"rows_kept":105,"cut":false,"hidden":false,"merged":[[8,10,9,10],[4,1,4,17],[5,1,5,17],[7,1,9,1],[7,2,9,2],[7,3,7,12],[7,13,9,13],[7,14,7,15],[7,16,7,17],[8,3,9,3],[8,4,9,4],[8,5,9,5],[8,6,9,6],[8,7,9,7],[8,8,9,8],[8,9,9,9],[8,11,8,12],[8,14,9,14],[8,15,9,15],[8,16,9,16],[8,17,9,17]]}
["G"]
["G","Schedules"]
["G"]
["G"]
["G",{"$f":"CONCATENATE(\"Complete the table for each building in the project. Provide information for the \",IF(proj_RatingSystem=\"Homes\",\"Dwelling Units\",\"Main Building Schedules\"),\" and for each additional area or set of areas where the schedules differ significantly. Ensure that the reported schedules are consistent with the energy-model entered values, and that schedules account for all mandatory controls. \",IF(proj_RatingSystem=\"Homes\",CONCATENATE(\"Residential lighting shall be for two to four hours per day (700 to 1500 equivalent full load hours per year). See the EFLH Calculator for default Residential Dwelling Unit Schedules that may be input into the energy model.\", \" Corridors and parking garages shall be lit 24 hours per day; parking garages shall include schedule adjustments for occupant sensor controls.\"),\"\" ),\"\",\" Ensure that schedules account for all mandatory controls.\",CHAR(10),\"*Note: The following Equivalent full load schedule information may be optionally excluded from the Table: \",\"(1) End-uses that do not significantly influence overall energy consumption for the project building type (i.e. service water heating for an office building < 5% of total energy consumption),\",\" (2) Spaces modeled with differing schedules that contribute minimally to overall building energy consumption (i.e. electrical/mechanical rooms in a school building that contribute < 5% of total building energy consumption\")","v":"Complete the table for each building in the project. Provide information for the Main Building Schedules and for each additional area or set of areas where the schedules differ significantly. Ensure that the reported schedules are consistent with the energy-model entered values, and that schedules account for all mandatory controls.  Ensure that schedules account for all mandatory controls.\n*Note: The following Equivalent full load schedule information may be optionally excluded from the Table: (1) End-uses that do not significantly influence overall energy consumption for the project building type (i.e. service water heating for an office building < 5% of total energy consumption), (2) Spaces modeled with differing schedules that contribute minimally to overall building energy consumption (i.e. electrical/mechanical rooms in a school building that contribute < 5% of total building energy consumption"}]
["G","Note: The EFLH Calculator tab in this spreadsheet may be used as an optional tool for determining Equivalent Full Load hours of operation"]
["G"]
["G","Building ID","Areas Served","Equivalent Full Load Hours of Operation Per Year (maximum of 8,760). \nLeave blank or enter N/A if not applicable.",null,null,null,null,null,null,null,null,null,"HVAC:\nhours per year fans running continuously",{"$f":"IF(proj_RatingSystem=\"Homes\",\"Active Mode Setpoint\",\"Occupied Mode Setpoint\")","v":"Occupied Mode Setpoint"},null,"Setback Mode Setpoint"]
["G",null,null,"Interior Lighting","Service Water Heating","Receptacle Equipment and Appliances","Refriger-ation","Server Equip-ment","Cooking Equip-ment","Elevators / Escalators","Exterior Lighting","Other Loads (Indicate Loads)",null,null,{"$f":"CONCATENATE(\"Cooling\",IF(SI_IP_Units=\"IP\",\" (degrees F)\",\" (degrees C)\"))","v":"Cooling (degrees F)"},{"$f":"CONCATENATE(\"Heating\",IF(SI_IP_Units=\"IP\",\" (degrees F)\",\" (degrees C)\"))","v":"Heating (degrees F)"},{"$f":"CONCATENATE(\"Cooling\",IF(SI_IP_Units=\"IP\",\" (degrees F)\",\" (degrees C)\"))","v":"Cooling (degrees F)"},{"$f":"CONCATENATE(\"Heating\",IF(SI_IP_Units=\"IP\",\" (degrees F)\",\" (degrees C)\"))","v":"Heating (degrees F)"}]
["G"]
["G",{"$f":"B8","v":"Building ID"},{"$f":"C8","v":"Areas Served"},{"$f":"D9","v":"Interior Lighting"},{"$f":"E9","v":"Service Water Heating"},"Receptacle Equipment and Appliances","Refriger-ation","Server Equip-ment","Cooking Equip-ment","Elevators / Escalators","Exterior Lighting","Other Loads (Indicate Loads)",0,{"$f":"N8","v":"HVAC:\nhours per year fans running continuously"},"Cooling (degrees F)","Heating (degrees F)","Cooling (degrees F)","Heating (degrees F)"]
["G",{"$f":"IF(MultipleBuildingsExist=\"Yes\",\"All\",GI_Project_Name)","v":"Project Name"},"Dwelling Units",{"$f":"854","v":854},{"$f":"2446","v":2446},{"$f":"2117","v":2117},null,null,null,null,null,null,null,8760,78,72,80,70]
["G",{"$f":"IF(MultipleBuildingsExist=\"Yes\",\"All\",GI_Project_Name)","v":"Project Name"},"Main Building Schedules"]
["G"]
["A",{"$f":"GI_Project_Name","v":"Project Name"}]
["A","Project Name"]
["A","Project Name"]
["A","Project Name"]
["A","Project Name"]
["A","Project Name"]
["G"]
["G"]
["G"]
["G"]
["G"]
["G"]
["G"]
["G"]
["G"]
["G"]
["G"]
["G"]
["G"]
["G"]
["G"]
["G"]
["G"]
["G"]
["G"]
["G"]
["G"]
["G"]
["G"]
["G"]
["G"]
["G"]
["G"]
["G"]
["G"]
["G"]
["G"]
["G"]
["G"]
["G"]
["G"]
["G"]
["G"]
["G"]
["G"]
["G"]
["G"]
["G"]
["G"]
["G"]
["G"]
["G"]
["G"]
["G"]
["G"]
["G"]
["G"]
["G"]
["G"]
["G"]
["G"]
["G"]
["G"]
["G"]
["G"]
["G"]
["G"]
["G"]
["G"]
["G"]
["G"]
["G"]
["G"]
["G"]
["G"]
["G"]
["G"]
["G"]
["G"]
["G"]
["G"]
["G"]
["G"]
["G"]
["G"]
["G"]
["G"]
["G"]
["G"]
["G"]
["G"]

{"sheet":"EFLH Calculator","index":5,"n_rows":496,"n_cols":28,"rows_kept":496,"cut":false,"hidden":false,"merged":[[479,2,479,27],[486,1,486,26],[488,2,488,27],[495,1,495,26],[452,2,452,27],[459,1,459,26],[461,2,461,27],[468,1,468,26],[470,2,470,27],[477,1,477,26],[448,1,448,26],[396,2,396,27],[403,1,403,26],[405,2,405,27],[412,1,412,26],[414,2,414,27],[421,1,421,26],[423,2,423,27],[430,1,430,26],[432,2,432,27],[439,1,439,26],[441,2,441,27],[392,1,392,26],[338,2,338,27],[345,1,345,26],[349,2,349,27],[356,1,356,26],[358,2,358,27],[365,1,365,26],[367,2,367,27],[374,1,374,26],[376,2,376,27],[383,1,383,26],[385,2,385,27],[336,1,336,26],[282,2,282,27],[289,1,289,26],[293,2,293,27],[300,1,300,26],[302,2,302,27],[309,1,309,26],[311,2,311,27],[318,1,318,26],[320,2,320,27],[327,1,327,26],[329,2,329,27],[280,1,280,26],[226,2,226,27],[233,1,233,26],[237,2,237,27],[244,1,244,26],[246,2,246,27],[253,1,253,26],[255,2,255,27],[262,1,262,26],[264,2,264,27],[271,1,271,26],[273,2,273,27],[224,1,224,26],[170,2,170,27],[177,1,177,26],[181,2,181,27],[188,1,188,26],[190,2,190,27],[197,1,197,26],[199,2,199,27],[206,1,206,26],[208,2,208,27],[215,1,215,26],[217,2,217,27],[168,1,168,26],[117,1,117,26],[125,2,125,27],[132,1,132,26],[134,2,134,27],[141,1,141,26],[143,2,143,27],[150,1,150,26],[152,2,152,27],[159,1,159,26],[161,2,161,27],[121,1,121,14],[111,2,111,27],[56,1,56,26],[72,1,72,26],[81,2,81,27],[87,2,87,27],[93,1,93,26],[95,2,95,27],[101,1,101,26],[103,2,103,27],[109,1,109,26],[50,2,50,14],[61,2,61,14],[42,1,42,26],[4,1,4,25],[5,1,5,27],[26,1,26,26],[20,2,20,14],[31,2,31,14]]}
[]
[null,"(OPTIONAL) Equivalent Full Load Hours Calculator"]
[]
[]
[null,{"$f":"CONCATENATE(\"THIS CALCULATOR IS OPTIONAL FOR USE DETERMIING THE EQUIVALENT FULL LOAD HOUR INFORMATION FOR THE SCHEDULES TAB. THE CALCULATOR IS NOT REQUIRED TO BE COMPLETED OR SUBMITTED.\n\", IF(proj_RatingSystem=\"Homes\",\"Default schedules required for LEED-Homes Midrise are shown below for reference. \",IF(ResDwellingUnitsExist=\"Yes\",\"Default schedules for residential dwelling units are shown below for reference.\",\"\")), \" Some of the sample schedules from the ASHRAE 90.1-2010 User's Manual are shown below for reference.\")","v":"THIS CALCULATOR IS OPTIONAL FOR USE DETERMIING THE EQUIVALENT FULL LOAD HOUR INFORMATION FOR THE SCHEDULES TAB. THE CALCULATOR IS NOT REQUIRED TO BE COMPLETED OR SUBMITTED.\n Some of the sample schedules from the ASHRAE 90.1-2010 User's Manual are shown below for reference."}]
[]
[null,null,"Days per Year"]
[null,"Holiday ",11]
[null,"Monday",50]
[null,"Tuesday",50]
[null,"Wednesday",50]
[null,"Thursday",50]
[null,"Friday",50]
[null,"Saturday",52]
[null,"Sunday",52]
[null,"Total (must equal 365 days/year)",{"$f":"SUM(C8:C15)","v":365}]
[]
[null,"On/Off Schedules"]
[null,"Enter 1 for \"On\", 0 for \"Off."]
[]
[null,"Schedule Name:"]
[]
[null,null,"12-1AM","1-2AM","2-3AM","3-4AM","4-5AM","5-6AM","6-7AM","7-8AM","8-9 AM","9-10AM","10-11AM","11AM-12PM","12-1PM","1-2PM","2-3PM","3-4PM","4-5PM","5-6PM","6-7PM","7-8PM","8-9PM","9-10PM","10-11PM","11-12PM","Hours/day","Hours/year"]
[null,"Weekday",null,null,null,null,null,null,null,null,null,null,null,null,null,null,null,null,null,null,null,null,null,null,null,null,{"$f":"SUM(C24:Z24)","v":0},{"$f":"AA24*SUM($C$9:$C$13)","v":0}]
[null,"Weekend",null,null,null,null,null,null,null,null,null,null,null,null,null,null,null,null,null,null,null,null,null,null,null,null,{"$f":"SUM(C25:Z25)","v":0},{"$f":"AA25*SUM($C$14:$C$15)","v":0}]
[null,"Holiday",null,null,null,null,null,null,null,null,null,null,null,null,null,null,null,null,null,null,null,null,null,null,null,null,{"$f":"SUM(C26:Z26)","v":0},{"$f":"AA26*$C$8","v":0}]
[null,"Total hours of operation per year",null,null,null,null,null,null,null,null,null,null,null,null,null,null,null,null,null,null,null,null,null,null,null,null,null,{"$f":"SUM(AB24:AB26)","v":0}]
[]
[]
[]
[]
[null,"Schedule Name:"]
[]
[null,null,"12-1AM","1-2AM","2-3AM","3-4AM","4-5AM","5-6AM","6-7AM","7-8AM","8-9 AM","9-10AM","10-11AM","11AM-12PM","12-1PM","1-2PM","2-3PM","3-4PM","4-5PM","5-6PM","6-7PM","7-8PM","8-9PM","9-10PM","10-11PM","11-12PM","Hours/day","Hours/year"]
[null,"Holiday",null,null,null,null,null,null,null,null,null,null,null,null,null,null,null,null,null,null,null,null,null,null,null,null,{"$f":"SUM(C35:Z35)","v":0},{"$f":"AA35*$C$8","v":0}]
[null,"Monday",null,null,null,null,null,null,null,null,null,null,null,null,null,null,null,null,null,null,null,null,null,null,null,null,0,{"$f":"AA36*$C$9","v":0}]
[null,"Tuesday",null,null,null,null,null,null,null,null,null,null,null,null,null,null,null,null,null,null,null,null,null,null,null,null,0,{"$f":"AA37*$C$10","v":0}]
[null,"Wednesday",null,null,null,null,null,null,null,null,null,null,null,null,null,null,null,null,null,null,null,null,null,null,null,null,0,{"$f":"AA38*$C$11","v":0}]
[null,"Thursday",null,null,null,null,null,null,null,null,null,null,null,null,null,null,null,null,null,null,null,null,null,null,null,null,0,{"$f":"AA39*$C$12","v":0}]
[null,"Friday",null,null,null,null,null,null,null,null,null,null,null,null,null,null,null,null,null,null,null,null,null,null,null,null,0,{"$f":"AA40*$C$13","v":0}]
[null,"Saturday",null,null,null,null,null,null,null,null,null,null,null,null,null,null,null,null,null,null,null,null,null,null,null,null,0,{"$f":"AA41*$C$14","v":0}]
[null,"Sunday",null,null,null,null,null,null,null,null,null,null,null,null,null,null,null,null,null,null,null,null,null,null,null,null,0,{"$f":"AA42*$C$15","v":0}]
[null,"Total hours of operation per year",null,null,null,null,null,null,null,null,null,null,null,null,null,null,null,null,null,null,null,null,null,null,null,null,null,{"$f":"SUM(AB35:AB42)","v":0}]
[]
[]
[]
[]
[null,"Fraction / Percentage Schedules"]
[null,"Enter a percentage value between 0% and 100%"]
[]
[null,"Schedule Name:"]
[]
[null,null,"12-1AM","1-2AM","2-3AM","3-4AM","4-5AM","5-6AM","6-7AM","7-8AM","8-9 AM","9-10AM","10-11AM","11AM-12PM","12-1PM","1-2PM","2-3PM","3-4PM","4-5PM","5-6PM","6-7PM","7-8PM","8-9PM","9-10PM","10-11PM","11-12PM","EFLH/day","EFLH/year"]
[null,"Weekday",null,null,null,null,null,null,null,null,null,null,null,null,null,null,null,null,null,null,null,null,null,null,null,null,{"$f":"SUM(C54:Z54)","v":0},{"$f":"AA54*SUM($C$9:$C$13)","v":0}]
[null,"Weekend",null,null,null,null,null,null,null,null,null,null,null,null,null,null,null,null,null,null,null,null,null,null,null,null,{"$f":"SUM(C55:Z55)","v":0},{"$f":"AA55*SUM($C$14:$C$15)","v":0}]
[null,"Holiday",null,null,null,null,null,null,null,null,null,null,null,null,null,null,null,null,null,null,null,null,null,null,null,null,{"$f":"SUM(C56:Z56)","v":0},{"$f":"AA56*$C$8","v":0}]
[null,"Total Equivalent Full Load Hours of Operation per Year",null,null,null,null,null,null,null,null,null,null,null,null,null,null,null,null,null,null,null,null,null,null,null,null,null,{"$f":"SUM(AB54:AB56)","v":0}]
[]
[]
[]
[]
[null,"Schedule Name:"]
[]
[null,null,"12-1AM","1-2AM","2-3AM","3-4AM","4-5AM","5-6AM","6-7AM","7-8AM","8-9 AM","9-10AM","10-11AM","11AM-12PM","12-1PM","1-2PM","2-3PM","3-4PM","4-5PM","5-6PM","6-7PM","7-8PM","8-9PM","9-10PM","10-11PM","11-12PM","EFLH/day","EFLH/day"]
[null,"Holiday",null,null,null,null,null,null,null,null,null,null,null,null,null,null,null,null,null,null,null,null,null,null,null,null,{"$f":"SUM(C65:Z65)","v":0},{"$f":"AA65*$C$8","v":0}]
[null,"Monday",null,null,null,null,null,null,null,null,null,null,null,null,null,null,null,null,null,null,null,null,null,null,null,null,0,{"$f":"AA66*$C$9","v":0}]
[null,"Tuesday",null,null,null,null,null,null,null,null,null,null,null,null,null,null,null,null,null,null,null,null,null,null,null,null,0,{"$f":"AA67*$C$10","v":0}]
[null,"Wednesday",null,null,null,null,null,null,null,null,null,null,null,null,null,null,null,null,null,null,null,null,null,null,null,null,0,{"$f":"AA68*$C$11","v":0}]
[null,"Thursday",null,null,null,null,null,null,null,null,null,null,null,null,null,null,null,null,null,null,null,null,null,null,null,null,0,{"$f":"AA69*$C$12","v":0}]
[null,"Friday",null,null,null,null,null,null,null,null,null,null,null,null,null,null,null,null,null,null,null,null,null,null,null,null,0,{"$f":"AA70*$C$13","v":0}]
[null,"Saturday",null,null,null,null,null,null,null,null,null,null,null,null,null,null,null,null,null,null,null,null,null,null,null,null,0,{"$f":"AA71*$C$14","v":0}]
[null,"Sunday",null,null,null,null,null,null,null,null,null,null,null,null,null,null,null,null,null,null,null,null,null,null,null,null,0,{"$f":"AA72*$C$15","v":0}]
[null,"Total Equivalent Full Load Hours of Operation per Year",null,null,null,null,null,null,null,null,null,null,null,null,null,null,null,null,null,null,null,null,null,null,null,null,null,{"$f":"SUM(AB65:AB72)","v":0}]
[]
[]
[]
[]
[null,"Default Schedules"]
[]
[null,"Residential Dwelling Unit Default Schedules"]
[]
[null,"Schedule Name:","Dwelling Unit Thermostat setpoint schedule"]
[]
[null,null,"12-1AM","1-2AM","2-3AM","3-4AM","4-5AM","5-6AM","6-7AM","7-8AM","8-9 AM","9-10AM","10-11AM","11AM-12PM","12-1PM","1-2PM","2-3PM","3-4PM","4-5PM","5-6PM","6-7PM","7-8PM","8-9PM","9-10PM","10-11PM","11-12PM","Hours/day","Hours/year"]
[null,"Daily Heating Setpoint",{"$f":"IF(SI_IP_Units=\"IP\",70,CONVERT(70,\"F\",\"C\"))","v":70},70,70,70,70,70,{"$f":"IF(SI_IP_Units=\"IP\",72,CONVERT(72,\"F\",\"C\"))","v":72},72,72,72,72,72,72,72,72,72,72,72,72,72,72,72,72,{"$f":"IF(SI_IP_Units=\"IP\",70,CONVERT(70,\"F\",\"C\"))","v":70},24,8760]
[null,"Daily Cooling Setpoint",{"$f":"IF(SI_IP_Units=\"IP\",78,CONVERT(78,\"F\",\"C\"))","v":78},78,78,78,78,78,78,78,78,{"$f":"IF(SI_IP_Units=\"IP\",80,CONVERT(80,\"F\",\"C\"))","v":80},80,80,80,80,80,{"$f":"IF(SI_IP_Units=\"IP\",78,CONVERT(78,\"F\",\"C\"))","v":78},78,78,78,78,78,78,78,78,24,8760]
[]
[null,"Schedule Name:","Dwelling Unit Lighting Schedule"]
[]
[null,null,"12-1AM","1-2AM","2-3AM","3-4AM","4-5AM","5-6AM","6-7AM","7-8AM","8-9 AM","9-10AM","10-11AM","11AM-12PM","12-1PM","1-2PM","2-3PM","3-4PM","4-5PM","5-6PM","6-7PM","7-8PM","8-9PM","9-10PM","10-11PM","11-12PM","EFLH/day","EFLH/year"]
[null,"Weekday",1.6E-2,1.6E-2,1.6E-2,1.6E-2,1.6E-2,1.6E-2,7.6999999999999999E-2,0.14000000000000001,0.14000000000000001,0.108,0.108,0.108,7.6999999999999999E-2,7.6999999999999999E-2,7.6999999999999999E-2,7.6999999999999999E-2,7.6999999999999999E-2,0.108,0.217,0.217,0.217,0.217,0.186,1.6E-2,{"$f":"SUM(C91:Z91)","v":2.3400000000000003},{"$f":"AA91*SUM($C$9:$C$13)","v":585.00000000000011}]
[null,"Weekend",1.6E-2,1.6E-2,1.6E-2,1.6E-2,1.6E-2,1.6E-2,7.6999999999999999E-2,0.14000000000000001,0.14000000000000001,0.108,0.108,0.108,7.6999999999999999E-2,7.6999999999999999E-2,7.6999999999999999E-2,7.6999999999999999E-2,7.6999999999999999E-2,0.108,0.217,0.217,0.217,0.217,0.186,1.6E-2,{"$f":"SUM(C92:Z92)","v":2.3400000000000003},{"$f":"AA92*SUM($C$14:$C$15)","v":243.36000000000004}]
[null,"Holiday",1.6E-2,1.6E-2,1.6E-2,1.6E-2,1.6E-2,1.6E-2,7.6999999999999999E-2,0.14000000000000001,0.14000000000000001,0.108,0.108,0.108,7.6999999999999999E-2,7.6999999999999999E-2,7.6999999999999999E-2,7.6999999999999999E-2,7.6999999999999999E-2,0.108,0.217,0.217,0.217,0.217,0.186,1.6E-2,{"$f":"SUM(C93:Z93)","v":2.3400000000000003},{"$f":"AA93*$C$8","v":25.740000000000002}]
[null,"Total Equivalent Full Load Hours of Operation per Year",null,null,null,null,null,null,null,null,null,null,null,null,null,null,null,null,null,null,null,null,null,null,null,null,null,{"$f":"SUM(AB91:AB93)","v":854.10000000000014}]
[]
[null,"Schedule Name:","Dwelling Unit Miscellaneous Equipment Schedule"]
[]
[null,null,"12-1AM","1-2AM","2-3AM","3-4AM","4-5AM","5-6AM","6-7AM","7-8AM","8-9 AM","9-10AM","10-11AM","11AM-12PM","12-1PM","1-2PM","2-3PM","3-4PM","4-5PM","5-6PM","6-7PM","7-8PM","8-9PM","9-10PM","10-11PM","11-12PM","EFLH/day","EFLH/year"]
[null,"Weekday",0.05,0.05,0.05,0.05,0.05,0.05,0.05,0.05,0.5,0.5,0.5,0.5,0.3,0.5,0.5,0.5,0.5,0.5,0.35,0.05,0.05,0.05,0.05,0.05,{"$f":"SUM(C99:Z99)","v":5.799999999999998},{"$f":"AA99*SUM($C$9:$C$13)","v":1449.9999999999995}]
[null,"Weekend",0.05,0.05,0.05,0.05,0.05,0.05,0.05,0.05,0.5,0.5,0.5,0.5,0.3,0.5,0.5,0.5,0.5,0.5,0.35,0.05,0.05,0.05,0.05,0.05,{"$f":"SUM(C100:Z100)","v":5.799999999999998},{"$f":"AA100*SUM($C$14:$C$15)","v":603.19999999999982}]
[null,"Holiday",0.05,0.05,0.05,0.05,0.05,0.05,0.05,0.05,0.5,0.5,0.5,0.5,0.3,0.5,0.5,0.5,0.5,0.5,0.35,0.05,0.05,0.05,0.05,0.05,{"$f":"SUM(C101:Z101)","v":5.799999999999998},{"$f":"AA101*$C$8","v":63.799999999999976}]
[null,"Total Equivalent Full Load Hours of Operation per Year",null,null,null,null,null,null,null,null,null,null,null,null,null,null,null,null,null,null,null,null,null,null,null,null,null,{"$f":"SUM(AB99:AB101)","v":2116.9999999999995}]
[]
[null,"Schedule Name:","Residential Common Area Miscellaneous Equipment Schedule"]
[]
[null,null,"12-1AM","1-2AM","2-3AM","3-4AM","4-5AM","5-6AM","6-7AM","7-8AM","8-9 AM","9-10AM","10-11AM","11AM-12PM","12-1PM","1-2PM","2-3PM","3-4PM","4-5PM","5-6PM","6-7PM","7-8PM","8-9PM","9-10PM","10-11PM","11-12PM","EFLH/day","EFLH/year"]
[null,"Weekday",0.1,0.1,0.1,0.1,0.1,0.3,0.45,0.45,0.45,0.45,0.3,0.3,0.3,0.3,0.3,0.3,0.3,0.3,0.6,0.8,0.9,0.8,0.6,0.3,{"$f":"SUM(C107:Z107)","v":9},{"$f":"AA107*SUM($C$9:$C$13)","v":2250}]
[null,"Weekend",0.1,0.1,0.1,0.1,0.1,0.3,0.45,0.45,0.45,0.45,0.3,0.3,0.3,0.3,0.3,0.3,0.3,0.3,0.6,0.8,0.9,0.8,0.6,0.3,{"$f":"SUM(C108:Z108)","v":9},{"$f":"AA108*SUM($C$14:$C$15)","v":936}]
[null,"Holiday",0.1,0.1,0.1,0.1,0.1,0.3,0.45,0.45,0.45,0.45,0.3,0.3,0.3,0.3,0.3,0.3,0.3,0.3,0.6,0.8,0.9,0.8,0.6,0.3,{"$f":"SUM(C109:Z109)","v":9},{"$f":"AA109*$C$8","v":99}]
[null,"Total Equivalent Full Load Hours of Operation per Year",null,null,null,null,null,null,null,null,null,null,null,null,null,null,null,null,null,null,null,null,null,null,null,null,null,{"$f":"SUM(AB107:AB109)","v":3285}]
[]
[null,"Schedule Name:","Residential DHW Schedule"]
[]
[null,null,"12-1AM","1-2AM","2-3AM","3-4AM","4-5AM","5-6AM","6-7AM","7-8AM","8-9 AM","9-10AM","10-11AM","11AM-12PM","12-1PM","1-2PM","2-3PM","3-4PM","4-5PM","5-6PM","6-7PM","7-8PM","8-9PM","9-10PM","10-11PM","11-12PM","EFLH/day","EFLH/year"]
[null,"Weekday",0.05,0.05,0.05,0.05,0.05,0.05,0.3,0.5,0.4,0.3,0.3,0.35,0.4,0.35,0.35,0.3,0.3,0.5,0.5,0.4,0.35,0.45,0.3,0.05,{"$f":"SUM(C115:Z115)","v":6.7},{"$f":"AA115*SUM($C$9:$C$13)","v":1675}]
[null,"Weekend",0.05,0.05,0.05,0.05,0.05,0.05,0.3,0.5,0.4,0.3,0.3,0.35,0.4,0.35,0.35,0.3,0.3,0.5,0.5,0.4,0.35,0.45,0.3,0.05,{"$f":"SUM(C116:Z116)","v":6.7},{"$f":"AA116*SUM($C$14:$C$15)","v":696.80000000000007}]
[null,"Holiday",0.05,0.05,0.05,0.05,0.05,0.05,0.3,0.5,0.4,0.3,0.3,0.35,0.4,0.35,0.35,0.3,0.3,0.5,0.5,0.4,0.35,0.45,0.3,0.05,{"$f":"SUM(C117:Z117)","v":6.7},{"$f":"AA117*$C$8","v":73.7}]
[null,"Total Equivalent Full Load Hours of Operation per Year",null,null,null,null,null,null,null,null,null,null,null,null,null,null,null,null,null,null,null,null,null,null,null,null,null,{"$f":"SUM(AB115:AB117)","v":2445.5}]
[]
[]
[null,"ASHRAE 90.1-2010 User'S Manual Schedules"]
[null,"Below is a subset of sample schedules provided in the ASHRAE 90.1-2010 User's Manual. Refer to the ASHRAE User's Manual Tables G-D through G-M for additional schedules. (Note: Holiday schedules are added, and are assumed to be equal to the Sunday schedules; therefore annual equivalent full load hours will differ slightly from those reported in the default ASHRAE schedules)."]
[]
[null,"Office Occupancy"]
[]
[null,"Schedule Name:","Office HVAC System - ON/OFF Schedule"]
[]
[null,null,"12-1AM","1-2AM","2-3AM","3-4AM","4-5AM","5-6AM","6-7AM","7-8AM","8-9 AM","9-10AM","10-11AM","11AM-12PM","12-1PM","1-2PM","2-3PM","3-4PM","4-5PM","5-6PM","6-7PM","7-8PM","8-9PM","9-10PM","10-11PM","11-12PM","Hours/day","Hours/year"]
[null,"Weekday",0,0,0,0,0,0,1,1,1,1,1,1,1,1,1,1,1,1,1,1,1,1,0,0,{"$f":"SUM(C129:Z129)","v":16},{"$f":"AA129*SUM($C$9:$C$13)","v":4000}]
[null,"Saturday",0,0,0,0,0,0,1,1,1,1,1,1,1,1,1,1,1,1,0,0,0,0,0,0,{"$f":"SUM(C130:Z130)","v":12},{"$f":"AA130*SUM($C$14)","v":624}]
[null,"Sunday",0,0,0,0,0,0,0,0,0,0,0,0,0,0,0,0,0,0,0,0,0,0,0,0,{"$f":"SUM(C131:Z131)","v":0},{"$f":"AA131*$C$15","v":0}]
[null,"Holiday",0,0,0,0,0,0,0,0,0,0,0,0,0,0,0,0,0,0,0,0,0,0,0,0,{"$f":"SUM(C132:Z132)","v":0},{"$f":"AA132*SUM($C$8)","v":0}]
[null,"Total hours of operation per year",null,null,null,null,null,null,null,null,null,null,null,null,null,null,null,null,null,null,null,null,null,null,null,null,null,{"$f":"SUM(AB129:AB132)","v":4624}]
[]
[null,"Schedule Name:","Office Occupancy Schedule"]
[]
[null,null,"12-1AM","1-2AM","2-3AM","3-4AM","4-5AM","5-6AM","6-7AM","7-8AM","8-9 AM","9-10AM","10-11AM","11AM-12PM","12-1PM","1-2PM","2-3PM","3-4PM","4-5PM","5-6PM","6-7PM","7-8PM","8-9PM","9-10PM","10-11PM","11-12PM","EFLH/day","EFLH/year"]
[null,"Weekday",0,0,0,0,0,0,0.1,0.2,0.95,0.95,0.95,0.95,0.5,0.95,0.95,0.95,0.95,0.3,0.1,0.1,0.1,0.1,0.05,0.05,{"$f":"SUM(C138:Z138)","v":9.2000000000000011},{"$f":"AA138*SUM($C$9:$C$13)","v":2300.0000000000005}]
[null,"Saturday",0,0,0,0,0,0,0.1,0.1,0.3,0.3,0.3,0.3,0.1,0.1,0.1,0.1,0.1,0.05,0.05,0,0,0,0,0,{"$f":"SUM(C139:Z139)","v":2.0000000000000004},{"$f":"AA139*SUM($C$14)","v":104.00000000000003}]
[null,"Sunday",0,0,0,0,0,0,0.05,0.05,0.05,0.05,0.05,0.05,0.05,0.05,0.05,0.05,0.05,0.05,0,0,0,0,0,0,{"$f":"SUM(C140:Z140)","v":0.6},{"$f":"AA140*$C$15","v":31.2}]
[null,"Holiday",0,0,0,0,0,0,0.05,0.05,0.05,0.05,0.05,0.05,0.05,0.05,0.05,0.05,0.05,0.05,0,0,0,0,0,0,{"$f":"SUM(C141:Z141)","v":0.6},{"$f":"AA141*SUM($C$8)","v":6.6}]
[null,"Total Equivalent Full Load Hours of Operation per Year",null,null,null,null,null,null,null,null,null,null,null,null,null,null,null,null,null,null,null,null,null,null,null,null,null,{"$f":"SUM(AB138:AB141)","v":2441.8000000000002}]
[]
[null,"Schedule Name:","Office Lighting Schedule"]
[]
[null,null,"12-1AM","1-2AM","2-3AM","3-4AM","4-5AM","5-6AM","6-7AM","7-8AM","8-9 AM","9-10AM","10-11AM","11AM-12PM","12-1PM","1-2PM","2-3PM","3-4PM","4-5PM","5-6PM","6-7PM","7-8PM","8-9PM","9-10PM","10-11PM","11-12PM","EFLH/day","EFLH/year"]
[null,"Weekday",0.05,0.05,0.05,0.05,0.05,0.1,0.1,0.3,0.65,0.65,0.65,0.65,0.55000000000000004,0.65,0.65,0.65,0.65,0.35,0.3,0.3,0.2,0.2,0.1,0.05,{"$f":"SUM(C147:Z147)","v":8},{"$f":"AA147*SUM($C$9:$C$13)","v":2000}]
[null,"Saturday",0.05,0.05,0.05,0.05,0.05,0.05,0.1,0.1,0.3,0.3,0.3,0.3,0.15,0.15,0.15,0.15,0.15,0.05,0.05,0.05,0.05,0.05,0.05,0.05,{"$f":"SUM(C148:Z148)","v":2.7999999999999985},{"$f":"AA148*SUM($C$14)","v":145.59999999999991}]
[null,"Sunday",0.05,0.05,0.05,0.05,0.05,0.05,0.05,0.05,0.05,0.05,0.05,0.05,0.05,0.05,0.05,0.05,0.05,0.05,0.05,0.05,0.05,0.05,0.05,0.05,{"$f":"SUM(C149:Z149)","v":1.2000000000000004},{"$f":"AA149*$C$15","v":62.40000000000002}]
[null,"Holiday",0.05,0.05,0.05,0.05,0.05,0.05,0.05,0.05,0.05,0.05,0.05,0.05,0.05,0.05,0.05,0.05,0.05,0.05,0.05,0.05,0.05,0.05,0.05,0.05,{"$f":"SUM(C150:Z150)","v":1.2000000000000004},{"$f":"AA150*SUM($C$8)","v":13.200000000000005}]
[null,"Total Equivalent Full Load Hours of Operation per Year",null,null,null,null,null,null,null,null,null,null,null,null,null,null,null,null,null,null,null,null,null,null,null,null,null,{"$f":"SUM(AB147:AB150)","v":2221.1999999999998}]
[]
[null,"Schedule Name:","Office Receptacle Schedule"]
[]
[null,null,"12-1AM","1-2AM","2-3AM","3-4AM","4-5AM","5-6AM","6-7AM","7-8AM","8-9 AM","9-10AM","10-11AM","11AM-12PM","12-1PM","1-2PM","2-3PM","3-4PM","4-5PM","5-6PM","6-7PM","7-8PM","8-9PM","9-10PM","10-11PM","11-12PM","EFLH/day","EFLH/year"]
[null,"Weekday",0.05,0.05,0.05,0.05,0.05,0.1,0.1,0.3,0.9,0.9,0.9,0.9,0.8,0.9,0.9,0.9,0.9,0.5,0.3,0.3,0.2,0.2,0.1,0.05,{"$f":"SUM(C156:Z156)","v":10.4},{"$f":"AA156*SUM($C$9:$C$13)","v":2600}]
[null,"Saturday",0.05,0.05,0.05,0.05,0.05,0.05,0.1,0.1,0.3,0.3,0.3,0.3,0.15,0.15,0.15,0.15,0.15,0.05,0.05,0.05,0.05,0.05,0.05,0.05,{"$f":"SUM(C157:Z157)","v":2.7999999999999985},{"$f":"AA157*SUM($C$14)","v":145.59999999999991}]
[null,"Sunday",0.05,0.05,0.05,0.05,0.05,0.05,0.05,0.05,0.05,0.05,0.05,0.05,0.05,0.05,0.05,0.05,0.05,0.05,0.05,0.05,0.05,0.05,0.05,0.05,{"$f":"SUM(C158:Z158)","v":1.2000000000000004},{"$f":"AA158*$C$15","v":62.40000000000002}]
[null,"Holiday",0.05,0.05,0.05,0.05,0.05,0.05,0.05,0.05,0.05,0.05,0.05,0.05,0.05,0.05,0.05,0.05,0.05,0.05,0.05,0.05,0.05,0.05,0.05,0.05,{"$f":"SUM(C159:Z159)","v":1.2000000000000004},{"$f":"AA159*SUM($C$8)","v":13.200000000000005}]
[null,"Total Equivalent Full Load Hours of Operation per Year",null,null,null,null,null,null,null,null,null,null,null,null,null,null,null,null,null,null,null,null,null,null,null,null,null,{"$f":"SUM(AB156:AB159)","v":2821.2}]
[]
[null,"Schedule Name:","Office DHW Schedule"]
[]
[null,null,"12-1AM","1-2AM","2-3AM","3-4AM","4-5AM","5-6AM","6-7AM","7-8AM","8-9 AM","9-10AM","10-11AM","11AM-12PM","12-1PM","1-2PM","2-3PM","3-4PM","4-5PM","5-6PM","6-7PM","7-8PM","8-9PM","9-10PM","10-11PM","11-12PM","EFLH/day","EFLH/year"]
[null,"Weekday",0.05,0.05,0.05,0.05,0.05,0.08,7.0000000000000007E-2,0.19,0.35,0.38,0.39,0.47,0.56999999999999995,0.54,0.34,0.33,0.44,0.26,0.21,0.15,0.17,0.08,0.05,0.05,{"$f":"SUM(C165:Z165)","v":5.3699999999999992},{"$f":"AA165*SUM($C$9:$C$13)","v":1342.4999999999998}]
[null,"Saturday",0.05,0.05,0.05,0.05,0.05,0.08,7.0000000000000007E-2,0.11,0.15,0.21,0.19,0.23,0.2,0.19,0.15,0.12,0.14000000000000001,7.0000000000000007E-2,7.0000000000000007E-2,7.0000000000000007E-2,7.0000000000000007E-2,0.09,0.05,0.05,{"$f":"SUM(C166:Z166)","v":2.5599999999999987},{"$f":"AA166*SUM($C$14)","v":133.11999999999995}]
[null,"Sunday",0.04,0.04,0.04,0.04,0.04,7.0000000000000007E-2,0.04,0.04,0.04,0.04,0.04,0.06,0.06,0.09,0.06,0.04,0.04,0.04,0.04,0.04,0.04,7.0000000000000007E-2,0.04,0.04,{"$f":"SUM(C167:Z167)","v":1.1300000000000001},{"$f":"AA167*$C$15","v":58.760000000000005}]
[null,"Hoilday",0.04,0.04,0.04,0.04,0.04,7.0000000000000007E-2,0.04,0.04,0.04,0.04,0.04,0.06,0.06,0.09,0.06,0.04,0.04,0.04,0.04,0.04,0.04,7.0000000000000007E-2,0.04,0.04,{"$f":"SUM(C168:Z168)","v":1.1300000000000001},{"$f":"AA168*SUM($C$8)","v":12.430000000000001}]
[null,"Total Equivalent Full Load Hours of Operation per Year",null,null,null,null,null,null,null,null,null,null,null,null,null,null,null,null,null,null,null,null,null,null,null,null,null,{"$f":"SUM(AB165:AB168)","v":1546.8099999999997}]
[]
[null,"Schedule Name:","Office Elevator Schedule"]
[]
[null,null,"12-1AM","1-2AM","2-3AM","3-4AM","4-5AM","5-6AM","6-7AM","7-8AM","8-9 AM","9-10AM","10-11AM","11AM-12PM","12-1PM","1-2PM","2-3PM","3-4PM","4-5PM","5-6PM","6-7PM","7-8PM","8-9PM","9-10PM","10-11PM","11-12PM","EFLH/day","EFLH/year"]
[null,"Weekday",0,0,0,0,0,0,0,0.35,0.69,0.43,0.37,0.43,0.57999999999999996,0.48,0.37,0.37,0.46,0.62,0.2,0.12,0.04,0.04,0,0,{"$f":"SUM(C174:Z174)","v":5.5500000000000007},{"$f":"AA174*SUM($C$9:$C$13)","v":1387.5000000000002}]
[null,"Saturday",0,0,0,0,0,0,0,0.16,0.14000000000000001,0.21,0.18,0.25,0.21,0.13,0.08,0.04,0.05,0.06,0,0,0,0,0,0,{"$f":"SUM(C175:Z175)","v":1.51},{"$f":"AA175*SUM($C$14)","v":78.52}]
[null,"Sunday",0,0,0,0,0,0,0,0,0,0,0,0,0,0,0,0,0,0,0,0,0,0,0,0,{"$f":"SUM(C176:Z176)","v":0},{"$f":"AA176*$C$15","v":0}]
[null,"Holiday",0,0,0,0,0,0,0,0,0,0,0,0,0,0,0,0,0,0,0,0,0,0,0,0,{"$f":"SUM(C177:Z177)","v":0},{"$f":"AA177*SUM($C$8)","v":0}]
[null,"Total Equivalent Full Load Hours of Operation per Year",null,null,null,null,null,null,null,null,null,null,null,null,null,null,null,null,null,null,null,null,null,null,null,null,null,{"$f":"SUM(AB174:AB177)","v":1466.0200000000002}]
[]
[null,"School Occupancy"]
[]
[null,"Schedule Name:","School HVAC System - ON/OFF Schedule"]
[]
[null,null,"12-1AM","1-2AM","2-3AM","3-4AM","4-5AM","5-6AM","6-7AM","7-8AM","8-9 AM","9-10AM","10-11AM","11AM-12PM","12-1PM","1-2PM","2-3PM","3-4PM","4-5PM","5-6PM","6-7PM","7-8PM","8-9PM","9-10PM","10-11PM","11-12PM","Hours/day","Hours/year"]
[null,"Weekday",0,0,0,0,0,0,0,1,1,1,1,1,1,1,1,1,1,1,1,1,1,1,0,0,{"$f":"SUM(C185:Z185)","v":15},{"$f":"AA185*SUM($C$9:$C$13)","v":3750}]
[null,"Saturday",0,0,0,0,0,0,0,0,1,1,1,1,1,0,0,0,0,0,0,0,0,0,0,0,{"$f":"SUM(C186:Z186)","v":5},{"$f":"AA186*SUM($C$14)","v":260}]
[null,"Sunday",0,0,0,0,0,0,0,0,0,0,0,0,0,0,0,0,0,0,0,0,0,0,0,0,{"$f":"SUM(C187:Z187)","v":0},{"$f":"AA187*$C$15","v":0}]
[null,"Holiday",0,0,0,0,0,0,0,0,0,0,0,0,0,0,0,0,0,0,0,0,0,0,0,0,{"$f":"SUM(C188:Z188)","v":0},{"$f":"AA188*SUM($C$8)","v":0}]
[null,"Total hours of operation per year",null,null,null,null,null,null,null,null,null,null,null,null,null,null,null,null,null,null,null,null,null,null,null,null,null,{"$f":"SUM(AB185:AB188)","v":4010}]
[]
[null,"Schedule Name:","School Occupancy Schedule"]
[]
[null,null,"12-1AM","1-2AM","2-3AM","3-4AM","4-5AM","5-6AM","6-7AM","7-8AM","8-9 AM","9-10AM","10-11AM","11AM-12PM","12-1PM","1-2PM","2-3PM","3-4PM","4-5PM","5-6PM","6-7PM","7-8PM","8-9PM","9-10PM","10-11PM","11-12PM","EFLH/day","EFLH/year"]
[null,"Weekday",0,0,0,0,0,0,0,0.05,0.75,0.9,0.9,0.8,0.8,0.8,0.8,0.45,0.15,0.05,0.15,0.2,0.2,0.1,0,0,{"$f":"SUM(C194:Z194)","v":7.1000000000000005},{"$f":"AA194*SUM($C$9:$C$13)","v":1775.0000000000002}]
[null,"Saturday",0,0,0,0,0,0,0,0,0.1,0.1,0.1,0.1,0.1,0,0,0,0,0,0,0,0,0,0,0,{"$f":"SUM(C195:Z195)","v":0.5},{"$f":"AA195*SUM($C$14)","v":26}]
[null,"Sunday",0,0,0,0,0,0,0,0,0,0,0,0,0,0,0,0,0,0,0,0,0,0,0,0,{"$f":"SUM(C196:Z196)","v":0},{"$f":"AA196*$C$15","v":0}]
[null,"Holiday",0,0,0,0,0,0,0,0,0,0,0,0,0,0,0,0,0,0,0,0,0,0,0,0,{"$f":"SUM(C197:Z197)","v":0},{"$f":"AA197*SUM($C$8)","v":0}]
[null,"Total Equivalent Full Load Hours of Operation per Year",null,null,null,null,null,null,null,null,null,null,null,null,null,null,null,null,null,null,null,null,null,null,null,null,null,{"$f":"SUM(AB194:AB197)","v":1801.0000000000002}]
[]
[null,"Schedule Name:","School Lighting Schedule"]
[]
[null,null,"12-1AM","1-2AM","2-3AM","3-4AM","4-5AM","5-6AM","6-7AM","7-8AM","8-9 AM","9-10AM","10-11AM","11AM-12PM","12-1PM","1-2PM","2-3PM","3-4PM","4-5PM","5-6PM","6-7PM","7-8PM","8-9PM","9-10PM","10-11PM","11-12PM","EFLH/day","EFLH/year"]
[null,"Weekday",0.05,0.05,0.05,0.05,0.05,0.05,0.05,0.3,0.6,0.65,0.65,0.65,0.55000000000000004,0.55000000000000004,0.55000000000000004,0.5,0.35,0.35,0.35,0.35,0.35,0.3,0.05,0.05,{"$f":"SUM(C203:Z203)","v":7.4999999999999973},{"$f":"AA203*SUM($C$9:$C$13)","v":1874.9999999999993}]
[null,"Saturday",0.05,0.05,0.05,0.05,0.05,0.05,0.05,0.05,0.15,0.15,0.15,0.15,0.15,0.05,0.05,0.05,0.05,0.05,0.05,0.05,0.05,0.05,0.05,0.05,{"$f":"SUM(C204:Z204)","v":1.7000000000000004},{"$f":"AA204*SUM($C$14)","v":88.40000000000002}]
[null,"Sunday",0.05,0.05,0.05,0.05,0.05,0.05,0.05,0.05,0.05,0.05,0.05,0.05,0.05,0.05,0.05,0.05,0.05,0.05,0.05,0.05,0.05,0.05,0.05,0.05,{"$f":"SUM(C205:Z205)","v":1.2000000000000004},{"$f":"AA205*$C$15","v":62.40000000000002}]
[null,"Holiday",0.05,0.05,0.05,0.05,0.05,0.05,0.05,0.05,0.05,0.05,0.05,0.05,0.05,0.05,0.05,0.05,0.05,0.05,0.05,0.05,0.05,0.05,0.05,0.05,{"$f":"SUM(C206:Z206)","v":1.2000000000000004},{"$f":"AA206*SUM($C$8)","v":13.200000000000005}]
[null,"Total Equivalent Full Load Hours of Operation per Year",null,null,null,null,null,null,null,null,null,null,null,null,null,null,null,null,null,null,null,null,null,null,null,null,null,{"$f":"SUM(AB203:AB206)","v":2038.9999999999995}]
[]
[null,"Schedule Name:","School Receptacle Schedule"]
[]
[null,null,"12-1AM","1-2AM","2-3AM","3-4AM","4-5AM","5-6AM","6-7AM","7-8AM","8-9 AM","9-10AM","10-11AM","11AM-12PM","12-1PM","1-2PM","2-3PM","3-4PM","4-5PM","5-6PM","6-7PM","7-8PM","8-9PM","9-10PM","10-11PM","11-12PM","EFLH/day","EFLH/year"]
[null,"Weekday",0.05,0.05,0.05,0.05,0.05,0.05,0.05,0.3,0.85,0.95,0.95,0.95,0.8,0.8,0.8,0.7,0.5,0.5,0.35,0.35,0.35,0.3,0.05,0.05,{"$f":"SUM(C212:Z212)","v":9.9},{"$f":"AA212*SUM($C$9:$C$13)","v":2475}]
[null,"Saturday",0.05,0.05,0.05,0.05,0.05,0.05,0.05,0.05,0.15,0.15,0.15,0.15,0.15,0.05,0.05,0.05,0.05,0.05,0.05,0.05,0.05,0.05,0.05,0.05,{"$f":"SUM(C213:Z213)","v":1.7000000000000004},{"$f":"AA213*SUM($C$14)","v":88.40000000000002}]
[null,"Sunday",0.05,0.05,0.05,0.05,0.05,0.05,0.05,0.05,0.05,0.05,0.05,0.05,0.05,0.05,0.05,0.05,0.05,0.05,0.05,0.05,0.05,0.05,0.05,0.05,{"$f":"SUM(C214:Z214)","v":1.2000000000000004},{"$f":"AA214*$C$15","v":62.40000000000002}]
[null,"Holiday",0.05,0.05,0.05,0.05,0.05,0.05,0.05,0.05,0.05,0.05,0.05,0.05,0.05,0.05,0.05,0.05,0.05,0.05,0.05,0.05,0.05,0.05,0.05,0.05,{"$f":"SUM(C215:Z215)","v":1.2000000000000004},{"$f":"AA215*SUM($C$8)","v":13.200000000000005}]
[null,"Total Equivalent Full Load Hours of Operation per Year",null,null,null,null,null,null,null,null,null,null,null,null,null,null,null,null,null,null,null,null,null,null,null,null,null,{"$f":"SUM(AB212:AB215)","v":2639}]
[]
[null,"Schedule Name:","School DHW Schedule"]
[]
[null,null,"12-1AM","1-2AM","2-3AM","3-4AM","4-5AM","5-6AM","6-7AM","7-8AM","8-9 AM","9-10AM","10-11AM","11AM-12PM","12-1PM","1-2PM","2-3PM","3-4PM","4-5PM","5-6PM","6-7PM","7-8PM","8-9PM","9-10PM","10-11PM","11-12PM","EFLH/day","EFLH/year"]
[null,"Weekday",0.05,0.05,0.05,0.05,0.05,0.05,0.05,0.1,0.34,0.6,0.63,0.72,0.79,0.83,0.61,0.65,0.1,0.1,0.19,0.25,0.22,0.22,0.12,0.09,{"$f":"SUM(C221:Z221)","v":6.91},{"$f":"AA221*SUM($C$9:$C$13)","v":1727.5}]
[null,"Saturday",0.03,0.03,0.03,0.03,0.03,0.03,0.03,0.03,0.03,0.05,0.05,0.05,0.05,0.03,0.03,0.03,0.03,0.03,0.03,0.03,0.03,0.03,0.03,0.03,{"$f":"SUM(C222:Z222)","v":0.80000000000000027},{"$f":"AA222*SUM($C$14)","v":41.600000000000016}]
[null,"Sunday",0.03,0.03,0.03,0.03,0.03,0.03,0.03,0.03,0.03,0.05,0.05,0.05,0.05,0.05,0.05,0.03,0.03,0.03,0.03,0.03,0.03,0.03,0.03,0.03,{"$f":"SUM(C223:Z223)","v":0.8400000000000003},{"$f":"AA223*$C$15","v":43.680000000000014}]
[null,"Holiday",0.03,0.03,0.03,0.03,0.03,0.03,0.03,0.03,0.03,0.05,0.05,0.05,0.05,0.05,0.05,0.03,0.03,0.03,0.03,0.03,0.03,0.03,0.03,0.03,{"$f":"SUM(C224:Z224)","v":0.8400000000000003},{"$f":"AA224*SUM($C$8)","v":9.2400000000000038}]
[null,"Total Equivalent Full Load Hours of Operation per Year",null,null,null,null,null,null,null,null,null,null,null,null,null,null,null,null,null,null,null,null,null,null,null,null,null,{"$f":"SUM(AB221:AB224)","v":1822.02}]
[]
[null,"Schedule Name:","School Elevator Schedule"]
[]
[null,null,"12-1AM","1-2AM","2-3AM","3-4AM","4-5AM","5-6AM","6-7AM","7-8AM","8-9 AM","9-10AM","10-11AM","11AM-12PM","12-1PM","1-2PM","2-3PM","3-4PM","4-5PM","5-6PM","6-7PM","7-8PM","8-9PM","9-10PM","10-11PM","11-12PM","EFLH/day","EFLH/year"]
[null,"Weekday",0,0,0,0,0,0,0,0,0.3,0.3,0.3,0.3,0.3,0.3,0.3,0.15,0,0,0,0,0,0,0,0,{"$f":"SUM(C230:Z230)","v":2.25},{"$f":"AA230*SUM($C$9:$C$13)","v":562.5}]
[null,"Saturday",0,0,0,0,0,0,0,0,0,0,0,0,0,0,0,0,0,0,0,0,0,0,0,0,{"$f":"SUM(C231:Z231)","v":0},{"$f":"AA231*SUM($C$14)","v":0}]
[null,"Sunday",0,0,0,0,0,0,0,0,0,0,0,0,0,0,0,0,0,0,0,0,0,0,0,0,{"$f":"SUM(C232:Z232)","v":0},{"$f":"AA232*$C$15","v":0}]
[null,"Holiday",0,0,0,0,0,0,0,0,0,0,0,0,0,0,0,0,0,0,0,0,0,0,0,0,{"$f":"SUM(C233:Z233)","v":0},{"$f":"AA233*SUM($C$8)","v":0}]
[null,"Total Equivalent Full Load Hours of Operation per Year",null,null,null,null,null,null,null,null,null,null,null,null,null,null,null,null,null,null,null,null,null,null,null,null,null,{"$f":"SUM(AB230:AB233)","v":562.5}]
[]
[null,"Health Occupancy"]
[]
[null,"Schedule Name:","Health HVAC System - ON/OFF Schedule"]
[]
[null,null,"12-1AM","1-2AM","2-3AM","3-4AM","4-5AM","5-6AM","6-7AM","7-8AM","8-9 AM","9-10AM","10-11AM","11AM-12PM","12-1PM","1-2PM","2-3PM","3-4PM","4-5PM","5-6PM","6-7PM","7-8PM","8-9PM","9-10PM","10-11PM","11-12PM","Hours/day","Hours/year"]
[null,"Weekday",1,1,1,1,1,1,1,1,1,1,1,1,1,1,1,1,1,1,1,1,1,1,1,1,{"$f":"SUM(C241:Z241)","v":24},{"$f":"AA241*SUM($C$9:$C$13)","v":6000}]
[null,"Saturday",1,1,1,1,1,1,1,1,1,1,1,1,1,1,1,1,1,1,1,1,1,1,1,1,{"$f":"SUM(C242:Z242)","v":24},{"$f":"AA242*SUM($C$14)","v":1248}]
[null,"Sunday",1,1,1,1,1,1,1,1,1,1,1,1,1,1,1,1,1,1,1,1,1,1,1,1,{"$f":"SUM(C243:Z243)","v":24},{"$f":"AA243*$C$15","v":1248}]
[null,"Holiday",1,1,1,1,1,1,1,1,1,1,1,1,1,1,1,1,1,1,1,1,1,1,1,1,{"$f":"SUM(C244:Z244)","v":24},{"$f":"AA244*SUM($C$8)","v":264}]
[null,"Total hours of operation per year",null,null,null,null,null,null,null,null,null,null,null,null,null,null,null,null,null,null,null,null,null,null,null,null,null,{"$f":"SUM(AB241:AB244)","v":8760}]
[]
[null,"Schedule Name:","Health Occupancy Schedule"]
[]
[null,null,"12-1AM","1-2AM","2-3AM","3-4AM","4-5AM","5-6AM","6-7AM","7-8AM","8-9 AM","9-10AM","10-11AM","11AM-12PM","12-1PM","1-2PM","2-3PM","3-4PM","4-5PM","5-6PM","6-7PM","7-8PM","8-9PM","9-10PM","10-11PM","11-12PM","EFLH/day","EFLH/year"]
[null,"Weekday",0,0,0,0,0,0,0,0.1,0.5,0.8,0.8,0.8,0.8,0.8,0.8,0.8,0.8,0.5,0.3,0.3,0.2,0.2,0,0,{"$f":"SUM(C250:Z250)","v":8.4999999999999982},{"$f":"AA250*SUM($C$9:$C$13)","v":2124.9999999999995}]
[null,"Saturday",0,0,0,0,0,0,0,0.1,0.3,0.4,0.4,0.4,0.4,0.4,0.4,0.4,0.4,0.1,0.1,0,0,0,0,0,{"$f":"SUM(C251:Z251)","v":3.8},{"$f":"AA251*SUM($C$14)","v":197.6}]
[null,"Sunday",0,0,0,0,0,0,0,0,0.05,0.05,0.05,0.05,0.05,0.05,0.05,0.05,0,0,0,0,0,0,0,0,{"$f":"SUM(C252:Z252)","v":0.39999999999999997},{"$f":"AA252*$C$15","v":20.799999999999997}]
[null,"Holiday",0,0,0,0,0,0,0,0,0.05,0.05,0.05,0.05,0.05,0.05,0.05,0.05,0,0,0,0,0,0,0,0,{"$f":"SUM(C253:Z253)","v":0.39999999999999997},{"$f":"AA253*SUM($C$8)","v":4.3999999999999995}]
[null,"Total Equivalent Full Load Hours of Operation per Year",null,null,null,null,null,null,null,null,null,null,null,null,null,null,null,null,null,null,null,null,null,null,null,null,null,{"$f":"SUM(AB250:AB253)","v":2347.7999999999997}]
[]
[null,"Schedule Name:","Health Lighting Schedule"]
[]
[null,null,"12-1AM","1-2AM","2-3AM","3-4AM","4-5AM","5-6AM","6-7AM","7-8AM","8-9 AM","9-10AM","10-11AM","11AM-12PM","12-1PM","1-2PM","2-3PM","3-4PM","4-5PM","5-6PM","6-7PM","7-8PM","8-9PM","9-10PM","10-11PM","11-12PM","EFLH/day","EFLH/year"]
[null,"Weekday",0.1,0.1,0.1,0.1,0.1,0.1,0.1,0.45,0.8,0.8,0.8,0.8,0.8,0.8,0.8,0.8,0.3,0.3,0.3,0.3,0.3,0.3,0.3,0.1,{"$f":"SUM(C259:Z259)","v":9.7500000000000018},{"$f":"AA259*SUM($C$9:$C$13)","v":2437.5000000000005}]
[null,"Saturday",0.1,0.1,0.1,0.1,0.1,0.1,0.1,0.2,0.35,0.35,0.35,0.35,0.35,0.35,0.35,0.35,0.35,0.35,0.1,0.1,0.1,0.1,0.1,0.1,{"$f":"SUM(C260:Z260)","v":4.9999999999999982},{"$f":"AA260*SUM($C$14)","v":259.99999999999989}]
[null,"Sunday",0.05,0.05,0.05,0.05,0.05,0.05,0.05,0.05,0.1,0.1,0.1,0.1,0.1,0.1,0.1,0.1,0.05,0.05,0.05,0.05,0.05,0.05,0.05,0.05,{"$f":"SUM(C261:Z261)","v":1.6000000000000003},{"$f":"AA261*$C$15","v":83.200000000000017}]
[null,"Holiday",0.05,0.05,0.05,0.05,0.05,0.05,0.05,0.05,0.1,0.1,0.1,0.1,0.1,0.1,0.1,0.1,0.05,0.05,0.05,0.05,0.05,0.05,0.05,0.05,{"$f":"SUM(C262:Z262)","v":1.6000000000000003},{"$f":"AA262*SUM($C$8)","v":17.600000000000005}]
[null,"Total Equivalent Full Load Hours of Operation per Year",null,null,null,null,null,null,null,null,null,null,null,null,null,null,null,null,null,null,null,null,null,null,null,null,null,{"$f":"SUM(AB259:AB262)","v":2798.3}]
[]
[null,"Schedule Name:","Health Receptacle Schedule"]
[]
[null,null,"12-1AM","1-2AM","2-3AM","3-4AM","4-5AM","5-6AM","6-7AM","7-8AM","8-9 AM","9-10AM","10-11AM","11AM-12PM","12-1PM","1-2PM","2-3PM","3-4PM","4-5PM","5-6PM","6-7PM","7-8PM","8-9PM","9-10PM","10-11PM","11-12PM","EFLH/day","EFLH/year"]
[null,"Weekday",0.1,0.1,0.1,0.1,0.1,0.1,0.1,0.5,0.9,0.9,0.9,0.9,0.9,0.9,0.9,0.9,0.3,0.3,0.3,0.3,0.3,0.3,0.3,0.1,{"$f":"SUM(C268:Z268)","v":10.600000000000005},{"$f":"AA268*SUM($C$9:$C$13)","v":2650.0000000000014}]
[null,"Saturday",0.1,0.1,0.1,0.1,0.1,0.1,0.1,0.2,0.4,0.4,0.4,0.4,0.4,0.4,0.4,0.4,0.4,0.4,0.1,0.1,0.1,0.1,0.1,0.1,{"$f":"SUM(C269:Z269)","v":5.4999999999999982},{"$f":"AA269*SUM($C$14)","v":285.99999999999989}]
[null,"Sunday",0.05,0.05,0.05,0.05,0.05,0.05,0.05,0.05,0.1,0.1,0.1,0.1,0.1,0.1,0.1,0.1,0.05,0.05,0.05,0.05,0.05,0.05,0.05,0.05,{"$f":"SUM(C270:Z270)","v":1.6000000000000003},{"$f":"AA270*$C$15","v":83.200000000000017}]
[null,"Holiday",0.05,0.05,0.05,0.05,0.05,0.05,0.05,0.05,0.1,0.1,0.1,0.1,0.1,0.1,0.1,0.1,0.05,0.05,0.05,0.05,0.05,0.05,0.05,0.05,{"$f":"SUM(C271:Z271)","v":1.6000000000000003},{"$f":"AA271*SUM($C$8)","v":17.600000000000005}]
[null,"Total Equivalent Full Load Hours of Operation per Year",null,null,null,null,null,null,null,null,null,null,null,null,null,null,null,null,null,null,null,null,null,null,null,null,null,{"$f":"SUM(AB268:AB271)","v":3036.8000000000011}]
[]
[null,"Schedule Name:","Health DHW Schedule"]
[]
[null,null,"12-1AM","1-2AM","2-3AM","3-4AM","4-5AM","5-6AM","6-7AM","7-8AM","8-9 AM","9-10AM","10-11AM","11AM-12PM","12-1PM","1-2PM","2-3PM","3-4PM","4-5PM","5-6PM","6-7PM","7-8PM","8-9PM","9-10PM","10-11PM","11-12PM","EFLH/day","EFLH/year"]
[null,"Weekday",0.01,0.01,0.01,0.01,0.01,0.01,0.01,0.17,0.57999999999999996,0.66,0.78,0.82,0.71,0.82,0.78,0.74,0.63,0.41,0.18,0.18,0.18,0.1,0.01,0.01,{"$f":"SUM(C277:Z277)","v":7.8299999999999983},{"$f":"AA277*SUM($C$9:$C$13)","v":1957.4999999999995}]
[null,"Saturday",0.01,0.01,0.01,0.01,0.01,0.01,0.01,0.01,0.2,0.28000000000000003,0.3,0.3,0.24,0.24,0.23,0.23,0.23,0.1,0.01,0.01,0.01,0.01,0.01,0.01,{"$f":"SUM(C278:Z278)","v":2.4899999999999989},{"$f":"AA278*SUM($C$14)","v":129.47999999999993}]
[null,"Sunday",0.01,0.01,0.01,0.01,0.01,0.01,0.01,0.01,0.01,0.01,0.01,0.01,0.01,0.01,0.01,0.01,0.01,0.01,0.01,0.01,0.01,0.01,0.01,0.01,{"$f":"SUM(C279:Z279)","v":0.24000000000000007},{"$f":"AA279*$C$15","v":12.480000000000004}]
[null,"Holiday",0.01,0.01,0.01,0.01,0.01,0.01,0.01,0.01,0.01,0.01,0.01,0.01,0.01,0.01,0.01,0.01,0.01,0.01,0.01,0.01,0.01,0.01,0.01,0.01,{"$f":"SUM(C280:Z280)","v":0.24000000000000007},{"$f":"AA280*SUM($C$8)","v":2.640000000000001}]
[null,"Total Equivalent Full Load Hours of Operation per Year",null,null,null,null,null,null,null,null,null,null,null,null,null,null,null,null,null,null,null,null,null,null,null,null,null,{"$f":"SUM(AB277:AB280)","v":2102.0999999999995}]
[]
[null,"Schedule Name:","Health Elevator Schedule"]
[]
[null,null,"12-1AM","1-2AM","2-3AM","3-4AM","4-5AM","5-6AM","6-7AM","7-8AM","8-9 AM","9-10AM","10-11AM","11AM-12PM","12-1PM","1-2PM","2-3PM","3-4PM","4-5PM","5-6PM","6-7PM","7-8PM","8-9PM","9-10PM","10-11PM","11-12PM","EFLH/day","EFLH/year"]
[null,"Weekday",0,0,0,0,0,0,0,0.02,0.75,1,1,1,0.75,1,1,1,1,1,0.52,0.52,0.52,0.28000000000000003,0,0,{"$f":"SUM(C286:Z286)","v":11.359999999999998},{"$f":"AA286*SUM($C$9:$C$13)","v":2839.9999999999995}]
[null,"Saturday",0,0,0,0,0,0,0,0.02,0.46,0.7,0.7,0.7,0.51,0.51,0.51,0.51,0.51,0.25,0.02,0,0,0,0,0,{"$f":"SUM(C287:Z287)","v":5.3999999999999986},{"$f":"AA287*SUM($C$14)","v":280.79999999999995}]
[null,"Sunday",0,0,0,0,0,0,0,0,0.02,0.02,0.02,0.02,0.02,0.02,0.02,0.02,0,0,0,0,0,0,0,0,{"$f":"SUM(C288:Z288)","v":0.16},{"$f":"AA288*$C$15","v":8.32}]
[null,"Holiday",0,0,0,0,0,0,0,0,0.02,0.02,0.02,0.02,0.02,0.02,0.02,0.02,0,0,0,0,0,0,0,0,{"$f":"SUM(C289:Z289)","v":0.16},{"$f":"AA289*SUM($C$8)","v":1.76}]
[null,"Total Equivalent Full Load Hours of Operation per Year",null,null,null,null,null,null,null,null,null,null,null,null,null,null,null,null,null,null,null,null,null,null,null,null,null,{"$f":"SUM(AB286:AB289)","v":3130.8799999999997}]
[]
[null,"Retail Occupancy"]
[]
[null,"Schedule Name:","Retail HVAC System - ON/OFF Schedule"]
[]
[null,null,"12-1AM","1-2AM","2-3AM","3-4AM","4-5AM","5-6AM","6-7AM","7-8AM","8-9 AM","9-10AM","10-11AM","11AM-12PM","12-1PM","1-2PM","2-3PM","3-4PM","4-5PM","5-6PM","6-7PM","7-8PM","8-9PM","9-10PM","10-11PM","11-12PM","Hours/day","Hours/year"]
[null,"Weekday",0,0,0,0,0,0,1,1,1,1,1,1,1,1,1,1,1,1,1,1,1,0,0,0,{"$f":"SUM(C297:Z297)","v":15},{"$f":"AA297*SUM($C$9:$C$13)","v":3750}]
[null,"Saturday",0,0,0,0,0,0,1,1,1,1,1,1,1,1,1,1,1,1,1,1,1,1,0,0,{"$f":"SUM(C298:Z298)","v":16},{"$f":"AA298*SUM($C$14)","v":832}]
[null,"Sunday",0,0,0,0,0,0,0,0,1,1,1,1,1,1,1,1,1,0,0,0,0,0,0,0,{"$f":"SUM(C299:Z299)","v":9},{"$f":"AA299*$C$15","v":468}]
[null,"Holiday",0,0,0,0,0,0,0,0,1,1,1,1,1,1,1,1,1,0,0,0,0,0,0,0,{"$f":"SUM(C300:Z300)","v":9},{"$f":"AA300*SUM($C$8)","v":99}]
[null,"Total hours of operation per year",null,null,null,null,null,null,null,null,null,null,null,null,null,null,null,null,null,null,null,null,null,null,null,null,null,{"$f":"SUM(AB297:AB300)","v":5149}]
[]
[null,"Schedule Name:","Retail Occupancy Schedule"]
[]
[null,null,"12-1AM","1-2AM","2-3AM","3-4AM","4-5AM","5-6AM","6-7AM","7-8AM","8-9 AM","9-10AM","10-11AM","11AM-12PM","12-1PM","1-2PM","2-3PM","3-4PM","4-5PM","5-6PM","6-7PM","7-8PM","8-9PM","9-10PM","10-11PM","11-12PM","EFLH/day","EFLH/year"]
[null,"Weekday",0,0,0,0,0,0,0,0.1,0.2,0.5,0.5,0.7,0.7,0.7,0.7,0.8,0.7,0.5,0.5,0.3,0.3,0,0,0,{"$f":"SUM(C306:Z306)","v":7.2},{"$f":"AA306*SUM($C$9:$C$13)","v":1800}]
[null,"Saturday",0,0,0,0,0,0,0,0.1,0.2,0.5,0.6,0.8,0.8,0.8,0.8,0.8,0.8,0.6,0.2,0.2,0.2,0.1,0,0,{"$f":"SUM(C307:Z307)","v":7.4999999999999991},{"$f":"AA307*SUM($C$14)","v":389.99999999999994}]
[null,"Sunday",0,0,0,0,0,0,0,0,0,0.1,0.2,0.2,0.4,0.4,0.4,0.4,0.4,0.2,0.1,0,0,0,0,0,{"$f":"SUM(C308:Z308)","v":2.8000000000000003},{"$f":"AA308*$C$15","v":145.60000000000002}]
[null,"Holiday",0,0,0,0,0,0,0,0,0,0.1,0.2,0.2,0.4,0.4,0.4,0.4,0.4,0.2,0.1,0,0,0,0,0,{"$f":"SUM(C309:Z309)","v":2.8000000000000003},{"$f":"AA309*SUM($C$8)","v":30.800000000000004}]
[null,"Total Equivalent Full Load Hours of Operation per Year",null,null,null,null,null,null,null,null,null,null,null,null,null,null,null,null,null,null,null,null,null,null,null,null,null,{"$f":"SUM(AB306:AB309)","v":2366.4}]
[]
[null,"Schedule Name:","Retail Lighting Schedule"]
[]
[null,null,"12-1AM","1-2AM","2-3AM","3-4AM","4-5AM","5-6AM","6-7AM","7-8AM","8-9 AM","9-10AM","10-11AM","11AM-12PM","12-1PM","1-2PM","2-3PM","3-4PM","4-5PM","5-6PM","6-7PM","7-8PM","8-9PM","9-10PM","10-11PM","11-12PM","EFLH/day","EFLH/year"]
[null,"Weekday",0.05,0.05,0.05,0.05,0.05,0.05,0.05,0.2,0.5,0.85,0.85,0.85,0.85,0.85,0.85,0.85,0.85,0.85,0.55000000000000004,0.55000000000000004,0.5,0.2,0.05,0.05,{"$f":"SUM(C315:Z315)","v":10.600000000000001},{"$f":"AA315*SUM($C$9:$C$13)","v":2650.0000000000005}]
[null,"Saturday",0.05,0.05,0.05,0.05,0.05,0.05,0.05,0.1,0.3,0.55000000000000004,0.85,0.85,0.85,0.85,0.85,0.85,0.85,0.85,0.5,0.3,0.3,0.1,0.05,0.05,{"$f":"SUM(C316:Z316)","v":9.4000000000000021},{"$f":"AA316*SUM($C$14)","v":488.80000000000013}]
[null,"Sunday",0.05,0.05,0.05,0.05,0.05,0.05,0.05,0.05,0.1,0.1,0.4,0.4,0.55000000000000004,0.55000000000000004,0.55000000000000004,0.55000000000000004,0.55000000000000004,0.4,0.2,0.05,0.05,0.05,0.05,0.05,{"$f":"SUM(C317:Z317)","v":4.9999999999999991},{"$f":"AA317*$C$15","v":259.99999999999994}]
[null,"Holiday",0.05,0.05,0.05,0.05,0.05,0.05,0.05,0.05,0.1,0.1,0.4,0.4,0.55000000000000004,0.55000000000000004,0.55000000000000004,0.55000000000000004,0.55000000000000004,0.4,0.2,0.05,0.05,0.05,0.05,0.05,{"$f":"SUM(C318:Z318)","v":4.9999999999999991},{"$f":"AA318*SUM($C$8)","v":54.999999999999993}]
[null,"Total Equivalent Full Load Hours of Operation per Year",null,null,null,null,null,null,null,null,null,null,null,null,null,null,null,null,null,null,null,null,null,null,null,null,null,{"$f":"SUM(AB315:AB318)","v":3453.8000000000006}]
[]
[null,"Schedule Name:","Retail Receptacle Schedule"]
[]
[null,null,"12-1AM","1-2AM","2-3AM","3-4AM","4-5AM","5-6AM","6-7AM","7-8AM","8-9 AM","9-10AM","10-11AM","11AM-12PM","12-1PM","1-2PM","2-3PM","3-4PM","4-5PM","5-6PM","6-7PM","7-8PM","8-9PM","9-10PM","10-11PM","11-12PM","EFLH/day","EFLH/year"]
[null,"Weekday",0.05,0.05,0.05,0.05,0.05,0.05,0.05,0.2,0.5,0.9,0.9,0.9,0.9,0.9,0.9,0.9,0.9,0.9,0.6,0.6,0.5,0.2,0.05,0.05,{"$f":"SUM(C324:Z324)","v":11.150000000000002},{"$f":"AA324*SUM($C$9:$C$13)","v":2787.5000000000005}]
[null,"Saturday",0.05,0.05,0.05,0.05,0.05,0.05,0.05,0.1,0.3,0.6,0.9,0.9,0.9,0.9,0.9,0.9,0.9,0.9,0.5,0.3,0.3,0.1,0.05,0.05,{"$f":"SUM(C325:Z325)","v":9.8500000000000032},{"$f":"AA325*SUM($C$14)","v":512.20000000000016}]
[null,"Sunday",0.05,0.05,0.05,0.05,0.05,0.05,0.05,0.05,0.1,0.1,0.4,0.4,0.55000000000000004,0.55000000000000004,0.55000000000000004,0.55000000000000004,0.55000000000000004,0.4,0.2,0.05,0.05,0.05,0.05,0.05,{"$f":"SUM(C326:Z326)","v":4.9999999999999991},{"$f":"AA326*$C$15","v":259.99999999999994}]
[null,"Holiday",0.05,0.05,0.05,0.05,0.05,0.05,0.05,0.05,0.1,0.1,0.4,0.4,0.55000000000000004,0.55000000000000004,0.55000000000000004,0.55000000000000004,0.55000000000000004,0.4,0.2,0.05,0.05,0.05,0.05,0.05,{"$f":"SUM(C327:Z327)","v":4.9999999999999991},{"$f":"AA327*SUM($C$8)","v":54.999999999999993}]
[null,"Total Equivalent Full Load Hours of Operation per Year",null,null,null,null,null,null,null,null,null,null,null,null,null,null,null,null,null,null,null,null,null,null,null,null,null,{"$f":"SUM(AB324:AB327)","v":3614.7000000000007}]
[]
[null,"Schedule Name:","Retail DHW Schedule"]
[]
[null,null,"12-1AM","1-2AM","2-3AM","3-4AM","4-5AM","5-6AM","6-7AM","7-8AM","8-9 AM","9-10AM","10-11AM","11AM-12PM","12-1PM","1-2PM","2-3PM","3-4PM","4-5PM","5-6PM","6-7PM","7-8PM","8-9PM","9-10PM","10-11PM","11-12PM","EFLH/day","EFLH/year"]
[null,"Weekday",0.04,0.05,0.05,0.04,0.04,0.04,0.04,0.15,0.23,0.32,0.41,0.56999999999999995,0.62,0.61,0.5,0.45,0.46,0.47,0.42,0.34,0.33,0.23,0.13,0.08,{"$f":"SUM(C333:Z333)","v":6.62},{"$f":"AA333*SUM($C$9:$C$13)","v":1655}]
[null,"Saturday",0.11,0.1,0.08,0.06,0.06,0.06,7.0000000000000007E-2,0.2,0.24,0.27,0.42,0.54,0.59,0.6,0.49,0.48,0.47,0.46,0.44,0.36,0.28999999999999998,0.22,0.16,0.13,{"$f":"SUM(C334:Z334)","v":6.8999999999999995},{"$f":"AA334*SUM($C$14)","v":358.79999999999995}]
[null,"Sunday",7.0000000000000007E-2,7.0000000000000007E-2,7.0000000000000007E-2,0.06,0.06,0.06,7.0000000000000007E-2,0.1,0.12,0.14000000000000001,0.28999999999999998,0.31,0.36,0.36,0.34,0.35,0.37,0.34,0.25,0.27,0.21,0.16,0.1,0.06,{"$f":"SUM(C335:Z335)","v":4.59},{"$f":"AA335*$C$15","v":238.68}]
[null,"Holiday",7.0000000000000007E-2,7.0000000000000007E-2,7.0000000000000007E-2,0.06,0.06,0.06,7.0000000000000007E-2,0.1,0.12,0.14000000000000001,0.28999999999999998,0.31,0.36,0.36,0.34,0.35,0.37,0.34,0.25,0.27,0.21,0.16,0.1,0.06,{"$f":"SUM(C336:Z336)","v":4.59},{"$f":"AA336*SUM($C$8)","v":50.489999999999995}]
[null,"Total Equivalent Full Load Hours of Operation per Year",null,null,null,null,null,null,null,null,null,null,null,null,null,null,null,null,null,null,null,null,null,null,null,null,null,{"$f":"SUM(AB333:AB336)","v":2302.9699999999998}]
[]
[null,"Schedule Name:","Retail Elevator Schedule"]
[]
[null,null,"12-1AM","1-2AM","2-3AM","3-4AM","4-5AM","5-6AM","6-7AM","7-8AM","8-9 AM","9-10AM","10-11AM","11AM-12PM","12-1PM","1-2PM","2-3PM","3-4PM","4-5PM","5-6PM","6-7PM","7-8PM","8-9PM","9-10PM","10-11PM","11-12PM","EFLH/day","EFLH/year"]
[null,"Weekday",0,0,0,0,0,0,0,0.12,0.22,0.64,0.74,0.68,0.68,0.71,0.72,0.72,0.73,0.68,0.68,0.57999999999999996,0.54,0,0,0,{"$f":"SUM(C342:Z342)","v":8.4399999999999977},{"$f":"AA342*SUM($C$9:$C$13)","v":2109.9999999999995}]
[null,"Saturday",0,0,0,0,0,0,0,0.09,0.21,0.56000000000000005,0.66,0.68,0.68,0.69,0.7,0.69,0.66,0.57999999999999996,0.47,0.43,0.43,0.08,0,0,{"$f":"SUM(C343:Z343)","v":7.61},{"$f":"AA343*SUM($C$14)","v":395.72}]
[null,"Sunday",0,0,0,0,0,0,0,0,0,0.11,0.13,0.35,0.37,0.37,0.39,0.41,0.38,0.34,0.03,0,0,0,0,0,{"$f":"SUM(C344:Z344)","v":2.88},{"$f":"AA344*$C$15","v":149.76}]
[null,"Holiday",0,0,0,0,0,0,0,0,0,0.11,0.13,0.35,0.37,0.37,0.39,0.41,0.38,0.34,0.03,0,0,0,0,0,{"$f":"SUM(C345:Z345)","v":2.88},{"$f":"AA345*SUM($C$8)","v":31.68}]
[null,"Total Equivalent Full Load Hours of Operation per Year",null,null,null,null,null,null,null,null,null,null,null,null,null,null,null,null,null,null,null,null,null,null,null,null,null,{"$f":"SUM(AB342:AB345)","v":2687.1599999999994}]
[]
[null,"Restaurant Occupancy"]
[]
[null,"Schedule Name:","Restaurant HVAC System - ON/OFF Schedule"]
[]
[null,null,"12-1AM","1-2AM","2-3AM","3-4AM","4-5AM","5-6AM","6-7AM","7-8AM","8-9 AM","9-10AM","10-11AM","11AM-12PM","12-1PM","1-2PM","2-3PM","3-4PM","4-5PM","5-6PM","6-7PM","7-8PM","8-9PM","9-10PM","10-11PM","11-12PM","Hours/day","Hours/year"]
[null,"Weekday",1,1,1,0,0,0,0,1,1,1,1,1,1,1,1,1,1,1,1,1,1,1,1,1,{"$f":"SUM(C353:Z353)","v":20},{"$f":"AA353*SUM($C$9:$C$13)","v":5000}]
[null,"Saturday",1,1,1,0,0,0,0,0,0,1,1,1,1,1,1,1,1,1,1,1,1,1,1,1,{"$f":"SUM(C354:Z354)","v":18},{"$f":"AA354*SUM($C$14)","v":936}]
[null,"Sunday",1,1,1,0,0,0,0,0,0,0,1,1,1,1,1,1,1,1,1,1,1,1,1,1,{"$f":"SUM(C355:Z355)","v":17},{"$f":"AA355*$C$15","v":884}]
[null,"Holiday",1,1,1,0,0,0,0,0,0,0,1,1,1,1,1,1,1,1,1,1,1,1,1,1,{"$f":"SUM(C356:Z356)","v":17},{"$f":"AA356*SUM($C$8)","v":187}]
[null,"Total hours of operation per year",null,null,null,null,null,null,null,null,null,null,null,null,null,null,null,null,null,null,null,null,null,null,null,null,null,{"$f":"SUM(AB353:AB356)","v":7007}]
[]
[null,"Schedule Name:","Restaurant Occupancy Schedule"]
[]
[null,null,"12-1AM","1-2AM","2-3AM","3-4AM","4-5AM","5-6AM","6-7AM","7-8AM","8-9 AM","9-10AM","10-11AM","11AM-12PM","12-1PM","1-2PM","2-3PM","3-4PM","4-5PM","5-6PM","6-7PM","7-8PM","8-9PM","9-10PM","10-11PM","11-12PM","EFLH/day","EFLH/year"]
[null,"Weekday",0.15,0.15,0.05,0,0,0,0,0.05,0.05,0.05,0.2,0.5,0.8,0.7,0.4,0.2,0.25,0.5,0.8,0.8,0.8,0.5,0.35,0.2,{"$f":"SUM(C362:Z362)","v":7.5},{"$f":"AA362*SUM($C$9:$C$13)","v":1875}]
[null,"Saturday",0.3,0.25,0.05,0,0,0,0,0,0,0.05,0.2,0.45,0.5,0.5,0.35,0.3,0.3,0.3,0.7,0.9,0.7,0.65,0.55000000000000004,0.35,{"$f":"SUM(C363:Z363)","v":7.3999999999999995},{"$f":"AA363*SUM($C$14)","v":384.79999999999995}]
[null,"Sunday",0.2,0.2,0.05,0,0,0,0,0,0,0,0.1,0.2,0.25,0.25,0.15,0.2,0.25,0.35,0.55000000000000004,0.65,0.7,0.35,0.2,0.2,{"$f":"SUM(C364:Z364)","v":4.8499999999999996},{"$f":"AA364*$C$15","v":252.2}]
[null,"Holiday",0.2,0.2,0.05,0,0,0,0,0,0,0,0.1,0.2,0.25,0.25,0.15,0.2,0.25,0.35,0.55000000000000004,0.65,0.7,0.35,0.2,0.2,{"$f":"SUM(C365:Z365)","v":4.8499999999999996},{"$f":"AA365*SUM($C$8)","v":53.349999999999994}]
[null,"Total Equivalent Full Load Hours of Operation per Year",null,null,null,null,null,null,null,null,null,null,null,null,null,null,null,null,null,null,null,null,null,null,null,null,null,{"$f":"SUM(AB362:AB365)","v":2565.35}]
[]
[null,"Schedule Name:","Restaurant Lighting Schedule"]
[]
[null,null,"12-1AM","1-2AM","2-3AM","3-4AM","4-5AM","5-6AM","6-7AM","7-8AM","8-9 AM","9-10AM","10-11AM","11AM-12PM","12-1PM","1-2PM","2-3PM","3-4PM","4-5PM","5-6PM","6-7PM","7-8PM","8-9PM","9-10PM","10-11PM","11-12PM","EFLH/day","EFLH/year"]
[null,"Weekday",0.15,0.15,0.15,0.15,0.15,0.2,0.35,0.35,0.55000000000000004,0.55000000000000004,0.85,0.85,0.85,0.85,0.85,0.85,0.85,0.85,0.85,0.85,0.85,0.85,0.45,0.3,{"$f":"SUM(C371:Z371)","v":13.699999999999998},{"$f":"AA371*SUM($C$9:$C$13)","v":3424.9999999999995}]
[null,"Saturday",0.2,0.15,0.15,0.15,0.15,0.15,0.3,0.3,0.55000000000000004,0.55000000000000004,0.75,0.75,0.75,0.75,0.75,0.75,0.75,0.85,0.85,0.85,0.85,0.85,0.45,0.3,{"$f":"SUM(C372:Z372)","v":12.899999999999999},{"$f":"AA372*SUM($C$14)","v":670.8}]
[null,"Sunday",0.2,0.15,0.15,0.15,0.15,0.15,0.3,0.3,0.45,0.45,0.65,0.65,0.65,0.65,0.65,0.65,0.55000000000000004,0.55000000000000004,0.55000000000000004,0.55000000000000004,0.55000000000000004,0.55000000000000004,0.45,0.3,{"$f":"SUM(C373:Z373)","v":10.400000000000004},{"$f":"AA373*$C$15","v":540.80000000000018}]
[null,"Holiday",0.2,0.15,0.15,0.15,0.15,0.15,0.3,0.3,0.45,0.45,0.65,0.65,0.65,0.65,0.65,0.65,0.55000000000000004,0.55000000000000004,0.55000000000000004,0.55000000000000004,0.55000000000000004,0.55000000000000004,0.45,0.3,{"$f":"SUM(C374:Z374)","v":10.400000000000004},{"$f":"AA374*SUM($C$8)","v":114.40000000000005}]
[null,"Total Equivalent Full Load Hours of Operation per Year",null,null,null,null,null,null,null,null,null,null,null,null,null,null,null,null,null,null,null,null,null,null,null,null,null,{"$f":"SUM(AB371:AB374)","v":4750.9999999999991}]
[]
[null,"Schedule Name:","Restaurant Receptacle Schedule"]
[]
[null,null,"12-1AM","1-2AM","2-3AM","3-4AM","4-5AM","5-6AM","6-7AM","7-8AM","8-9 AM","9-10AM","10-11AM","11AM-12PM","12-1PM","1-2PM","2-3PM","3-4PM","4-5PM","5-6PM","6-7PM","7-8PM","8-9PM","9-10PM","10-11PM","11-12PM","EFLH/day","EFLH/year"]
[null,"Weekday",0.15,0.15,0.15,0.15,0.15,0.2,0.4,0.4,0.6,0.6,0.85,0.85,0.85,0.85,0.85,0.85,0.85,0.85,0.85,0.85,0.85,0.85,0.45,0.3,{"$f":"SUM(C380:Z380)","v":13.899999999999997},{"$f":"AA380*SUM($C$9:$C$13)","v":3474.9999999999991}]
[null,"Saturday",0.2,0.15,0.15,0.15,0.15,0.15,0.3,0.3,0.55000000000000004,0.55000000000000004,0.75,0.75,0.75,0.75,0.75,0.75,0.75,0.85,0.85,0.85,0.85,0.85,0.45,0.3,{"$f":"SUM(C381:Z381)","v":12.899999999999999},{"$f":"AA381*SUM($C$14)","v":670.8}]
[null,"Sunday",0.2,0.15,0.15,0.15,0.15,0.15,0.3,0.3,0.45,0.45,0.65,0.65,0.65,0.65,0.65,0.65,0.55000000000000004,0.55000000000000004,0.55000000000000004,0.55000000000000004,0.55000000000000004,0.55000000000000004,0.45,0.3,{"$f":"SUM(C382:Z382)","v":10.400000000000004},{"$f":"AA382*$C$15","v":540.80000000000018}]
[null,"Holiday",0.2,0.15,0.15,0.15,0.15,0.15,0.3,0.3,0.45,0.45,0.65,0.65,0.65,0.65,0.65,0.65,0.55000000000000004,0.55000000000000004,0.55000000000000004,0.55000000000000004,0.55000000000000004,0.55000000000000004,0.45,0.3,{"$f":"SUM(C383:Z383)","v":10.400000000000004},{"$f":"AA383*SUM($C$8)","v":114.40000000000005}]
[null,"Total Equivalent Full Load Hours of Operation per Year",null,null,null,null,null,null,null,null,null,null,null,null,null,null,null,null,null,null,null,null,null,null,null,null,null,{"$f":"SUM(AB380:AB383)","v":4800.9999999999991}]
[]
[null,"Schedule Name:","Restaurant DHW Schedule"]
[]
[null,null,"12-1AM","1-2AM","2-3AM","3-4AM","4-5AM","5-6AM","6-7AM","7-8AM","8-9 AM","9-10AM","10-11AM","11AM-12PM","12-1PM","1-2PM","2-3PM","3-4PM","4-5PM","5-6PM","6-7PM","7-8PM","8-9PM","9-10PM","10-11PM","11-12PM","EFLH/day","EFLH/year"]
[null,"Weekday",0.2,0.15,0.15,0,0,0,0,0.6,0.55000000000000004,0.45,0.4,0.45,0.4,0.35,0.3,0.3,0.3,0.4,0.55000000000000004,0.6,0.5,0.55000000000000004,0.45,0.25,{"$f":"SUM(C389:Z389)","v":7.8999999999999995},{"$f":"AA389*SUM($C$9:$C$13)","v":1974.9999999999998}]
[null,"Saturday",0.2,0.15,0.15,0,0,0,0,0,0,0.5,0.45,0.5,0.5,0.45,0.4,0.4,0.35,0.4,0.55000000000000004,0.55000000000000004,0.5,0.55000000000000004,0.4,0.3,{"$f":"SUM(C390:Z390)","v":7.3},{"$f":"AA390*SUM($C$14)","v":379.59999999999997}]
[null,"Sunday",0.25,0.2,0.2,0,0,0,0,0,0,0,0.5,0.5,0.4,0.4,0.3,0.3,0.3,0.4,0.5,0.5,0.4,0.5,0.4,0.2,{"$f":"SUM(C391:Z391)","v":6.25},{"$f":"AA391*$C$15","v":325}]
[null,"Holiday",0.25,0.2,0.2,0,0,0,0,0,0,0,0.5,0.5,0.4,0.4,0.3,0.3,0.3,0.4,0.5,0.5,0.4,0.5,0.4,0.2,{"$f":"SUM(C392:Z392)","v":6.25},{"$f":"AA392*SUM($C$8)","v":68.75}]
[null,"Total Equivalent Full Load Hours of Operation per Year",null,null,null,null,null,null,null,null,null,null,null,null,null,null,null,null,null,null,null,null,null,null,null,null,null,{"$f":"SUM(AB389:AB392)","v":2748.35}]
[]
[null,"Warehouse Occupancy"]
[]
[null,"Schedule Name:","Warehouse HVAC System - ON/OFF Schedule"]
[]
[null,null,"12-1AM","1-2AM","2-3AM","3-4AM","4-5AM","5-6AM","6-7AM","7-8AM","8-9 AM","9-10AM","10-11AM","11AM-12PM","12-1PM","1-2PM","2-3PM","3-4PM","4-5PM","5-6PM","6-7PM","7-8PM","8-9PM","9-10PM","10-11PM","11-12PM","Hours/day","Hours/year"]
[null,"Weekday",0,0,0,0,0,0,0,1,1,1,1,1,1,1,1,1,1,0,0,0,0,0,0,0,{"$f":"SUM(C400:Z400)","v":10},{"$f":"AA400*SUM($C$9:$C$13)","v":2500}]
[null,"Saturday",0,0,0,0,0,0,0,0,1,1,1,1,1,1,1,1,0,0,0,0,0,0,0,0,{"$f":"SUM(C401:Z401)","v":8},{"$f":"AA401*SUM($C$14)","v":416}]
[null,"Sunday",0,0,0,0,0,0,0,0,0,0,0,0,0,0,0,0,0,0,0,0,0,0,0,0,{"$f":"SUM(C402:Z402)","v":0},{"$f":"AA402*$C$15","v":0}]
[null,"Holiday",0,0,0,0,0,0,0,0,0,0,0,0,0,0,0,0,0,0,0,0,0,0,0,0,{"$f":"SUM(C403:Z403)","v":0},{"$f":"AA403*SUM($C$8)","v":0}]
[null,"Total hours of operation per year",null,null,null,null,null,null,null,null,null,null,null,null,null,null,null,null,null,null,null,null,null,null,null,null,null,{"$f":"SUM(AB400:AB403)","v":2916}]
[]
[null,"Schedule Name:","Warehouse Occupancy Schedule"]
[]
[null,null,"12-1AM","1-2AM","2-3AM","3-4AM","4-5AM","5-6AM","6-7AM","7-8AM","8-9 AM","9-10AM","10-11AM","11AM-12PM","12-1PM","1-2PM","2-3PM","3-4PM","4-5PM","5-6PM","6-7PM","7-8PM","8-9PM","9-10PM","10-11PM","11-12PM","EFLH/day","EFLH/year"]
[null,"Weekday",0,0,0,0,0,0,0,0.15,0.7,0.9,0.9,0.9,0.5,0.85,0.85,0.85,0.2,0,0,0,0,0,0,0,{"$f":"SUM(C409:Z409)","v":6.7999999999999989},{"$f":"AA409*SUM($C$9:$C$13)","v":1699.9999999999998}]
[null,"Saturday",0,0,0,0,0,0,0,0,0.2,0.2,0.2,0.2,0.1,0.1,0.1,0.1,0,0,0,0,0,0,0,0,{"$f":"SUM(C410:Z410)","v":1.2000000000000002},{"$f":"AA410*SUM($C$14)","v":62.400000000000006}]
[null,"Sunday",0,0,0,0,0,0,0,0,0,0,0,0,0,0,0,0,0,0,0,0,0,0,0,0,{"$f":"SUM(C411:Z411)","v":0},{"$f":"AA411*$C$15","v":0}]
[null,"Holiday",0,0,0,0,0,0,0,0,0,0,0,0,0,0,0,0,0,0,0,0,0,0,0,0,{"$f":"SUM(C412:Z412)","v":0},{"$f":"AA412*SUM($C$8)","v":0}]
[null,"Total Equivalent Full Load Hours of Operation per Year",null,null,null,null,null,null,null,null,null,null,null,null,null,null,null,null,null,null,null,null,null,null,null,null,null,{"$f":"SUM(AB409:AB412)","v":1762.3999999999999}]
[]
[null,"Schedule Name:","Warehouse Lighting Schedule"]
[]
[null,null,"12-1AM","1-2AM","2-3AM","3-4AM","4-5AM","5-6AM","6-7AM","7-8AM","8-9 AM","9-10AM","10-11AM","11AM-12PM","12-1PM","1-2PM","2-3PM","3-4PM","4-5PM","5-6PM","6-7PM","7-8PM","8-9PM","9-10PM","10-11PM","11-12PM","EFLH/day","EFLH/year"]
[null,"Weekday",0.05,0.05,0.05,0.05,0.05,0.05,0.05,0.25,0.45,0.55000000000000004,0.55000000000000004,0.55000000000000004,0.5,0.55000000000000004,0.55000000000000004,0.55000000000000004,0.55000000000000004,0.3,0.05,0.05,0.05,0.05,0.05,0.05,{"$f":"SUM(C418:Z418)","v":5.9999999999999982},{"$f":"AA418*SUM($C$9:$C$13)","v":1499.9999999999995}]
[null,"Saturday",0.05,0.05,0.05,0.05,0.05,0.05,0.05,0.05,0.08,0.24,0.24,0.24,0.05,0.05,0.05,0.05,0.05,0.05,0.05,0.05,0.05,0.05,0.05,0.05,{"$f":"SUM(C419:Z419)","v":1.8000000000000005},{"$f":"AA419*SUM($C$14)","v":93.600000000000023}]
[null,"Sunday",0.05,0.05,0.05,0.05,0.05,0.05,0.05,0.05,0.05,0.05,0.05,0.05,0.05,0.05,0.05,0.05,0.05,0.05,0.05,0.05,0.05,0.05,0.05,0.05,{"$f":"SUM(C420:Z420)","v":1.2000000000000004},{"$f":"AA420*$C$15","v":62.40000000000002}]
[null,"Holiday",0.05,0.05,0.05,0.05,0.05,0.05,0.05,0.05,0.05,0.05,0.05,0.05,0.05,0.05,0.05,0.05,0.05,0.05,0.05,0.05,0.05,0.05,0.05,0.05,{"$f":"SUM(C421:Z421)","v":1.2000000000000004},{"$f":"AA421*SUM($C$8)","v":13.200000000000005}]
[null,"Total Equivalent Full Load Hours of Operation per Year",null,null,null,null,null,null,null,null,null,null,null,null,null,null,null,null,null,null,null,null,null,null,null,null,null,{"$f":"SUM(AB418:AB421)","v":1669.1999999999996}]
[]
[null,"Schedule Name:","Warehouse Receptacle Schedule"]
[]
[null,null,"12-1AM","1-2AM","2-3AM","3-4AM","4-5AM","5-6AM","6-7AM","7-8AM","8-9 AM","9-10AM","10-11AM","11AM-12PM","12-1PM","1-2PM","2-3PM","3-4PM","4-5PM","5-6PM","6-7PM","7-8PM","8-9PM","9-10PM","10-11PM","11-12PM","EFLH/day","EFLH/year"]
[null,"Weekday",0.05,0.05,0.05,0.05,0.05,0.05,0.05,0.4,0.7,0.9,0.9,0.9,0.8,0.9,0.9,0.9,0.9,0.3,0.05,0.05,0.05,0.05,0.05,0.05,{"$f":"SUM(C427:Z427)","v":9.1500000000000057},{"$f":"AA427*SUM($C$9:$C$13)","v":2287.5000000000014}]
[null,"Saturday",0.05,0.05,0.05,0.05,0.05,0.05,0.05,0.05,0.08,0.24,0.24,0.24,0.05,0.05,0.05,0.05,0.05,0.05,0.05,0.05,0.05,0.05,0.05,0.05,{"$f":"SUM(C428:Z428)","v":1.8000000000000005},{"$f":"AA428*SUM($C$14)","v":93.600000000000023}]
[null,"Sunday",0.05,0.05,0.05,0.05,0.05,0.05,0.05,0.05,0.05,0.05,0.05,0.05,0.05,0.05,0.05,0.05,0.05,0.05,0.05,0.05,0.05,0.05,0.05,0.05,{"$f":"SUM(C429:Z429)","v":1.2000000000000004},{"$f":"AA429*$C$15","v":62.40000000000002}]
[null,"Holiday",0.05,0.05,0.05,0.05,0.05,0.05,0.05,0.05,0.05,0.05,0.05,0.05,0.05,0.05,0.05,0.05,0.05,0.05,0.05,0.05,0.05,0.05,0.05,0.05,{"$f":"SUM(C430:Z430)","v":1.2000000000000004},{"$f":"AA430*SUM($C$8)","v":13.200000000000005}]
[null,"Total Equivalent Full Load Hours of Operation per Year",null,null,null,null,null,null,null,null,null,null,null,null,null,null,null,null,null,null,null,null,null,null,null,null,null,{"$f":"SUM(AB427:AB430)","v":2456.7000000000012}]
[]
[null,"Schedule Name:","Warehouse DHW Schedule"]
[]
[null,null,"12-1AM","1-2AM","2-3AM","3-4AM","4-5AM","5-6AM","6-7AM","7-8AM","8-9 AM","9-10AM","10-11AM","11AM-12PM","12-1PM","1-2PM","2-3PM","3-4PM","4-5PM","5-6PM","6-7PM","7-8PM","8-9PM","9-10PM","10-11PM","11-12PM","EFLH/day","EFLH/year"]
[null,"Weekday",0.02,0.02,0.02,0.02,0.05,7.0000000000000007E-2,7.0000000000000007E-2,0.1,0.3,0.36,0.36,0.46,0.56999999999999995,0.43,0.38,0.4,0.3,0.18,0.03,0.03,0.03,0.03,0.03,0.03,{"$f":"SUM(C436:Z436)","v":4.2900000000000009},{"$f":"AA436*SUM($C$9:$C$13)","v":1072.5000000000002}]
[null,"Saturday",0.02,0.02,0.02,0.02,0.02,0.02,0.02,0.02,0.06,0.12,0.12,0.17,0.04,0.04,0.02,0.02,0.02,0.02,0.02,0.02,0.02,0.02,0.02,0.02,{"$f":"SUM(C437:Z437)","v":0.91000000000000025},{"$f":"AA437*SUM($C$14)","v":47.320000000000014}]
[null,"Sunday",0.02,0.02,0.02,0.02,0.02,0.02,0.02,0.02,0.02,0.02,0.02,0.02,0.04,0.04,0.02,0.02,0.02,0.02,0.02,0.02,0.02,0.02,0.02,0.02,{"$f":"SUM(C438:Z438)","v":0.52000000000000013},{"$f":"AA438*$C$15","v":27.040000000000006}]
[null,"Holiday",0.02,0.02,0.02,0.02,0.02,0.02,0.02,0.02,0.02,0.02,0.02,0.02,0.04,0.04,0.02,0.02,0.02,0.02,0.02,0.02,0.02,0.02,0.02,0.02,{"$f":"SUM(C439:Z439)","v":0.52000000000000013},{"$f":"AA439*SUM($C$8)","v":5.7200000000000015}]
[null,"Total Equivalent Full Load Hours of Operation per Year",null,null,null,null,null,null,null,null,null,null,null,null,null,null,null,null,null,null,null,null,null,null,null,null,null,{"$f":"SUM(AB436:AB439)","v":1152.5800000000002}]
[]
[null,"Schedule Name:","Warehouse Elevator Schedule"]
[]
[null,null,"12-1AM","1-2AM","2-3AM","3-4AM","4-5AM","5-6AM","6-7AM","7-8AM","8-9 AM","9-10AM","10-11AM","11AM-12PM","12-1PM","1-2PM","2-3PM","3-4PM","4-5PM","5-6PM","6-7PM","7-8PM","8-9PM","9-10PM","10-11PM","11-12PM","EFLH/day","EFLH/year"]
[null,"Weekday",0,0,0,0,0,0,0,0,0,0,0.3,0,0,0,0,0.4,0,0,0,0,0,0,0,0,{"$f":"SUM(C445:Z445)","v":0.7},{"$f":"AA445*SUM($C$9:$C$13)","v":175}]
[null,"Saturday",0,0,0,0,0,0,0,0,0,0,0,0,0,0,0,0,0,0,0,0,0,0,0,0,{"$f":"SUM(C446:Z446)","v":0},{"$f":"AA446*SUM($C$14)","v":0}]
[null,"Sunday",0,0,0,0,0,0,0,0,0,0,0,0,0,0,0,0,0,0,0,0,0,0,0,0,{"$f":"SUM(C447:Z447)","v":0},{"$f":"AA447*$C$15","v":0}]
[null,"Holiday",0,0,0,0,0,0,0,0,0,0,0,0,0,0,0,0,0,0,0,0,0,0,0,0,{"$f":"SUM(C448:Z448)","v":0},{"$f":"AA448*SUM($C$8)","v":0}]
[null,"Total Equivalent Full Load Hours of Operation per Year",null,null,null,null,null,null,null,null,null,null,null,null,null,null,null,null,null,null,null,null,null,null,null,null,null,{"$f":"SUM(AB445:AB448)","v":175}]
[]
[null,"Assembly Occupancy"]
[]
[null,"Schedule Name:","Assembly HVAC System - ON/OFF Schedule"]
[]
[null,null,"12-1AM","1-2AM","2-3AM","3-4AM","4-5AM","5-6AM","6-7AM","7-8AM","8-9 AM","9-10AM","10-11AM","11AM-12PM","12-1PM","1-2PM","2-3PM","3-4PM","4-5PM","5-6PM","6-7PM","7-8PM","8-9PM","9-10PM","10-11PM","11-12PM","Hours/day","Hours/year"]
[null,"Weekday",0,0,0,0,0,1,1,1,1,1,1,1,1,1,1,1,1,1,1,1,1,1,1,0,{"$f":"SUM(C456:Z456)","v":18},{"$f":"AA456*SUM($C$9:$C$13)","v":4500}]
[null,"Saturday",0,0,0,0,0,0,1,1,1,1,1,1,1,1,1,1,1,1,1,1,1,1,1,0,{"$f":"SUM(C457:Z457)","v":17},{"$f":"AA457*SUM($C$14)","v":884}]
[null,"Sunday",0,0,0,0,0,0,1,1,1,1,1,1,1,1,1,1,1,1,1,1,1,1,1,0,{"$f":"SUM(C458:Z458)","v":17},{"$f":"AA458*$C$15","v":884}]
[null,"Sunday",0,0,0,0,0,0,1,1,1,1,1,1,1,1,1,1,1,1,1,1,1,1,1,0,{"$f":"SUM(C459:Z459)","v":17},{"$f":"AA459*SUM($C$8)","v":187}]
[null,"Total hours of operation per year",null,null,null,null,null,null,null,null,null,null,null,null,null,null,null,null,null,null,null,null,null,null,null,null,null,{"$f":"SUM(AB456:AB459)","v":6455}]
[]
[null,"Schedule Name:","Assembly Occupancy Schedule"]
[]
[null,null,"12-1AM","1-2AM","2-3AM","3-4AM","4-5AM","5-6AM","6-7AM","7-8AM","8-9 AM","9-10AM","10-11AM","11AM-12PM","12-1PM","1-2PM","2-3PM","3-4PM","4-5PM","5-6PM","6-7PM","7-8PM","8-9PM","9-10PM","10-11PM","11-12PM","EFLH/day","EFLH/year"]
[null,"Weekday",0,0,0,0,0,0,0,0,0.2,0.2,0.2,0.8,0.8,0.8,0.8,0.8,0.8,0.8,0.2,0.2,0.2,0.2,0.1,0,{"$f":"SUM(C465:Z465)","v":7.1},{"$f":"AA465*SUM($C$9:$C$13)","v":1775}]
[null,"Saturday",0,0,0,0,0,0,0,0,0.2,0.2,0.2,0.6,0.6,0.6,0.6,0.6,0.6,0.6,0.6,0.6,0.6,0.8,0.1,0,{"$f":"SUM(C466:Z466)","v":7.4999999999999982},{"$f":"AA466*SUM($C$14)","v":389.99999999999989}]
[null,"Sunday",0,0,0,0,0,0,0,0,0.1,0.1,0.1,0.1,0.1,0.7,0.7,0.7,0.7,0.7,0.7,0.7,0.7,0.7,0.2,0,{"$f":"SUM(C467:Z467)","v":7.0000000000000009},{"$f":"AA467*$C$15","v":364.00000000000006}]
[null,"Sunday",0,0,0,0,0,0,0,0,0.1,0.1,0.1,0.1,0.1,0.7,0.7,0.7,0.7,0.7,0.7,0.7,0.7,0.7,0.2,0,{"$f":"SUM(C468:Z468)","v":7.0000000000000009},{"$f":"AA468*SUM($C$8)","v":77.000000000000014}]
[null,"Total Equivalent Full Load Hours of Operation per Year",null,null,null,null,null,null,null,null,null,null,null,null,null,null,null,null,null,null,null,null,null,null,null,null,null,{"$f":"SUM(AB465:AB468)","v":2606}]
[]
[null,"Schedule Name:","Assembly Lighting Schedule"]
[]
[null,null,"12-1AM","1-2AM","2-3AM","3-4AM","4-5AM","5-6AM","6-7AM","7-8AM","8-9 AM","9-10AM","10-11AM","11AM-12PM","12-1PM","1-2PM","2-3PM","3-4PM","4-5PM","5-6PM","6-7PM","7-8PM","8-9PM","9-10PM","10-11PM","11-12PM","EFLH/day","EFLH/year"]
[null,"Weekday",0.05,0.05,0.05,0.05,0.05,0.05,0.35,0.35,0.35,0.65,0.65,0.65,0.65,0.65,0.65,0.65,0.65,0.65,0.65,0.65,0.65,0.65,0.25,0.05,{"$f":"SUM(C474:Z474)","v":10.100000000000003},{"$f":"AA474*SUM($C$9:$C$13)","v":2525.0000000000009}]
[null,"Saturday",0.05,0.05,0.05,0.05,0.05,0.05,0.05,0.3,0.3,0.4,0.4,0.4,0.4,0.4,0.4,0.4,0.4,0.4,0.4,0.4,0.4,0.4,0.4,0.05,{"$f":"SUM(C475:Z475)","v":6.6000000000000014},{"$f":"AA475*SUM($C$14)","v":343.20000000000005}]
[null,"Sunday",0.05,0.05,0.05,0.05,0.05,0.05,0.05,0.3,0.3,0.3,0.3,0.3,0.55000000000000004,0.55000000000000004,0.55000000000000004,0.55000000000000004,0.55000000000000004,0.55000000000000004,0.55000000000000004,0.55000000000000004,0.55000000000000004,0.55000000000000004,0.05,0.05,{"$f":"SUM(C476:Z476)","v":7.4499999999999984},{"$f":"AA476*$C$15","v":387.39999999999992}]
[null,"Sunday",0.05,0.05,0.05,0.05,0.05,0.05,0.05,0.3,0.3,0.3,0.3,0.3,0.55000000000000004,0.55000000000000004,0.55000000000000004,0.55000000000000004,0.55000000000000004,0.55000000000000004,0.55000000000000004,0.55000000000000004,0.55000000000000004,0.55000000000000004,0.05,0.05,{"$f":"SUM(C477:Z477)","v":7.4499999999999984},{"$f":"AA477*SUM($C$8)","v":81.949999999999989}]
[null,"Total Equivalent Full Load Hours of Operation per Year",null,null,null,null,null,null,null,null,null,null,null,null,null,null,null,null,null,null,null,null,null,null,null,null,null,{"$f":"SUM(AB474:AB477)","v":3337.5500000000006}]
[]
[null,"Schedule Name:","Assembly Receptacle Schedule"]
[]
[null,null,"12-1AM","1-2AM","2-3AM","3-4AM","4-5AM","5-6AM","6-7AM","7-8AM","8-9 AM","9-10AM","10-11AM","11AM-12PM","12-1PM","1-2PM","2-3PM","3-4PM","4-5PM","5-6PM","6-7PM","7-8PM","8-9PM","9-10PM","10-11PM","11-12PM","EFLH/day","EFLH/year"]
[null,"Weekday",0.05,0.05,0.05,0.05,0.05,0.05,0.4,0.4,0.4,0.75,0.75,0.75,0.75,0.75,0.75,0.75,0.75,0.75,0.75,0.75,0.75,0.75,0.25,0.05,{"$f":"SUM(C483:Z483)","v":11.55},{"$f":"AA483*SUM($C$9:$C$13)","v":2887.5}]
[null,"Saturday",0.05,0.05,0.05,0.05,0.05,0.05,0.05,0.3,0.3,0.5,0.5,0.5,0.5,0.5,0.5,0.5,0.5,0.5,0.5,0.5,0.5,0.5,0.5,0.05,{"$f":"SUM(C484:Z484)","v":8},{"$f":"AA484*SUM($C$14)","v":416}]
[null,"Sunday",0.05,0.05,0.05,0.05,0.05,0.05,0.05,0.3,0.3,0.3,0.3,0.3,0.65,0.65,0.65,0.65,0.65,0.65,0.65,0.65,0.65,0.65,0.05,0.05,{"$f":"SUM(C485:Z485)","v":8.4500000000000028},{"$f":"AA485*$C$15","v":439.40000000000015}]
[null,"Sunday",0.05,0.05,0.05,0.05,0.05,0.05,0.05,0.3,0.3,0.3,0.3,0.3,0.65,0.65,0.65,0.65,0.65,0.65,0.65,0.65,0.65,0.65,0.05,0.05,{"$f":"SUM(C486:Z486)","v":8.4500000000000028},{"$f":"AA486*SUM($C$8)","v":92.950000000000031}]
[null,"Total Equivalent Full Load Hours of Operation per Year",null,null,null,null,null,null,null,null,null,null,null,null,null,null,null,null,null,null,null,null,null,null,null,null,null,{"$f":"SUM(AB483:AB486)","v":3835.85}]
[]
[null,"Schedule Name:","Assembly DHW Schedule"]
[]
[null,null,"12-1AM","1-2AM","2-3AM","3-4AM","4-5AM","5-6AM","6-7AM","7-8AM","8-9 AM","9-10AM","10-11AM","11AM-12PM","12-1PM","1-2PM","2-3PM","3-4PM","4-5PM","5-6PM","6-7PM","7-8PM","8-9PM","9-10PM","10-11PM","11-12PM","EFLH/day","EFLH/year"]
[null,"Weekday",0,0,0,0,0,0,0,0,0,0.05,0.05,0.35,0.05,0.05,0.05,0.05,0.05,0,0,0,0,0,0,0,{"$f":"SUM(C492:Z492)","v":0.70000000000000007},{"$f":"AA492*SUM($C$9:$C$13)","v":175.00000000000003}]
[null,"Saturday",0,0,0,0,0,0,0,0,0,0.05,0.05,0.2,0,0,0,0,0,0,0,0.65,0.3,0,0,0,{"$f":"SUM(C493:Z493)","v":1.25},{"$f":"AA493*SUM($C$14)","v":65}]
[null,"Sunday",0,0,0,0,0,0,0,0,0,0.05,0.05,0.1,0,0,0,0,0,0,0,0.65,0.3,0,0,0,{"$f":"SUM(C494:Z494)","v":1.1500000000000001},{"$f":"AA494*$C$15","v":59.800000000000004}]
[null,"Sunday",0,0,0,0,0,0,0,0,0,0.05,0.05,0.1,0,0,0,0,0,0,0,0.65,0.3,0,0,0,{"$f":"SUM(C495:Z495)","v":1.1500000000000001},{"$f":"AA495*SUM($C$8)","v":12.650000000000002}]
[null,"Total Equivalent Full Load Hours of Operation per Year",null,null,null,null,null,null,null,null,null,null,null,null,null,null,null,null,null,null,null,null,null,null,null,null,null,{"$f":"SUM(AB492:AB495)","v":312.45}]

{"sheet":"Multifamily Details","index":6,"n_rows":92,"n_cols":30,"rows_kept":92,"cut":false,"hidden":true,"merged":[[25,1,25,20],[87,7,88,7],[55,19,56,19],[55,20,56,20],[84,1,84,20],[86,1,88,1],[86,2,88,2],[86,3,87,4],[86,5,86,7],[86,8,87,9],[86,10,87,11],[86,12,87,13],[86,14,87,15],[86,16,87,17],[86,18,88,18],[86,19,87,20],[87,5,88,5],[87,6,88,6],[55,12,55,13],[55,14,56,14],[55,15,56,15],[55,17,56,17],[55,18,56,18],[82,2,82,16],[82,19,82,20],[54,16,56,16],[54,17,54,20],[55,7,55,8],[55,9,56,9],[55,10,56,10],[79,1,79,16],[79,17,79,20],[80,2,80,16],[80,19,80,20],[54,1,56,1],[54,2,56,2],[54,3,56,3],[54,4,56,4],[54,5,56,5],[54,6,56,6],[54,7,54,10],[54,11,56,11],[54,12,54,15],[81,2,81,16],[81,19,81,20],[68,1,68,20],[70,1,72,1],[70,2,72,2],[70,3,72,3],[70,4,72,4],[70,5,70,10],[70,11,72,11],[70,12,70,17],[70,18,72,18],[70,19,71,20],[71,5,71,7],[71,8,71,10],[71,12,71,14],[71,15,71,17],[41,1,41,21],[43,1,45,1],[43,2,45,2],[43,3,45,3],[43,4,45,4],[43,11,45,11],[43,12,43,17],[44,12,44,14],[44,15,44,17],[43,18,45,18],[43,19,44,20],[27,2,29,2],[27,3,29,3],[27,4,29,4],[27,5,29,5],[28,15,29,15],[28,16,29,16],[28,17,29,17],[27,6,29,6],[28,7,28,8],[28,11,29,11],[28,9,29,9],[28,10,29,10],[28,18,29,18],[20,16,20,20],[8,19,8,20],[8,13,8,14],[8,15,8,16],[14,1,14,18],[8,3,8,4],[8,5,8,6],[12,1,12,18],[28,19,29,19],[28,20,29,20],[28,12,28,13],[13,1,13,18],[8,9,8,10],[8,11,8,12],[8,7,8,8],[15,1,15,18],[16,1,16,18],[17,1,17,18],[18,1,18,18],[8,17,8,18],[8,1,9,2],[28,14,29,14],[27,1,29,1]]}
["G"]
["G","Multifamily Home Details"]
["G"]
["G"]
["G","Complete the table for each building in the project.  Input the number of units and the average floor area for units with the corresponding bedroom number. "]
["G"]
["G","Building Unit summary"]
["G"]
["G","Building ID",null,"Studio",null,"1 Bedroom",null,"2 Bedrooms",null,"3 Bedrooms",null,"4 Bedrooms",null,"5 Bedrooms",null,"6 Bedrooms",null,"7 Bedrooms",null,"8 Bedrooms"]
["G",null,null,"Qty",{"$f":"CONCATENATE(\"Average Floor Area\",IF(SI_IP_Units=\"IP\",\" (sq ft)\",\" (sq m)\"))","v":"Average Floor Area (sq ft)"},"Qty",{"$f":"CONCATENATE(\"Average Floor Area\",IF(SI_IP_Units=\"IP\",\" (sq ft)\",\" (sq m)\"))","v":"Average Floor Area (sq ft)"},"Qty",{"$f":"CONCATENATE(\"Average Floor Area\",IF(SI_IP_Units=\"IP\",\" (sq ft)\",\" (sq m)\"))","v":"Average Floor Area (sq ft)"},"Qty",{"$f":"CONCATENATE(\"Average Floor Area\",IF(SI_IP_Units=\"IP\",\" (sq ft)\",\" (sq m)\"))","v":"Average Floor Area (sq ft)"},"Qty",{"$f":"CONCATENATE(\"Average Floor Area\",IF(SI_IP_Units=\"IP\",\" (sq ft)\",\" (sq m)\"))","v":"Average Floor Area (sq ft)"},"Qty",{"$f":"CONCATENATE(\"Average Floor Area\",IF(SI_IP_Units=\"IP\",\" (sq ft)\",\" (sq m)\"))","v":"Average Floor Area (sq ft)"},"Qty",{"$f":"CONCATENATE(\"Average Floor Area\",IF(SI_IP_Units=\"IP\",\" (sq ft)\",\" (sq m)\"))","v":"Average Floor Area (sq ft)"},"Qty",{"$f":"CONCATENATE(\"Average Floor Area\",IF(SI_IP_Units=\"IP\",\" (sq ft)\",\" (sq m)\"))","v":"Average Floor Area (sq ft)"},"Qty",{"$f":"CONCATENATE(\"Average Floor Area\",IF(SI_IP_Units=\"IP\",\" (sq ft)\",\" (sq m)\"))","v":"Average Floor Area (sq ft)"}]
["G","Building ID",null,"S_Unit","S_Area","1B_Unit","1B_Area","2B_Unit","2B_Area","3B_Unit","3B_Area","4B_Unit","4B_Area","5B_Unit","5B_Area","6B_Unit","6B_Area","7B_Unit","7B_Area","8B_Unit","8B_Area"]
["G",{"$f":"'Multiple Buildings Details'!B24","v":"Project Name"}]
["G","Total number of units",null,null,null,null,null,null,null,null,null,null,null,null,null,null,null,null,null,null,{"$f":"SUM(OFFSET(MD_BUS_Index,1,MATCH($D$11,MD_BUS_Hdr,0)-1,COUNTA(MD_BUS_Index),1),\nOFFSET(MD_BUS_Index,1,MATCH($F$11,MD_BUS_Hdr,0)-1,COUNTA(MD_BUS_Index),1),\nOFFSET(MD_BUS_Index,1,MATCH($H$11,MD_BUS_Hdr,0)-1,COUNTA(MD_BUS_Index),1),\nOFFSET(MD_BUS_Index,1,MATCH($J$11,MD_BUS_Hdr,0)-1,COUNTA(MD_BUS_Index),1),\nOFFSET(MD_BUS_Index,1,MATCH($L$11,MD_BUS_Hdr,0)-1,COUNTA(MD_BUS_Index),1),\nOFFSET(MD_BUS_Index,1,MATCH($N$11,MD_BUS_Hdr,0)-1,COUNTA(MD_BUS_Index),1),\nOFFSET(MD_BUS_Index,1,MATCH($P$11,MD_BUS_Hdr,0)-1,COUNTA(MD_BUS_Index),1),\nOFFSET(MD_BUS_Index,1,MATCH($R$11,MD_BUS_Hdr,0)-1,COUNTA(MD_BUS_Index),1),\nOFFSET(MD_BUS_Index,1,MATCH($T$11,MD_BUS_Hdr,0)-1,COUNTA(MD_BUS_Index),1),\n)","v":0}]
["G","Total number of bedrooms",null,null,null,null,null,null,null,null,null,null,null,null,null,null,null,null,null,null,{"$f":"SUM(OFFSET(MD_BUS_Index,1,MATCH($D$11,MD_BUS_Hdr,0)-1,COUNTA(MD_BUS_Index),1),\nOFFSET(MD_BUS_Index,1,MATCH($F$11,MD_BUS_Hdr,0)-1,COUNTA(MD_BUS_Index),1),\nOFFSET(MD_BUS_Index,1,MATCH($H$11,MD_BUS_Hdr,0)-1,COUNTA(MD_BUS_Index),1)*2,\nOFFSET(MD_BUS_Index,1,MATCH($J$11,MD_BUS_Hdr,0)-1,COUNTA(MD_BUS_Index),1)*3,\nOFFSET(MD_BUS_Index,1,MATCH($L$11,MD_BUS_Hdr,0)-1,COUNTA(MD_BUS_Index),1)*4,\nOFFSET(MD_BUS_Index,1,MATCH($N$11,MD_BUS_Hdr,0)-1,COUNTA(MD_BUS_Index),1)*5,\nOFFSET(MD_BUS_Index,1,MATCH($P$11,MD_BUS_Hdr,0)-1,COUNTA(MD_BUS_Index),1)*6,\nOFFSET(MD_BUS_Index,1,MATCH($R$11,MD_BUS_Hdr,0)-1,COUNTA(MD_BUS_Index),1)*7,\nOFFSET(MD_BUS_Index,1,MATCH($T$11,MD_BUS_Hdr,0)-1,COUNTA(MD_BUS_Index),1)*8,\n)","v":0}]
["G",{"$f":"CONCATENATE(\"Total Area of Dwelling Units\",IF(SI_IP_Units=\"IP\",\" (square feet)\",\" (square meters)\"))","v":"Total Area of Dwelling Units (square feet)"},null,null,null,null,null,null,null,null,null,null,null,null,null,null,null,null,null,null,{"$f":"SUM(OFFSET(MD_BUS_Index,1,MATCH($D$11,MD_BUS_Hdr,0)-1,COUNTA(MD_BUS_Index),1)*OFFSET(MD_BUS_Index,1,MATCH($E$11,MD_BUS_Hdr,0)-1,COUNTA(MD_BUS_Index),1),\nOFFSET(MD_BUS_Index,1,MATCH($F$11,MD_BUS_Hdr,0)-1,COUNTA(MD_BUS_Index),1)*OFFSET(MD_BUS_Index,1,MATCH($G$11,MD_BUS_Hdr,0)-1,COUNTA(MD_BUS_Index),1),\nOFFSET(MD_BUS_Index,1,MATCH($H$11,MD_BUS_Hdr,0)-1,COUNTA(MD_BUS_Index),1)*OFFSET(MD_BUS_Index,1,MATCH($I$11,MD_BUS_Hdr,0)-1,COUNTA(MD_BUS_Index),1),\nOFFSET(MD_BUS_Index,1,MATCH($J$11,MD_BUS_Hdr,0)-1,COUNTA(MD_BUS_Index),1)*OFFSET(MD_BUS_Index,1,MATCH($K$11,MD_BUS_Hdr,0)-1,COUNTA(MD_BUS_Index),1),\nOFFSET(MD_BUS_Index,1,MATCH($L$11,MD_BUS_Hdr,0)-1,COUNTA(MD_BUS_Index),1)*OFFSET(MD_BUS_Index,1,MATCH($M$11,MD_BUS_Hdr,0)-1,COUNTA(MD_BUS_Index),1),\nOFFSET(MD_BUS_Index,1,MATCH($N$11,MD_BUS_Hdr,0)-1,COUNTA(MD_BUS_Index),1)*OFFSET(MD_BUS_Index,1,MATCH($O$11,MD_BUS_Hdr,0)-1,COUNTA(MD_BUS_Index),1),\nOFFSET(MD_BUS_Index,1,MATCH($P$11,MD_BUS_Hdr,0)-1,COUNTA(MD_BUS_Index),1)*OFFSET(MD_BUS_Index,1,MATCH($Q$11,MD_BUS_Hdr,0)-1,COUNTA(MD_BUS_Index),1),\nOFFSET(MD_BUS_Index,1,MATCH($R$11,MD_BUS_Hdr,0)-1,COUNTA(MD_BUS_Index),1)*OFFSET(MD_BUS_Index,1,MATCH($S$11,MD_BUS_Hdr,0)-1,COUNTA(MD_BUS_Index),1),\nOFFSET(MD_BUS_Index,1,MATCH($T$11,MD_BUS_Hdr,0)-1,COUNTA(MD_BUS_Index),1)*OFFSET(MD_BUS_Index,1,MATCH($U$11,MD_BUS_Hdr,0)-1,COUNTA(MD_BUS_Index),1),\n)","v":0}]
["G","Average Number of Bedrooms Per Unit",null,null,null,null,null,null,null,null,null,null,null,null,null,null,null,null,null,null,{"$f":"IF(ISERROR(1/U13),0,U14/U13)","v":0}]
["G",{"$f":"CONCATENATE(\"Average Floor Area Per Unit\",IF(SI_IP_Units=\"IP\",\" (square feet)\",\" (square meters)\"))","v":"Average Floor Area Per Unit (square feet)"},null,null,null,null,null,null,null,null,null,null,null,null,null,null,null,null,null,null,{"$f":"IF(ISERROR(1/U13),0,U15/U13)","v":0}]
["G",{"$f":"CONCATENATE(\"Average Floor Area Per Unit for Reference Building\",IF(SI_IP_Units=\"IP\",\" (square feet)\",\" (square meters)\"))","v":"Average Floor Area Per Unit for Reference Building (square feet)"},null,null,null,null,null,null,null,null,null,null,null,null,null,null,null,null,null,null,{"$f":"IF(ISERROR(1/Avg_Bedrooms),0,ROUNDDOWN((Avg_Bedrooms-1)*(IF(SI_IP_Units=\"IP\",600,55.6)),0)+IF(SI_IP_Units=\"IP\",1000,93))","v":0}]
["G","Point Adjustment (1 point credit per 4% reduction in floor area versus reference; 1 point deduction per 4% increase in floor area versus reference).",null,null,null,null,null,null,null,null,null,null,null,null,null,null,null,null,null,null,{"$f":"IF(ISERROR(1/U18),0,ROUNDDOWN((U18-Avg_Bedroom_Area)/(U18*4%),0))","v":0}]
["G"]
["G","Building ID",null,"Total Number of Units",null,"Total Number of Bedrroms",null,"Total Area of Dwelling Units (square feet)",null,null,"Average Number of Bedrooms Per Unit",null,null,{"$f":"CONCATENATE(\"Average Floor Area per Unit\",IF(SI_IP_Units=\"IP\",\" (square feet)\",\" (square meter)\"))","v":"Average Floor Area per Unit (square feet)"},null,null,{"$f":"CONCATENATE(\"Average Floor Area Per Unit for Reference Building\",IF(SI_IP_Units=\"IP\",\" (square feet)\",\" (square meter)\"))","v":"Average Floor Area Per Unit for Reference Building (square feet)"},null,null,null,null,null,null,null,null,null,null,null,null,"Point Adjustment (1 point credit per 4% reduction in floor area versus reference; 1 point deduction per 4% increase in floor area versus reference)."]
["G",{"$f":"'Multiple Buildings Details'!B24","v":"Project Name"},null,{"$f":"SUM(INDEX(MD_BUS_Table,MATCH($B22,MD_BUS_Index,0),MATCH($D$11,MD_BUS_Hdr,0)),\nINDEX(MD_BUS_Table,MATCH($B22,MD_BUS_Index,0),MATCH($F$11,MD_BUS_Hdr,0)),\nINDEX(MD_BUS_Table,MATCH($B22,MD_BUS_Index,0),MATCH($H$11,MD_BUS_Hdr,0)),\nINDEX(MD_BUS_Table,MATCH($B22,MD_BUS_Index,0),MATCH($J$11,MD_BUS_Hdr,0)),\nINDEX(MD_BUS_Table,MATCH($B22,MD_BUS_Index,0),MATCH($L$11,MD_BUS_Hdr,0)),\nINDEX(MD_BUS_Table,MATCH($B22,MD_BUS_Index,0),MATCH($N$11,MD_BUS_Hdr,0)),\nINDEX(MD_BUS_Table,MATCH($B22,MD_BUS_Index,0),MATCH($P$11,MD_BUS_Hdr,0)),\nINDEX(MD_BUS_Table,MATCH($B22,MD_BUS_Index,0),MATCH($R$11,MD_BUS_Hdr,0)),\nINDEX(MD_BUS_Table,MATCH($B22,MD_BUS_Index,0),MATCH($T$11,MD_BUS_Hdr,0)),\n)","v":0},null,{"$f":"SUM(INDEX(MD_BUS_Table,MATCH($B22,MD_BUS_Index,0),MATCH($D$11,MD_BUS_Hdr,0))*1,\nINDEX(MD_BUS_Table,MATCH($B22,MD_BUS_Index,0),MATCH($F$11,MD_BUS_Hdr,0))*1,\nINDEX(MD_BUS_Table,MATCH($B22,MD_BUS_Index,0),MATCH($H$11,MD_BUS_Hdr,0))*2,\nINDEX(MD_BUS_Table,MATCH($B22,MD_BUS_Index,0),MATCH($J$11,MD_BUS_Hdr,0))*3,\nINDEX(MD_BUS_Table,MATCH($B22,MD_BUS_Index,0),MATCH($L$11,MD_BUS_Hdr,0))*4,\nINDEX(MD_BUS_Table,MATCH($B22,MD_BUS_Index,0),MATCH($N$11,MD_BUS_Hdr,0))*5,\nINDEX(MD_BUS_Table,MATCH($B22,MD_BUS_Index,0),MATCH($P$11,MD_BUS_Hdr,0))*6,\nINDEX(MD_BUS_Table,MATCH($B22,MD_BUS_Index,0),MATCH($R$11,MD_BUS_Hdr,0))*7,\nINDEX(MD_BUS_Table,MATCH($B22,MD_BUS_Index,0),MATCH($T$11,MD_BUS_Hdr,0))*8,\n)","v":0},null,{"$f":"SUM(INDEX(MD_BUS_Table,MATCH($B22,MD_BUS_Index,0),MATCH($D$11,MD_BUS_Hdr,0))*INDEX(MD_BUS_Table,MATCH($B22,MD_BUS_Index,0),MATCH($E$11,MD_BUS_Hdr,0)),\nINDEX(MD_BUS_Table,MATCH($B22,MD_BUS_Index,0),MATCH($F$11,MD_BUS_Hdr,0))*INDEX(MD_BUS_Table,MATCH($B22,MD_BUS_Index,0),MATCH($G$11,MD_BUS_Hdr,0)),\nINDEX(MD_BUS_Table,MATCH($B22,MD_BUS_Index,0),MATCH($H$11,MD_BUS_Hdr,0))*INDEX(MD_BUS_Table,MATCH($B22,MD_BUS_Index,0),MATCH($I$11,MD_BUS_Hdr,0)),\nINDEX(MD_BUS_Table,MATCH($B22,MD_BUS_Index,0),MATCH($J$11,MD_BUS_Hdr,0))*INDEX(MD_BUS_Table,MATCH($B22,MD_BUS_Index,0),MATCH($K$11,MD_BUS_Hdr,0)),\nINDEX(MD_BUS_Table,MATCH($B22,MD_BUS_Index,0),MATCH($L$11,MD_BUS_Hdr,0))*INDEX(MD_BUS_Table,MATCH($B22,MD_BUS_Index,0),MATCH($M$11,MD_BUS_Hdr,0)),\nINDEX(MD_BUS_Table,MATCH($B22,MD_BUS_Index,0),MATCH($N$11,MD_BUS_Hdr,0))*INDEX(MD_BUS_Table,MATCH($B22,MD_BUS_Index,0),MATCH($O$11,MD_BUS_Hdr,0)),\nINDEX(MD_BUS_Table,MATCH($B22,MD_BUS_Index,0),MATCH($P$11,MD_BUS_Hdr,0))*INDEX(MD_BUS_Table,MATCH($B22,MD_BUS_Index,0),MATCH($Q$11,MD_BUS_Hdr,0)),\nINDEX(MD_BUS_Table,MATCH($B22,MD_BUS_Index,0),MATCH($R$11,MD_BUS_Hdr,0))*INDEX(MD_BUS_Table,MATCH($B22,MD_BUS_Index,0),MATCH($S$11,MD_BUS_Hdr,0)),\nINDEX(MD_BUS_Table,MATCH($B22,MD_BUS_Index,0),MATCH($T$11,MD_BUS_Hdr,0))*INDEX(MD_BUS_Table,MATCH($B22,MD_BUS_Index,0),MATCH($U$11,MD_BUS_Hdr,0)),\n)","v":0},null,null,{"$f":"IF(ISERROR(1/D22),0,F22/D22)","v":0},null,null,{"$f":"IF(ISERROR(1/D22),0,H22/D22)","v":0},null,null,{"$f":"IF(ISERROR(1/K22),0,ROUNDDOWN((K22-1)*(IF(SI_IP_Units=\"IP\",600,55.6)),0)+IF(SI_IP_Units=\"IP\",1000,93))","v":0},null,null,null,null,null,null,null,null,null,null,null,null,{"$f":"IF(ISERROR(1/Q22),0,ROUNDDOWN((Q22-N22)/(Q22*4%),0))","v":0}]
["G"]
["G","Homes Dwelling Unit Equipment Calculator"]
["G"]
["G","Enter the appliances and equipment that is present in the residential dwelling units for the project. For clothes washers and dryers, enter the quantity of each unit installed within the project scope of work. For fans, enter the total supply volume for all fans installed for the project."]
["G"]
["G","Building ID","Load Source",{"$f":"CONCATENATE(\"Quantity \", IF(SI_IP_Units=\"IP\", \"(or sum total fan volume [cfm] for fans)\",\"(or sum total fan volume [L/s] for fans)\"))","v":"Quantity (or sum total fan volume [cfm] for fans)"},"Energy Star Eqp?","Average bedrooms per dwelling unit",null,"Electric Loads",null,null,null,null,"Natural Gas Loads",null,null,null,null,{"$f":"CONCATENATE(\"Annual Service Hot Water Load \",IF(SI_IP_Units=\"IP\",\"(gallons/year)\",\"(Liters/year)\"))","v":"Annual Service Hot Water Load (gallons/year)"}]
["G",null,null,null,null,null,null,{"$f":"CONCATENATE(\"Annual Consumption \",IF(SI_IP_Units=\"IP\",\"(kWh/year)\",\"kWh/year\"))","v":"Annual Consumption (kWh/year)"},null,"Sensible Ratio","Latent Ratio",null,{"$f":"CONCATENATE(\"Annual Consumption \",IF(SI_IP_Units=\"IP\",\"(therms/year)\",\"kWh/year\"))","v":"Annual Consumption (therms/year)"},null,"Sensible Ratio","Latent Ratio",null,"Baseline Per Equipment","Proposed Per Equipment","Baseline Total","Proposed Total"]
["G",null,null,null,null,null,null,"Baseline","Proposed",null,null,null,"Baseline","Proposed"]
["G","Building ID","Load_Source","Qty","Energy_Star","Avg_Bedrooms_DU","Blank1","Base_Elec_Consumption","Design_Elec_Consumption","Elec_Sens_Ratio","Elec_Latent_Ratio","Blank2","Base_Ng_Consumption","Design_Ng_Consumption","NG_Sens_Ratio","NG_Latent_Ratio","Blank3","Base_DHW_Equip","Design_DHW_Equip","Base_DHW_Annual","Design_DHW_Annual"]
["A",{"$f":"GI_Project_Name","v":"Project Name"},null,null,null,{"$f":"IFERROR(INDEX(MD_BUS_SumTable,MATCH($B32,MD_BUS_SumIndex,0),MATCH($K$21,MD_BUS_SumHdr,0)),\"\")","v":0},null,{"$f":"IFERROR($D32*((VLOOKUP($C32,Homes_DwellingEqpLookup,2,FALSE)+VLOOKUP($C32,Homes_DwellingEqpLookup,6,FALSE)*$F32)*VLOOKUP($C32,Homes_DwellingEqpLookup,12,FALSE)),\"\")","v":""},{"$f":"IFERROR(IF($E32=\"No\",$H32,$D32*(VLOOKUP($C32,Homes_DwellingEqpLookup,3,FALSE)+VLOOKUP($C32,Homes_DwellingEqpLookup,6,FALSE)*$F32)*VLOOKUP($C32,Homes_DwellingEqpLookup,12,FALSE)),\"\")","v":""},{"$f":"IFERROR(VLOOKUP($C32,Homes_DwellingEqpLookup,4,0),\"\")","v":""},{"$f":"IFERROR(VLOOKUP($C32,Homes_DwellingEqpLookup,5,0),\"\")","v":""},null,{"$f":"IFERROR($D32*((VLOOKUP($C32,Homes_DwellingEqpLookup,7,FALSE)+VLOOKUP($C32,Homes_DwellingEqpLookup,11,FALSE)*$F32)*VLOOKUP($C32,Homes_DwellingEqpLookup,12,FALSE)),\"\")","v":""},{"$f":"IFERROR(IF($E32=\"No\",$M32,$D32*(VLOOKUP($C32,Homes_DwellingEqpLookup,8,FALSE)+VLOOKUP($C32,Homes_DwellingEqpLookup,11,FALSE)*$F32)*VLOOKUP($C32,Homes_DwellingEqpLookup,12,FALSE)),\"\")","v":""},{"$f":"IFERROR(VLOOKUP($C32,Homes_DwellingEqpLookup,9,0),\"\")","v":""},{"$f":"IFERROR(VLOOKUP($C32,Homes_DwellingEqpLookup,10,0),\"\")","v":""},null,{"$f":"IFERROR(VLOOKUP($C32,Homes_DwellingEqpLookup,13,0),\"\")","v":""},{"$f":"IFERROR(IF($E32=\"No\",$R32,VLOOKUP($C32,Homes_DwellingEqpLookup,14,0)),\"\")","v":""},{"$f":"IFERROR($R32*$D32,\"\")","v":""},{"$f":"IFERROR($S32*$D32,\"\")","v":""}]
[null,{"$f":"GI_Project_Name","v":"Project Name"},null,null,null,0,null,"","","","",null,"","","","",null,"","",{"$f":"IFERROR($R33*$D33,\"\")","v":""},{"$f":"IFERROR($S33*$D33,\"\")","v":""}]
[null,{"$f":"GI_Project_Name","v":"Project Name"},null,null,null,0,null,"","","","",null,"","","","",null,"","",{"$f":"IFERROR($R34*$D34,\"\")","v":""},{"$f":"IFERROR($S34*$D34,\"\")","v":""}]
[null,{"$f":"GI_Project_Name","v":"Project Name"},null,null,null,0,null,"","","","",null,"","","","",null,"","","",""]
["G"]
["G"]
["G"]
["G"]
["G","Homes Dwelling Unit Equipment Modeling Summary"]
["G"]
["G",{"$f":" CONCATENATE(\"Report the modeled Receptacle Equipment and Appliances Equivalent Full Load Hours of Operation in the Schedules tab before referring to the table below.\",\" The Equivalent Full Load Hours of Operation is used to calculate the equipment power density for resdential dwelling units that must be modeled based on the building equipment reported for the building.\",\" After confirming the Equivalent Full Load Hours of Operation in the schedules tab, use the values below for the Baseline and Proposed Miscellaneous Equipment Loads in the Dwelling Units. These loads include \",IF(SI_IP_Units=\"IP\",\"0.5 Watts per square foot \",\"5.38 Watts per square meter\"), \" of electric miscellaneous equipment load with a 0.9 sensible ratio and 0.1 latent ratio in addition to the equipment load sources selected above.\")","v":"Report the modeled Receptacle Equipment and Appliances Equivalent Full Load Hours of Operation in the Schedules tab before referring to the table below. The Equivalent Full Load Hours of Operation is used to calculate the equipment power density for resdential dwelling units that must be modeled based on the building equipment reported for the building. After confirming the Equivalent Full Load Hours of Operation in the schedules tab, use the values below for the Baseline and Proposed Miscellaneous Equipment Loads in the Dwelling Units. These loads include 0.5 Watts per square foot  of electric miscellaneous equipment load with a 0.9 sensible ratio and 0.1 latent ratio in addition to the equipment load sources selected above."}]
["G"]
["G","Building ID","Equivalent Full Load Hours of Dwelling Unit Miscellaneous Equipment Operation Per Year",{"$f":"CONCATENATE(\"Total Area of Dwelling Units\",IF(SI_IP_Units=\"IP\",\" (square feet)\",\" (square meters)\"))","v":"Total Area of Dwelling Units (square feet)"},null,"Electric Miscellaneous Loads in Dwelling Unit (including appliances and equipment listed above)",null,null,null,null,null,null,"Natural Gas Miscellaneous Loads in Dwelling Unit (including appliances and equipment listed above)",null,null,null,null,null,null,{"$f":"CONCATENATE(\"Dwelling Unit Equipment Hot Water Loads \",IF(SI_IP_Units=\"IP\",\"(gallons/year)\",\"(Liters/year)\"))","v":"Dwelling Unit Equipment Hot Water Loads (gallons/year)"}]
["G",null,null,null,null,"Baseline",null,null,"Proposed",null,null,null,"Baseline",null,null,"Proposed"]
["G",null,null,null,null,{"$f":"CONCATENATE(\"Equipment Power Density \", IF(SI_IP_Units=\"IP\",\"(Watts/ sq ft)\",\"(Watts/ sq m)\"))","v":"Equipment Power Density (Watts/ sq ft)"},"Sensible Ratio","Latent Ratio",{"$f":"CONCATENATE(\"Equipment Power Density \", IF(SI_IP_Units=\"IP\",\"(Watts/ sq ft)\",\"(Watts/ sq m)\"))","v":"Equipment Power Density (Watts/ sq ft)"},"Sensible Ratio","Latent Ratio",null,{"$f":"CONCATENATE(\"Equipment Power Density \", IF(SI_IP_Units=\"IP\",\"(Btu/ sq ft)\",\"(Watts/ sq m)\"))","v":"Equipment Power Density (Btu/ sq ft)"},"Sensible Ratio","Latent Ratio",{"$f":"CONCATENATE(\"Equipment Power Density \",  IF(SI_IP_Units=\"IP\",\"(Btu/ sq ft)\",\"(Watts/ sq m)\"))","v":"Equipment Power Density (Btu/ sq ft)"},"Sensible Ratio","Latent Ratio",null,"Base","Proposed"]
["G",{"$f":"B44","v":"Building ID"},"EFLH","Total_Area","Blank1","Base_EPD_Elecric","Base_Elec_Sens_Ratio","Base_Elec_Latent_Ratio","Prop_EPD_Elecric","Prop_Elec_Sens_Ratio","Prop_Elec_Latent_Ratio","Blank2","Base_Ng_EPD","Base_Ng_Sens_Ratio","Base_Ng_Latent_Ratio","Prop_Ng_EPD","Prop_Ng_Sens_Ratio","Prop_Ng_Latent_Ratio","Blank3","Base_HW_Loads","Proposed_HW_Loads"]
["G",{"$f":"'Multiple Buildings Details'!B24","v":"Project Name"},{"$f":"Schedules!$F$12","v":2117},{"$f":"INDEX(MD_BUS_SumTable,MATCH($B48,MD_BUS_SumIndex,0),MATCH($H$21,MD_BUS_SumHdr,0))","v":0},null,{"$f":"IFERROR(SUMIF(MD_HDUEC_Index,$B48,OFFSET(MD_HDUEC_Index,0,MATCH($H$31,MD_HDUEC_Hdr,0)-1,ROWS(MD_HDUEC_Index),1))/$D48*1000/$C48+0.5*(IF(SI_IP_Units=\"IP\",1,10.76)),\"\")","v":""},{"$f":"IFERROR((SUMPRODUCT(OFFSET(MD_HDUEC_Index,0,MATCH($H$31,MD_HDUEC_Hdr,0)-1,ROWS(MD_HDUEC_Index),1),OFFSET(MD_HDUEC_Index,0,MATCH($J$31,MD_HDUEC_Hdr,0)-1,ROWS(MD_HDUEC_Index),1),--(MD_HDUEC_Index=$B48))*1000/$C48+IF(SI_IP_Units=\"IP\",0.5,0.5*10.76)*$D48*0.9)/(SUMIF(MD_HDUEC_Index,$B48,(OFFSET(MD_HDUEC_Index,0,MATCH($H$31,MD_HDUEC_Hdr,0)-1,ROWS(MD_HDUEC_Index),1)))*1000/$C48+IF(SI_IP_Units=\"IP\",0.5,0.5*10.76)*$D48),\"\")","v":""},{"$f":"IFERROR((SUMPRODUCT(OFFSET(MD_HDUEC_Index,0,MATCH($H$31,MD_HDUEC_Hdr,0)-1,ROWS(MD_HDUEC_Index),1),OFFSET(MD_HDUEC_Index,0,MATCH($K$31,MD_HDUEC_Hdr,0)-1,ROWS(MD_HDUEC_Index),1),--(MD_HDUEC_Index=$B48))*1000/$C48+IF(SI_IP_Units=\"IP\",0.5,0.5*10.76)*$D48*0.1)/(SUMIF(MD_HDUEC_Index,$B48,(OFFSET(MD_HDUEC_Index,0,MATCH($H$31,MD_HDUEC_Hdr,0)-1,ROWS(MD_HDUEC_Index),1)))*1000/$C48+IF(SI_IP_Units=\"IP\",0.5,0.5*10.76)*$D48),\"\")","v":""},{"$f":"IFERROR(SUMIF(MD_HDUEC_Index,$B48,OFFSET(MD_HDUEC_Index,0,MATCH($I$31,MD_HDUEC_Hdr,0)-1,ROWS(MD_HDUEC_Index),1))/$D48*1000/$C48+0.5*(IF(SI_IP_Units=\"IP\",1,10.76)),\"\")","v":""},{"$f":"IFERROR((SUMPRODUCT(OFFSET(MD_HDUEC_Index,0,MATCH($I$31,MD_HDUEC_Hdr,0)-1,ROWS(MD_HDUEC_Index),1),OFFSET(MD_HDUEC_Index,0,MATCH($J$31,MD_HDUEC_Hdr,0)-1,ROWS(MD_HDUEC_Index),1),--(MD_HDUEC_Index=$B48))*1000/$C48+IF(SI_IP_Units=\"IP\",0.5,0.5*10.76)*$D48*0.9)/(SUMIF(MD_HDUEC_Index,$B48,(OFFSET(MD_HDUEC_Index,0,MATCH($I$31,MD_HDUEC_Hdr,0)-1,ROWS(MD_HDUEC_Index),1)))*1000/$C48+IF(SI_IP_Units=\"IP\",0.5,0.5*10.76)*$D48),\"\")","v":""},{"$f":"IFERROR((SUMPRODUCT(OFFSET(MD_HDUEC_Index,0,MATCH($I$31,MD_HDUEC_Hdr,0)-1,ROWS(MD_HDUEC_Index),1),OFFSET(MD_HDUEC_Index,0,MATCH($K$31,MD_HDUEC_Hdr,0)-1,ROWS(MD_HDUEC_Index),1),--(MD_HDUEC_Index=$B48))*1000/$C48+IF(SI_IP_Units=\"IP\",0.5,0.5*10.76)*$D48*0.1)/(SUMIF(MD_HDUEC_Index,$B48,(OFFSET(MD_HDUEC_Index,0,MATCH($I$31,MD_HDUEC_Hdr,0)-1,ROWS(MD_HDUEC_Index),1)))*1000/$C48+IF(SI_IP_Units=\"IP\",0.5,0.5*10.76)*$D48),\"\")","v":""},null,{"$f":"IFERROR(SUMIF(MD_HDUEC_Index,$B48,OFFSET(MD_HDUEC_Index,0,MATCH($M$31,MD_HDUEC_Hdr,0)-1,ROWS(MD_HDUEC_Index),1))/$D48/$C48*IF(SI_IP_Units=\"IP\",100000,1000),\"\")","v":""},{"$f":"IFERROR(SUMPRODUCT(OFFSET(MD_HDUEC_Index,0,MATCH($M$31,MD_HDUEC_Hdr,0)-1,ROWS(MD_HDUEC_Index),1),OFFSET(MD_HDUEC_Index,0,MATCH($O$31,MD_HDUEC_Hdr,0)-1,ROWS(MD_HDUEC_Index),1),--(MD_HDUEC_Index=$B48))/SUMIF(MD_HDUEC_Index,$B48,OFFSET(MD_HDUEC_Index,0,MATCH($M$31,MD_HDUEC_Hdr,0)-1)),\"\")","v":""},{"$f":"IFERROR(SUMPRODUCT(OFFSET(MD_HDUEC_Index,0,MATCH($M$31,MD_HDUEC_Hdr,0)-1,ROWS(MD_HDUEC_Index),1),OFFSET(MD_HDUEC_Index,0,MATCH($P$31,MD_HDUEC_Hdr,0)-1,ROWS(MD_HDUEC_Index),1),--(MD_HDUEC_Index=$B48))/SUMIF(MD_HDUEC_Index,$B48,OFFSET(MD_HDUEC_Index,0,MATCH($M$31,MD_HDUEC_Hdr,0)-1)),\"\")","v":""},{"$f":"IFERROR(SUMIF(MD_HDUEC_Index,$B48,OFFSET(MD_HDUEC_Index,0,MATCH($N$31,MD_HDUEC_Hdr,0)-1,ROWS(MD_HDUEC_Index),1))/$D48/$C48*IF(SI_IP_Units=\"IP\",100000,1000),\"\")","v":""},{"$f":"IFERROR(SUMPRODUCT(OFFSET(MD_HDUEC_Index,0,MATCH($N$31,MD_HDUEC_Hdr,0)-1,ROWS(MD_HDUEC_Index),1),OFFSET(MD_HDUEC_Index,0,MATCH($O$31,MD_HDUEC_Hdr,0)-1,ROWS(MD_HDUEC_Index),1),--(MD_HDUEC_Index=$B48))/SUMIF(MD_HDUEC_Index,$B48,OFFSET(MD_HDUEC_Index,0,MATCH($N$31,MD_HDUEC_Hdr,0)-1)),\"\")","v":""},{"$f":"IFERROR(SUMPRODUCT(OFFSET(MD_HDUEC_Index,0,MATCH($N$31,MD_HDUEC_Hdr,0)-1,ROWS(MD_HDUEC_Index),1),OFFSET(MD_HDUEC_Index,0,MATCH($P$31,MD_HDUEC_Hdr,0)-1,ROWS(MD_HDUEC_Index),1),--(MD_HDUEC_Index=$B48))/SUMIF(MD_HDUEC_Index,$B48,OFFSET(MD_HDUEC_Index,0,MATCH($N$31,MD_HDUEC_Hdr,0)-1)),\"\")","v":""},null,{"$f":"IFERROR(SUMIF(MD_HDUEC_Index,$B48,OFFSET(MD_HDUEC_Index,0,MATCH($T$31,MD_HDUEC_Hdr,0)-1,ROWS(MD_HDUEC_Index),1)),\"\")","v":0},{"$f":"IFERROR(SUMIF(MD_HDUEC_Index,$B48,OFFSET(MD_HDUEC_Index,0,MATCH($U$31,MD_HDUEC_Hdr,0)-1,ROWS(MD_HDUEC_Index),1)),\"\")","v":0}]
["G"]
["G"]
["G","Homes Laundry Room Equipment Calculator"]
["G"]
["G","If the project has one or more laundry rooms serving multiple dwelling units, enter the equipment that is present in the laundry rooms. Leave blank if the project has no laundry rooms."]
["G"]
["G","Building ID","Load Source","Quantity","Energy Star Equip-ment?","Average Bedrooms per Dwelling Unit",null,"Electric Loads",null,null,null,null,"Natural Gas Loads",null,null,null,null,{"$f":"CONCATENATE(\"Annual Service Hot Water Load \",IF(SI_IP_Units=\"IP\",\"(gallons/year)\",\"(Liters/year)\"))","v":"Annual Service Hot Water Load (gallons/year)"}]
["G",null,null,null,null,null,null,{"$f":"CONCATENATE(\"Annual Consumption \",IF(SI_IP_Units=\"IP\",\"(kWh/year)\",\"kWh/year\"))","v":"Annual Consumption (kWh/year)"},null,"Sensible Ratio","Latent Ratio",null,{"$f":"CONCATENATE(\"Annual Consumption \",IF(SI_IP_Units=\"IP\",\"(therms/year)\",\"kWh/year\"))","v":"Annual Consumption (therms/year)"},null,"Sensible Ratio","Latent Ratio",null,"Baseline Per Equipment","Proposed Per Eqiupment","Baseline Total","Proposed Total"]
["G",null,null,null,null,null,null,"Baseline","Proposed",null,null,null,"Baseline","Proposed"]
["G","Building ID","Load_Source","Qty","Energy_Star","Avg_Bedrooms_DU",null,"Base_Elec_Consumption","Design_Elec_Consumption","Elec_Sens_Ratio","Elec_Latent_Ratio",null,"Base_Ng_Consumption","Design_Ng_Consumption","NG_Sens_Ratio","NG_Latent_Ratio",null,"Base_DHW_Equip","Design_DHW_Equip","Base_DHW_Annual","Design_DHW_Annual"]
["B",{"$f":"GI_Project_Name","v":"Project Name"},null,null,null,{"$f":"IFERROR(INDEX(MD_BUS_SumTable,MATCH($B59,MD_BUS_SumIndex,0),MATCH($K$21,MD_BUS_SumHdr,0)),\"\")","v":0},null,{"$f":"IFERROR((VLOOKUP($C59,Homes_LaundryEqpLookup,2,FALSE)+VLOOKUP($C59,Homes_LaundryEqpLookup,6,FALSE)*$F59)*VLOOKUP($C59,Homes_LaundryEqpLookup,12,FALSE),\"\")","v":""},{"$f":"IFERROR(IF($E59=\"No\",$H59,(VLOOKUP($C59,Homes_LaundryEqpLookup,3,FALSE)+VLOOKUP($C59,Homes_LaundryEqpLookup,6,FALSE)*$F59)*VLOOKUP($C59,Homes_LaundryEqpLookup,12,FALSE)),\"\")","v":""},{"$f":"IFERROR(VLOOKUP($C59,Homes_LaundryEqpLookup,4,0),\"\")","v":""},{"$f":"IFERROR(VLOOKUP($C59,Homes_LaundryEqpLookup,5,0),\"\")","v":""},null,{"$f":"IFERROR((VLOOKUP($C59,Homes_LaundryEqpLookup,7,FALSE)+VLOOKUP($C59,Homes_LaundryEqpLookup,11,FALSE)*$F59)*VLOOKUP($C59,Homes_LaundryEqpLookup,12,FALSE),\"\")","v":""},{"$f":"IFERROR(IF($E59=\"No\",$M59,(VLOOKUP($C59,Homes_LaundryEqpLookup,8,FALSE)+VLOOKUP($C59,Homes_LaundryEqpLookup,11,FALSE)*$F59)*VLOOKUP($C59,Homes_LaundryEqpLookup,12,FALSE)),\"\")","v":""},{"$f":"IFERROR(VLOOKUP($C59,Homes_LaundryEqpLookup,9,0),\"\")","v":""},{"$f":"IFERROR(VLOOKUP($C59,Homes_LaundryEqpLookup,10,0),\"\")","v":""},null,{"$f":"IFERROR(VLOOKUP($C59,Homes_LaundryEqpLookup,13,0),\"\")","v":""},{"$f":"IFERROR(VLOOKUP($C59,Homes_LaundryEqpLookup,14,0),\"\")","v":""},{"$f":"IFERROR($R59*$D59,\"\")","v":""},{"$f":"IFERROR($S59*$D59,\"\")","v":""}]
[null,{"$f":"GI_Project_Name","v":"Project Name"},null,null,null,0,null,"","","","",null,"","","","",null,"","",{"$f":"IFERROR($R60*$D60,\"\")","v":""},{"$f":"IFERROR($S60*$D60,\"\")","v":""}]
[null,{"$f":"GI_Project_Name","v":"Project Name"},null,null,null,0,null,"","","","",null,"","","","",null,"","",{"$f":"IFERROR($R61*$D61,\"\")","v":""},{"$f":"IFERROR($S61*$D61,\"\")","v":""}]
[null,{"$f":"GI_Project_Name","v":"Project Name"},null,null,null,0,null,"","","","",null,"","","","",null,"","",{"$f":"IFERROR($R62*$D62,\"\")","v":""},{"$f":"IFERROR($S62*$D62,\"\")","v":""}]
["G"]
["G"]
["G"]
["G"]
["G","Homes Laundry Room Equipment Modeling Summary"]
["G"]
["G",{"$f":" CONCATENATE(\"Identify the equivalent full load hours of operation and building area for the landury room(s) below. \",\"In the energy model(s), use the values below for the Baseline and Proposed Miscellaneous Equipment Loads in the Laundry Rooms. These loads include \",IF(SI_IP_Units=\"IP\",\"0.2 Watts per square foot \",\"2.15 Watts per square meter\"), \" of electric miscellaneous equipment load with a 1.0 sensible ratio and 0.0 latent ratio in addition to the equipment load sources selected above.\",\" Note that the Equivalent Full Load Hours of operation noted here must be consistent with that of the energy model in order for the equipment power densities\",\" listed here to appropriately calculate the annual laundry miscellaneous energy consumption in the energy model.\")","v":"Identify the equivalent full load hours of operation and building area for the landury room(s) below. In the energy model(s), use the values below for the Baseline and Proposed Miscellaneous Equipment Loads in the Laundry Rooms. These loads include 0.2 Watts per square foot  of electric miscellaneous equipment load with a 1.0 sensible ratio and 0.0 latent ratio in addition to the equipment load sources selected above. Note that the Equivalent Full Load Hours of operation noted here must be consistent with that of the energy model in order for the equipment power densities listed here to appropriately calculate the annual laundry miscellaneous energy consumption in the energy model."}]
["G"]
["G","Building ID","Equivalent Full Load Hours of Dwelling Unit Miscellaneous Equipment Operation Per Year",{"$f":"CONCATENATE(\"Total Area of Laundry Rooms\",IF(SI_IP_Units=\"IP\",\" (square feet)\",\" (square meters)\"))","v":"Total Area of Laundry Rooms (square feet)"},null,"Electric Loads in Laundry Room (including appliances and equipment listed above)",null,null,null,null,null,null,"Natural Gas Loads in Laundry Room (including appliances and equipment listed above)",null,null,null,null,null,null,{"$f":"CONCATENATE(\"Laundry Room Equipment Hot Water Loads \",IF(SI_IP_Units=\"IP\",\"(gallons/year)\",\"(Liters/year)\"))","v":"Laundry Room Equipment Hot Water Loads (gallons/year)"}]
["G",null,null,null,null,"Baseline",null,null,"Proposed",null,null,null,"Baseline",null,null,"Proposed"]
["G",null,null,null,null,{"$f":"CONCATENATE(\"Equipment Power Density \", IF(SI_IP_Units=\"IP\",\"(Watts/ sq ft)\",\"(Watts/ sq m)\"))","v":"Equipment Power Density (Watts/ sq ft)"},"Sensible Ratio","Latent Ratio",{"$f":"CONCATENATE(\"Equipment Power Density \", IF(SI_IP_Units=\"IP\",\"(Watts/ sq ft)\",\"(Watts/ sq m)\"))","v":"Equipment Power Density (Watts/ sq ft)"},"Sensible Ratio","Latent Ratio",null,{"$f":"CONCATENATE(\"Equipment Power Density \",  IF(SI_IP_Units=\"IP\",\"(Btu/ sq ft)\",\"(Watts/ sq m)\"))","v":"Equipment Power Density (Btu/ sq ft)"},"Sensible Ratio","Latent Ratio",{"$f":"CONCATENATE(\"Equipment Power Density \", IF(SI_IP_Units=\"IP\",\"(Btu/ sq ft)\",\"(Watts/ sq m)\"))","v":"Equipment Power Density (Btu/ sq ft)"},"Sensible Ratio","Latent Ratio",null,"Base","Proposed"]
["G","Building ID","EFLH","Total_Area","Blank1","Base_EPD_Elecric","Base_Elec_Sens_Ratio","Base_Elec_Latent_Ratio","Prop_EPD_Elecric","Prop_Elec_Sens_Ratio","Prop_Elec_Latent_Ratio","Blank2","Base_Ng_EPD","Base_Ng_Sens_Ratio","Base_Ng_Latent_Ratio","Prop_Ng_EPD","Prop_Ng_Sens_Ratio","Prop_Ng_Latent_Ratio","Blank3","Base_HW_Loads","Proposed_HW_Loads"]
["G",{"$f":"'Multiple Buildings Details'!B24","v":"Project Name"},null,null,null,{"$f":"IFERROR(SUMIF(MD_Laundry_Index,$B75,OFFSET(MD_Laundry_Index,0,MATCH($H$58,MD_Laundry_Hdr,0)-1,ROWS(MD_Laundry_Index),1))/$D75*1000/$C75+0.2*(IF(SI_IP_Units=\"IP\",1,2.15)),\"\")","v":""},{"$f":"IFERROR((SUMPRODUCT(OFFSET(MD_Laundry_Index,0,MATCH($H$58,MD_Laundry_Hdr,0)-1,ROWS(MD_Laundry_Index),1),OFFSET(MD_Laundry_Index,0,MATCH($J$58,MD_Laundry_Hdr,0)-1,ROWS(MD_Laundry_Index),1),--(MD_Laundry_Index=$B75))*1000/$C75+IF(SI_IP_Units=\"IP\",0.2,0.2*10.76)*$D75*1)/(SUMIF(MD_Laundry_Index,$B75,(OFFSET(MD_Laundry_Index,0,MATCH($H$58,MD_Laundry_Hdr,0)-1,ROWS(MD_Laundry_Index),1)))*1000/$C75+IF(SI_IP_Units=\"IP\",0.2,0.2*10.76)*$D75),\"\")","v":""},{"$f":"IFERROR((SUMPRODUCT(OFFSET(MD_Laundry_Index,0,MATCH($H$58,MD_Laundry_Hdr,0)-1,ROWS(MD_Laundry_Index),1),OFFSET(MD_Laundry_Index,0,MATCH($K$58,MD_Laundry_Hdr,0)-1,ROWS(MD_Laundry_Index),1),--(MD_Laundry_Index=$B75))*1000/$C75+IF(SI_IP_Units=\"IP\",0.2,0.2*10.76)*$D75*0)/(SUMIF(MD_Laundry_Index,$B75,(OFFSET(MD_Laundry_Index,0,MATCH($H$58,MD_Laundry_Hdr,0)-1,ROWS(MD_Laundry_Index),1)))*1000/$C75+IF(SI_IP_Units=\"IP\",0.2,0.2*10.76)*$D75),\"\")","v":""},{"$f":"IFERROR(SUMIF(MD_Laundry_Index,$B75,OFFSET(MD_Laundry_Index,0,MATCH($I$58,MD_Laundry_Hdr,0)-1,ROWS(MD_Laundry_Index),1))/$D75*1000/$C75+0.2*(IF(SI_IP_Units=\"IP\",1,10.76)),\"\")","v":""},{"$f":"IFERROR((SUMPRODUCT(OFFSET(MD_Laundry_Index,0,MATCH($I$58,MD_Laundry_Hdr,0)-1,ROWS(MD_Laundry_Index),1),OFFSET(MD_Laundry_Index,0,MATCH($J$58,MD_Laundry_Hdr,0)-1,ROWS(MD_Laundry_Index),1),--(MD_Laundry_Index=$B75))*1000/$C75+IF(SI_IP_Units=\"IP\",0.2,0.2*10.76)*$D75*1)/(SUMIF(MD_Laundry_Index,$B75,(OFFSET(MD_Laundry_Index,0,MATCH($I$58,MD_Laundry_Hdr,0)-1,ROWS(MD_Laundry_Index),1)))*1000/$C75+IF(SI_IP_Units=\"IP\",0.2,0.2*10.76)*$D75),\"\")","v":""},{"$f":"IFERROR((SUMPRODUCT(OFFSET(MD_Laundry_Index,0,MATCH($I$58,MD_Laundry_Hdr,0)-1,ROWS(MD_Laundry_Index),1),OFFSET(MD_Laundry_Index,0,MATCH($K$58,MD_Laundry_Hdr,0)-1,ROWS(MD_Laundry_Index),1),--(MD_Laundry_Index=$B75))*1000/$C75+IF(SI_IP_Units=\"IP\",0.2,0.2*10.76)*$D75*0)/(SUMIF(MD_Laundry_Index,$B75,(OFFSET(MD_Laundry_Index,0,MATCH($I$58,MD_Laundry_Hdr,0)-1,ROWS(MD_Laundry_Index),1)))*1000/$C75+IF(SI_IP_Units=\"IP\",0.2,0.2*10.76)*$D75),\"\")","v":""},null,{"$f":"IFERROR(SUMIF(MD_Laundry_Index,$B75,OFFSET(MD_Laundry_Index,0,MATCH($M$58,MD_Laundry_Hdr,0)-1,ROWS(MD_Laundry_Index),1))/$D75/$C75*IF(SI_IP_Units=\"IP\",100000,1000),\"\")","v":""},{"$f":"IFERROR(SUMPRODUCT(OFFSET(MD_Laundry_Index,0,MATCH($M$58,MD_Laundry_Hdr,0)-1,ROWS(MD_Laundry_Index),1),OFFSET(MD_Laundry_Index,0,MATCH($O$58,MD_Laundry_Hdr,0)-1,ROWS(MD_Laundry_Index),1),--(MD_Laundry_Index=$B75))/SUMIF(MD_Laundry_Index,$B75,OFFSET(MD_Laundry_Index,0,MATCH($M$58,MD_Laundry_Hdr,0)-1)),\"\")","v":""},{"$f":"IFERROR(SUMPRODUCT(OFFSET(MD_Laundry_Index,0,MATCH($M$58,MD_Laundry_Hdr,0)-1,ROWS(MD_Laundry_Index),1),OFFSET(MD_Laundry_Index,0,MATCH($P$58,MD_Laundry_Hdr,0)-1,ROWS(MD_Laundry_Index),1),--(MD_Laundry_Index=$B75))/SUMIF(MD_Laundry_Index,$B75,OFFSET(MD_Laundry_Index,0,MATCH($M$58,MD_Laundry_Hdr,0)-1)),\"\")","v":""},{"$f":"IFERROR(SUMIF(MD_Laundry_Index,$B75,OFFSET(MD_Laundry_Index,0,MATCH($N$58,MD_Laundry_Hdr,0)-1,ROWS(MD_Laundry_Index),1))/$D75/$C75*IF(SI_IP_Units=\"IP\",100000,1000),\"\")","v":""},{"$f":"IFERROR(SUMPRODUCT(OFFSET(MD_Laundry_Index,0,MATCH($N$58,MD_Laundry_Hdr,0)-1,ROWS(MD_Laundry_Index),1),OFFSET(MD_Laundry_Index,0,MATCH($O$58,MD_Laundry_Hdr,0)-1,ROWS(MD_Laundry_Index),1),--(MD_Laundry_Index=$B75))/SUMIF(MD_Laundry_Index,$B75,OFFSET(MD_Laundry_Index,0,MATCH($N$58,MD_Laundry_Hdr,0)-1)),\"\")","v":""},{"$f":"IFERROR(SUMPRODUCT(OFFSET(MD_Laundry_Index,0,MATCH($N$58,MD_Laundry_Hdr,0)-1,ROWS(MD_Laundry_Index),1),OFFSET(MD_Laundry_Index,0,MATCH($P$58,MD_Laundry_Hdr,0)-1,ROWS(MD_Laundry_Index),1),--(MD_Laundry_Index=$B75))/SUMIF(MD_Laundry_Index,$B75,OFFSET(MD_Laundry_Index,0,MATCH($N$58,MD_Laundry_Hdr,0)-1)),\"\")","v":""},null,{"$f":"IFERROR(SUMIF(MD_Laundry_Index,$B75,OFFSET(MD_Laundry_Index,0,MATCH($T$58,MD_Laundry_Hdr,0)-1,ROWS(MD_Laundry_Index),1)),\"\")","v":0},{"$f":"IFERROR(SUMIF(MD_Laundry_Index,$B75,OFFSET(MD_Laundry_Index,0,MATCH($U$58,MD_Laundry_Hdr,0)-1,ROWS(MD_Laundry_Index),1)),\"\")","v":0}]
["G"]
["G"]
["G","Homes Service Water Heating Load Summary"]
["G"]
["G","Residential Usage Profile Dependent on Project Demographics",null,null,null,null,null,null,null,null,null,null,null,null,null,null,null,"Baseline Residential Usage per person\nExcluding Clothes / Dish Washers"]
["G","Low","Demographics such as all occupants working, seniors, middle income, and higher population density.",null,null,null,null,null,null,null,null,null,null,null,null,null,null,null,{"$f":"IF(SI_IP_Units=\"IP\",12,45)","v":12},{"$f":"IF(SI_IP_Units=\"IP\",\"gallons/day\",\"liters/day\")","v":"gallons/day"}]
["G","Medium","Demographics such as mixture of working / non-working occupants, mixture of age groups, medium population densities.",null,null,null,null,null,null,null,null,null,null,null,null,null,null,null,{"$f":"IF(SI_IP_Units=\"IP\",25,95)","v":25},{"$f":"IF(SI_IP_Units=\"IP\",\"gallons/day\",\"liters/day\")","v":"gallons/day"}]
["G","High","Demographics such high percentages of children, low income, public assistance, or no occupants working.",null,null,null,null,null,null,null,null,null,null,null,null,null,null,null,{"$f":"IF(SI_IP_Units=\"IP\",44,167)","v":44},{"$f":"IF(SI_IP_Units=\"IP\",\"gallons/day\",\"liters/day\")","v":"gallons/day"}]
["G"]
["G",{"$f":"CONCATENATE(\"Report the modeled Service Water Heating Full Load Hours of Operation in the Schedules tab before referring to the table below.\",\" The Equivalent Full Load Hours of Operation is used to calculate the DHW modeled peak residential flow a the DHW Heater that must be modeled to be consistent with the annual hot water consumption calculated here.\",\" After confirming the Equivalent Full Load Hours of Operation in the schedules tab,\",\"Identify the residential service water heating usage profile, and the average fixture flows for sink and shower fixtures. Supply temperature at fixture point of use shall be \",IF(SI_IP_Units=\"IP\",\"120 degrees F\",\"49 degrees C\"),\". If the modeled supply DHW temperature from the DHW heater is higher than this,\",\" indicate the supply DHW temperature from the DHW heater and the average cold water input temperature below.\",\"\n\nThis information along with the appliance information entered above and the schedule data from the schedules tab is used to determine the DHW modeled Peak Flow at DHW heater,\",\"which should be input into the energy model.\")","v":"Report the modeled Service Water Heating Full Load Hours of Operation in the Schedules tab before referring to the table below. The Equivalent Full Load Hours of Operation is used to calculate the DHW modeled peak residential flow a the DHW Heater that must be modeled to be consistent with the annual hot water consumption calculated here. After confirming the Equivalent Full Load Hours of Operation in the schedules tab,Identify the residential service water heating usage profile, and the average fixture flows for sink and shower fixtures. Supply temperature at fixture point of use shall be 120 degrees F. If the modeled supply DHW temperature from the DHW heater is higher than this, indicate the supply DHW temperature from the DHW heater and the average cold water input temperature below.\n\nThis information along with the appliance information entered above and the schedule data from the schedules tab is used to determine the DHW modeled Peak Flow at DHW heater,which should be input into the energy model."}]
["G"]
["G","Building ID","Residential Usage Profile",{"$f":"CONCATENATE(\"Average Fixture Flows \",IF(SI_IP_Units=\"IP\",\"(gallons/minute)\",\"(Liters/second)\"))","v":"Average Fixture Flows (gallons/minute)"},null,{"$f":"CONCATENATE(\"DHW Temperature Settings \",IF(SI_IP_Units=\"IP\",\"(degrees F)\",\"(degrees C)\"))","v":"DHW Temperature Settings (degrees F)"},null,null,{"$f":"CONCATENATE(\"DHW Sink and Shower Fixture Loads at Point of Use\",IF(SI_IP_Units=\"IP\",\" (gallons / year)\", \"(Liters / year)\"))","v":"DHW Sink and Shower Fixture Loads at Point of Use (gallons / year)"},null,{"$f":"CONCATENATE(\"DHW In-Unit Appliance Loads at Point of Use\",IF(SI_IP_Units=\"IP\",\" (gallons / year)\", \"(Liters / year)\"))","v":"DHW In-Unit Appliance Loads at Point of Use (gallons / year)"},null,{"$f":"CONCATENATE(\"DHW Laundry Room Equipment Loads at Point of Use\",IF(SI_IP_Units=\"IP\",\" (gallons / year)\", \"(Liters / year)\"))","v":"DHW Laundry Room Equipment Loads at Point of Use (gallons / year)"},null,{"$f":"CONCATENATE(\"DHW Total Residential Loads at Point of Use\",IF(SI_IP_Units=\"IP\",\" (gallons / year)\", \"(Liters / year)\"))","v":"DHW Total Residential Loads at Point of Use (gallons / year)"},null,{"$f":"CONCATENATE(\"DHW Total Residential Loads at DHW Heater\",IF(SI_IP_Units=\"IP\",\" (gallons / year)\", \"(Liters / year)\"))","v":"DHW Total Residential Loads at DHW Heater (gallons / year)"},null,"DHW Equivalent Full Load Hours of Operation",{"$f":"CONCATENATE(\"DHW Modeled Peak Residential Flow at DHW Heater\",IF(SI_IP_Units=\"IP\",\" (gallons / minute)\", \"(Liters / second)\"))","v":"DHW Modeled Peak Residential Flow at DHW Heater (gallons / minute)"}]
["G",null,null,null,null,"DHW Supply Temp","Average Cold Water Temp","DHW Temp at Fixture Point of Use"]
["G",null,null,"Showers","Sinks",null,null,null,"Baseline","Proposed","Baseline","Proposed","Baseline","Proposed","Baseline","Proposed","Baseline","Proposed",null,"Baseline","Proposed"]
["G","Building ID","Res_Usage_Profile","Shower_Flow_Avg","Sink_Flow_Avg","DHW_Supply_Temp","DHW_Cold_Water_Temp","DHW_Fixture_Temp","DHW_Base_Fixture_flow","DHW_Design_Fixture_flow","DHW_Base_Appliance_Flow","DHW_Design_Appliance_Flow","DHW_Base_Laundry_Flow","DHW_Proposed_Laundry_Flow","DHW_Base_Total_Flow","DHW_Design_Total_Flow","DHW_Heater_Base_Flow","DHW_Heater_Design_Flow","DHW_EFLH","DHW_Base_Modeled_Flowrate","DHW_Design_Modeled_Flowrate"]
["G",{"$f":"'Multiple Buildings Details'!B24","v":"Project Name"},null,null,null,null,null,{"$f":"IF(SI_IP_Units=\"IP\",120,CONVERT(120,\"F\",\"C\"))","v":120},{"$f":"IFERROR(VLOOKUP($C91,Res_Usage_Profile_Table,18,FALSE)*365*INDEX(MD_BUS_SumTable,MATCH($B91,MD_BUS_SumIndex,0),MATCH($F$21,MD_BUS_SumHdr,0)),\"N/A\")","v":"N/A"},{"$f":"IF(ISERROR(1/$D91/$E91),$I91,IFERROR($I91*IF(SI_IP_Units=\"IP\",(0.36+0.54*$D91/2.5+0.1*$E91/2.2),(0.36+0.54*$D91/0.16+0.1*$E91/0.14)),$I91))","v":"N/A"},{"$f":"IFERROR(SUMIF(MD_HDUEC_Index,$B91,OFFSET(MD_HDUEC_Index,0,MATCH($T$31,MD_HDUEC_Hdr,0)-1,ROWS(MD_HDUEC_Index),1)),\"N/A\")","v":0},{"$f":"IFERROR(SUMIF(MD_HDUEC_Index,$B91,OFFSET(MD_HDUEC_Index,0,MATCH($U$31,MD_HDUEC_Hdr,0)-1,ROWS(MD_HDUEC_Index),1)),\"N/A\")","v":0},{"$f":"IFERROR(SUMIF(MD_Laundry_Index,$B91,OFFSET(MD_Laundry_Index,0,MATCH($T$58,MD_Laundry_Hdr,0)-1,ROWS(MD_Laundry_Index),1)),\"N/A\")","v":0},{"$f":"IFERROR(SUMIF(MD_Laundry_Index,$B91,OFFSET(MD_Laundry_Index,0,MATCH($U$58,MD_Laundry_Hdr,0)-1,ROWS(MD_Laundry_Index),1)),\"N/A\")","v":0},{"$f":"IFERROR(SUM(I91,K91,M91),0)","v":0},{"$f":"IFERROR(SUM(J91,L91,N91),0)","v":0},{"$f":"IFERROR(IF(ISERROR(1/$G91),O91,($H91-$G91)/($F91-$G91)*O91),O91)","v":0},{"$f":"IFERROR(IF(ISERROR(1/$G91),P91,($H91-$G91)/($F91-$G91)*P91),P91)","v":0},{"$f":"Schedules!$E$12","v":2446},{"$f":"IFERROR(IF(SI_IP_Units=\"IP\",Q91/$S91/60,Q91/$S91/60/60),\"N/A\")","v":0},0]
["G","Note:  Flow rates are based on Energy Star Multifamily Simulation Guidance. One person is assumed per bedroom."]

{"sheet":"Opaque Assemblies","index":7,"n_rows":90,"n_cols":18,"rows_kept":90,"cut":false,"hidden":false,"merged":[[18,1,18,9],[4,1,4,10],[10,1,10,5],[12,1,12,5],[14,1,14,5],[16,1,16,9],[8,1,8,5],[8,6,8,11],[10,6,10,11],[12,6,12,11],[14,6,14,11],[16,10,16,11],[29,10,29,11],[29,1,29,3],[31,1,31,3],[31,5,31,6],[31,7,31,8],[31,10,31,11],[39,1,39,3],[49,1,49,3],[20,1,20,9],[22,1,22,9],[29,5,29,6],[29,7,29,8],[39,7,39,8],[39,5,39,6],[81,1,81,3],[81,5,81,6],[81,7,81,8],[49,5,49,6],[49,7,49,8],[59,1,59,3],[69,1,69,3],[79,1,79,3],[71,1,71,3],[71,5,71,6],[79,5,79,6],[79,7,79,8],[59,5,59,6],[59,7,59,8],[69,5,69,6],[69,7,69,8],[71,7,71,8],[89,1,89,11],[18,10,18,11],[20,10,20,11],[22,10,22,11],[24,1,24,11],[25,1,25,11],[51,1,51,3],[51,5,51,6],[51,7,51,8],[61,1,61,3],[61,5,61,6],[61,7,61,8],[41,1,41,3],[41,5,41,6],[41,7,41,8]]}
["G"]
["G","Opaque Assemblies"]
["G"]
["G"]
["G","Instructions: Complete the Opaque Building Envelope Requirements section, then describe each unique opaque building envelope construction on a separate row in the Opaque Building Envelope Constructions table. Please refer to the column header notes for information about Appendix G modeling protocol. For any information not applicable to the project, simply enter \"N/A\". Baseline information will autogenerate for new construction when the space conditioning category is selected."]
["G"]
["G","Opaque Building Envelope Requirements"]
["G"]
["G","All residential spaces (guest rooms, living quarters, private living space, in-patient rooms, and sleeping quarters) have been modeled with the required residential construction types from Table 5.5"]
["G"]
["G","For existing spaces, have there been any changes to the space conditioning category (for example, previously unconditioned spaces becoming fully conditioned)?"]
["G"]
["G","All spaces qualifying as semiheated are not defined as heated per Table 3.1 or indirectly conditioned (see Section 3.2 definition of space)."]
["G"]
["G","Opaque envelope assemblies separating conditioned space from unconditioned or semiheated space in the baseline are modeled using semiheated envelope assemblies per the ASHRAE 90.1-2010 User's Manual, Section 5.1.2, Space Conditioning Categories (Page 5-2). Refer to Figure 5-B."]
["G"]
["G","All baseline new construction opaque envelope assemblies were modeled as required by Table 5.5 for the project's climate zone and Table G3.1#5(b) as lightweight assembly types."]
["G"]
["G",{"$f":"IF(RatingSystem_IDC,CONCATENATE(\"All existing envelope opaque assemblies were modeled as required by Table 5.5 for the project's climate zone and Table G3.1#5(Proposed)(b) as lightweight assembly types,\",\" and are not modeled using Exception (f) per Rating system requirements\"),CONCATENATE(\"All baseline existing roofs, above-grade exterior walls, below-grade exterior walls, exposed floors, slab-on-grade floors, and opaque doors were modeled\",\" using the existing conditions prior to any revisions in spaces with unchanged space conditioning categories.\"))","v":"All baseline existing roofs, above-grade exterior walls, below-grade exterior walls, exposed floors, slab-on-grade floors, and opaque doors were modeled using the existing conditions prior to any revisions in spaces with unchanged space conditioning categories."}]
["G"]
["G","All proposed roofs, above-grade exterior walls, below-grade exterior walls, exposed floors, slab-on-grade floors, and opaque doors were modeled as-designed and with assembly U-factors, C-factors, and F-factors consistent with Appendix A values."]
["G"]
["G","Infiltration rates and schedules have been modeled identically in the baseline and proposed."]
["G"]
["G","For each item entered as “No” above, describe the applicable ASHRAE 90.1 Appendix G exception(s) that apply, or the circumstances preventing the opaque envelope parameters from being modeled as required. If the energy simulation software is not capable of modeling the required parameters, describe the adjustments that were made to provide a thermodynamically similar representation or provide a narrative justifying why the predicted energy performance results will not be influenced."]
["G"]
["G"]
["G","Opaque Building Envelope Constructions"]
["G","Roof Constructions"]
["G","General Information",null,null,null,"Baseline",null,"Proposed",null,null,"Roof Solar Reflectance and Thermal Emittance"]
["G","Building ID","New or \nExisting\nConstruction","Space-Conditioning Category",null,"Description","Assembly U-factor","Description","Assembly \nU-factor",null,"Baseline","Proposed"]
["G","Helpful Notes",null,null,null,"• Describe the Baseline roof construction (for example: R-20 (R-2.6) continuous insulation entirely above metal deck).\n• New roofs: insulation entirely above deck with U-factor from appropriate Table 5.5 per Table G3.1#5(b). \n• Existing roofs: existing conditions per Table G3.1#5(f).\n",null,"• Describe the Proposed roof construction and Appendix A Table if referenced (for example: R-30 (R-5.3) continuous insulation entirely above metal deck per Table A2.2).  \n• Proposed construction assembly U-factor should be as-designed and consistent with Appendix A of ASHRAE 90.1.  ",null,null,"• In accordance with Section 5.5.3.1.1(a) or 0.3/0.9 per Table G3.1#5(c).\n• Verify Baseline requirements for climate zones 1 through 3."]
["G",{"$f":"B31","v":"Building ID"},{"$f":"C31","v":"New or \nExisting\nConstruction"},"Space-Conditioning Category",null,"Base_Description","Assembly U-factor","Proposed_Description","Assembly \nU-factor",null,"Baseline","Proposed",null,null,null,null,"Default_Description","Default_Assembly_U-factor"]
["A",{"$f":"GI_Project_Name","v":"Project Name"},null,null,null,{"$f":"IF(AND($O34<>0,$D34<>\"\"),$O34,\"\")","v":""},{"$f":"IF(AND($P34<>0,$D34<>\"\"),$P34,\"\")","v":""},null,null,null,null,null,null,null,{"$f":"IFERROR(IF(C34=\"New\",INDEX('Envelope Assumptions'!$A$2:$D$38,MATCH('General Information'!$J$12,'Envelope Assumptions'!$A$2:$A$38,0),MATCH(D34,'Envelope Assumptions'!$A$2:$D$2,0)),0),\"\")","v":0},{"$f":"IFERROR(IF(C34=\"New\",INDEX('Envelope Assumptions'!$X$2:$Z$38,MATCH('General Information'!$J$12,'Envelope Assumptions'!$A$2:$A$38,0),MATCH(D34,'Envelope Assumptions'!$X$2:$Z$2,0)),0),\"\")","v":0},{"$f":"IF(AND($O34<>0,$D34<>\"\"),$O34,\"\")","v":""},{"$f":"IF(AND($P34<>0,$D34<>\"\"),$P34,\"\")","v":""}]
[null,null,null,null,null,{"$f":"IF(AND($O35<>0,$D35<>\"\"),$O35,\"\")","v":""},{"$f":"IF(AND($P35<>0,$D35<>\"\"),$P35,\"\")","v":""},null,null,null,null,null,null,null,{"$f":"IFERROR(IF(C35=\"New\",INDEX('Envelope Assumptions'!$A$2:$D$38,MATCH('General Information'!$J$12,'Envelope Assumptions'!$A$2:$A$38,0),MATCH(D35,'Envelope Assumptions'!$A$2:$D$2,0)),0),\"\")","v":0},{"$f":"IFERROR(IF(C35=\"New\",INDEX('Envelope Assumptions'!$X$2:$Z$38,MATCH('General Information'!$J$12,'Envelope Assumptions'!$A$2:$A$38,0),MATCH(D35,'Envelope Assumptions'!$X$2:$Z$2,0)),0),\"\")","v":0},{"$f":"IF(AND($O35<>0,$D35<>\"\"),$O35,\"\")","v":""},{"$f":"IF(AND($P35<>0,$D35<>\"\"),$P35,\"\")","v":""}]
[null,null,null,null,null,"","",null,null,null,null,null,null,null,{"$f":"IFERROR(IF(C36=\"New\",INDEX('Envelope Assumptions'!$A$2:$D$38,MATCH('General Information'!$J$12,'Envelope Assumptions'!$A$2:$A$38,0),MATCH(D36,'Envelope Assumptions'!$A$2:$D$2,0)),0),\"\")","v":0},{"$f":"IFERROR(IF(C36=\"New\",INDEX('Envelope Assumptions'!$X$2:$Z$38,MATCH('General Information'!$J$12,'Envelope Assumptions'!$A$2:$A$38,0),MATCH(D36,'Envelope Assumptions'!$X$2:$Z$2,0)),0),\"\")","v":0},"",""]
["G"]
["G"]
["G","Above-Grade Exterior Wall Constructions"]
["G","General Information",null,null,null,"Baseline",null,"Proposed"]
["G","Building ID","New or \nExisting\nConstruction","Space-Conditioning Category",null,"Description","Assembly U-factor","Description","Assembly \nU-factor"]
["G","Helpful Notes",null,null,null,"• Describe the Baseline above-grade exterior wall construction (for example: steel-framed with R-13.0 (R-2.3) cavity insulation and R-7.5 (R-1.3)continuous insulation).\n• New above-grade walls: steel-framed with U-factor from appropriate Table 5.5 per Table G3.1#5(b).\n• Existing above-grade walls: existing conditions per Table G3.1#5(f).",null,"• Describe the Proposed above-grade exterior wall construction and Appendix A Table referenced (for example: 6\" (150mm) steel frames spaced 24\" (610mm) on center with R-21 cavity insulation and R-10 (R3.7)continuous insulation per Table A3.3). \n• Proposed construction assembly U-factor should be as-designed and consistent with Appendix A of ASHRAE 90.1.  "]
["G",{"$f":"B41","v":"Building ID"},{"$f":"C41","v":"New or \nExisting\nConstruction"},{"$f":"D41","v":"Space-Conditioning Category"},null,"Base_Description",{"$f":"G41","v":"Assembly U-factor"},"Proposed_Description",{"$f":"I41","v":"Assembly \nU-factor"},null,null,null,null,null,null,null,"Default_Description","Default_Assembly_U-factor"]
["B",{"$f":"GI_Project_Name","v":"Project Name"},null,null,null,{"$f":"IF(AND($O44<>0,$D44<>\"\"),$O44,\"\")","v":""},{"$f":"IF(AND($P44<>0,$D44<>\"\"),$P44,\"\")","v":""},null,null,null,null,null,null,null,{"$f":"IFERROR(IF(C44=\"New\",INDEX('Envelope Assumptions'!$E$2:$G$38,MATCH('General Information'!$J$12,'Envelope Assumptions'!$A$2:$A$38,0),MATCH(D44,'Envelope Assumptions'!$E$2:$G$2,0)),0),\"\")","v":0},{"$f":"IFERROR(IF(C44=\"New\",INDEX('Envelope Assumptions'!$AA$2:$AC$38,MATCH('General Information'!$J$12,'Envelope Assumptions'!$A$2:$A$38,0),MATCH(D44,'Envelope Assumptions'!$AA$2:$AC$2,0)),0),\"\")","v":0},{"$f":"IF(AND($O44<>0,$D44<>\"\"),$O44,\"\")","v":""},{"$f":"IF(AND($P44<>0,$D44<>\"\"),$P44,\"\")","v":""}]
[null,null,null,null,null,{"$f":"IF(AND($O45<>0,$D45<>\"\"),$O45,\"\")","v":""},{"$f":"IF(AND($P45<>0,$D45<>\"\"),$P45,\"\")","v":""},null,null,null,null,null,null,null,{"$f":"IFERROR(IF(C45=\"New\",INDEX('Envelope Assumptions'!$E$2:$G$38,MATCH('General Information'!$J$12,'Envelope Assumptions'!$A$2:$A$38,0),MATCH(D45,'Envelope Assumptions'!$E$2:$G$2,0)),0),\"\")","v":0},{"$f":"IFERROR(IF(C45=\"New\",INDEX('Envelope Assumptions'!$AA$2:$AC$38,MATCH('General Information'!$J$12,'Envelope Assumptions'!$A$2:$A$38,0),MATCH(D45,'Envelope Assumptions'!$AA$2:$AC$2,0)),0),\"\")","v":0},{"$f":"IF(AND($O45<>0,$D45<>\"\"),$O45,\"\")","v":""},{"$f":"IF(AND($P45<>0,$D45<>\"\"),$P45,\"\")","v":""}]
[null,null,null,null,null,"","",null,null,null,null,null,null,null,{"$f":"IFERROR(IF(C46=\"New\",INDEX('Envelope Assumptions'!$E$2:$G$38,MATCH('General Information'!$J$12,'Envelope Assumptions'!$A$2:$A$38,0),MATCH(D46,'Envelope Assumptions'!$E$2:$G$2,0)),0),\"\")","v":0},{"$f":"IFERROR(IF(C46=\"New\",INDEX('Envelope Assumptions'!$AA$2:$AC$38,MATCH('General Information'!$J$12,'Envelope Assumptions'!$A$2:$A$38,0),MATCH(D46,'Envelope Assumptions'!$AA$2:$AC$2,0)),0),\"\")","v":0},"",""]
["G"]
["G"]
["G","Below-Grade Exterior Wall Constructions"]
["G","General Information",null,null,null,"Baseline",null,"Proposed"]
["G","Building ID","New or \nExisting\nConstruction","Space-Conditioning Category",null,"Description","Assembly C-factor","Description","Assembly\nC-factor"]
["G","Helpful Notes",null,null,null,"• Describe the Baseline below-grade exterior wall construction (for example: 8\" (200mm) medium-weight concrete block with solid grouted cores and R-7.5 (R-1.3)continuous insulation).\n• New below-grade walls: 8\" medium weight concrete block with solid grouted cores as defined in A4.1 with C-factor from appropriate Table 5.5 per Table G3.1#5(b). \n• Existing below-grade walls: existing conditions per Table G3.1#5(f).",null,"• Describe the Baseline below-grade exterior wall construction and Appendix A Table referenced (for example: 8\" (200mm) medium-weight concrete b-lock with solid grouted cores and R-10 (R3.7) continuous insulation per Table A4.2).  \n• Proposed construction assembly U-factor should be as-designed and consistent with Appendix A of ASHRAE 90.1.\n"]
["G",{"$f":"B51","v":"Building ID"},{"$f":"C51","v":"New or \nExisting\nConstruction"},{"$f":"D51","v":"Space-Conditioning Category"},null,"Base_Description",{"$f":"G51","v":"Assembly C-factor"},"Proposed_Description",{"$f":"I51","v":"Assembly\nC-factor"},null,null,null,null,null,null,null,"Default_Description","Default_Assembly_C-factor"]
["C",{"$f":"GI_Project_Name","v":"Project Name"},null,null,null,{"$f":"IF(AND($O54<>0,$D54<>\"\"),$O54,\"\")","v":""},{"$f":"IF(AND($P54<>0,$D54<>\"\"),$P54,\"\")","v":""},null,null,null,null,null,null,null,{"$f":"IFERROR(IF(C54=\"New\",INDEX('Envelope Assumptions'!H$2:$J$38,MATCH('General Information'!$J$12,'Envelope Assumptions'!$A$2:$A$38,0),MATCH(D54,'Envelope Assumptions'!$H$2:$J$2,0)),0),\"\")","v":0},{"$f":"IFERROR(IF(C54=\"New\",INDEX('Envelope Assumptions'!$AD$2:$AF$38,MATCH('General Information'!$J$12,'Envelope Assumptions'!$A$2:$A$38,0),MATCH(D54,'Envelope Assumptions'!$AD$2:$AF$2,0)),0),\"\")","v":0},{"$f":"IF(AND($O54<>0,$D54<>\"\"),$O54,\"\")","v":""},{"$f":"IF(AND($P54<>0,$D54<>\"\"),$P54,\"\")","v":""}]
[null,null,null,null,null,{"$f":"IF(AND($O55<>0,$D55<>\"\"),$O55,\"\")","v":""},{"$f":"IF(AND($P55<>0,$D55<>\"\"),$P55,\"\")","v":""},null,null,null,null,null,null,null,{"$f":"IFERROR(IF(C55=\"New\",INDEX('Envelope Assumptions'!H$2:$J$38,MATCH('General Information'!$J$12,'Envelope Assumptions'!$A$2:$A$38,0),MATCH(D55,'Envelope Assumptions'!$H$2:$J$2,0)),0),\"\")","v":0},{"$f":"IFERROR(IF(C55=\"New\",INDEX('Envelope Assumptions'!$AD$2:$AF$38,MATCH('General Information'!$J$12,'Envelope Assumptions'!$A$2:$A$38,0),MATCH(D55,'Envelope Assumptions'!$AD$2:$AF$2,0)),0),\"\")","v":0},{"$f":"IF(AND($O55<>0,$D55<>\"\"),$O55,\"\")","v":""},{"$f":"IF(AND($P55<>0,$D55<>\"\"),$P55,\"\")","v":""}]
[null,null,null,null,null,"","",null,null,null,null,null,null,null,{"$f":"IFERROR(IF(C56=\"New\",INDEX('Envelope Assumptions'!H$2:$J$38,MATCH('General Information'!$J$12,'Envelope Assumptions'!$A$2:$A$38,0),MATCH(D56,'Envelope Assumptions'!$H$2:$J$2,0)),0),\"\")","v":0},{"$f":"IFERROR(IF(C56=\"New\",INDEX('Envelope Assumptions'!$AD$2:$AF$38,MATCH('General Information'!$J$12,'Envelope Assumptions'!$A$2:$A$38,0),MATCH(D56,'Envelope Assumptions'!$AD$2:$AF$2,0)),0),\"\")","v":0},"",""]
["G"]
["G"]
["G","Exposed Floor Constructions"]
["G","General Information",null,null,null,"Baseline",null,"Proposed"]
["G","Building ID","New or \nExisting\nConstruction","Space-Conditioning Category",null,"Description","Assembly U-factor","Description","Assembly \nU-factor"]
["G","Helpful Notes",null,null,null,"• Describe the Baseline floor construction (for example: steel-joist with R-30 (R-5.3) batt insulation between the floor joists)\n•  New floors: steel-joist with U-factor from appropriate Table 5.5 per Table G3.1#5(b). \n•  Existing floors: existing conditions per Table G3.1#5(f).\n•  For floor assemblies above unconditioned or semiheated space, select the space conditioning category as semiheated per 90.1-2010 User's Manual, Section 5.1.2-Space Conditioning Categories (Figure 5-B)\n",null,"• Describe the Proposed floor construction and Appendix A Table referenced (for example: steel-joist with R-20 (R-2.6) spray-on insulation on underside of floor and joists per Table A5.3).  \n• Proposed construction assembly U-factor should be as-designed and consistent with Appendix A of ASHRAE 90.1.\n"]
["G",{"$f":"B61","v":"Building ID"},{"$f":"C61","v":"New or \nExisting\nConstruction"},{"$f":"D61","v":"Space-Conditioning Category"},null,"Base_Description",{"$f":"G61","v":"Assembly U-factor"},"Proposed_Description",{"$f":"I61","v":"Assembly \nU-factor"},null,null,null,null,null,null,null,"Default_Description","Default_Assembly_U-factor"]
["D",{"$f":"GI_Project_Name","v":"Project Name"},null,null,null,{"$f":"IF(AND($O64<>0,$D64<>\"\"),$O64,\"\")","v":""},{"$f":"IF(AND($P64<>0,$D64<>\"\"),$P64,\"\")","v":""},null,null,null,null,null,null,null,{"$f":"IFERROR(IF(C64=\"New\",INDEX('Envelope Assumptions'!K$2:$M$38,MATCH('General Information'!$J$12,'Envelope Assumptions'!$A$2:$A$38,0),MATCH(D64,'Envelope Assumptions'!$K$2:$M$2,0)),0),\"\")","v":0},{"$f":"IFERROR(IF(C64=\"New\",INDEX('Envelope Assumptions'!$AG$2:$AI$38,MATCH('General Information'!$J$12,'Envelope Assumptions'!$A$2:$A$38,0),MATCH(D64,'Envelope Assumptions'!$AG$2:$AI$2,0)),0),\"\")","v":0},{"$f":"IF(AND($O64<>0,$D64<>\"\"),$O64,\"\")","v":""},{"$f":"IF(AND($P64<>0,$D64<>\"\"),$P64,\"\")","v":""}]
[null,null,null,null,null,{"$f":"IF(AND($O65<>0,$D65<>\"\"),$O65,\"\")","v":""},{"$f":"IF(AND($P65<>0,$D65<>\"\"),$P65,\"\")","v":""},null,null,null,null,null,null,null,{"$f":"IFERROR(IF(C65=\"New\",INDEX('Envelope Assumptions'!K$2:$M$38,MATCH('General Information'!$J$12,'Envelope Assumptions'!$A$2:$A$38,0),MATCH(D65,'Envelope Assumptions'!$K$2:$M$2,0)),0),\"\")","v":0},{"$f":"IFERROR(IF(C65=\"New\",INDEX('Envelope Assumptions'!$AG$2:$AI$38,MATCH('General Information'!$J$12,'Envelope Assumptions'!$A$2:$A$38,0),MATCH(D65,'Envelope Assumptions'!$AG$2:$AI$2,0)),0),\"\")","v":0},{"$f":"IF(AND($O65<>0,$D65<>\"\"),$O65,\"\")","v":""},{"$f":"IF(AND($P65<>0,$D65<>\"\"),$P65,\"\")","v":""}]
[null,null,null,null,null,"","",null,null,null,null,null,null,null,{"$f":"IFERROR(IF(C66=\"New\",INDEX('Envelope Assumptions'!K$2:$M$38,MATCH('General Information'!$J$12,'Envelope Assumptions'!$A$2:$A$38,0),MATCH(D66,'Envelope Assumptions'!$K$2:$M$2,0)),0),\"\")","v":0},{"$f":"IFERROR(IF(C66=\"New\",INDEX('Envelope Assumptions'!$AG$2:$AI$38,MATCH('General Information'!$J$12,'Envelope Assumptions'!$A$2:$A$38,0),MATCH(D66,'Envelope Assumptions'!$AG$2:$AI$2,0)),0),\"\")","v":0},"",""]
["G"]
["G"]
["G","Slab-On-Grade Floors"]
["G","General Information",null,null,null,"Baseline",null,"Proposed"]
["G","Building ID","New or \nExisting\nConstruction","Space-Conditioning Category",null,"Description","Assembly F-factor","Description","Assembly \nF-factor"]
["G","Helpful Notes",null,null,null,"• Describe the Baseline slab-on-grade floor construction (for example: unheated 6\" (150 mm) concrete slab poured directly on the earth with no insulation).\n• New slab-on-grade floors: unheated 6\" concrete slab as defined in A4.6 with F-factor from appropriate Table 5.5 per Table G3.1#5(b). \n• Existing slab-on-grade floors: existing conditions per Table G3.1#5(f).",null,"• Describe the Proposed slab-on-grade floor construction and Appendix A Table referenced (for example: unheated 6\" (150 mm) concrete slab poured directly on the earth with 24\" R-10 (610 mm R-3.7) vertical insulation per Table A6.3).  \n• Proposed construction assembly U-factor should be as-designed and consistent with Appendix A of ASHRAE 90.1 ."]
["G",{"$f":"B71","v":"Building ID"},{"$f":"C71","v":"New or \nExisting\nConstruction"},{"$f":"D71","v":"Space-Conditioning Category"},null,"Base_Description",{"$f":"G71","v":"Assembly F-factor"},"Proposed_Description",{"$f":"I71","v":"Assembly \nF-factor"},null,null,null,null,null,null,null,"Default_Description","Default_Assembly_F-factor"]
["E",{"$f":"GI_Project_Name","v":"Project Name"},null,null,null,{"$f":"IF(AND($O74<>0,$D74<>\"\"),$O74,\"\")","v":""},{"$f":"IF(AND($P74<>0,$D74<>\"\"),$P74,\"\")","v":""},null,null,null,null,null,null,null,{"$f":"IFERROR(IF(C74=\"New\",INDEX('Envelope Assumptions'!N$2:$P$38,MATCH('General Information'!$J$12,'Envelope Assumptions'!$A$2:$A$38,0),MATCH(D74,'Envelope Assumptions'!$N$2:$P$2,0)),0),\"\")","v":0},{"$f":"IFERROR(IF(C74=\"New\",INDEX('Envelope Assumptions'!$AJ$2:$AL$38,MATCH('General Information'!$J$12,'Envelope Assumptions'!$A$2:$A$38,0),MATCH(D74,'Envelope Assumptions'!$AJ$2:$AL$2,0)),0),\"\")","v":0},{"$f":"IF(AND($O74<>0,$D74<>\"\"),$O74,\"\")","v":""},{"$f":"IF(AND($P74<>0,$D74<>\"\"),$P74,\"\")","v":""}]
[null,null,null,null,null,{"$f":"IF(AND($O75<>0,$D75<>\"\"),$O75,\"\")","v":""},{"$f":"IF(AND($P75<>0,$D75<>\"\"),$P75,\"\")","v":""},null,null,null,null,null,null,null,{"$f":"IFERROR(IF(C75=\"New\",INDEX('Envelope Assumptions'!N$2:$P$38,MATCH('General Information'!$J$12,'Envelope Assumptions'!$A$2:$A$38,0),MATCH(D75,'Envelope Assumptions'!$N$2:$P$2,0)),0),\"\")","v":0},{"$f":"IFERROR(IF(C75=\"New\",INDEX('Envelope Assumptions'!$AJ$2:$AL$38,MATCH('General Information'!$J$12,'Envelope Assumptions'!$A$2:$A$38,0),MATCH(D75,'Envelope Assumptions'!$AJ$2:$AL$2,0)),0),\"\")","v":0},{"$f":"IF(AND($O75<>0,$D75<>\"\"),$O75,\"\")","v":""},{"$f":"IF(AND($P75<>0,$D75<>\"\"),$P75,\"\")","v":""}]
[null,null,null,null,null,"","",null,null,null,null,null,null,null,{"$f":"IFERROR(IF(C76=\"New\",INDEX('Envelope Assumptions'!N$2:$P$38,MATCH('General Information'!$J$12,'Envelope Assumptions'!$A$2:$A$38,0),MATCH(D76,'Envelope Assumptions'!$N$2:$P$2,0)),0),\"\")","v":0},{"$f":"IFERROR(IF(C76=\"New\",INDEX('Envelope Assumptions'!$AJ$2:$AL$38,MATCH('General Information'!$J$12,'Envelope Assumptions'!$A$2:$A$38,0),MATCH(D76,'Envelope Assumptions'!$AJ$2:$AL$2,0)),0),\"\")","v":0},"",""]
["G"]
["G"]
["G","Opaque Doors"]
["G","General Information",null,null,null,"Baseline",null,"Proposed"]
["G","Building ID","New or \nExisting\nConstruction","Space-Conditioning Category",null,"Description","Assembly U-factor","Description","Assembly \nU-factor"]
["G","Helpful Notes",null,null,null,"• Describe the Baseline opaque door construction (for example: swinging or nonswinging).\n• New opaque doors: U-factor from appropriate Table 5.5 per Table G3.1#5(b). \n• Existing opaque doors: existing conditions per Table G3.1#5(f).",null,"• Describe the Proposed opaque door construction (for example: insulated metal swinging door). \n• Proposed construction assembly U-factor should be as-designed and consistent with Appendix A of ASHRAE 90.1.\n"]
["G",{"$f":"B81","v":"Building ID"},{"$f":"C81","v":"New or \nExisting\nConstruction"},{"$f":"D81","v":"Space-Conditioning Category"},null,"Base_Description",{"$f":"G81","v":"Assembly U-factor"},"Proposed_Description",{"$f":"I81","v":"Assembly \nU-factor"},null,null,null,null,null,null,null,"Default_Description","Default_Assembly_U-factor"]
["F",{"$f":"GI_Project_Name","v":"Project Name"},null,null,null,{"$f":"IF(AND($O84<>0,$D84<>\"\"),$O84,\"\")","v":""},{"$f":"IF(AND($P84<>0,$D84<>\"\"),$P84,\"\")","v":""},null,null,null,null,null,null,null,{"$f":"IFERROR(IF(C84=\"New\",CONCATENATE(\"Swinging Doors: \",INDEX('Envelope Assumptions'!Q$2:$S$38,MATCH('General Information'!$J$12,'Envelope Assumptions'!$A$2:$A$38,0),MATCH(D84,'Envelope Assumptions'!$Q$2:$S$2,0)),\"; Nonswinging Doors: \",INDEX('Envelope Assumptions'!T$2:$V$38,MATCH('General Information'!$J$12,'Envelope Assumptions'!$A$2:$A$38,0),MATCH(D84,'Envelope Assumptions'!$T$2:$V$2,0))),0),\"\")","v":0},{"$f":"IFERROR(IF(C84=\"New\",CONCATENATE(INDEX('Envelope Assumptions'!AM$2:$AO$38,MATCH('General Information'!$J$12,'Envelope Assumptions'!$A$2:$A$38,0),MATCH(D84,'Envelope Assumptions'!$AM$2:$AO$2,0)),\" / \",INDEX('Envelope Assumptions'!AP$2:$AR$38,MATCH('General Information'!$J$12,'Envelope Assumptions'!$A$2:$A$38,0),MATCH(D84,'Envelope Assumptions'!$AP$2:$AR$2,0))),0),0)","v":0},{"$f":"IF(AND($O84<>0,$D84<>\"\"),$O84,\"\")","v":""},{"$f":"IF(AND($P84<>0,$D84<>\"\"),$P84,\"\")","v":""}]
[null,null,null,null,null,{"$f":"IF(AND($O85<>0,$D85<>\"\"),$O85,\"\")","v":""},{"$f":"IF(AND($P85<>0,$D85<>\"\"),$P85,\"\")","v":""},null,null,null,null,null,null,null,{"$f":"IFERROR(IF(C85=\"New\",CONCATENATE(\"Swinging Doors: \",INDEX('Envelope Assumptions'!Q$2:$S$38,MATCH('General Information'!$J$12,'Envelope Assumptions'!$A$2:$A$38,0),MATCH(D85,'Envelope Assumptions'!$Q$2:$S$2,0)),\"; Nonswinging Doors: \",INDEX('Envelope Assumptions'!T$2:$V$38,MATCH('General Information'!$J$12,'Envelope Assumptions'!$A$2:$A$38,0),MATCH(D85,'Envelope Assumptions'!$T$2:$V$2,0))),0),\"\")","v":0},{"$f":"IFERROR(IF(C85=\"New\",CONCATENATE(INDEX('Envelope Assumptions'!AM$2:$AO$38,MATCH('General Information'!$J$12,'Envelope Assumptions'!$A$2:$A$38,0),MATCH(D85,'Envelope Assumptions'!$AM$2:$AO$2,0)),\" / \",INDEX('Envelope Assumptions'!AP$2:$AR$38,MATCH('General Information'!$J$12,'Envelope Assumptions'!$A$2:$A$38,0),MATCH(D85,'Envelope Assumptions'!$AP$2:$AR$2,0))),0),0)","v":0},{"$f":"IF(AND($O85<>0,$D85<>\"\"),$O85,\"\")","v":""},{"$f":"IF(AND($P85<>0,$D85<>\"\"),$P85,\"\")","v":""}]
[null,null,null,null,null,{"$f":"IF(AND($O86<>0,$D86<>\"\"),$O86,\"\")","v":""},{"$f":"IF(AND($P86<>0,$D86<>\"\"),$P86,\"\")","v":""},null,null,null,null,null,null,null,{"$f":"IFERROR(IF(C86=\"New\",CONCATENATE(\"Swinging Doors: \",INDEX('Envelope Assumptions'!Q$2:$S$38,MATCH('General Information'!$J$12,'Envelope Assumptions'!$A$2:$A$38,0),MATCH(D86,'Envelope Assumptions'!$Q$2:$S$2,0)),\"; Nonswinging Doors: \",INDEX('Envelope Assumptions'!T$2:$V$38,MATCH('General Information'!$J$12,'Envelope Assumptions'!$A$2:$A$38,0),MATCH(D86,'Envelope Assumptions'!$T$2:$V$2,0))),0),\"\")","v":0},{"$f":"IFERROR(IF(C86=\"New\",CONCATENATE(INDEX('Envelope Assumptions'!AM$2:$AO$38,MATCH('General Information'!$J$12,'Envelope Assumptions'!$A$2:$A$38,0),MATCH(D86,'Envelope Assumptions'!$AM$2:$AO$2,0)),\" / \",INDEX('Envelope Assumptions'!AP$2:$AR$38,MATCH('General Information'!$J$12,'Envelope Assumptions'!$A$2:$A$38,0),MATCH(D86,'Envelope Assumptions'!$AP$2:$AR$2,0))),0),0)","v":0},{"$f":"IF(AND($O86<>0,$D86<>\"\"),$O86,\"\")","v":""},{"$f":"IF(AND($P86<>0,$D86<>\"\"),$P86,\"\")","v":""}]
["G"]
["G"]
["G","Additional notes:"]
["G"]

{"sheet":"Shading and Fenestration","index":8,"n_rows":73,"n_cols":19,"rows_kept":73,"cut":false,"hidden":false,"merged":[[25,1,27,3],[25,5,26,5],[25,6,25,7],[25,8,26,8],[17,1,17,3],[17,5,17,7],[17,8,17,10],[18,6,18,7],[18,8,19,8],[18,9,18,10],[18,1,24,2],[18,5,19,5],[60,1,60,6],[51,5,51,7],[51,8,51,11],[60,7,60,11],[53,1,53,3],[53,5,53,7],[53,8,53,11],[51,1,51,3],[42,1,42,3],[42,5,42,7],[42,8,42,11],[31,1,31,10],[33,1,33,9],[40,1,40,3],[40,5,40,7],[40,8,40,11],[38,1,38,10],[32,1,32,10],[9,1,9,10],[64,1,64,11],[28,1,29,3],[5,1,5,9],[16,5,16,7],[16,8,16,10],[15,1,15,2],[16,1,16,3],[6,1,6,10],[7,1,7,10],[8,1,8,10],[12,1,12,11],[13,1,13,11],[10,1,10,10],[25,9,25,10],[18,3,19,3]]}
["G"]
["G","Shading and Fenestration"]
["G"]
["G"]
["G","Building Massing and Zoning"]
["G","Instructions: Provide the following shading and orientation information. An example of the expected level of detail has been provided for each input. For any information not applicable to the project, simply enter \"N/A\"."]
[null,"Manual fenestration shading devices such as blinds or shades have been modeled or not modeled, the same as in the proposed."]
[null,"Any shading by adjacent structures and terrain or manual shading devices have been modeled or not modeled, the same as in the proposed."]
[null,"The baseline is modeled with the same shape and orientation as the proposed."]
[null,{"$f":"IF(RatingSystem_IDC,CONCATENATE(\"All existing fenestration has been modeled as required by Table 5.5 for the project's climate zone and Table G3.1#5(Proposed)(c)  and (d)\",\" and are not modeled using Exception (f) per Rating system requirements\"),CONCATENATE(\"All baseline existing fenestration for spaces with unchanged space conditioning categories has been modeled using existing conditions prior to revisions that are part of the project scope of work.\"))","v":"All baseline existing fenestration for spaces with unchanged space conditioning categories has been modeled using existing conditions prior to revisions that are part of the project scope of work."}]
[null,"Thermal Blocks were modeled consistent with Table G3.1#7 and Table G3.1#8 as applicable, and were modeled identically in the Baseline and Proposed design models"]
[]
[null,"For each item entered as “No” above, describe the applicable ASHRAE 90.1 Appendix G exception(s) that apply, or the circumstances preventing the building massing modeling parameters from being modeled as required. If the energy simulation software is not capable of modeling the required parameters, describe the adjustments that were made to provide a thermodynamically similar representation or provide a narrative justifying why the predicted energy performance results will not be influenced."]
[]
[]
["G","Building ID",null,{"$f":"'Multiple Buildings Details'!B24","v":"Project Name"}]
["G","Model Input Parameter",null,null,null,"Baseline",null,null,"Proposed"]
[null,"Helpful Notes:",null,null,null,"•  All vertical glazing flush with exterior wall and no shading projections per Table G3.1#5(c)\n•  Manual shading devices such as blinds or shades may be modeled per Table G3.1#5(c)\n•  No self-shading per Table G3.1#5\n•  Total vertical fenestration areas for new construction equal to Proposed up to 40% maximum, and distributed on each face of the building in the same proportions as the Proposed design per Table G3.1#5(c)",null,null,"•  Manual shading devices such as blinds or shades may be modeled and must be consistent with the baseline per Table G3.1#5(d)\n•  Permanent shading devices (such as fins, overhangs, and light shelves) and automatically controlled shades or blinds must be modeled per Table G3.1#5(d)"]
["G","Above-grade wall and vertical glazing area by orientation",null,"Orientation",null,{"$f":"CONCATENATE(\"Above-Grade Wall Area\n\",IF(SI_IP_Units=\"IP\",\" (sq ft)\",\" (sq m)\"))","v":"Above-Grade Wall Area\n (sq ft)"},"Vertical Glazing Area",null,{"$f":"CONCATENATE(\"Above-Grade Wall Area\n\",IF(SI_IP_Units=\"IP\",\" (sq ft)\",\" (sq m)\"))","v":"Above-Grade Wall Area\n (sq ft)"},"Vertical Glazing Area"]
["G",null,null,null,null,null,{"$f":"IF(SI_IP_Units=\"IP\",\" (sq ft)\",\" (sq m)\")","v":" (sq ft)"},"(%)",null,{"$f":"IF(SI_IP_Units=\"IP\",\" (sq ft)\",\" (sq m)\")","v":" (sq ft)"},"(%)",null,null,null,"Building ID","%Difference",">40%Error","Count"]
["G",null,null,"North",null,null,null,{"$f":"IFERROR(G21/F21,\"\")","v":""},"Identical to baseline",null,{"$f":"IFERROR(J21/F21,\"\")","v":""}]
["G",null,null,"East",null,null,null,{"$f":"IFERROR(G22/F22,\"\")","v":""},"Identical to baseline",null,{"$f":"IFERROR(J22/F22,\"\")","v":""}]
["G",null,null,"South",null,null,null,"","Identical to baseline",null,""]
["G",null,null,"West",null,null,null,"","Identical to baseline",null,""]
["G",null,null,"Total",null,{"$f":"SUM(F21:F24)","v":0},{"$f":"SUM(G21:G24)","v":0},{"$f":"IFERROR(G25/I25,0)","v":0},{"$f":"F25","v":0},{"$f":"SUM(J21:J24)","v":0},{"$f":"IFERROR(J25/I25,0)","v":0},null,null,null,{"$f":"IF(ResDwellingUnitsExist=\"No\",D16,INDEX(MBD_BS_Table,MATCH(OFFSET(O25,-9,-11,1,1),MBD_BS_Index,0),MATCH('Multiple Buildings Details'!$E$22,MBD_BS_Hdr,0)))","v":"Project Name"},{"$f":"IFERROR(IF(AND(H25<0.4,K25<0.4),ABS(H25-K25)/MIN(H25,K25),\"\"),0)","v":0},{"$f":"IFERROR(AND(H25>40.5%,K25>40.5%),FALSE)","v":false}]
["G","Roof and skylight area",null,null,null,{"$f":"CONCATENATE(\"Roof Area\n\",IF(SI_IP_Units=\"IP\",\" (sq ft)\",\" (sq m)\"))","v":"Roof Area\n (sq ft)"},"Skylight Area",null,{"$f":"CONCATENATE(\"Roof Area\n\",IF(SI_IP_Units=\"IP\",\" (sq ft)\",\" (sq m)\"))","v":"Roof Area\n (sq ft)"},"Skylight Area"]
["G",null,null,null,null,null,{"$f":"IF(SI_IP_Units=\"IP\",\" (sq ft)\",\" (sq m)\")","v":" (sq ft)"},"(%)",null,{"$f":"IF(SI_IP_Units=\"IP\",\" (sq ft)\",\" (sq m)\")","v":" (sq ft)"},"(%)"]
["G",null,null,null,null,null,null,{"$f":"IFERROR(G28/F28,0)","v":0},"Identical to baseline",null,{"$f":"IFERROR(J28/F28,0)","v":0}]
["G","Number of Thermal Blocks",null,null,null,"Conditioned","Semi-heated","Unconditioned","Conditioned","Semi-heated","Unconditioned"]
["G",null,null,null,null,null,null,null,"Identical to baseline","Identical to baseline","Identical to baseline",null,null,null,{"$f":"CONCATENATE(INDEX(MBD_BS_Table,MATCH(OFFSET(O30,-14,-11,1,1),MBD_BS_Index,0),MATCH('Multiple Buildings Details'!$E$22,MBD_BS_Hdr,0)),\" zones\")","v":"1 zones"},{"$f":"SUM(IFERROR(VALUE(IF(ISNUMBER(F30:H30),F30:H30,IFERROR(LEFT(F30:H30,IFERROR(FIND(\"to\",F30:H30)-1,\"\")),\"\"))),\"\"))+SUM(IFERROR(FIND(\">100\",F30:H30)*100,\"\"))","v":0}]
["G"]
["G","Reason for exemption from modeling the additional building orientations."]
[null,null,null,null,null,null,null,null,null,null,null,null,null,null,"Total",{"$f":"MAX(P15:P32)","v":0},{"$f":"IF(COUNTIF(Q15:Q32,TRUE)>0,TRUE,FALSE)","v":false}]
[null,{"$f":"IF(IFERROR(FIND(\"*\",B33),FALSE),\"* Please ensure that the site plan provided for the Project Information forms clearly indicate the constraints to comply with Table G3.1.5 (a) (baseline) Exception 1\",\"\")","v":""}]
[]
[]
[]
["G","Fenestration"]
["G","Instructions: Describe each unique fenestration assembly on a separate row in the following table. Please refer to the column header notes for information about Appendix G modeling protocol. For any information not applicable to the project, simply enter \"N/A\". Baseline information will autogenerate for new construction."]
["G","Vertical Glazing"]
["G","General Information",null,null,null,"Baseline",null,null,"Proposed"]
["G","Building ID","New or \nExisting Construction","Space-Conditioning Category",null,"Description","Assembly U-factor","SHGC","Description","Assembly \nU-factor","SHGC","VLT"]
["G","Helpful Notes:",null,null,null,"• New vertical glazing: \n     • If \"New\" is chosen, select a description.\n     • Assembly U-factor and SHGC from appropriate Table 5.5 per Table G3.1#5(c). \n• Existing vertical glazing: \n     • If \"Existing\" is chosen, provide a description.\n     • Existing conditions per Table G3.1#5(f).\n     • Enter the Baseline vertical glazing assembly solar heat gain coefficient (SHGC). Please note that this is not equivalent to the shading coefficient (SC).\n\n",null,null,"• Proposed vertical glazing assembly U-factor should be as-designed and account for the impact of the frames on the whole assembly. Reference Table A8.2 of ASHRAE 90.1 as necessary.\n• Describe the Proposed vertical glazing assembly (for example: double glazing, argon filled, low-e coating, aluminum frame with thermal break)\n• Enter the Proposed vertical glazing assembly solar heat gain coefficient (SHGC). Please note that this is not equivalent to the shading coefficient (SC).\n• Enter the Proposed vertical glazing assembly visual light transmittance (VLT)"]
["G",{"$f":"B42","v":"Building ID"},{"$f":"C42","v":"New or \nExisting Construction"},{"$f":"D42","v":"Space-Conditioning Category"},null,{"$f":"F42","v":"Description"},"Base_Assembly_U-factor","Base_SHGC","Description","Assembly \nU-factor","SHGC","VLT",null,null,null,null,null,"Default_Assembly_U-factor","Default_SHGC"]
["A",{"$f":"GI_Project_Name","v":"Project Name"},null,null,null,null,{"$f":"IF($C45=\"Existing\",\"Provide U-Factor\",IF($P45<>0,$P45,\"\"))","v":""},{"$f":"IF($C45=\"Existing\", \"Provide SHGC\",IF($Q45<>0,$Q45,\"\"))","v":""},null,null,null,null,null,null,null,{"$f":"IFERROR(IF(AND(C45=\"New\",D45<>\"Semiheated\"),INDEX('Envelope Assumptions'!$AT$2:$AW$38,MATCH('General Information'!$J$12,'Envelope Assumptions'!$A$2:$A$38,0),MATCH(F45,'Envelope Assumptions'!$AT$2:$AW$2,0)),0),\"\")","v":0},{"$f":"IFERROR(IF(AND(OR('General Information'!$C$48=\"3B\",'General Information'!$C$48=\"3C\"),$C45=\"New\",$D45=\"Residential\"),0,IF(AND($C45=\"New\",$D45<>\"Semiheated\"),INDEX('Envelope Assumptions'!$AX$1:$AX$38,MATCH('General Information'!$J$12,'Envelope Assumptions'!$A$2:$A$38,0)),0)),\"\")","v":0},{"$f":"IF($C45=\"Existing\",\"Provide U-Factor\",IF($P45<>0,$P45,\"\"))","v":""},{"$f":"IF($C45=\"Existing\", \"Provide SHGC\",IF($Q45<>0,$Q45,\"\"))","v":""}]
[null,{"$f":"GI_Project_Name","v":"Project Name"},null,null,null,null,{"$f":"IF($C46=\"Existing\",\"Provide U-Factor\",IF($P46<>0,$P46,\"\"))","v":""},{"$f":"IF($C46=\"Existing\", \"Provide SHGC\",IF($Q46<>0,$Q46,\"\"))","v":""},null,null,null,null,null,null,null,{"$f":"IFERROR(IF(AND(C46=\"New\",D46<>\"Semiheated\"),INDEX('Envelope Assumptions'!$AT$2:$AW$38,MATCH('General Information'!$J$12,'Envelope Assumptions'!$A$2:$A$38,0),MATCH(F46,'Envelope Assumptions'!$AT$2:$AW$2,0)),0),\"\")","v":0},{"$f":"IFERROR(IF(AND(OR('General Information'!$C$48=\"3B\",'General Information'!$C$48=\"3C\"),$C46=\"New\",$D46=\"Residential\"),0,IF(AND($C46=\"New\",$D46<>\"Semiheated\"),INDEX('Envelope Assumptions'!$AX$1:$AX$38,MATCH('General Information'!$J$12,'Envelope Assumptions'!$A$2:$A$38,0)),0)),\"\")","v":0},{"$f":"IF($C46=\"Existing\",\"Provide U-Factor\",IF($P46<>0,$P46,\"\"))","v":""},{"$f":"IF($C46=\"Existing\", \"Provide SHGC\",IF($Q46<>0,$Q46,\"\"))","v":""}]
[null,{"$f":"GI_Project_Name","v":"Project Name"},null,null,null,null,"","",null,null,null,null,null,null,null,{"$f":"IFERROR(IF(AND(C47=\"New\",D47<>\"Semiheated\"),INDEX('Envelope Assumptions'!$AT$2:$AW$38,MATCH('General Information'!$J$12,'Envelope Assumptions'!$A$2:$A$38,0),MATCH(F47,'Envelope Assumptions'!$AT$2:$AW$2,0)),0),\"\")","v":0},{"$f":"IFERROR(IF(AND(OR('General Information'!$C$48=\"3B\",'General Information'!$C$48=\"3C\"),$C47=\"New\",$D47=\"Residential\"),0,IF(AND($C47=\"New\",$D47<>\"Semiheated\"),INDEX('Envelope Assumptions'!$AX$1:$AX$38,MATCH('General Information'!$J$12,'Envelope Assumptions'!$A$2:$A$38,0)),0)),\"\")","v":0},"",""]
[null,{"$f":"GI_Project_Name","v":"Project Name"},null,null,null,null,"","",null,null,null,null,null,null,null,{"$f":"IFERROR(IF(AND(C48=\"New\",D48<>\"Semiheated\"),INDEX('Envelope Assumptions'!$AT$2:$AW$38,MATCH('General Information'!$J$12,'Envelope Assumptions'!$A$2:$A$38,0),MATCH(F48,'Envelope Assumptions'!$AT$2:$AW$2,0)),0),\"\")","v":0},{"$f":"IFERROR(IF(AND(OR('General Information'!$C$48=\"3B\",'General Information'!$C$48=\"3C\"),$C48=\"New\",$D48=\"Residential\"),0,IF(AND($C48=\"New\",$D48<>\"Semiheated\"),INDEX('Envelope Assumptions'!$AX$1:$AX$38,MATCH('General Information'!$J$12,'Envelope Assumptions'!$A$2:$A$38,0)),0)),\"\")","v":0},"",""]
["G"]
["G"]
["G","Skylights"]
["G","General Information",null,null,null,"Baseline",null,null,"Proposed"]
["G","Building ID","New or \nExisting Construction","Space-Conditioning Category",null,"Description","Assembly \nU-factor","SHGC","Description","Assembly \nU-factor","SHGC","VLT"]
["G","Helpful Notes:",null,null,null,"• New skylights: assembly U-factor and SHGC from appropriate Table 5.5 per Table G3.1#5(d). \n• Existing skylights: existing conditions per Table G3.1#5(f).\n     • Enter the Baseline skylight assembly solar heat gain coefficient (SHGC). Please note that this is not equivalent to the shading coefficient (SC).",null,null,"• Proposed skylight assembly U-factor should be as-designed and account for the impact of the frames on the whole assembly. Reference Tables A8.1A and A8.1B of ASHRAE 90.1 as necessary.\n• Describe the Proposed skylight assembly (for example: glass with curb, double glazing, argon filled, low-e coating, aluminum frame with thermal break)\n• Enter the Proposed skylight assembly solar heat gain coefficient (SHGC). Please note that this is not equivalent to the shading coefficient (SC).\n• Enter the Proposed skylight assembly visual light transmittance (VLT)"]
["G",{"$f":"B53","v":"Building ID"},{"$f":"C53","v":"New or \nExisting Construction"},{"$f":"D53","v":"Space-Conditioning Category"},null,"Base_Description","Base_Assembly_U-factor","Base_SHGC","Proposed_Description",{"$f":"J53","v":"Assembly \nU-factor"},"SHGC","VLT",null,null,null,null,null,"Default_Assembly_U-factor","Default_SHGC"]
["B",{"$f":"GI_Project_Name","v":"Project Name"},null,null,null,null,{"$f":"IF($C56=\"Existing\",\"Provide U-Factor\",IF($P56<>0,$P56,\"\"))","v":""},{"$f":"IF($C56=\"Existing\", \"Provide SHGC\",IF($Q56<>0,$Q56,\"\"))","v":""},null,null,null,null,null,null,null,{"$f":"IFERROR(IF(AND(C56=\"New\",D56<>\"Semiheated\"),INDEX('Envelope Assumptions'!$AY$2:$BD$38,MATCH('General Information'!$J$12,'Envelope Assumptions'!$A$2:$A$38,0),MATCH(F56,'Envelope Assumptions'!$AY$2:$BD$2,0)),0),\"\")","v":0},{"$f":"IFERROR(IF(AND(C56=\"New\",D56=\"Nonresidential\"),INDEX('Envelope Assumptions'!$BE$2:$BJ$38,MATCH('General Information'!$J$12,'Envelope Assumptions'!$A$2:$A$38,0),MATCH(F56,'Envelope Assumptions'!$BE$2:$BJ$2,0)),0),\"\")","v":0},{"$f":"IF($C56=\"Existing\",\"Provide U-Factor\",IF($P56<>0,$P56,\"\"))","v":""},{"$f":"IF($C56=\"Existing\", \"Provide SHGC\",IF($Q56<>0,$Q56,\"\"))","v":""}]
[null,{"$f":"GI_Project_Name","v":"Project Name"},null,null,null,null,{"$f":"IF($C57=\"Existing\",\"Provide U-Factor\",IF($P57<>0,$P57,\"\"))","v":""},{"$f":"IF($C57=\"Existing\", \"Provide SHGC\",IF($Q57<>0,$Q57,\"\"))","v":""},null,null,null,null,null,null,null,{"$f":"IFERROR(IF(AND(C57=\"New\",D57<>\"Semiheated\"),INDEX('Envelope Assumptions'!$AY$2:$BD$38,MATCH('General Information'!$J$12,'Envelope Assumptions'!$A$2:$A$38,0),MATCH(F57,'Envelope Assumptions'!$AY$2:$BD$2,0)),0),\"\")","v":0},{"$f":"IFERROR(IF(AND(C57=\"New\",D57=\"Nonresidential\"),INDEX('Envelope Assumptions'!$BE$2:$BJ$38,MATCH('General Information'!$J$12,'Envelope Assumptions'!$A$2:$A$38,0),MATCH(F57,'Envelope Assumptions'!$BE$2:$BJ$2,0)),0),\"\")","v":0},{"$f":"IF($C57=\"Existing\",\"Provide U-Factor\",IF($P57<>0,$P57,\"\"))","v":""},{"$f":"IF($C57=\"Existing\", \"Provide SHGC\",IF($Q57<>0,$Q57,\"\"))","v":""}]
[null,{"$f":"GI_Project_Name","v":"Project Name"},null,null,null,null,"","",null,null,null,null,null,null,null,{"$f":"IFERROR(IF(AND(C58=\"New\",D58<>\"Semiheated\"),INDEX('Envelope Assumptions'!$AY$2:$BD$38,MATCH('General Information'!$J$12,'Envelope Assumptions'!$A$2:$A$38,0),MATCH(F58,'Envelope Assumptions'!$AY$2:$BD$2,0)),0),\"\")","v":0},{"$f":"IFERROR(IF(AND(C58=\"New\",D58=\"Nonresidential\"),INDEX('Envelope Assumptions'!$BE$2:$BJ$38,MATCH('General Information'!$J$12,'Envelope Assumptions'!$A$2:$A$38,0),MATCH(F58,'Envelope Assumptions'!$BE$2:$BJ$2,0)),0),\"\")","v":0},"",""]
["G"]
["G"]
["G","How were the proposed framed assembly fenestration U-factors determined?"]
["G"]
["G"]
["G","Additional notes:"]
["G"]
[]
[]
[null,null,null,null,null,null,null,"NFRC testing for site-assembled fenestration"]
[null,null,null,null,null,null,null,"NFRC testing for manufactured fenestration assemblies"]
[null,null,null,null,null,null,null,"Table A8.2 (windows) and Table A8.1 (skylights)"]
[null,null,null,null,null,null,null,"LBNL Window 5 or Window 6 calculations"]
[null,null,null,null,null,null,null,"Energy simulation includes separate frame and glazing"]
[null,null,null,null,null,null,null,"Other (Describe)"]

{"sheet":"Envelope Assumptions","index":9,"n_rows":38,"n_cols":62,"rows_kept":38,"cut":false,"hidden":true,"merged":[[0,38,0,40],[0,35,0,37],[0,16,0,18],[0,19,0,21],[0,1,0,3],[0,4,0,6],[0,7,0,9],[0,10,0,12],[0,13,0,15],[0,0,1,0],[0,23,0,25],[0,26,0,28],[0,29,0,31],[0,32,0,34],[0,41,0,43],[0,45,0,48],[0,49,1,49],[0,50,0,55],[0,56,0,61]]}
["Climate Zone","Roof Constructions",null,null,"Above-Grade Exterior Wall Constructions",null,null,"Below-Grade Exterior Wall Constructions",null,null,"Exposed Floor Constructions",null,null,"Slab-On-Grade Floors",null,null,"Opaque Doors - Swinging",null,null,"Opaque Doors - Nonwwinging",null,null,null,"Roof Constructions",null,null,"Above-Grade Exterior Wall Constructions",null,null,"Below-Grade Exterior Wall Constructions",null,null,"Exposed Floor Constructions",null,null,"Slab-On-Grade Floors",null,null,"Opaque Doors - Swinging",null,null,"Opaque Doors - Nonswinging",null,null,null,"Vertical Glazing",null,null,null,"SHGC","Skylights - Ufactor",null,null,null,null,null,"Skylights - SHGC"]
[null,"Nonresidential","Residential","Semiheated","Nonresidential","Residential","Semiheated","Nonresidential","Residential","Semiheated","Nonresidential","Residential","Semiheated","Nonresidential","Residential","Semiheated","Nonresidential","Residential","Semiheated","Nonresidential","Residential","Semiheated",null,"Nonresidential","Residential","Semiheated","Nonresidential","Residential","Semiheated","Nonresidential","Residential","Semiheated","Nonresidential","Residential","Semiheated","Nonresidential","Residential","Semiheated","Nonresidential","Residential","Semiheated","Nonresidential","Residential","Semiheated",null,"Nonmetal framing (all)","Metal framing (curtainwall/storefront)","Metal framing (entrance door)","Metal framing (all other)",null,"Skylight with Curb, Glass, 0%-2.0%","Skylight with Curb, Glass, 2.1%-5.0%","Skylight with Curb, Plastic, 0%-2.0%","Skylight with Curb, Plastic, 2.1%-5.0%","Skylight without Curb, All, 0%-2.0%","Skylight without Curb, All, 2.1%-5.0%","Skylight with Curb, Glass, 0%-2.0%","Skylight with Curb, Glass, 2.1%-5.0%","Skylight with Curb, Plastic, 0%-2.0%","Skylight with Curb, Plastic, 2.1%-5.0%","Skylight without Curb, All, 0%-2.0%","Skylight without Curb, All, 2.1%-5.0%"]
["1A (IP)","R-15 insulation entirely above deck with a U-factor of 0.063","R-20 insulation entirely above deck with a U-factor of 0.048","R-3.8 insulation entirely above deck with a U-factor of 0.218","steel-framed with R-13 cavity insulation with a U-factor of 0.124","steel-framed with R-13 cavity insulation with a U-factor of 0.124","steel-framed with no insulation with a U-factor of 0.352","8\" medium weight concrete block with solid grouted cores and no insulation with a C-factor of 1.140","8\" medium weight concrete block with solid grouted cores and no insulation with a C-factor of 1.140","8\" medium weight concrete block with solid grouted cores and no insulation with a C-factor of 1.140","steel-joist with no insulation with a U-factor of 0.350","steel-joist with no insulation with a U-factor of 0.350","steel-joist with no insulation with a U-factor of 0.350","6\" concrete slabs with no insulation with an F-factor of 0.730","6\" concrete slabs with no insulation with an F-factor of 0.730","6\" concrete slabs with no insulation with an F-factor of 0.730","U-factor of 0.700","U-factor of 0.700","U-factor of 0.700","U-factor of 1.450","U-factor of 1.450","U-factor of 1.450",null,"U-0.063","U-0.048","U-0.218","U-0.124","U-0.124","U-0.352","C-1.140","C-1.140","C-1.140","U-0.350","U-0.350","U-0.350","F-0.730","F-0.730","F-0.730","U-0.700","U-0.700","U-0.700","U-1.450","U-1.450","U-1.450",null,1.2,1.2,1.2,1.2,0.25,1.98,1.98,1.9,1.9,1.36,1.36,0.36,0.19,0.34,0.27,0.36,0.19]
["1A (SI)","R-2.6 c.i. insulation entirely above deck with a U-factor of 0.360","R-3.5 c.i. insulation entirely above deck with a U-factor of 0.273","R-0.7 c.i. insulation entirely above deck with a U-factor of 1.240","steel-framed with R-2.3 cavity insulation with a U-factor of 0.705","steel-framed with R-2.3 cavity insulation with a U-factor of 0.705","steel-framed with no insulation with a U-factor of 1.998","205 mm medium weight concrete block with solid grouted cores and no insulation with a C-factor of 6.473","205 mm medium weight concrete block with solid grouted cores and no insulation with a C-factor of 6.473","205 mm medium weight concrete block with solid grouted cores and no insulation with a C-factor of 6.473","steel-joist with no insulation with a U-factor of 1.986","steel-joist with no insulation with a U-factor of 1.986","steel-joist with no insulation with a U-factor of 1.986","150 mm concrete slabs with no insulation with an F-factor of 1.264","150 mm concrete slabs with no insulation with an F-factor of 1.264","150 mm concrete slabs with no insulation with an F-factor of 1.264","U-factor of 3.975","U-factor of 3.975","U-factor of 3.975","U-factor of 8.233","U-factor of 8.233","U-factor of 8.233",null,"U-0.360","U-0.273","U-1.240","U-0.705","U-0.705","U-1.998","C-6.473","C-6.473","C-6.473","U-1.986","U-1.986","U-1.986","F-1.264","F-1.264","F-1.264","U-3.975","U-3.975","U-3.975","U-8.233","U-8.233","U-8.233",null,6.81,6.81,6.81,6.81,0.25,11.24,11.24,10.79,10.79,7.72,7.72,0.36,0.19,0.34,0.27,0.36,0.19]
["1B (IP)","R-15 insulation entirely above deck with a U-factor of 0.063","R-20 insulation entirely above deck with a U-factor of 0.048","R-3.8 insulation entirely above deck with a U-factor of 0.218","steel-framed with R-13 cavity insulation with a U-factor of 0.124","steel-framed with R-13 cavity insulation with a U-factor of 0.124","steel-framed with no insulation with a U-factor of 0.352","8\" medium weight concrete block with solid grouted cores and no insulation with a C-factor of 1.140","8\" medium weight concrete block with solid grouted cores and no insulation with a C-factor of 1.140","8\" medium weight concrete block with solid grouted cores and no insulation with a C-factor of 1.140","steel-joist with no insulation with a U-factor of 0.350","steel-joist with no insulation with a U-factor of 0.350","steel-joist with no insulation with a U-factor of 0.350","6\" concrete slabs with no insulation with an F-factor of 0.730","6\" concrete slabs with no insulation with an F-factor of 0.730","6\" concrete slabs with no insulation with an F-factor of 0.730","U-factor of 0.700","U-factor of 0.700","U-factor of 0.700","U-factor of 1.450","U-factor of 1.450","U-factor of 1.450",null,"U-0.063","U-0.048","U-0.218","U-0.124","U-0.124","U-0.352","C-1.140","C-1.140","C-1.140","U-0.350","U-0.350","U-0.350","F-0.730","F-0.730","F-0.730","U-0.700","U-0.700","U-0.700","U-1.450","U-1.450","U-1.450",null,1.2,1.2,1.2,1.2,0.25,1.98,1.98,1.9,1.9,1.36,1.36,0.36,0.19,0.34,0.27,0.36,0.19]
["1B (SI)","R-2.6 c.i. insulation entirely above deck with a U-factor of 0.360","R-3.5 c.i. insulation entirely above deck with a U-factor of 0.273","R-0.7 c.i. insulation entirely above deck with a U-factor of 1.240","steel-framed with R-2.3 cavity insulation with a U-factor of 0.705","steel-framed with R-2.3 cavity insulation with a U-factor of 0.705","steel-framed with no insulation with a U-factor of 1.998","205 mm medium weight concrete block with solid grouted cores and no insulation with a C-factor of 6.473","205 mm medium weight concrete block with solid grouted cores and no insulation with a C-factor of 6.473","205 mm medium weight concrete block with solid grouted cores and no insulation with a C-factor of 6.473","steel-joist with no insulation with a U-factor of 1.986","steel-joist with no insulation with a U-factor of 1.986","steel-joist with no insulation with a U-factor of 1.986","150 mm concrete slabs with no insulation with an F-factor of 1.264","150 mm concrete slabs with no insulation with an F-factor of 1.264","150 mm concrete slabs with no insulation with an F-factor of 1.264","U-factor of 3.975","U-factor of 3.975","U-factor of 3.975","U-factor of 8.233","U-factor of 8.233","U-factor of 8.233",null,"U-0.360","U-0.273","U-1.240","U-0.705","U-0.705","U-1.998","C-6.473","C-6.473","C-6.473","U-1.986","U-1.986","U-1.986","F-1.264","F-1.264","F-1.264","U-3.975","U-3.975","U-3.975","U-8.233","U-8.233","U-8.233",null,6.81,6.81,6.81,6.81,0.25,11.24,11.24,10.79,10.79,7.72,7.72,0.36,0.19,0.34,0.27,0.36,0.19]
["2A (IP)","R-20 insulation entirely above deck with a U-factor of 0.048","R-20 insulation entirely above deck with a U-factor of 0.048","R-3.8 insulation entirely above deck with a U-factor of 0.218","steel-framed with R-13 cavity insulation with a U-factor of 0.124","steel-framed with R-13 cavity and R-7.5 continuous insulation with a U-factor of 0.064","steel-framed with R-13 cavity insulation with a U-factor of 0.124","8\" medium weight concrete block with solid grouted cores and no insulation with a C-factor of 1.140","8\" medium weight concrete block with solid grouted cores and no insulation with a C-factor of 1.140","8\" medium weight concrete block with solid grouted cores and no insulation with a C-factor of 1.140","steel-joist with R-19 insulation with a U-factor of 0.052","steel-joist with R-19 insulation with a U-factor of 0.052","steel-joist with R-13 insulation with a U-factor of 0.069","6\" concrete slabs with no insulation with an F-factor of 0.730","6\" concrete slabs with no insulation with an F-factor of 0.730","6\" concrete slabs with no insulation with an F-factor of 0.730","U-factor of 0.700","U-factor of 0.700","U-factor of 0.700","U-factor of 1.450","U-factor of 0.500","U-factor of 1.450",null,"U-0.048","U-0.048","U-0.218","U-0.124","U-0.064","U-0.124","C-1.140","C-1.140","C-1.140","U-0.052","U-0.052","U-0.069","F-0.730","F-0.730","F-0.730","U-0.700","U-0.700","U-0.700","U-1.450","U-0.500","U-1.450",null,0.75,0.7,1.1000000000000001,0.75,0.25,1.98,1.98,1.9,1.9,1.36,1.36,0.36,0.19,0.39,0.34,0.36,0.19]
["2A (SI)","R-3.5 c.i. insulation entirely above deck with a U-factor of 0.273","R-3.5 c.i. insulation entirely above deck with a U-factor of 0.273","R-0.7 c.i. insulation entirely above deck with a U-factor of 1.240","steel-framed with R-2.3 cavity insulation with a U-factor of 0.705","steel-framed with R-2.3 cavity and R-1.3 continuous insulation with a U-factor of 0.365","steel-framed with R-2.3 cavity insulation with a U-factor of 0.705","205 mm medium weight concrete block with solid grouted cores and no insulation with a C-factor of 6.473","205 mm medium weight concrete block with solid grouted cores and no insulation with a C-factor of 6.473","205 mm medium weight concrete block with solid grouted cores and no insulation with a C-factor of 6.473","steel-joist with R-3.3 insulation with a U-factor of 0.296","steel-joist with R-3.3 insulation with a U-factor of 0.296","steel-joist with R-2.3 insulation with a U-factor of 0.390","150 mm concrete slabs with no insulation with an F-factor of 1.264","150 mm concrete slabs with no insulation with an F-factor of 1.264","150 mm concrete slabs with no insulation with an F-factor of 1.264","U-factor of 3.975","U-factor of 3.975","U-factor of 3.975","U-factor of 8.233","U-factor of 2.839","U-factor of 8.233",null,"U-0.273","U-0.273","U-1.240","U-0.705","U-0.365","U-0.705","C-6.473","C-6.473","C-6.473","U-0.296","U-0.296","U-0.390","F-1.264","F-1.264","F-1.264","U-3.975","U-3.975","U-3.975","U-8.233","U-2.839","U-8.233",null,4.26,3.97,6.25,4.26,0.25,11.24,11.24,10.79,10.79,7.72,7.72,0.36,0.19,0.39,0.34,0.36,0.19]
["2B (IP)","R-20 insulation entirely above deck with a U-factor of 0.048","R-20 insulation entirely above deck with a U-factor of 0.048","R-3.8 insulation entirely above deck with a U-factor of 0.218","steel-framed with R-13 cavity insulation with a U-factor of 0.124","steel-framed with R-13 cavity and R-7.5 continuous insulation with a U-factor of 0.064","steel-framed with R-13 cavity insulation with a U-factor of 0.124","8\" medium weight concrete block with solid grouted cores and no insulation with a C-factor of 1.140","8\" medium weight concrete block with solid grouted cores and no insulation with a C-factor of 1.140","8\" medium weight concrete block with solid grouted cores and no insulation with a C-factor of 1.140","steel-joist with R-19 insulation with a U-factor of 0.052","steel-joist with R-19 insulation with a U-factor of 0.052","steel-joist with R-13 insulation with a U-factor of 0.069","6\" concrete slabs with no insulation with an F-factor of 0.730","6\" concrete slabs with no insulation with an F-factor of 0.730","6\" concrete slabs with no insulation with an F-factor of 0.730","U-factor of 0.700","U-factor of 0.700","U-factor of 0.700","U-factor of 1.450","U-factor of 0.500","U-factor of 1.450",null,"U-0.048","U-0.048","U-0.218","U-0.124","U-0.064","U-0.124","C-1.140","C-1.140","C-1.140","U-0.052","U-0.052","U-0.069","F-0.730","F-0.730","F-0.730","U-0.700","U-0.700","U-0.700","U-1.450","U-0.500","U-1.450",null,0.75,0.7,1.1000000000000001,0.75,0.25,1.98,1.98,1.9,1.9,1.36,1.36,0.36,0.19,0.39,0.34,0.36,0.19]
["2B (SI)","R-3.5 c.i. insulation entirely above deck with a U-factor of 0.273","R-3.5 c.i. insulation entirely above deck with a U-factor of 0.273","R-0.7 c.i. insulation entirely above deck with a U-factor of 1.240","steel-framed with R-2.3 cavity insulation with a U-factor of 0.705","steel-framed with R-2.3 cavity and R-1.3 continuous insulation with a U-factor of 0.365","steel-framed with R-2.3 cavity insulation with a U-factor of 0.705","205 mm medium weight concrete block with solid grouted cores and no insulation with a C-factor of 6.473","205 mm medium weight concrete block with solid grouted cores and no insulation with a C-factor of 6.473","205 mm medium weight concrete block with solid grouted cores and no insulation with a C-factor of 6.473","steel-joist with R-3.3 insulation with a U-factor of 0.296","steel-joist with R-3.3 insulation with a U-factor of 0.296","steel-joist with R-2.3 insulation with a U-factor of 0.390","150 mm concrete slabs with no insulation with an F-factor of 1.264","150 mm concrete slabs with no insulation with an F-factor of 1.264","150 mm concrete slabs with no insulation with an F-factor of 1.264","U-factor of 3.975","U-factor of 3.975","U-factor of 3.975","U-factor of 8.233","U-factor of 2.839","U-factor of 8.233",null,"U-0.273","U-0.273","U-1.240","U-0.705","U-0.365","U-0.705","C-6.473","C-6.473","C-6.473","U-0.296","U-0.296","U-0.390","F-1.264","F-1.264","F-1.264","U-3.975","U-3.975","U-3.975","U-8.233","U-2.839","U-8.233",null,4.26,3.97,6.25,4.26,0.25,11.24,11.24,10.79,10.79,7.72,7.72,0.36,0.19,0.39,0.34,0.36,0.19]
["3A (IP)","R-20 insulation entirely above deck with a U-factor of 0.048","R-20 insulation entirely above deck with a U-factor of 0.048","R-5.0 insulation entirely above deck with a U-factor of 0.173","steel-framed with R-13 cavity and R-3.8 continuous insulation with a U-factor of 0.084","steel-framed with R-13 cavity and R-7.5 continuous insulation with a U-factor of 0.064","steel-framed with R-13 cavity insulation with a U-factor of 0.124","8\" medium weight concrete block with solid grouted cores and no insulation with a C-factor of 1.140","8\" medium weight concrete block with solid grouted cores and no insulation with a C-factor of 1.140","8\" medium weight concrete block with solid grouted cores and no insulation with a C-factor of 1.140","steel-joist with R-19 insulation with a U-factor of 0.052","steel-joist with R-19 insulation with a U-factor of 0.052","steel-joist with R-13 insulation with a U-factor of 0.069","6\" concrete slabs with no insulation with an F-factor of 0.730","6\" concrete slabs with no insulation with an F-factor of 0.730","6\" concrete slabs with no insulation with an F-factor of 0.730","U-factor of 0.700","U-factor of 0.700","U-factor of 0.700","U-factor of 1.450","U-factor of 0.500","U-factor of 1.450",null,"U-0.048","U-0.048","U-0.173","U-0.084","U-0.064","U-0.124","C-1.140","C-1.140","C-1.140","U-0.052","U-0.052","U-0.069","F-0.730","F-0.730","F-0.730","U-0.700","U-0.700","U-0.700","U-1.450","U-0.500","U-1.450",null,0.65,0.6,0.9,0.65,0.25,1.17,1.17,1.3,1.3,0.69,0.69,0.39,0.19,0.65,0.34,0.39,0.19]
["3A (SI)","R-3.5 c.i. insulation entirely above deck with a U-factor of 0.273","R-3.5 c.i. insulation entirely above deck with a U-factor of 0.273","R-0.9 c.i. insulation entirely above deck with a U-factor of 0.982","steel-framed with R-2.3 cavity and R-0.7 continuous insulation with a U-factor of 0.479","steel-framed with R-2.3 cavity and R-1.3 continuous insulation with a U-factor of 0.365","steel-framed with R-2.3 cavity insulation with a U-factor of 0.705","205 mm medium weight concrete block with solid grouted cores and no insulation with a C-factor of 6.473","205 mm medium weight concrete block with solid grouted cores and no insulation with a C-factor of 6.473","205 mm medium weight concrete block with solid grouted cores and no insulation with a C-factor of 6.473","steel-joist with R-3.3 insulation with a U-factor of 0.296","steel-joist with R-3.3 insulation with a U-factor of 0.296","steel-joist with R-2.3 insulation with a U-factor of 0.390","150 mm concrete slabs with no insulation with an F-factor of 1.264","150 mm concrete slabs with no insulation with an F-factor of 1.264","150 mm concrete slabs with no insulation with an F-factor of 1.264","U-factor of 3.975","U-factor of 3.975","U-factor of 3.975","U-factor of 8.233","U-factor of 2.839","U-factor of 8.233",null,"U-0.273","U-0.273","U-0.982","U-0.479","U-0.365","U-0.705","C-6.473","C-6.473","C-6.473","U-0.296","U-0.296","U-0.390","F-1.264","F-1.264","F-1.264","U-3.975","U-3.975","U-3.975","U-8.233","U-2.839","U-8.233",null,3.69,3.41,5.1100000000000003,3.69,0.25,6.64,6.64,7.38,7.38,3.92,3.92,0.39,0.19,0.65,0.34,0.39,0.19]
["3B (IP)","R-20 insulation entirely above deck with a U-factor of 0.048","R-20 insulation entirely above deck with a U-factor of 0.048","R-5.0 insulation entirely above deck with a U-factor of 0.173","steel-framed with R-13 cavity and R-3.8 continuous insulation with a U-factor of 0.084","steel-framed with R-13 cavity and R-7.5 continuous insulation with a U-factor of 0.064","steel-framed with R-13 cavity insulation with a U-factor of 0.124","8\" medium weight concrete block with solid grouted cores and no insulation with a C-factor of 1.140","8\" medium weight concrete block with solid grouted cores and no insulation with a C-factor of 1.140","8\" medium weight concrete block with solid grouted cores and no insulation with a C-factor of 1.140","steel-joist with R-19 insulation with a U-factor of 0.052","steel-joist with R-19 insulation with a U-factor of 0.052","steel-joist with R-13 insulation with a U-factor of 0.069","6\" concrete slabs with no insulation with an F-factor of 0.730","6\" concrete slabs with no insulation with an F-factor of 0.730","6\" concrete slabs with no insulation with an F-factor of 0.730","U-factor of 0.700","U-factor of 0.700","U-factor of 0.700","U-factor of 1.450","U-factor of 0.500","U-factor of 1.450",null,"U-0.048","U-0.048","U-0.173","U-0.084","U-0.064","U-0.124","C-1.140","C-1.140","C-1.140","U-0.052","U-0.052","U-0.069","F-0.730","F-0.730","F-0.730","U-0.700","U-0.700","U-0.700","U-1.450","U-0.500","U-1.450",null,0.65,0.6,0.9,0.65,0.25,1.17,1.17,1.3,1.3,0.69,0.69,0.39,0.19,0.65,0.34,0.39,0.19]
["3B (SI)","R-3.5 c.i. insulation entirely above deck with a U-factor of 0.273","R-3.5 c.i. insulation entirely above deck with a U-factor of 0.273","R-0.9 c.i. insulation entirely above deck with a U-factor of 0.982","steel-framed with R-2.3 cavity and R-0.7 continuous insulation with a U-factor of 0.479","steel-framed with R-2.3 cavity and R-1.3 continuous insulation with a U-factor of 0.365","steel-framed with R-2.3 cavity insulation with a U-factor of 0.705","205 mm medium weight concrete block with solid grouted cores and no insulation with a C-factor of 6.473","205 mm medium weight concrete block with solid grouted cores and no insulation with a C-factor of 6.473","205 mm medium weight concrete block with solid grouted cores and no insulation with a C-factor of 6.473","steel-joist with R-3.3 insulation with a U-factor of 0.296","steel-joist with R-3.3 insulation with a U-factor of 0.296","steel-joist with R-2.3 insulation with a U-factor of 0.390","150 mm concrete slabs with no insulation with an F-factor of 1.264","150 mm concrete slabs with no insulation with an F-factor of 1.264","150 mm concrete slabs with no insulation with an F-factor of 1.264","U-factor of 3.975","U-factor of 3.975","U-factor of 3.975","U-factor of 8.233","U-factor of 2.839","U-factor of 8.233",null,"U-0.273","U-0.273","U-0.982","U-0.479","U-0.365","U-0.705","C-6.473","C-6.473","C-6.473","U-0.296","U-0.296","U-0.390","F-1.264","F-1.264","F-1.264","U-3.975","U-3.975","U-3.975","U-8.233","U-2.839","U-8.233",null,3.69,3.41,5.1100000000000003,3.69,0.25,6.64,6.64,7.38,7.38,3.92,3.92,0.39,0.19,0.65,0.34,0.39,0.19]
["3C (IP)","R-20 insulation entirely above deck with a U-factor of 0.048","R-20 insulation entirely above deck with a U-factor of 0.048","R-5.0 insulation entirely above deck with a U-factor of 0.173","steel-framed with R-13 cavity and R-3.8 continuous insulation with a U-factor of 0.084","steel-framed with R-13 cavity and R-7.5 continuous insulation with a U-factor of 0.064","steel-framed with R-13 cavity insulation with a U-factor of 0.124","8\" medium weight concrete block with solid grouted cores and no insulation with a C-factor of 1.140","8\" medium weight concrete block with solid grouted cores and no insulation with a C-factor of 1.140","8\" medium weight concrete block with solid grouted cores and no insulation with a C-factor of 1.140","steel-joist with R-19 insulation with a U-factor of 0.052","steel-joist with R-19 insulation with a U-factor of 0.052","steel-joist with R-13 insulation with a U-factor of 0.069","6\" concrete slabs with no insulation with an F-factor of 0.730","6\" concrete slabs with no insulation with an F-factor of 0.730","6\" concrete slabs with no insulation with an F-factor of 0.730","U-factor of 0.700","U-factor of 0.700","U-factor of 0.700","U-factor of 1.450","U-factor of 0.500","U-factor of 1.450",null,"U-0.048","U-0.048","U-0.173","U-0.084","U-0.064","U-0.124","C-1.140","C-1.140","C-1.140","U-0.052","U-0.052","U-0.069","F-0.730","F-0.730","F-0.730","U-0.700","U-0.700","U-0.700","U-1.450","U-0.500","U-1.450",null,0.65,0.6,0.9,0.65,0.25,1.17,1.17,1.3,1.3,0.69,0.69,0.39,0.19,0.65,0.34,0.39,0.19]
["3C (SI)","R-3.5 c.i. insulation entirely above deck with a U-factor of 0.273","R-3.5 c.i. insulation entirely above deck with a U-factor of 0.273","R-0.9 c.i. insulation entirely above deck with a U-factor of 0.982","steel-framed with R-2.3 cavity and R-0.7 continuous insulation with a U-factor of 0.479","steel-framed with R-2.3 cavity and R-1.3 continuous insulation with a U-factor of 0.365","steel-framed with R-2.3 cavity insulation with a U-factor of 0.705","205 mm medium weight concrete block with solid grouted cores and no insulation with a C-factor of 6.473","205 mm medium weight concrete block with solid grouted cores and no insulation with a C-factor of 6.473","205 mm medium weight concrete block with solid grouted cores and no insulation with a C-factor of 6.473","steel-joist with R-3.3 insulation with a U-factor of 0.296","steel-joist with R-3.3 insulation with a U-factor of 0.296","steel-joist with R-2.3 insulation with a U-factor of 0.390","150 mm concrete slabs with no insulation with an F-factor of 1.264","150 mm concrete slabs with no insulation with an F-factor of 1.264","150 mm concrete slabs with no insulation with an F-factor of 1.264","U-factor of 3.975","U-factor of 3.975","U-factor of 3.975","U-factor of 8.233","U-factor of 2.839","U-factor of 8.233",null,"U-0.273","U-0.273","U-0.982","U-0.479","U-0.365","U-0.705","C-6.473","C-6.473","C-6.473","U-0.296","U-0.296","U-0.390","F-1.264","F-1.264","F-1.264","U-3.975","U-3.975","U-3.975","U-8.233","U-2.839","U-8.233",null,3.69,3.41,5.1100000000000003,3.69,0.25,6.64,6.64,7.38,7.38,3.92,3.92,0.39,0.19,0.65,0.34,0.39,0.19]
["4A (IP)","R-20 insulation entirely above deck with a U-factor of 0.048","R-20 insulation entirely above deck with a U-factor of 0.048","R-5.0 insulation entirely above deck with a U-factor of 0.173","steel-framed with R-13 cavity and R-7.5 continuous insulation with a U-factor of 0.064","steel-framed with R-13 cavity and R-7.5 continuous insulation with a U-factor of 0.064","steel-framed with R-13 cavity insulation with a U-factor of 0.124","8\" medium weight concrete block with solid grouted cores and no insulation with a C-factor of 1.140","8\" medium weight concrete block with solid grouted cores and R-7.5 insulation with a C-factor of 0.119","8\" medium weight concrete block with solid grouted cores and no insulation with a C-factor of 1.140","steel-joist with R-30 insulation with a U-factor of 0.038","steel-joist with R-30 insulation with a U-factor of 0.038","steel-joist with R-13 insulation with a U-factor of 0.069","6\" concrete slabs with no insulation with an F-factor of 0.730","6\" concrete slabs with R-10 insulation for 24 in. with an F-factor of 0.540","6\" concrete slabs with no insulation with an F-factor of 0.730","U-factor of 0.700","U-factor of 0.700","U-factor of 0.700","U-factor of 0.500","U-factor of 0.500","U-factor of 1.450",null,"U-0.048","U-0.048","U-0.173","U-0.064","U-0.064","U-0.124","C-1.140","C-0.119","C-1.140","U-0.038","U-0.038","U-0.069","F-0.730","F-0.540","F-0.730","U-0.700","U-0.700","U-0.700","U-1.500","U-0.500","U-1.450",null,0.4,0.5,0.85,0.55000000000000004,0.4,1.17,1.17,1.3,1.3,0.69,0.69,0.49,0.39,0.65,0.34,0.49,0.39]
["4A (SI)","R-3.5 c.i. insulation entirely above deck with a U-factor of 0.273","R-3.5 c.i. insulation entirely above deck with a U-factor of 0.273","R-0.9 c.i. insulation entirely above deck with a U-factor of 0.982","steel-framed with R-2.3 cavity and R-1.3 continuous insulation with a U-factor of 0.365","steel-framed with R-2.3 cavity and R-1.3 continuous insulation with a U-factor of 0.365","steel-framed with R-2.3 cavity insulation with a U-factor of 0.705","205 mm medium weight concrete block with solid grouted cores and no insulation with a C-factor of 6.473","205 mm medium weight concrete block with solid grouted cores and R-1.3 continuous insulation with a C-factor of 0.678","205 mm medium weight concrete block with solid grouted cores and no insulation with a C-factor of 6.473","steel-joist with R-5.3 insulation with a U-factor of 0.214","steel-joist with R-5.3 insulation with a U-factor of 0.214","steel-joist with R-2.3 insulation with a U-factor of 0.390","150 mm concrete slabs with no insulation with an F-factor of 1.264","150 mm concrete slabs with R-1.8 insulation for 600 mm with an F-factor of 0.935","150 mm concrete slabs with no insulation with an F-factor of 1.264","U-factor of 3.975","U-factor of 3.975","U-factor of 3.975","U-factor of 2.839","U-factor of 2.839","U-factor of 8.233",null,"U-0.273","U-0.273","U-0.982","U-0.365","U-0.365","U-0.705","C-6.473","C-0.678","C-6.473","U-0.214","U-0.214","U-0.390","F-1.264","F-0.935","F-1.264","U-3.975","U-3.975","U-3.975","U-2.839","U-2.839","U-8.233",null,2.27,2.84,4.83,3.12,0.4,6.64,6.64,7.38,7.38,3.92,3.92,0.49,0.39,0.65,0.34,0.49,0.39]
["4B (IP)","R-20 insulation entirely above deck with a U-factor of 0.048","R-20 insulation entirely above deck with a U-factor of 0.048","R-5.0 insulation entirely above deck with a U-factor of 0.173","steel-framed with R-13 cavity and R-7.5 continuous insulation with a U-factor of 0.064","steel-framed with R-13 cavity and R-7.5 continuous insulation with a U-factor of 0.064","steel-framed with R-13 cavity insulation with a U-factor of 0.124","8\" medium weight concrete block with solid grouted cores and no insulation with a C-factor of 1.140","8\" medium weight concrete block with solid grouted cores and R-7.5 insulation with a C-factor of 0.119","8\" medium weight concrete block with solid grouted cores and no insulation with a C-factor of 1.140","steel-joist with R-30 insulation with a U-factor of 0.038","steel-joist with R-30 insulation with a U-factor of 0.038","steel-joist with R-13 insulation with a U-factor of 0.069","6\" concrete slabs with no insulation with an F-factor of 0.730","6\" concrete slabs with R-10 insulation for 24 in. with an F-factor of 0.540","6\" concrete slabs with no insulation with an F-factor of 0.730","U-factor of 0.700","U-factor of 0.700","U-factor of 0.700","U-factor of 0.500","U-factor of 0.500","U-factor of 1.450",null,"U-0.048","U-0.048","U-0.173","U-0.064","U-0.064","U-0.124","C-1.140","C-0.119","C-1.140","U-0.038","U-0.038","U-0.069","F-0.730","F-0.540","F-0.730","U-0.700","U-0.700","U-0.700","U-1.500","U-0.500","U-1.450",null,0.4,0.5,0.85,0.55000000000000004,0.4,1.17,1.17,1.3,1.3,0.69,0.69,0.49,0.39,0.65,0.34,0.49,0.39]
["4B (SI)","R-3.5 c.i. insulation entirely above deck with a U-factor of 0.273","R-3.5 c.i. insulation entirely above deck with a U-factor of 0.273","R-0.9 c.i. insulation entirely above deck with a U-factor of 0.982","steel-framed with R-2.3 cavity and R-1.3 continuous insulation with a U-factor of 0.365","steel-framed with R-2.3 cavity and R-1.3 continuous insulation with a U-factor of 0.365","steel-framed with R-2.3 cavity insulation with a U-factor of 0.705","205 mm medium weight concrete block with solid grouted cores and no insulation with a C-factor of 6.473","205 mm medium weight concrete block with solid grouted cores and R-1.3 continuous insulation with a C-factor of 0.678","205 mm medium weight concrete block with solid grouted cores and no insulation with a C-factor of 6.473","steel-joist with R-5.3 insulation with a U-factor of 0.214","steel-joist with R-5.3 insulation with a U-factor of 0.214","steel-joist with R-2.3 insulation with a U-factor of 0.390","150 mm concrete slabs with no insulation with an F-factor of 1.264","150 mm concrete slabs with R-1.8 insulation for 600 mm with an F-factor of 0.935","150 mm concrete slabs with no insulation with an F-factor of 1.264","U-factor of 3.975","U-factor of 3.975","U-factor of 3.975","U-factor of 2.839","U-factor of 2.839","U-factor of 8.233",null,"U-0.273","U-0.273","U-0.982","U-0.365","U-0.365","U-0.705","C-6.473","C-0.678","C-6.473","U-0.214","U-0.214","U-0.390","F-1.264","F-0.935","F-1.264","U-3.975","U-3.975","U-3.975","U-2.839","U-2.839","U-8.233",null,2.27,2.84,4.83,3.12,0.4,6.64,6.64,7.38,7.38,3.92,3.92,0.49,0.39,0.65,0.34,0.49,0.39]
["4C (IP)","R-20 insulation entirely above deck with a U-factor of 0.048","R-20 insulation entirely above deck with a U-factor of 0.048","R-5.0 insulation entirely above deck with a U-factor of 0.173","steel-framed with R-13 cavity and R-7.5 continuous insulation with a U-factor of 0.064","steel-framed with R-13 cavity and R-7.5 continuous insulation with a U-factor of 0.064","steel-framed with R-13 cavity insulation with a U-factor of 0.124","8\" medium weight concrete block with solid grouted cores and no insulation with a C-factor of 1.140","8\" medium weight concrete block with solid grouted cores and R-7.5 insulation with a C-factor of 0.119","8\" medium weight concrete block with solid grouted cores and no insulation with a C-factor of 1.140","steel-joist with R-30 insulation with a U-factor of 0.038","steel-joist with R-30 insulation with a U-factor of 0.038","steel-joist with R-13 insulation with a U-factor of 0.069","6\" concrete slabs with no insulation with an F-factor of 0.730","6\" concrete slabs with R-10 insulation for 24 in. with an F-factor of 0.540","6\" concrete slabs with no insulation with an F-factor of 0.730","U-factor of 0.700","U-factor of 0.700","U-factor of 0.700","U-factor of 0.500","U-factor of 0.500","U-factor of 1.450",null,"U-0.048","U-0.048","U-0.173","U-0.064","U-0.064","U-0.124","C-1.140","C-0.119","C-1.140","U-0.038","U-0.038","U-0.069","F-0.730","F-0.540","F-0.730","U-0.700","U-0.700","U-0.700","U-1.500","U-0.500","U-1.450",null,0.4,0.5,0.85,0.55000000000000004,0.4,1.17,1.17,1.3,1.3,0.69,0.69,0.49,0.39,0.65,0.34,0.49,0.39]
["4C (SI)","R-3.5 c.i. insulation entirely above deck with a U-factor of 0.273","R-3.5 c.i. insulation entirely above deck with a U-factor of 0.273","R-0.9 c.i. insulation entirely above deck with a U-factor of 0.982","steel-framed with R-2.3 cavity and R-1.3 continuous insulation with a U-factor of 0.365","steel-framed with R-2.3 cavity and R-1.3 continuous insulation with a U-factor of 0.365","steel-framed with R-2.3 cavity insulation with a U-factor of 0.705","205 mm medium weight concrete block with solid grouted cores and no insulation with a C-factor of 6.473","205 mm medium weight concrete block with solid grouted cores and R-1.3 continuous insulation with a C-factor of 0.678","205 mm medium weight concrete block with solid grouted cores and no insulation with a C-factor of 6.473","steel-joist with R-5.3 insulation with a U-factor of 0.214","steel-joist with R-5.3 insulation with a U-factor of 0.214","steel-joist with R-2.3 insulation with a U-factor of 0.390","150 mm concrete slabs with no insulation with an F-factor of 1.264","150 mm concrete slabs with R-1.8 insulation for 600 mm with an F-factor of 0.935","150 mm concrete slabs with no insulation with an F-factor of 1.264","U-factor of 3.975","U-factor of 3.975","U-factor of 3.975","U-factor of 2.839","U-factor of 2.839","U-factor of 8.233",null,"U-0.273","U-0.273","U-0.982","U-0.365","U-0.365","U-0.705","C-6.473","C-0.678","C-6.473","U-0.214","U-0.214","U-0.390","F-1.264","F-0.935","F-1.264","U-3.975","U-3.975","U-3.975","U-2.839","U-2.839","U-8.233",null,2.27,2.84,4.83,3.12,0.4,6.64,6.64,7.38,7.38,3.92,3.92,0.49,0.39,0.65,0.34,0.49,0.39]
["5A (IP)","R-20 insulation entirely above deck with a U-factor of 0.048","R-20 insulation entirely above deck with a U-factor of 0.048","R-7.6 insulation entirely above deck with a U-factor of 0.119","steel-framed with R-13 cavity and R-7.5 continuous insulation with a U-factor of 0.064","steel-framed with R-13 cavity and R-7.5 continuous insulation with a U-factor of 0.064","steel-framed with R-13 cavity insulation with a U-factor of 0.124","8\" medium weight concrete block with solid grouted cores and R-7.5 insulation with a C-factor of 0.119","8\" medium weight concrete block with solid grouted cores and R-7.5 insulation with a C-factor of 0.119","8\" medium weight concrete block with solid grouted cores and no insulation with a C-factor of 1.140","steel-joist with R-30 insulation with a U-factor of 0.038","steel-joist with R-30 insulation with a U-factor of 0.038","steel-joist with R-19 insulation with a U-factor of 0.052","6\" concrete slabs with no insulation with an F-factor of 0.730","6\" concrete slabs with R-10 insulation for 24 in. with an F-factor of 0.540","6\" concrete slabs with no insulation with an F-factor of 0.730","U-factor of 0.700","U-factor of 0.500","U-factor of 0.700","U-factor of 0.500","U-factor of 0.500","U-factor of 1.450",null,"U-0.048","U-0.048","U-0.119","U-0.064","U-0.064","U-0.124","C-0.119","C-0.119","C-1.140","U-0.038","U-0.038","U- 0.052","F-0.730","F-0.540","F-0.730","U-0.700","U-0.500","U-0.700","U-0.500","U-0.500","U-1.450",null,0.35,0.45,0.8,0.55000000000000004,0.4,1.17,1.17,1.1000000000000001,1.1000000000000001,0.69,0.69,0.49,0.39,0.77,0.62,0.49,0.39]
["5A (SI)","R-3.5 c.i. insulation entirely above deck with a U-factor of 0.273","R-3.5 c.i. insulation entirely above deck with a U-factor of 0.273","R-1.3 c.i. insulation entirely above deck with a U-factor of 0.667","steel-framed with R-2.3 cavity and R-1.3 continuous insulation with a U-factor of 0.365","steel-framed with R-2.3 cavity and R-1.3 continuous insulation with a U-factor of 0.365","steel-framed with R-2.3 cavity insulation with a U-factor of 0.705","205 mm medium weight concrete block with solid grouted cores and R-1.3 continuous insulation with a C-factor of 0.678","205 mm medium weight concrete block with solid grouted cores and R-1.3 continuous insulation with a C-factor of 0.678","205 mm medium weight concrete block with solid grouted cores and no insulation with a C-factor of 6.473","steel-joist with R-5.3 insulation with a U-factor of 0.214","steel-joist with R-5.3 insulation with a U-factor of 0.214","steel-joist with R-3.3 insulation with a U-factor of 0.296","150 mm concrete slabs with no insulation with an F-factor of 1.264","150 mm concrete slabs with R-1.8 insulation for 600 mm with an F-factor of 0.935","150 mm concrete slabs with no insulation with an F-factor of 1.264","U-factor of 3.975","U-factor of 2.839","U-factor of 3.975","U-factor of 2.839","U-factor of 2.839","U-factor of 8.233",null,"U-0.273","U-0.273","U-0.677","U-0.365","U-0.365","U-0.705","C-0.678","C-0.678","C-6.473","U-0.214","U-0.214","U- 0.296","F-1.264","F-0.935","F-1.264","U-3.975","U-2.839","U-3.975","U-2.839","U-2.839","U-8.233",null,1.99,2.56,4.54,3.12,0.4,6.64,6.64,6.25,6.25,3.92,3.92,0.49,0.39,0.77,0.62,0.49,0.39]
["5B (IP)","R-20 insulation entirely above deck with a U-factor of 0.048","R-20 insulation entirely above deck with a U-factor of 0.048","R-7.6 insulation entirely above deck with a U-factor of 0.119","steel-framed with R-13 cavity and R-7.5 continuous insulation with a U-factor of 0.064","steel-framed with R-13 cavity and R-7.5 continuous insulation with a U-factor of 0.064","steel-framed with R-13 cavity insulation with a U-factor of 0.124","8\" medium weight concrete block with solid grouted cores and R-7.5 insulation with a C-factor of 0.119","8\" medium weight concrete block with solid grouted cores and R-7.5 insulation with a C-factor of 0.119","8\" medium weight concrete block with solid grouted cores and no insulation with a C-factor of 1.140","steel-joist with R-30 insulation with a U-factor of 0.038","steel-joist with R-30 insulation with a U-factor of 0.038","steel-joist with R-19 insulation with a U-factor of 0.052","6\" concrete slabs with no insulation with an F-factor of 0.730","6\" concrete slabs with R-10 insulation for 24 in. with an F-factor of 0.540","6\" concrete slabs with no insulation with an F-factor of 0.730","U-factor of 0.700","U-factor of 0.500","U-factor of 0.700","U-factor of 0.500","U-factor of 0.500","U-factor of 1.450",null,"U-0.048","U-0.048","U-0.119","U-0.064","U-0.064","U-0.124","C-0.119","C-0.119","C-1.140","U-0.038","U-0.038","U- 0.052","F-0.730","F-0.540","F-0.730","U-0.700","U-0.500","U-0.700","U-0.500","U-0.500","U-1.450",null,0.35,0.45,0.8,0.55000000000000004,0.4,1.17,1.17,1.1000000000000001,1.1000000000000001,0.69,0.69,0.49,0.39,0.77,0.62,0.49,0.39]
["5B (SI)","R-3.5 c.i. insulation entirely above deck with a U-factor of 0.273","R-3.5 c.i. insulation entirely above deck with a U-factor of 0.273","R-1.3 c.i. insulation entirely above deck with a U-factor of 0.667","steel-framed with R-2.3 cavity and R-1.3 continuous insulation with a U-factor of 0.365","steel-framed with R-2.3 cavity and R-1.3 continuous insulation with a U-factor of 0.365","steel-framed with R-2.3 cavity insulation with a U-factor of 0.705","205 mm medium weight concrete block with solid grouted cores and R-1.3 continuous insulation with a C-factor of 0.678","205 mm medium weight concrete block with solid grouted cores and R-1.3 continuous insulation with a C-factor of 0.678","205 mm medium weight concrete block with solid grouted cores and no insulation with a C-factor of 6.473","steel-joist with R-5.3 insulation with a U-factor of 0.214","steel-joist with R-5.3 insulation with a U-factor of 0.214","steel-joist with R-3.3 insulation with a U-factor of 0.296","150 mm concrete slabs with no insulation with an F-factor of 1.264","150 mm concrete slabs with R-1.8 insulation for 600 mm with an F-factor of 0.935","150 mm concrete slabs with no insulation with an F-factor of 1.264","U-factor of 3.975","U-factor of 2.839","U-factor of 3.975","U-factor of 2.839","U-factor of 2.839","U-factor of 8.233",null,"U-0.273","U-0.273","U-0.677","U-0.365","U-0.365","U-0.705","C-0.678","C-0.678","C-6.473","U-0.214","U-0.214","U- 0.296","F-1.264","F-0.935","F-1.264","U-3.975","U-2.839","U-3.975","U-2.839","U-2.839","U-8.233",null,1.99,2.56,4.54,3.12,0.4,6.64,6.64,6.25,6.25,3.92,3.92,0.49,0.39,0.77,0.62,0.49,0.39]
["5C (IP)","R-20 insulation entirely above deck with a U-factor of 0.048","R-20 insulation entirely above deck with a U-factor of 0.048","R-7.6 insulation entirely above deck with a U-factor of 0.119","steel-framed with R-13 cavity and R-7.5 continuous insulation with a U-factor of 0.064","steel-framed with R-13 cavity and R-7.5 continuous insulation with a U-factor of 0.064","steel-framed with R-13 cavity insulation with a U-factor of 0.124","8\" medium weight concrete block with solid grouted cores and R-7.5 insulation with a C-factor of 0.119","8\" medium weight concrete block with solid grouted cores and R-7.5 insulation with a C-factor of 0.119","8\" medium weight concrete block with solid grouted cores and no insulation with a C-factor of 1.140","steel-joist with R-30 insulation with a U-factor of 0.038","steel-joist with R-30 insulation with a U-factor of 0.038","steel-joist with R-19 insulation with a U-factor of 0.052","6\" concrete slabs with no insulation with an F-factor of 0.730","6\" concrete slabs with R-10 insulation for 24 in. with an F-factor of 0.540","6\" concrete slabs with no insulation with an F-factor of 0.730","U-factor of 0.700","U-factor of 0.500","U-factor of 0.700","U-factor of 0.500","U-factor of 0.500","U-factor of 1.450",null,"U-0.048","U-0.048","U-0.119","U-0.064","U-0.064","U-0.124","C-0.119","C-0.119","C-1.140","U-0.038","U-0.038","U- 0.052","F-0.730","F-0.540","F-0.730","U-0.700","U-0.500","U-0.700","U-0.500","U-0.500","U-1.450",null,0.35,0.45,0.8,0.55000000000000004,0.4,1.17,1.17,1.1000000000000001,1.1000000000000001,0.69,0.69,0.49,0.39,0.77,0.62,0.49,0.39]
["5C (SI)","R-3.5 c.i. insulation entirely above deck with a U-factor of 0.273","R-3.5 c.i. insulation entirely above deck with a U-factor of 0.273","R-1.3 c.i. insulation entirely above deck with a U-factor of 0.667","steel-framed with R-2.3 cavity and R-1.3 continuous insulation with a U-factor of 0.365","steel-framed with R-2.3 cavity and R-1.3 continuous insulation with a U-factor of 0.365","steel-framed with R-2.3 cavity insulation with a U-factor of 0.705","205 mm medium weight concrete block with solid grouted cores and R-1.3 continuous insulation with a C-factor of 0.678","205 mm medium weight concrete block with solid grouted cores and R-1.3 continuous insulation with a C-factor of 0.678","205 mm medium weight concrete block with solid grouted cores and no insulation with a C-factor of 6.473","steel-joist with R-5.3 insulation with a U-factor of 0.214","steel-joist with R-5.3 insulation with a U-factor of 0.214","steel-joist with R-3.3 insulation with a U-factor of 0.296","150 mm concrete slabs with no insulation with an F-factor of 1.264","150 mm concrete slabs with R-1.8 insulation for 600 mm with an F-factor of 0.935","150 mm concrete slabs with no insulation with an F-factor of 1.264","U-factor of 3.975","U-factor of 2.839","U-factor of 3.975","U-factor of 2.839","U-factor of 2.839","U-factor of 8.233",null,"U-0.273","U-0.273","U-0.677","U-0.365","U-0.365","U-0.705","C-0.678","C-0.678","C-6.473","U-0.214","U-0.214","U- 0.296","F-1.264","F-0.935","F-1.264","U-3.975","U-2.839","U-3.975","U-2.839","U-2.839","U-8.233",null,1.99,2.56,4.54,3.12,0.4,6.64,6.64,6.25,6.25,3.92,3.92,0.49,0.39,0.77,0.62,0.49,0.39]
["6A (IP)","R-20 insulation entirely above deck with a U-factor of 0.048","R-20 insulation entirely above deck with a U-factor of 0.048","R-10.0 insulation entirely above deck with a U-factor of 0.093","steel-framed with R-13 cavity and R-7.5 continuous insulation with a U-factor of 0.064","steel-framed with R-13 cavity and R-7.5 continuous insulation with a U-factor of 0.064","steel-framed with R-13 cavity insulation with a U-factor of 0.124","8\" medium weight concrete block with solid grouted cores and R-7.5 insulation with a C-factor of 0.119","8\" medium weight concrete block with solid grouted cores and R-7.5 insulation with a C-factor of 0.119","8\" medium weight concrete block with solid grouted cores and no insulation with a C-factor of 1.140","steel-joist with R-30 insulation with a U-factor of 0.038","steel-joist with R-38 insulation with a U-factor of 0.032","steel-joist with R-19 insulation with a U-factor of 0.052","6\" concrete slabs with R-10 insulation for 24 in. with an F-factor of 0.540","6\" concrete slabs with R-15 insulation for 24 in. with an F-factor of 0.520","6\" concrete slabs with no insulation with an F-factor of 0.730","U-factor of 0.700","U-factor of 0.500","U-factor of 0.700","U-factor of 0.500","U-factor of 0.500","U-factor of 1.450",null,"U-0.048","U-0.048","U-0.093","U-0.064","U-0.064","U-0.124","C-0.119","C-0.119","C-1.140","U-0.038","U-0.032","U- 0.052","F-0.540","F-0.520","F-0.730","U-0.700","U-0.500","U-0.700","U-0.500","U-0.500","U-1.450",null,0.35,0.45,0.8,0.55000000000000004,0.4,1.17,1.17,0.87,0.87,0.69,0.69,0.49,0.49,0.71,0.57999999999999996,0.49,0.49]
["6A (SI)","R-3.5 c.i. insulation entirely above deck with a U-factor of 0.273","R-3.5 c.i. insulation entirely above deck with a U-factor of 0.273","R-1.8 insulation entirely above deck with a U-factor of 0.527","steel-framed with R-2.3 cavity and R-1.3 continuous insulation with a U-factor of 0.365","steel-framed with R-2.3 cavity and R-1.3 continuous insulation with a U-factor of 0.365","steel-framed with R-2.3 cavity insulation with a U-factor of 0.705","205 mm medium weight concrete block with solid grouted cores and R-1.3 continuous insulation with a C-factor of 0.678","205 mm medium weight concrete block with solid grouted cores and R-1.3 continuous insulation with a C-factor of 0.678","205 mm medium weight concrete block with solid grouted cores and no insulation with a C-factor of 6.473","steel-joist with R-5.3 insulation with a U-factor of 0.214","steel-joist with R-6.7 insulation with a U-factor of 0.183","steel-joist with R-3.3 insulation with a U-factor of 0.296","150 mm concrete slabs with R-1.8 insulation for 600 mm with an F-factor of 0.935","150 mm concrete slabs with R-2.6 insulation for 600 mm with an F-factor of 0.900","150 mm concrete slabs with no insulation with an F-factor of 1.264","U-factor of 3.975","U-factor of 2.839","U-factor of 3.975","U-factor of 2.839","U-factor of 2.839","U-factor of 8.233",null,"U-0.273","U-0.273","U-0.527","U-0.365","U-0.365","U-0.705","C-0.678","C-0.678","C-6.473","U-0.214","U-0.183","U- 0.296","F-0.935","F-0.900","F-1.264","U-3.975","U-2.839","U-3.975","U-2.839","U-2.839","U-8.233",null,1.99,2.56,4.54,3.12,0.4,6.64,6.64,4.9400000000000004,4.9400000000000004,3.92,3.92,0.49,0.49,0.71,0.57999999999999996,0.49,0.49]
["6B (IP)","R-20 insulation entirely above deck with a U-factor of 0.048","R-20 insulation entirely above deck with a U-factor of 0.048","R-10.0 insulation entirely above deck with a U-factor of 0.093","steel-framed with R-13 cavity and R-7.5 continuous insulation with a U-factor of 0.064","steel-framed with R-13 cavity and R-7.5 continuous insulation with a U-factor of 0.064","steel-framed with R-13 cavity insulation with a U-factor of 0.124","8\" medium weight concrete block with solid grouted cores and R-7.5 insulation with a C-factor of 0.119","8\" medium weight concrete block with solid grouted cores and R-7.5 insulation with a C-factor of 0.119","8\" medium weight concrete block with solid grouted cores and no insulation with a C-factor of 1.140","steel-joist with R-30 insulation with a U-factor of 0.038","steel-joist with R-38 insulation with a U-factor of 0.032","steel-joist with R-19 insulation with a U-factor of 0.052","6\" concrete slabs with R-10 insulation for 24 in. with an F-factor of 0.540","6\" concrete slabs with R-15 insulation for 24 in. with an F-factor of 0.520","6\" concrete slabs with no insulation with an F-factor of 0.730","U-factor of 0.700","U-factor of 0.500","U-factor of 0.700","U-factor of 0.500","U-factor of 0.500","U-factor of 1.450",null,"U-0.048","U-0.048","U-0.093","U-0.064","U-0.064","U-0.124","C-0.119","C-0.119","C-1.140","U-0.038","U-0.032","U- 0.052","F-0.540","F-0.520","F-0.730","U-0.700","U-0.500","U-0.700","U-0.500","U-0.500","U-1.450",null,0.35,0.45,0.8,0.55000000000000004,0.4,1.17,1.17,0.87,0.87,0.69,0.69,0.49,0.49,0.71,0.57999999999999996,0.49,0.49]
["6B (SI)","R-3.5 c.i. insulation entirely above deck with a U-factor of 0.273","R-3.5 c.i. insulation entirely above deck with a U-factor of 0.273","R-1.8 insulation entirely above deck with a U-factor of 0.527","steel-framed with R-2.3 cavity and R-1.3 continuous insulation with a U-factor of 0.365","steel-framed with R-2.3 cavity and R-1.3 continuous insulation with a U-factor of 0.365","steel-framed with R-2.3 cavity insulation with a U-factor of 0.705","205 mm medium weight concrete block with solid grouted cores and R-1.3 continuous insulation with a C-factor of 0.678","205 mm medium weight concrete block with solid grouted cores and R-1.3 continuous insulation with a C-factor of 0.678","205 mm medium weight concrete block with solid grouted cores and no insulation with a C-factor of 6.473","steel-joist with R-5.3 insulation with a U-factor of 0.214","steel-joist with R-6.7 insulation with a U-factor of 0.183","steel-joist with R-3.3 insulation with a U-factor of 0.296","150 mm concrete slabs with R-1.8 insulation for 600 mm with an F-factor of 0.935","150 mm concrete slabs with R-2.6 insulation for 600 mm with an F-factor of 0.900","150 mm concrete slabs with no insulation with an F-factor of 1.264","U-factor of 3.975","U-factor of 2.839","U-factor of 3.975","U-factor of 2.839","U-factor of 2.839","U-factor of 8.233",null,"U-0.273","U-0.273","U-0.527","U-0.365","U-0.365","U-0.705","C-0.678","C-0.678","C-6.473","U-0.214","U-0.183","U- 0.296","F-0.935","F-0.900","F-1.264","U-3.975","U-2.839","U-3.975","U-2.839","U-2.839","U-8.233",null,1.99,2.56,4.54,3.12,0.4,6.64,6.64,4.9400000000000004,4.9400000000000004,3.92,3.92,0.49,0.49,0.71,0.57999999999999996,0.49,0.49]
["7A (IP)","R-20 insulation entirely above deck with a U-factor of 0.048","R-20 insulation entirely above deck with a U-factor of 0.048","R-10.0 insulation entirely above deck with a U-factor of 0.093","steel-framed with R-13 cavity and R-7.5 continuous insulation with a U-factor of 0.064","steel-framed with R-13 cavity and R-15.6 continuous insulation with a U-factor of 0.042","steel-framed with R-13 cavity insulation with a U-factor of 0.124","8\" medium weight concrete block with solid grouted cores and R-7.5 insulation with a C-factor of 0.119","8\" medium weight concrete block with solid grouted cores and R-10.0 insulation with a C-factor of 0.092","8\" medium weight concrete block with solid grouted cores and no insulation with a C-factor of 1.140","steel-joist with R-30 insulation with a U-factor of 0.038","steel-joist with R-38 insulation with a U-factor of 0.032","steel-joist with R-19 insulation with a U-factor of 0.052","6\" concrete slabs with R-15 insulation for 24 in. with an F-factor of 0.520","6\" concrete slabs with R-15 insulation for 24 in. with an F-factor of 0.520","6\" concrete slabs with no insulation with an F-factor of 0.730","U-factor of 0.500","U-factor of 0.500","U-factor of 0.700","U-factor of 0.500","U-factor of 0.500","U-factor of 1.450",null,"U-0.048","U-0.048","U-0.093","U-0.064","U-0.042","U-0.124","C-0.119","C-0.092","C-1.140","U-0.038","U-0.032","U- 0.052","F-0.520","F-0.520","F-0.730","U-0.500","U-0.500","U-0.700","U-0.500","U-0.500","U-1.450",null,0.35,0.4,0.8,0.45,0.45,1.17,1.17,0.87,0.87,0.69,0.69,0.68,0.64,0.77,0.71,0.68,0.64]
["7A (SI)","R-3.5 c.i. insulation entirely above deck with a U-factor of 0.273","R-3.5 c.i. insulation entirely above deck with a U-factor of 0.273","R-1.8 insulation entirely above deck with a U-factor of 0.527","steel-framed with R-2.3 cavity and R-1.3 continuous insulation with a U-factor of 0.365","steel-framed with R-2.3 cavity and R-2.7 continuous insulation with a U-factor of 0.240","steel-framed with R-2.3 cavity insulation with a U-factor of 0.705","205 mm medium weight concrete block with solid grouted cores and R-1.3 continuous insulation with a C-factor of 0.678","205 mm medium weight concrete block with solid grouted cores and R-1.8 continuous insulation with a C-factor of 0.522","205 mm medium weight concrete block with solid grouted cores and no insulation with a C-factor of 6.473","steel-joist with R-5.3 insulation with a U-factor of 0.214","steel-joist with R-6.7 insulation with a U-factor of 0.183","steel-joist with R-3.3 insulation with a U-factor of 0.296","150 mm concrete slabs with R-2.6 insulation for 600 mm with an F-factor of 0.900","150 mm concrete slabs with R-2.6 insulation for 600 mm with an F-factor of 0.900","150 mm concrete slabs with no insulation with an F-factor of 1.264","U-factor of 2.839","U-factor of 2.839","U-factor of 3.975","U-factor of 2.839","U-factor of 2.839","U-factor of 8.233",null,"U-0.273","U-0.273","U-0.527","U-0.365","U-0.240","U-0.705","C-0.678","C-0.522","C-6.473","U-0.214","U-0.183","U- 0.296","F-0.900","F-0.900","F-1.264","U-2.839","U-2.839","U-3.975","U-2.839","U-2.839","U-8.233",null,1.99,2.27,4.54,2.56,0.45,6.64,6.64,4.9400000000000004,4.9400000000000004,3.92,3.92,0.68,0.64,0.77,0.71,0.68,0.64]
["7B (IP)","R-20 insulation entirely above deck with a U-factor of 0.048","R-20 insulation entirely above deck with a U-factor of 0.048","R-10.0 insulation entirely above deck with a U-factor of 0.093","steel-framed with R-13 cavity and R-7.5 continuous insulation with a U-factor of 0.064","steel-framed with R-13 cavity and R-15.6 continuous insulation with a U-factor of 0.042","steel-framed with R-13 cavity insulation with a U-factor of 0.124","8\" medium weight concrete block with solid grouted cores and R-7.5 insulation with a C-factor of 0.119","8\" medium weight concrete block with solid grouted cores and R-10.0 insulation with a C-factor of 0.092","8\" medium weight concrete block with solid grouted cores and no insulation with a C-factor of 1.140","steel-joist with R-30 insulation with a U-factor of 0.038","steel-joist with R-38 insulation with a U-factor of 0.032","steel-joist with R-19 insulation with a U-factor of 0.052","6\" concrete slabs with R-15 insulation for 24 in. with an F-factor of 0.520","6\" concrete slabs with R-15 insulation for 24 in. with an F-factor of 0.520","6\" concrete slabs with no insulation with an F-factor of 0.730","U-factor of 0.500","U-factor of 0.500","U-factor of 0.700","U-factor of 0.500","U-factor of 0.500","U-factor of 1.450",null,"U-0.048","U-0.048","U-0.093","U-0.064","U-0.042","U-0.124","C-0.119","C-0.092","C-1.140","U-0.038","U-0.032","U- 0.052","F-0.520","F-0.520","F-0.730","U-0.500","U-0.500","U-0.700","U-0.500","U-0.500","U-1.450",null,0.35,0.4,0.8,0.45,0.45,1.17,1.17,0.87,0.87,0.69,0.69,0.68,0.64,0.77,0.71,0.68,0.64]
["7B (SI)","R-3.5 c.i. insulation entirely above deck with a U-factor of 0.273","R-3.5 c.i. insulation entirely above deck with a U-factor of 0.273","R-1.8 insulation entirely above deck with a U-factor of 0.527","steel-framed with R-2.3 cavity and R-1.3 continuous insulation with a U-factor of 0.365","steel-framed with R-2.3 cavity and R-2.7 continuous insulation with a U-factor of 0.240","steel-framed with R-2.3 cavity insulation with a U-factor of 0.705","205 mm medium weight concrete block with solid grouted cores and R-1.3 continuous insulation with a C-factor of 0.678","205 mm medium weight concrete block with solid grouted cores and R-1.8 continuous insulation with a C-factor of 0.522","205 mm medium weight concrete block with solid grouted cores and no insulation with a C-factor of 6.473","steel-joist with R-5.3 insulation with a U-factor of 0.214","steel-joist with R-6.7 insulation with a U-factor of 0.183","steel-joist with R-3.3 insulation with a U-factor of 0.296","150 mm concrete slabs with R-2.6 insulation for 600 mm with an F-factor of 0.900","150 mm concrete slabs with R-2.6 insulation for 600 mm with an F-factor of 0.900","150 mm concrete slabs with no insulation with an F-factor of 1.264","U-factor of 2.839","U-factor of 2.839","U-factor of 3.975","U-factor of 2.839","U-factor of 2.839","U-factor of 8.233",null,"U-0.273","U-0.273","U-0.527","U-0.365","U-0.240","U-0.705","C-0.678","C-0.522","C-6.473","U-0.214","U-0.183","U- 0.296","F-0.900","F-0.900","F-1.264","U-2.839","U-2.839","U-3.975","U-2.839","U-2.839","U-8.233",null,1.99,2.27,4.54,2.56,0.45,6.64,6.64,4.9400000000000004,4.9400000000000004,3.92,3.92,0.68,0.64,0.77,0.71,0.68,0.64]
["8 (IP)","R-20 insulation entirely above deck with a U-factor of 0.048","R-20 insulation entirely above deck with a U-factor of 0.048","R-15.0 insulation entirely above deck with a U-factor of 0.063","steel-framed with R-13 cavity and R-7.5 continuous insulation with a U-factor of 0.064","steel-framed with R-13 cavity and R-18.8 continuous insulation with a U-factor of 0.037","steel-framed with R-13 cavity and R-3.8 continuous insulation with a U-factor of 0.084","8\" medium weight concrete block with solid grouted cores and R-7.5 insulation with a C-factor of 0.119","8\" medium weight concrete block with solid grouted cores and R-12.5 insulation with a C-factor of 0.075","8\" medium weight concrete block with solid grouted cores and no insulation with a C-factor of 1.140","steel-joist with R-38 insulation with a U-factor of 0.032","steel-joist with R-38 insulation with a U-factor of 0.032","steel-joist with R-19 insulation with a U-factor of 0.052","6\" concrete slabs with R-15 insulation for 24 in. with an F-factor of 0.520","6\" concrete slabs with R-20 insulation for 24 in. with an F-factor of 0.510","6\" concrete slabs with no insulation with an F-factor of 0.730","U-factor of 0.500","U-factor of 0.500","U-factor of 0.700","U-factor of 0.500","U-factor of 0.500","U-factor of 0.500",null,"U-0.048","U-0.048","U-0.063","U-0.064","U-0.037","U-0.084","C-0.119","C-0.075","C-1.140","U-0.032","U-0.032","U- 0.052","F-0.520","F-0.510","F-0.730","U-0.500","U-0.500","U-0.700","U-0.500","U-0.500","U-0.500",null,0.35,0.4,0.8,0.45,0.45,0.98,0.98,0.61,0.61,0.57999999999999996,0.57999999999999996,0.68,0.64,0.77,0.71,0.68,0.64]
["8 (SI)","R-3.5 c.i. insulation entirely above deck with a U-factor of 0.273","R-3.5 c.i. insulation entirely above deck with a U-factor of 0.273","R-2.6 c.i. insulation entirely above deck with a U-factor of 0.360","steel-framed with R-2.3 cavity and R-1.3 continuous insulation with a U-factor of 0.365","steel-framed with R-2.3 cavity and R-3.3 continuous insulation with a U-factor of 0.212","steel-framed with R-2.3 cavity and R-0.7 continuous insulation with a U-factor of 0.479","205 mm medium weight concrete block with solid grouted cores and R-1.3 continuous insulation with a C-factor of 0.678","205 mm medium weight concrete block with solid grouted cores and R-2.2 continuous insulation with a C-factor of 0.425","205 mm medium weight concrete block with solid grouted cores and no insulation with a C-factor of 6.473","steel-joist with R-6.7 insulation with a U-factor of 0.183","steel-joist with R-6.7 insulation with a U-factor of 0.183","steel-joist with R-3.3 insulation with a U-factor of 0.296","150 mm concrete slabs with R-2.6 insulation for 600 mm with an F-factor of 0.900","150 mm concrete slabs with R-3.5 insulation for 600 mm with an F-factor of 0.883","150 mm concrete slabs with no insulation with an F-factor of 1.264","U-factor of 2.839","U-factor of 2.839","U-factor of 3.975","U-factor of 2.839","U-factor of 2.839","U-factor of 2.839",null,"U-0.273","U-0.273","U-0.360","U-0.365","U-0.212","U-0.479","C-0.678","C-0.425","C-6.473","U-0.183","U-0.183","U- 0.296","F-0.900","F-0.883","F-1.264","U-2.839","U-2.839","U-3.975","U-2.839","U-2.839","U-2.839",null,1.99,2.27,4.54,2.56,0.45,5.56,5.56,3.46,3.46,3.29,3.29,"NR","NR","NR","NR","NR","NR"]

{"sheet":"Lighting","index":10,"n_rows":151,"n_cols":26,"rows_kept":151,"cut":false,"hidden":false,"merged":[[133,12,133,16],[66,11,66,13],[66,6,66,8],[68,14,68,16],[80,2,80,3],[124,12,124,16],[125,12,125,16],[123,12,123,16],[122,12,122,16],[110,15,110,16],[78,8,78,16],[78,2,78,3],[113,12,113,16],[115,12,115,16],[119,12,119,16],[122,5,122,6],[101,11,101,13],[100,2,100,5],[126,12,126,16],[127,12,127,16],[127,9,127,11],[100,14,100,16],[82,1,82,14],[101,14,101,16],[141,12,141,16],[52,16,53,16],[59,6,59,7],[80,8,80,16],[65,2,66,5],[68,2,68,5],[68,6,68,8],[61,6,61,7],[52,5,53,5],[52,2,53,2],[52,12,53,12],[60,6,60,7],[57,6,57,7],[56,6,56,7],[55,6,55,7],[66,14,66,16],[54,12,54,16],[73,8,73,16],[68,11,68,13],[73,5,73,6],[76,2,76,3],[134,12,134,16],[134,8,134,11],[132,12,132,16],[137,9,137,11],[138,9,138,11],[139,9,139,11],[140,9,140,11],[141,9,141,11],[140,5,140,6],[141,1,141,4],[141,5,141,6],[140,1,140,4],[134,5,134,7],[133,1,133,4],[133,5,133,6],[132,1,132,7],[127,1,127,8],[126,1,126,4],[94,1,95,5],[95,6,95,8],[126,5,126,6],[150,1,150,16],[145,9,145,11],[147,9,147,11],[145,12,145,16],[147,12,147,16],[137,5,137,6],[138,5,138,6],[139,5,139,6],[136,1,136,4],[137,1,137,4],[136,5,136,6],[138,1,138,4],[139,1,139,4],[142,9,142,11],[136,12,136,16],[137,12,137,16],[138,12,138,16],[139,12,139,16],[140,12,140,16],[149,1,149,11],[142,1,142,8],[145,1,145,8],[142,12,142,16],[136,9,136,11],[147,1,147,8],[5,1,5,16],[20,1,20,16],[19,1,19,16],[23,14,23,16],[29,2,29,3],[29,5,29,6],[29,9,29,10],[54,1,54,3],[54,5,54,11],[23,1,23,13],[45,1,45,16],[29,11,29,16],[31,11,31,16],[32,11,32,16],[33,11,33,16],[39,1,40,1],[7,15,7,16],[9,15,9,16],[11,15,11,16],[13,15,13,16],[15,15,15,16],[17,15,17,16],[7,1,7,14],[9,1,9,14],[124,5,124,6],[125,5,125,6],[104,6,104,10],[105,6,105,10],[103,6,103,10],[105,2,105,5],[101,6,101,10],[134,2,134,4],[132,8,132,11],[133,9,133,11],[123,9,123,10],[122,9,122,11],[124,9,124,11],[120,9,120,11],[126,9,126,11],[125,1,125,4],[125,9,125,11],[124,1,124,4],[122,2,122,4],[123,1,123,4],[123,5,123,6],[110,1,110,14],[108,1,108,16],[49,1,49,11],[52,6,52,10],[97,9,97,10],[95,11,95,13],[79,2,79,3],[73,2,73,3],[52,13,53,13],[52,14,52,15],[100,6,100,10],[89,6,89,10],[82,15,82,16],[77,8,77,16],[81,1,81,3],[81,8,81,16],[103,14,103,16],[104,14,104,16],[101,2,101,5],[89,2,89,5],[91,6,91,7],[83,1,83,14],[68,9,68,10],[94,11,94,16],[97,11,97,13],[97,14,97,16],[97,6,97,8],[100,11,100,13],[84,15,84,16],[84,1,84,14],[87,6,87,10],[87,11,87,16],[87,2,87,5],[75,8,75,16],[79,8,79,16],[75,2,75,3],[76,8,76,16],[83,15,83,16],[77,2,77,3],[11,1,11,14],[13,1,13,14],[15,1,15,14],[17,1,17,14],[35,5,35,6],[40,11,40,13],[42,9,42,10],[66,9,66,10],[71,8,72,16],[40,6,40,8],[39,6,39,10],[51,5,51,11],[53,6,53,7],[71,1,72,1],[71,5,71,6],[71,2,72,3],[47,1,47,11],[51,1,51,3],[52,11,53,11],[65,6,65,10],[52,3,53,3],[65,11,65,16],[62,1,62,2],[65,1,66,1],[46,15,46,16],[48,15,48,16],[46,1,46,14],[48,1,48,14],[52,1,53,1],[58,6,58,7],[51,12,51,16],[120,12,120,16],[119,8,119,11],[103,2,103,5],[104,2,104,5],[89,11,89,16],[103,11,103,13],[104,11,104,13],[105,11,105,13],[94,6,94,10],[113,2,113,11],[115,2,115,11],[120,1,120,4],[120,5,120,6],[119,1,119,7],[105,14,105,16],[97,1,97,5],[95,14,95,16],[27,7,27,16],[34,11,34,16],[35,11,35,16],[28,5,28,6],[42,6,42,8],[33,5,33,6],[31,5,31,6],[40,14,40,16],[39,11,39,16],[42,14,42,16],[39,2,40,5],[34,5,34,6],[28,11,28,16],[42,2,42,5],[40,9,40,10],[32,5,32,6],[27,5,27,6],[27,1,27,3],[42,11,42,13]]}
["G"]
["G","Lighting"]
["G"]
["G"]
["G","Interior Lighting"]
["G","Instructions: Confirm that the energy model complies with the Interior lighting requirements listed, and provide a narrative explaining any discrepancies. Select the interior lighting categorization procedure, and then complete the corresponding lighting table(s). Please refer to the column header notes for information about Appendix G modeling protocol. For any information not applicable to the project, simply enter \"N/A\". "]
["G","Interior Lighting Requirements"]
["G","All lighting schedules have been modeled identically in the baseline and proposed and reflect the anticipated operating schedules of each space."]
["G"]
["G","The proposed lighting power includes all lighting system components shown or provided for on the plans (including lamps and ballasts and task and furniture-mounted fixtures except where specifically exempted)."]
["G"]
["G","Baseline and proposed lighting is modeled using the automatic and manual controls in Section 9.4 including automated shutoff controls, daylighting controls, occupant sensor controls, etc.  The energy modeling schedules account for these mandatory control requirements."]
["G"]
["G","Ocupant sensors or timer switches are included in the proposed, and modeled in the baseline for classrooms, lecture halls, confrence rooms, meeting rooms, training rooms, employee lunch and break rooms, storage and supply rooms between 50 to 1,000 sq ft (15.24 to 304.8 sq m), copying and printing rooms, office spaces up to 250 sq ft (76.2 sq m), restrooms, dresssing rooms, locker rooms, fitting rooms, and parking garages per Section 9.4.1.2b and 9.4.1.3b."]
["G"]
["G","Mandatory automatic daylighting controls are included in the proposed, and modeled in the baseline for primary sidelighted areas in enclosed spaces greater than 250 sq ft (23 sq m), and  top lighted areas greater than 900 sq ft (84 sq m), and parking garages as applicable per Sections 9.4.1.4, 9.4.1.5, and 9.4.1.3 respectively."]
["G"]
["G","Mandatory step controls are included in the proposed, and modeled in the baseline for all spaces enclosed by ceiling height partitions per Sections 9.4.1.2a."]
["G"]
["G","For each item entered as “No” above, describe the applicable ASHRAE 90.1 Appendix G exception(s) that apply, or the circumstances preventing the lighting parameters from being modeled as required. If the energy simulation software is not capable of modeling the required parameters, describe the adjustments that were made to provide a similar representation or provide a narrative justifying why the predicted energy performance results will not be influenced."]
["G"]
["G"]
["G","Categorization Procedure"]
["G","Select the categorization procedure used to determine the lighting power density (LPD) in the proposed and baseline",null,null,null,null,null,null,null,null,null,null,null,null,"Building Area Method\n\nSpace by Space Method",null,null,null,null,null,null,null,null,null,null,2]
["G"]
["G","Building Area Method"]
["G","Complete the table below in accordance with the Building Area Procedure."]
["G","General Information",null,null,null,"Baseline",null,"Proposed"]
["G","Building ID","Table 9.5.1 \nBuilding Area Type",{"$f":"IF(SI_IP_Units=\"IP\",\"Total Building Type Area\n(sq ft)\",\"Total Building Type Area\n(sq m)\")","v":"Total Building Type Area\n(sq ft)"},null,{"$f":"IF(SI_IP_Units=\"IP\",\"Modeled LPD\n(W/sq ft)\",\"Modeled LPD\n(W/sq m)\")","v":"Modeled LPD\n(W/sq ft)"},null,{"$f":"IF(SI_IP_Units=\"IP\",\"Design LPD\n(W/sq ft)\",\"Design LPD\n(W/sq m)\")","v":"Design LPD\n(W/sq ft)"},"Automatic Lighting \nControls and Space Types","Table G3.2 Power \nAdjustment",{"$f":"IF(SI_IP_Units=\"IP\",\"Modelled LPD\n(W/sq ft)\",\"Modelled LPD\n(W/sq m)\")","v":"Modelled LPD\n(W/sq ft)"},"Daylighting Controls"]
["G","Helpful Notes","•  Lighting power should be modeled as designed (or installed) including all lighting system components (lamps and ballasts)\n\n•   Parking garages are always considered a separate building area type, and if present in the building, must be listed as a separate building area type from the main building area type.\n",null,null,"•  Values provided for reference.  Enter the modeled lighting power density (excluding any process lighting) for this building type in the Baseline case (if different from the Table 9.5.1 value listed)\n",null,"•  Enter the design (or installed) lighting power density (excluding process lighting) for this building type in the Proposed case without Table G3.2 adjustments.\n","•  List any automatic lighting controls included in the design, beyond what is required to be modeled per Section 9.4.\n","•  Enter the weighted average lighting power density (excluding any process lighting) modeled for this building type in the Proposed case, including any Table G3.2 adjustments for automatic controls.\n",null,"•  List any daylighting controls included in the design, the associated spaces, control type, and how credit was modeled in the Proposed case (example: continuous dimming in all exterior offices modeled directly with setpoint of 50 footcandles (540 lux)).\n•  Automatic daylighting controls must either be modeled directly in the simulation, or modeled using schedule adjustments determined by a separate daylighting analysis per Table G3.1#6(f) "]
["G",{"$f":"B29","v":"Building ID"},{"$f":"C29","v":"Table 9.5.1 \nBuilding Area Type"},"Total Building Type Area\n(sq ft)",0,"Modeled LPD\n(W/sq ft)",0,"Design LPD\n(W/sq ft)","Automatic Lighting \nControls and Space Types","Table G3.2 Power \nAdjustment","Modelled LPD\n(W/sq ft)","Daylighting Controls"]
[null,{"$f":"'Multiple Buildings Details'!B24","v":"Project Name"},{"$f":"\"Residential Dwelling Units\"","v":"Residential Dwelling Units"},null,null,{"$f":"0.9*IF(SI_IP_Units=\"IP\",1,CONVERT(1,\"m\",\"ft\")^2)","v":0.9}]
["A",{"$f":"GI_Project_Name","v":"Project Name"},null,null,null,{"$f":"IFERROR(VLOOKUP(C33,'Lighting Assumptions'!A:C,IF(SI_IP_Units=\"SI\",3,2)),\"\")","v":""}]
[null,{"$f":"GI_Project_Name","v":"Project Name"},null,null,null,{"$f":"IFERROR(VLOOKUP(C34,'Lighting Assumptions'!A:C,IF(SI_IP_Units=\"SI\",3,2)),\"\")","v":""}]
[null,{"$f":"GI_Project_Name","v":"Project Name"},null,null,null,{"$f":"IFERROR(VLOOKUP(C35,'Lighting Assumptions'!A:C,IF(SI_IP_Units=\"SI\",3,2)),\"\")","v":""}]
[null,"Total",null,{"$f":"IFERROR(SUM(D32:D35),0)","v":0},null,{"$f":"IFERROR(SUMPRODUCT($D32:$D35,F32:F35)/SUM($D32:$D35),0)","v":0},null,{"$f":"IFERROR(SUMPRODUCT($D32:$D35,H32:H35)/SUM($D32:$D35),0)","v":0},null,null,{"$f":"IFERROR(SUMPRODUCT($D32:$D35,K32:K35)/SUM($D32:$D35),0)","v":0}]
[]
["G"]
["G"]
["G","Building ID",{"$f":"CONCATENATE(\"Total Space Area \",IF(SI_IP_Units=\"IP\",\"(sq ft)\",\"(sq m)\"))","v":"Total Space Area (sq ft)"},null,null,null,"Average LPD",null,null,null,null,"Total Power"]
["G",null,null,null,null,null,{"$f":"CONCATENATE(\"Baseline Maximum Allowance\",CHAR(10),IF(SI_IP_Units=\"IP\",\"(W/sq ft)\",\"(W/sq m)\"))","v":"Baseline Maximum Allowance\n(W/sq ft)"},null,null,{"$f":"CONCATENATE(\"Design Maximum Allowance\",CHAR(10),IF(SI_IP_Units=\"IP\",\"(W/sq ft)\",\"(W/sq m)\"))","v":"Design Maximum Allowance\n(W/sq ft)"},null,{"$f":"CONCATENATE(\"Baseline Maximum Allowance\",CHAR(10),\"(kW)\")","v":"Baseline Maximum Allowance\n(kW)"},null,null,{"$f":"CONCATENATE(\"Design Maximum Allowance\",CHAR(10),\"(kW)\")","v":"Design Maximum Allowance\n(kW)"}]
[null,{"$f":"B40","v":"Building ID"},{"$f":"C40","v":"Total Space Area (sq ft)"},null,null,null,"Base_LPD",null,null,"Design_LPD",null,"Base_Power",null,null,"Design_Power"]
["G",{"$f":"'Multiple Buildings Details'!B24","v":"Project Name"},{"$f":"IFERROR(SUMIF(L_BAMInput_Index,\"=\"&$B43,$D$31:$D$35),\"\")","v":0},null,null,null,{"$f":"IFERROR(SUMPRODUCT(--($B$31:$B$35=$B43),$D$31:$D$35,$F$31:$F$35)/SUMIF($B$31:$B$35,\"=\"&$B43,$D$31:$D$35),0)","v":0},null,null,{"$f":"IFERROR(SUMPRODUCT(--($B$31:$B$35=$B43),$D$31:$D$35,$K$31:$K$35)/SUMIF($B$31:$B$35,\"=\"&$B43,$D$31:$D$35),0)","v":0},null,{"$f":"IFERROR(SUMPRODUCT(--($B$31:$B$35=$B43),$D$31:$D$35,$F$31:$F$35)/1000,0)","v":0},null,null,{"$f":"IFERROR(SUMPRODUCT(--($B$31:$B$35=$B43),$D$31:$D$35,$K$31:$K$35)/1000,0)","v":0}]
["G"]
["G",{"$f":"IF(L38=\"Building Area Method\",\"Building Area Method\",\"Space by Space Method\")","v":"Space by Space Method"}]
["G","If attempting to take additional credit/adjustments in the baseline for room geometry and/or in the proposed for automatic lighting controls, further work will be required.  Taking the additional credit is optional.\nNote: This method employs Addendum cg to 90.1-2010 due to contradictions in the originally published standard. If the project team does not wish to apply the addendum, provide a substantially similar spreadsheet to verify the inputs for the interior lighting power. "]
["G","Are adjustments being taken for room geometry in the baseline? (Optional)"]
["G"]
["G","Are adjustments being taken for automatic lighting controls beyond what is required by Section 9.4.1 in the proposed? (Optional)"]
["G"]
["G"]
["G","General Information",null,null,null,"Baseline",null,null,null,null,null,null,"Proposed"]
["G","Building ID",{"$f":"IF(B45=\"Space by Space Method\",\"Table 9.6.1 Space Type\",\"Table 9.5.1 \nBuilding Area Type\")","v":"Table 9.6.1 Space Type"},{"$f":"IF(SI_IP_Units=\"IP\",\"Total Space Type Area\n(sq ft)\",\"Total Space Type Area\n(sq m)\")","v":"Total Space Type Area\n(sq ft)"},null,{"$f":"IF(SI_IP_Units=\"IP\",\"Maximum Allowance\n(W/sq ft)\",\"Maximum Allowance\n(W/sq m)\")","v":"Maximum Allowance\n(W/sq ft)"},"Section 9.6.3 Room Geometry Adjustment \n(Only complete for spaces where credit is taken for room geometry)",null,null,null,null,{"$f":"IF(SI_IP_Units=\"IP\",\"Total Baseline LPD Allowance\n(W/sq ft)\",\"Total Baseline LPD Allowance\n(W/sq m)\")","v":"Total Baseline LPD Allowance\n(W/sq ft)"},{"$f":"IF(SI_IP_Units=\"IP\",\"Design LPD\n(W/sq ft)\",\"Design LPD\n(W/sq m)\")","v":"Design LPD\n(W/sq ft)"},"Describe Automatic Lighting Controls","Section 9.6.2(c) Control Factor Adjustment",null,{"$f":"IF(SI_IP_Units=\"IP\",\"Modeled Design LPD\n(W/sq ft)\",\"Design LPD\n(W/sq m)\")","v":"Modeled Design LPD\n(W/sq ft)"}]
["G",null,null,null,null,null,{"$f":"IF(SI_IP_Units=\"IP\",\"Luminaire Mounting Height (ft)\",\"Luminaire Mounting Height (m)\")","v":"Luminaire Mounting Height (ft)"},null,{"$f":"IF(SI_IP_Units=\"IP\",\"Work-plane \n(ft)\", \"Work-plane \n(m)\")","v":"Work-plane \n(ft)"},{"$f":"IF(SI_IP_Units=\"IP\",\"Room \nPerimeter Length \n(ft)\",\"Room \nPerimeter Length \n(m)\")","v":"Room \nPerimeter Length \n(ft)"},"Room Cavity Ratio",null,null,null,"Lighting Power Under Control (W)","Table 9.6.2 adjust-ment"]
["G","Helpful Notes",null,null,null,null,null,null,null,null,null,null,"•  Lighting power should be modeled as designed (or installed) including all lighting system components (lamps and ballasts)\n•  Enter the design (or installed) lighting power density (excluding any additional lighting lighting power from Section 9.6.2 or any process lighting) for this space type in the Proposed case. This value should not include Table G3.2 adjustments.\n•  Credit for automatic lighting controls should be modeled using the appropriate power adjustment from Table G3.2, applied only to the controlled lighting power and not where required by 9.4.1. per Table G3.1#6(g)\n•  Automatic daylighting controls must either be modeled directly in the simulation, or modeled using schedule adjustments determined by a separate daylighting analysis per Table G3.1#6(f)  "]
["G","Building ID","Space_Type","Space_Type_Area",null,"Base_Max_W/SF","Luminare_Height",null,"Work_Plane","Room_Perimeter_Length","RCR","Baseline_LPD","Design_LPD","Lighting_Controls","Power_Under_Control","Adj","Modeled_Design_LPD"]
["G",{"$f":"'Multiple Buildings Details'!B24","v":"Project Name"},{"$f":"\"Residential Dwelling Units\"","v":"Residential Dwelling Units"},null,null,{"$f":"0.9*IF(SI_IP_Units=\"IP\",1,CONVERT(1,\"m\",\"ft\")^2)","v":0.9},null,null,null,null,{"$f":"IFERROR(2.5*(G57-I57)*J57/D57,\"\")","v":""},{"$f":"IF($P$47=\"Yes\",IFERROR(IF(VLOOKUP(C57,'Lighting Assumptions'!D:G,4,FALSE)=\"N/A\",F57,IF(VLOOKUP(C57,'Lighting Assumptions'!D:G,4,FALSE)=\"A/A\",F57*1.2,IF(K57>VLOOKUP(C57,'Lighting Assumptions'!D:G,4,FALSE),F57*1.2,F57))),\"\"),F57)","v":0.9},null,null,null,null,{"$f":"IFERROR(IF($M57>0,IFERROR($M57-$O57*$P57/$D57,$M57),\"\"),\"\")","v":""}]
["B",{"$f":"GI_Project_Name","v":"Project Name"},null,null,null,{"$f":"IFERROR(IF(SI_IP_Units=\"IP\",VLOOKUP(C58,'Lighting Assumptions'!$D$1:$F$96,2,FALSE),VLOOKUP(C58,'Lighting Assumptions'!$D$1:$F$96,3,FALSE)),\"\")","v":""},null,null,null,null,"",{"$f":"IF($P$47=\"Yes\",IFERROR(IF(VLOOKUP(C58,'Lighting Assumptions'!D:G,4,FALSE)=\"N/A\",F58,IF(VLOOKUP(C58,'Lighting Assumptions'!D:G,4,FALSE)=\"A/A\",F58*1.2,IF(K58>VLOOKUP(C58,'Lighting Assumptions'!D:G,4,FALSE),F58*1.2,F58))),\"\"),F58)","v":""},null,null,null,null,{"$f":"IFERROR(IF($M58>0,IFERROR($M58-$O58*$P58/$D58,$M58),\"\"),\"\")","v":""}]
[null,{"$f":"GI_Project_Name","v":"Project Name"},null,null,null,{"$f":"IFERROR(IF(SI_IP_Units=\"IP\",VLOOKUP(C59,'Lighting Assumptions'!$D$1:$F$96,2,FALSE),VLOOKUP(C59,'Lighting Assumptions'!$D$1:$F$96,3,FALSE)),\"\")","v":""},null,null,null,null,{"$f":"IFERROR(2.5*(G59-I59)*J59/D59,\"\")","v":""},{"$f":"IF($P$47=\"Yes\",IFERROR(IF(VLOOKUP(C59,'Lighting Assumptions'!D:G,4,FALSE)=\"N/A\",F59,IF(VLOOKUP(C59,'Lighting Assumptions'!D:G,4,FALSE)=\"A/A\",F59*1.2,IF(K59>VLOOKUP(C59,'Lighting Assumptions'!D:G,4,FALSE),F59*1.2,F59))),\"\"),F59)","v":""},null,null,null,null,{"$f":"IFERROR(IF($M59>0,IFERROR($M59-$O59*$P59/$D59,$M59),\"\"),\"\")","v":""}]
[null,{"$f":"GI_Project_Name","v":"Project Name"},null,null,null,{"$f":"IFERROR(IF(SI_IP_Units=\"IP\",VLOOKUP(C60,'Lighting Assumptions'!$D$1:$F$96,2,FALSE),VLOOKUP(C60,'Lighting Assumptions'!$D$1:$F$96,3,FALSE)),\"\")","v":""},null,null,null,null,{"$f":"IFERROR(2.5*(G60-I60)*J60/D60,\"\")","v":""},{"$f":"IF($P$47=\"Yes\",IFERROR(IF(VLOOKUP(C60,'Lighting Assumptions'!D:G,4,FALSE)=\"N/A\",F60,IF(VLOOKUP(C60,'Lighting Assumptions'!D:G,4,FALSE)=\"A/A\",F60*1.2,IF(K60>VLOOKUP(C60,'Lighting Assumptions'!D:G,4,FALSE),F60*1.2,F60))),\"\"),F60)","v":""},null,null,null,null,""]
[null,{"$f":"GI_Project_Name","v":"Project Name"},null,null,null,{"$f":"IFERROR(IF(SI_IP_Units=\"IP\",VLOOKUP(C61,'Lighting Assumptions'!$D$1:$F$96,2,FALSE),VLOOKUP(C61,'Lighting Assumptions'!$D$1:$F$96,3,FALSE)),\"\")","v":""},null,null,null,null,{"$f":"IFERROR(2.5*(G61-I61)*J61/D61,\"\")","v":""},{"$f":"IF($P$47=\"Yes\",IFERROR(IF(VLOOKUP(C61,'Lighting Assumptions'!D:G,4,FALSE)=\"N/A\",F61,IF(VLOOKUP(C61,'Lighting Assumptions'!D:G,4,FALSE)=\"A/A\",F61*1.2,IF(K61>VLOOKUP(C61,'Lighting Assumptions'!D:G,4,FALSE),F61*1.2,F61))),\"\"),F61)","v":""},null,null,null,null,""]
[null,{"$f":"GI_Project_Name","v":"Project Name"},null,null,null,{"$f":"IFERROR(IF(SI_IP_Units=\"IP\",VLOOKUP(C62,'Lighting Assumptions'!$D$1:$F$96,2,FALSE),VLOOKUP(C62,'Lighting Assumptions'!$D$1:$F$96,3,FALSE)),\"\")","v":""},null,null,null,null,"",{"$f":"IF($P$47=\"Yes\",IFERROR(IF(VLOOKUP(C62,'Lighting Assumptions'!D:G,4,FALSE)=\"N/A\",F62,IF(VLOOKUP(C62,'Lighting Assumptions'!D:G,4,FALSE)=\"A/A\",F62*1.2,IF(K62>VLOOKUP(C62,'Lighting Assumptions'!D:G,4,FALSE),F62*1.2,F62))),\"\"),F62)","v":""},null,null,null,null,""]
["G","Total",null,{"$f":"SUM(D56:D62)","v":0},null,{"$f":"IFERROR(SUMPRODUCT($D56:$D62,F56:F62)/SUM($D56:$D62),0)","v":0},null,null,null,null,null,{"$f":"IFERROR(SUMPRODUCT($D56:$D62,$L56:$L62)/SUM($D56:$D62),0)","v":0},{"$f":"IFERROR(SUMPRODUCT($D56:$D62,$M56:$M62)/SUM($D56:$D62),0)","v":0},null,null,null,{"$f":"IFERROR(SUMPRODUCT($D56:$D62,$Q56:$Q62)/SUM($D56:$D62),0)","v":0}]
["G"]
["G"]
[null,"Building ID",{"$f":"CONCATENATE(\"Total Space Area \",IF(SI_IP_Units=\"IP\",\"(sq ft)\",\"(sq m)\"))","v":"Total Space Area (sq ft)"},null,null,null,"Average LPD",null,null,null,null,"Total Power"]
["G",null,null,null,null,null,{"$f":"CONCATENATE(\"Baseline Maximum Allowance\",CHAR(10),IF(SI_IP_Units=\"IP\",\"(W/sq ft)\",\"(W/sq m)\"))","v":"Baseline Maximum Allowance\n(W/sq ft)"},null,null,{"$f":"CONCATENATE(\"Design Maximum Allowance\",CHAR(10),IF(SI_IP_Units=\"IP\",\"(W/sq ft)\",\"(W/sq m)\"))","v":"Design Maximum Allowance\n(W/sq ft)"},null,{"$f":"CONCATENATE(\"Baseline Maximum Allowance\",CHAR(10),\"(kW)\")","v":"Baseline Maximum Allowance\n(kW)"},null,null,{"$f":"CONCATENATE(\"Design Maximum Allowance\",CHAR(10),\"(kW)\")","v":"Design Maximum Allowance\n(kW)"}]
[null,{"$f":"B66","v":"Building ID"},{"$f":"C66","v":"Total Space Area (sq ft)"},null,null,null,"Base_LPD",null,null,"Design_LPD",null,"Base_Power",null,null,"Design_Power"]
["G",{"$f":"'Multiple Buildings Details'!B24","v":"Project Name"},{"$f":"SUMIF($B$56:$B$62,\"=\"&B69,$D$56:$D$62)","v":0},null,null,null,{"$f":"IFERROR(SUMPRODUCT(--($B$56:$B$62=$B69),$D$56:$D$62,$L$56:$L$62)/$C69,0)","v":0},null,null,{"$f":"IFERROR(SUMPRODUCT(--($B$56:$B$62=$B69),$D$56:$D$62,$Q$56:$Q$62)/$C69,0)","v":0},null,{"$f":"SUMPRODUCT(--($B$56:$B$62=$B69),$L$56:$L$62,$D$56:$D$62)/1000","v":0},null,null,{"$f":"SUMPRODUCT(--($B$56:$B$62=$B69),$D$56:$D$62,$Q$56:$Q$62)/1000","v":0}]
["G"]
["G","Section 9.6.2 Additional Lighting Power (if applicable)"]
["G","Building ID","Table 9.6.1 Space Type",null,null,"9.6.2 (a) or 9.6.2 (b)",null,null,"Additional Lighting Power Description or Additional Control Method"]
["G",null,null,null,null,{"$f":"IF(SI_IP_Units=\"IP\",\"Floor Area\n(sq ft)\",\"Floor Area\n(sq m)\")","v":"Floor Area\n(sq ft)"},"Additional Power Allowance (W)"]
["G","Helpful Notes","Select the space type from the above table where additional lighting power is installed",null,null,"This should only include the area used for the products being sold  (e.g. in a retail building, the entire floor area would not be expected to be devoted to sales area)"]
["G",{"$f":"B72","v":"Building ID"},{"$f":"C72","v":"Table 9.6.1 Space Type"},null,null,{"$f":"F73","v":"Floor Area\n(sq ft)"},{"$f":"G73","v":"Additional Power Allowance (W)"},null,{"$f":"I72","v":"Additional Lighting Power Description or Additional Control Method"}]
["D",{"$f":"GI_Project_Name","v":"Project Name"}]
[null,"Project Name"]
[null,"Project Name"]
[null,"Project Name"]
[null,"Project Name"]
[null,"Project Name"]
["G","Total",null,null,null,{"$f":"SUM(F76:F81)","v":0},{"$f":"IFERROR(IF(P83=\"Yes\",(SUMPRODUCT($F76:$F81,G76:G81)/SUM($F76:$F81)+1000),SUMPRODUCT($F76:$F81,G76:G81)/SUM($F76:$F81)),0)","v":0}]
["G","Lighting equipment is installed in sales area for highlighting merchandise "]
["G","The additional lighting schedule has been modeled separately from the general lighting schedule to reflect the differing controls (May be modeled only when installed and automatically controlled, separately from the general lighting, to be turned off during non-business hours.)"]
["G","Additional lighting power has been modeled identically in the baseline and proposed up to the value allowed in Section 9.6.2"]
["G"]
["G"]
["G","Building ID","Total Space Area",null,null,null,{"$f":"CONCATENATE(\"Maximum Allowance\",CHAR(10),IF(SI_IP_Units=\"IP\",\"(W/sq ft)\",\"(W/sq m)\"))","v":"Maximum Allowance\n(W/sq ft)"},null,null,null,null,{"$f":"CONCATENATE(\"Design Maximum Allowance\",CHAR(10),\"(kW)\")","v":"Design Maximum Allowance\n(kW)"}]
[null,{"$f":"B88","v":"Building ID"},{"$f":"C88","v":"Total Space Area"},null,null,null,"LPD",null,null,null,null,"Power"]
["G",{"$f":"'Multiple Buildings Details'!B24","v":"Project Name"},{"$f":"SUMIF($B$76:$B$81,\"=\"&B90,$F$76:$F$81)","v":0},null,null,null,{"$f":"IFERROR(SUMIF($B$76:$B$81,\"=\"&B90,$G$76:$G$81)/$C90,0)","v":0},null,null,null,null,{"$f":"SUMIF($B$76:$B$81,\"=\"&B90,$G$76:$G$81)/1000","v":0}]
["G"]
["G"]
["G","Summary"]
[null,{"$f":"\"Total modeled interior lighting power, based on inputs above\"","v":"Total modeled interior lighting power, based on inputs above"}]
["G","Building ID",null,null,null,null,"Average LPD",null,null,null,null,"Total Power"]
["G",null,null,null,null,null,{"$f":"CONCATENATE(\"Baseline Maximum Allowance\",CHAR(10),IF(SI_IP_Units=\"IP\",\"(W/sq ft)\",\"(W/sq m)\"))","v":"Baseline Maximum Allowance\n(W/sq ft)"},null,null,{"$f":"CONCATENATE(\"Design Maximum Allowance\",CHAR(10),IF(SI_IP_Units=\"IP\",\"(W/sq ft)\",\"(W/sq m)\"))","v":"Design Maximum Allowance\n(W/sq ft)"},null,{"$f":"CONCATENATE(\"Baseline Maximum Allowance\",CHAR(10),\"(kW)\")","v":"Baseline Maximum Allowance\n(kW)"},null,null,{"$f":"CONCATENATE(\"Design Maximum Allowance\",CHAR(10),\"(kW)\")","v":"Design Maximum Allowance\n(kW)"}]
[null,{"$f":"B95","v":"Building ID"},null,null,null,null,"Base_LPD",null,null,"Design_LPD",null,"Base_Power",null,null,"Design_Power"]
["G",{"$f":"'Multiple Buildings Details'!B24","v":"Project Name"},null,null,null,null,{"$f":"IF($Z$24=2,\nIFERROR(SUM(SUMIF(L_SxS_SumIndex,\"=\"&$B98,OFFSET(L_SxS_SumIndex,0,MATCH($L$68,L_SxS_SumHdr,0)-1)),SUMIF(L_SXSALP_SumIndex,\"=\"&$B98,OFFSET(L_SXSALP_SumIndex,0,MATCH($L$89,L_SxSALP_SumHdr,0)-1)))/SUMIF(L_SxS_SumIndex,\"=\"&$B98,OFFSET(L_SxS_SumIndex,0,MATCH($C$68,L_SxS_SumHdr,0)-1))*1000,0),\nIFERROR(SUMIF(L_BAM_SumIndex,\"=\"&$B98,OFFSET(L_BAM_SumIndex,0,MATCH($L$42,L_BAM_SumHdr,0)-1))/SUMIF(L_BAM_SumIndex,\"=\"&$B98,OFFSET(L_BAM_SumIndex,0,MATCH($C$42,L_BAM_SumHdr,0)-1))*1000,0))","v":0},null,null,{"$f":"IF($Z$24=2,\nIFERROR(SUM(SUMIF(L_SxS_SumIndex,\"=\"&$B98,OFFSET(L_SxS_SumIndex,0,MATCH($O$68,L_SxS_SumHdr,0)-1)),SUMIF(L_SXSALP_SumIndex,\"=\"&$B98,OFFSET(L_SXSALP_SumIndex,0,MATCH($L$89,L_SxSALP_SumHdr,0)-1)))/SUMIF(L_SxS_SumIndex,\"=\"&$B98,OFFSET(L_SxS_SumIndex,0,MATCH($C$68,L_SxS_SumHdr,0)-1))*1000,0),\nIFERROR(SUMIF(L_BAM_SumIndex,\"=\"&$B98,OFFSET(L_BAM_SumIndex,0,MATCH($O$42,L_BAM_SumHdr,0)-1))/SUMIF(L_BAM_SumIndex,\"=\"&$B98,OFFSET(L_BAM_SumIndex,0,MATCH($C$42,L_BAM_SumHdr,0)-1))*1000,0))","v":0},null,{"$f":"IF($Z$24=2,\nIFERROR(SUM(SUMIF(L_SxS_SumIndex,\"=\"&$B98,OFFSET(L_SxS_SumIndex,0,MATCH($L$68,L_SxS_SumHdr,0)-1)),SUMIF(L_SXSALP_SumIndex,\"=\"&$B98,OFFSET(L_SXSALP_SumIndex,0,MATCH($L$89,L_SxSALP_SumHdr,0)-1))),0),\nIFERROR(SUMIF(L_BAM_SumIndex,\"=\"&$B98,OFFSET(L_BAM_SumIndex,0,MATCH($L$42,L_BAM_SumHdr,0)-1)),0))","v":0},null,null,{"$f":"IF($Z$24=2,\nIFERROR(SUM(SUMIF(L_SxS_SumIndex,\"=\"&$B98,OFFSET(L_SxS_SumIndex,0,MATCH($O$68,L_SxS_SumHdr,0)-1)),SUMIF(L_SXSALP_SumIndex,\"=\"&$B98,OFFSET(L_SXSALP_SumIndex,0,MATCH($L$89,L_SxSALP_SumHdr,0)-1))),0),\nIFERROR(SUMIF(L_BAM_SumIndex,\"=\"&$B98,OFFSET(L_BAM_SumIndex,0,MATCH($O$42,L_BAM_SumHdr,0)-1)),0))","v":0}]
["G"]
["G","Interior Process Lighting (if applicable)"]
["G","Building ID","Description",null,null,null,"Section 9.2.2.3 Exemption",null,null,null,null,"Total Process Lighting Power (W)",null,null,"Modeled Identically In Baseline?"]
["G","Helpful Notes","Describe any process lighting included in the design (example: 4 kW stage lighting and 20 3-Watt exit signs)",null,null,null,"Indicate the specific exemption from Section 9.2.2.3 that excludes the lighting from the Section 9.5 or Section 9.6 lighting power density requirements [example: Stage lighting - 9.2.2.3(f); Exit signs - 9.2.2.3(k)]",null,null,null,null,null,null,null,"Any lighting not regulated by ASHRAE 90.1 is considered process and must be modeled identically in the Proposed and Baseline case unless an Exceptional Calculation is submitted."]
["G",{"$f":"B101","v":"Building ID"},{"$f":"C101","v":"Description"},null,null,null,{"$f":"G101","v":"Section 9.2.2.3 Exemption"},null,null,null,null,{"$f":"L101","v":"Total Process Lighting Power (W)"},null,null,{"$f":"O101","v":"Modeled Identically In Baseline?"}]
["G",{"$f":"GI_Project_Name","v":"Project Name"}]
["G",{"$f":"GI_Project_Name","v":"Project Name"}]
["G",{"$f":"GI_Project_Name","v":"Project Name"}]
["G"]
["G","Exterior Lighting"]
["G","Instructions: Select the applicable exterior lighting categories and then complete the corresponding lighting table(s). An example of the expected level of detail has been provided for each input. Please refer to the column header notes for information about Appendix G modeling protocol. For any information not applicable to the project, simply enter \"N/A\"."]
["G","Exterior Lighting Requirements"]
["G","No additional lighting power allowance has been claimed in the baseline for surfaces that are not provided with lighting in the actual design and lighting fixtures have not been double-counted for different exterior surfaces"]
["G"]
["G","Table 9.4.3A Exterior Lighting Zone"]
["G","Lighting Zone","Zone Description",null,null,null,null,null,null,null,null,null,"Base Allowance \n(W)"]
[null,"Inex","Description",null,null,null,null,null,null,null,null,null,"Allowance"]
["G",null,{"$f":"IFERROR(VLOOKUP($B116,'Lighting Assumptions'!V3:X7,2,FALSE),\"\")","v":""},null,null,null,null,null,null,null,null,null,{"$f":"IFERROR(VLOOKUP($B116,'Lighting Assumptions'!V3:X7,3,FALSE),\"\")","v":""}]
["G"]
["G","Tradable Surfaces"]
["G","This table is only required to be completed if Tradable Exterior Lighting is selected above."]
["G","General Information",null,null,null,null,null,null,"Baseline",null,null,null,"Proposed"]
["G","Table 9.4.5 Tradable Exterior Lighting Application",null,null,null,"Required Input (Area or Length)",null,{"$f":"IF(SI_IP_Units=\"IP\",\"Total Area \n(sq ft) \nor Length \n(ft)\",\"Total Area \n(sq m) \nor Length \n(m)\")","v":"Total Area \n(sq ft) \nor Length \n(ft)"},"Allowed LPD","Lighting Power Allowance \n(W)",null,null,"Design Lighting Power \n(W)"]
["G","Table 9.4.5 Tradable Exterior Lighting Application",null,null,null,"Required Input (Area or Length)",null,{"$f":"IF(SI_IP_Units=\"IP\",\"Total Area \n(sq ft) \nor Length \n(ft)\",\"Total Area \n(sq m) \nor Length \n(m)\")","v":"Total Area \n(sq ft) \nor Length \n(ft)"},"Allowed LPD","Lighting Power Allowance \n(W)",null,null,"Design Lighting Power \n(W)"]
[null,"Helpful Notes","Fixtures cannot be double-counted for multiple exterior surface types",null,null,null,null,"Only enter area or length of illuminated surface in the design","Allowance calculated using the maximum lighting power density from Table 9.4.5",null,null,null,"Lighting power should be modeled as designed (or installed)"]
["C",null,null,null,null,{"$f":"IFERROR(VLOOKUP(B124,'Lighting Assumptions'!$I$4:$J$17,2,FALSE),\"\")","v":""},null,null,{"$f":"IFERROR(INDEX(ZoneTable,MATCH(B124,INDEX(ZoneTable,,1),0),MATCH($B$116&\" \"&SI_IP_Units,INDEX(ZoneTable,3,),0)),\"\")","v":""},{"$f":"IFERROR(H124*I124,\"\")","v":""}]
[null,null,null,null,null,{"$f":"IFERROR(VLOOKUP(B125,'Lighting Assumptions'!$I$4:$J$17,2,FALSE),\"\")","v":""},null,null,{"$f":"IFERROR(INDEX(ZoneTable,MATCH(B125,INDEX(ZoneTable,,1),0),MATCH($B$116&\" \"&SI_IP_Units,INDEX(ZoneTable,3,),0)),\"\")","v":""},{"$f":"IFERROR(H125*I125,\"\")","v":""}]
[null,null,null,null,null,{"$f":"IFERROR(VLOOKUP(B126,'Lighting Assumptions'!$I$4:$J$17,2,FALSE),\"\")","v":""},null,null,{"$f":"IFERROR(INDEX(ZoneTable,MATCH(B126,INDEX(ZoneTable,,1),0),MATCH($B$116&\" \"&SI_IP_Units,INDEX(ZoneTable,3,),0)),\"\")","v":""},{"$f":"IFERROR(H126*I126,\"\")","v":""}]
[null,null,null,null,null,{"$f":"IFERROR(VLOOKUP(B127,'Lighting Assumptions'!$I$4:$J$17,2,FALSE),\"\")","v":""},null,null,{"$f":"IFERROR(INDEX(ZoneTable,MATCH(B127,INDEX(ZoneTable,,1),0),MATCH($B$116&\" \"&SI_IP_Units,INDEX(ZoneTable,3,),0)),\"\")","v":""},""]
["G","Total tradable surface lighting allowance",null,null,null,null,null,null,null,{"$f":"IFERROR(SUM(J124:J127),\"\")","v":0},null,null,{"$f":"IFERROR(SUM(M124:M127),\"\")","v":0}]
["G"]
["G"]
["G","Nontradable Surfaces"]
["G","This table is only required to be completed if Nontradable Exterior Lighting is selected above."]
["G","General Information",null,null,null,null,null,null,"Baseline",null,null,null,"Proposed"]
["G","Table 9.4.5 Nontradable Exterior Lighting Application",null,null,null,"Required Input",null,"Quantity of Required Input for Project","Allowed LPD","Lighting Power Allowance \n(W)",null,null,"Design Lighting Power \n(W)",null,null,null,null,null,null,null,null,null,"Adjusted Baseline (equal to lesser of proposed or baseline allowance)","Proposed"]
[null,"Helpful Notes","•  Only enter area or length of illuminated surface in the design\n•  Fixtures cannot be double-counted for multiple exterior surface types",null,null,null,null,null,"Total allowance calculated using the lesser of the design lighting power, or the lighting power allowance used, since no credit is permitted for nontradable surfaces.",null,null,null,"Lighting power should be modeled as designed (or installed)"]
[null,"Index",null,null,null,{"$f":"F134","v":"Required Input"},null,{"$f":"H134","v":"Quantity of Required Input for Project"},{"$f":"I134","v":"Allowed LPD"},{"$f":"J134","v":"Lighting Power Allowance \n(W)"},null,null,{"$f":"M134","v":"Design Lighting Power \n(W)"}]
["G","Building facades",null,null,null,"Area",null,null,{"$f":"IF(SI_IP_Units=\"IP\",\nIF(ISBLANK(F137),0,IF(OR(B116=\"Zone 0\",B116=\"Zone 1\"),0,IF(B116=\"Zone 2\",IF(F137=\"Area\",0.1,2.5),IF(B116=\"Zone 3\",IF(F137=\"Area\",0.15,3.75),IF(B116=\"Zone 4\",IF(F137=\"Area\",0.2,5),\"\"))))),IF(ISBLANK(F137),0,IF(OR(B116=\"Zone 0\",B116=\"Zone 1\"),0,IF(B116=\"Zone 2\",IF(F137=\"Area\",1.1,6),IF(B116=\"Zone 3\",IF(F137=\"Area\",1.6,12.3),IF(B116=\"Zone 4\",IF(F137=\"Area\",2.2,16.4),\"\")))))\n)","v":""},{"$f":"IFERROR(H137*I137,\"\")","v":""},null,null,null,null,null,null,null,null,null,null,null,null,{"$f":"IF(ISERROR(1/M137),0,MIN(J137,M137))","v":0},{"$f":"M137","v":0},{"$f":"IF(M137>J137,TRUE,FALSE)","v":false}]
["G","ATMs and night depositories",null,null,null,"Number of ATMs",null,null,"270 W + 90 W per additional",{"$f":"IFERROR(IF(H138>0,IF(H138=1,270,(270+(H138-1)*90)),\"\"),\"\")","v":""},null,null,null,null,null,null,null,null,null,null,null,null,0,0,false]
["G","Entrances and gatehouse inspection stations at guarded facilities",null,null,null,"Uncovered Area",null,null,{"$f":"IF(SI_IP_Units=\"IP\",0.75,8.1)","v":0.75},{"$f":"IFERROR(H139*I139,\"\")","v":0},null,null,null,null,null,null,null,null,null,null,null,null,0,0,false]
["G","Loading areas for law enforcement, fire, ambulance, and other emergency service vehicles",null,null,null,"Uncovered Area",null,null,{"$f":"IF(SI_IP_Units=\"IP\",0.5,5.4)","v":0.5},{"$f":"IFERROR(H140*I140,\"\")","v":0},null,null,null,null,null,null,null,null,null,null,null,null,0,0,false]
["G","Drive-through windows at fast food restaurants",null,null,null,"Drive-throughs",null,null,400,{"$f":"IFERROR(H141*I141,\"\")","v":0},null,null,null,null,null,null,null,null,null,null,null,null,0,0,false]
["G","Parking near 24-hour retail entrances",null,null,null,"Main Entries",null,null,800,{"$f":"IFERROR(H142*I142,\"\")","v":0},null,null,null,null,null,null,null,null,null,null,null,null,0,0,false]
["G","Total nontradable surface lighting allowance",null,null,null,null,null,null,null,{"$f":"IFERROR(SUM(W137:W142),\"\")","v":0},null,null,{"$f":"IFERROR(SUM(M137:M142),\"\")","v":0},null,null,null,null,null,null,null,null,null,{"$f":"SUM(W137:W142)+$M$116","v":{"$error":"#VALUE!"}},{"$f":"SUM(X137:X142)","v":0},{"$f":"IF(X143>W143,TRUE,FALSE)","v":{"$error":"#VALUE!"}},"value is True if the base allowance plus adjusted baseline is less than proposed"]
["G"]
["G","Summary"]
["G","Input Parameter",null,null,null,null,null,null,null,"Baseline",null,null,"Proposed"]
[null,"Index",null,null,null,null,null,null,null,"Base",null,null,"Design"]
["G","Total modeled exterior lighting power, including base allowance, based on inputs above (kW)",null,null,null,null,null,null,null,{"$f":"IFERROR(($J$128+$J$143+$M$116)/1000,0)","v":0},null,null,{"$f":"IFERROR(($M$128+$M$143)/1000,0)","v":0},null,null,null,null,null,null,null,null,null,null,null,{"$f":"IF(M148>J148,TRUE,FALSE)","v":false}]
["G"]
["G","Additional notes:"]
["G"]

{"sheet":"Lighting Assumptions","index":11,"n_rows":96,"n_cols":24,"rows_kept":96,"cut":false,"hidden":true,"merged":[[0,0,1,0],[0,3,1,3],[0,4,0,5],[0,22,1,22],[0,23,1,23],[0,9,1,9],[0,8,1,8],[0,21,1,21],[0,1,0,2],[0,6,1,6]]}
["Building Area Method Categories","Table 9.5.1 LPD",null,"Space by Space Categories","Table 9.6.1 \nLPD ",null,"Table 9.6.1 RCR Threshold ",null,"Tradable Surfaces","Required Input","Zone 0","Zone 1","Zone 2","Zone 3","Zone 4","Zone 0","Zone 1","Zone 2","Zone 3","Zone 4",null,"Lighting Zone","Zone Description","Base Allowance\n(W)"]
[null,"(W/sq ft)","(W/sq m)",null,"(W/sq ft)","(W/sq m)",null,null,null,null,"IP","IP","IP","IP","IP","SI","SI","SI","SI","SI"]
["Automotive facility",0.82,8.8000000000000007,"Atrium - first 40 ft (13 m) in height",0.03,1.0589999999999999,"N/A",null,null,null,{"$f":"K1&\" \"&K2","v":"Zone 0 IP"},"Zone 1 IP","Zone 2 IP","Zone 3 IP","Zone 4 IP","Zone 0 SI","Zone 1 SI","Zone 2 SI","Zone 3 SI","Zone 4 SI",null,"Zone 0","Undeveloped areas within national parks, state parks, forest land, rural areas, and other undeveloped areas as defined by the authority having jurisdiction",0]
["Convention center",1.08,11.6,"Atirum - height above 40 ft (13 m)",0.02,0.70599999999999996,"N/A",null,"Parking areas and drives","Area",0,0.04,0.06,0.1,0.13,0,0.43,0.65,1.1000000000000001,1.4,null,"Zone 1","Developed areas of national parks, state parks, forest land, and rural areas",500]
["Courthouse",1.05,11.3,"Audience/seating  - auditorium",0.79,8.5,6,null,"Walkways less than 10 ft wide","Length",0,0.7,0.7,0.8,1,0,2.2999999999999998,2.2999999999999998,2.6,3.3,null,"Zone 2","Areas predominantly consisting of residential zoning, neighborhood business districts, light industrial with limited nighttime use and residential mixed use areas",600]
["Dining: bar lounge/leisure",0.99,10.7,"Audience/seating  - performing arts theater",2.4300000000000002,26.2,8,null,"Walkways 10 ft wide or greater","Area",0,0.14000000000000001,0.14000000000000001,0.16,0.2,0,1.5,1.5,1.7,2.2000000000000002,null,"Zone 3","All other areas",750]
["Dining: cafeteria/fast food",0.9,9.6999999999999993,"Audience/seating  - motion picture theater",1.1399999999999999,12.3,4,null,"Plaza areas","Area",0,0.14000000000000001,0.14000000000000001,0.16,0.2,0,1.5,1.5,1.7,2.2000000000000002,null,"Zone 4","High activity commercial districts in major metropolitan areas as designated by the local jurisdiction",1300]
["Dining: family",0.89,9.6,"Classroom/lecture/training",1.24,13.3,4,null,"Special feature areas","Area",0,0.75,1,1,1,0,1.5,1.5,1.7,2.2000000000000002]
["Dormitory",0.61,6.6,"Conference/meeting/multipurpose",1.23,13.2,6,null,"Pedestrian tunnels","Area",0,0.15,0.15,0.2,0.3,0,1.6,1.6,2.2000000000000002,3.2]
["Exercise center",0.88,9.5,"Corridor/transition",0.66,7.1,"A/A",null,"Landscaping","Area",0,0.04,0.05,0.05,0.05,0,0.43,0.54,0.54,0.54]
["Fire Station",0.71,7.6,"Dining area - bar lounge/leisure dining",1.31,14.1,4,null,"Stairways","Area",0,0.75,1,1,1,0,8.1,10.8,10.8,10.8]
["Gymnasium",1,10.8,"Dining area - family dining",0.89,9.6,4,null,"Main entries","Length",0,20,20,30,30,0,66,66,98,98]
["Health-care clinic",0.87,9.4,"Dressing/fitting room: performing arts theater",0.4,4.3,6,null,"Other doors","Length",0,20,20,20,20,0,66,66,66,66]
["Hospital",1.21,13,"Electrical/mechanical",0.95,10.199999999999999,6,null,"Entry Canopies","Area",0,0.25,0.25,0.4,0.4,0,2.7,2.7,4.3,4.3]
["Hotel",1,10.8,"Food preparation",0.99,10.7,6,null,"Sales Canopies (free standing, attached and overhangs)","Area",0,0.6,0.6,0.8,1,0,6.5,6.5,8.6,10.8]
["Library",1.18,12.7,"Laboratory - classroom",1.28,13.8,6,null,"Outdoor Open sales areas (including vehicle sales lots)","Area",0,0.25,0.25,0.5,0.7,0,2.7,2.7,5.4,7.5]
["Manufacturing facility",1.1100000000000001,11.9,"Laboratory - medical/industrial/research",1.81,19.5,6,null,"Street frontage for vehicle sales lots","Length",0,0,10,10,30,0,0,33,33,98]
["Motel",0.88,9.5,"Lobby",0.9,9.68,4]
["Motion picture theater",0.83,8.9,"Lobby- elevator",0.64,6.88,6]
["Multifamily",0.6,6.5,"Lobby - performing arts theater",2,21.5,6]
["Museum",1.06,11.4,"Lobby - motion picture theater",0.52,5.6,4]
["Office",0.9,9.6999999999999993,"Locker room",0.75,8.1,6]
["Parking garage",0.25,2.7,"Lounge/recreation",0.73,7.9,4]
["Penitentiary",0.97,10.4,"Office - enclosed",1.1100000000000001,11.9,8]
["Performing arts theater",1.39,15,"Office - open plan",0.98,10.5,4]
["Police station",0.96,10.3,"Restrooms",0.98,10.5,8]
["Post office",0.87,9.4,"Sales area",1.68,18.100000000000001,6]
["Religious building",1.05,11.3,"Stairway",0.69,7.4,10]
["Retail",1.4,15.1,"Storage",0.63,6.8,6]
["School/university",0.99,10.7,"Workshop",1.59,17.100000000000001,6]
["Sports arena",0.78,8.4,"Automotive - service/repair",0.67,7.2,4]
["Town hall",0.92,9.9,"Bank/office - banking activity area",1.38,14.9,6]
["Transportation",0.77,8.3000000000000007,"Convention center - audience seating",0.82,8.8000000000000007,4]
["Warehouse",0.66,7.1,"Convention center - exhibit space",1.45,15.6,4]
["Workshop",1.2,12.9,"Court/police/penitentiary - courtroom",1.72,18.5,6]
[null,null,null,"Court/police/penitentiary -  confinement cells",1.1000000000000001,11.8,6]
[null,null,null,"Court/police/penitentiary -  judges' chambers",1.17,12.6,8]
[null,null,null,"Penitentiary audience seating",0.43,4.5999999999999996,4]
[null,null,null,"Penitentiary classroom",1.34,14.4,4]
[null,null,null,"Penitentiary dining",1.07,11.5,6]
[null,null,null,"Dormitory - living quarters",0.38,4.0999999999999996,8]
[null,null,null,"Fire station - engine room",0.56000000000000005,6,4]
[null,null,null,"Fire station - sleeping quarters",0.25,2.7,6]
[null,null,null,"Gym/fitness center - fitness area",0.72,7.8,4]
[null,null,null,"Gymnasium audience seating",0.43,4.5999999999999996,6]
[null,null,null,"Gymnasium/fitness center - playing area",1.2,12.9,4]
[null,null,null,"Hospital - corridor/transition",0.89,9.6,"A/A"]
[null,null,null,"Hospital - emergency",2.2599999999999998,24.3,6]
[null,null,null,"Hospital - exam/treatment",1.66,17.899999999999999,8]
[null,null,null,"Hospital - laundry/washing",0.6,6.5,4]
[null,null,null,"Hospital - lounge/recreation",1.07,11.5,6]
[null,null,null,"Hospital - medical supply",1.27,13.7,6]
[null,null,null,"Hospital - nursery",0.88,9.5,6]
[null,null,null,"Hospital - nurses' station",0.87,9.4,6]
[null,null,null,"Hospital - operating room",1.89,20.3,6]
[null,null,null,"Hospital - patient room",0.62,6.7,6]
[null,null,null,"Hospital - pharmacy",1.1399999999999999,12.3,6]
[null,null,null,"Hospital - physical therapy",0.91,9.8000000000000007,6]
[null,null,null,"Hospital - radiology/imaging",1.32,14.2,6]
[null,null,null,"Hospital - recovery",1.1499999999999999,12.4,6]
[null,null,null,"Hotel dining",0.82,8.8000000000000007,4]
[null,null,null,"Hotel guest rooms",1.1100000000000001,11.9,6]
[null,null,null,"Hotel lobby",1.06,11.4,4]
[null,null,null,"Highway lodging dining",0.88,9.5,4]
[null,null,null,"Highway lodging guest rooms",0.75,8.1,6]
[null,null,null,"Library - card file and cataloging",0.72,7.8,4]
[null,null,null,"Library - reading area",0.93,10,4]
[null,null,null,"Library - stacks",1.71,18.399999999999999,4]
[null,null,null,"Manufacturing - corridor/transition ",0.41,4.4000000000000004,"A/A"]
[null,null,null,"Manufacturing - detailed manufacturing ",1.29,13.9,4]
[null,null,null,"Manufacturing - equipment room ",0.95,10.199999999999999,6]
[null,null,null,"Manufacturing - extra high bay ",1.05,11.3,4]
[null,null,null,"Manufacturing - high bay ",1.23,13.2,4]
[null,null,null,"Manufacturing - low bay ",1.19,12.8,4]
[null,null,null,"Museum - general exhibition ",1.05,11.3,6]
[null,null,null,"Museum - restoration",1.02,11,6]
[null,null,null,"Parking garage - garage area",0.19,2,4]
[null,null,null,"Post office - sorting area",0.94,10.1,4]
[null,null,null,"Religious buildings - audience seating ",1.53,16.5,4]
[null,null,null,"Religious buildings - fellowship hall ",0.64,6.9,4]
[null,null,null,"Religious buildings - worship pulpit, choir",1.53,16.5,4]
[null,null,null,"Retail - dressing/fitting room ",0.87,9.4,8]
[null,null,null,"Retail - mall concourse ",1.1000000000000001,11.8,4]
[null,null,null,"Retail - sales area (see 9.6.3(c) for accent ltg)",1.68,18.100000000000001,6]
[null,null,null,"Sports arena - audience seating ",0.43,4.5999999999999996,4]
[null,null,null,"Sports arena - court sports arena—class 4 ",0.72,7.8,4]
[null,null,null,"Sports arena - court sports arena—class 3 ",1.2,12.9,4]
[null,null,null,"Sports arena - court sports arena—class 2 ",1.92,20.7,4]
[null,null,null,"Sports arena - court sports arena—class 1 ",3.01,32.4,4]
[null,null,null,"Sports arena - ring sports arena",2.68,28.8,4]
[null,null,null,"Transportation - air/train/bus—baggage area ",0.76,8.1999999999999993,4]
[null,null,null,"Transportation - airport—concourse ",0.36,3.9,4]
[null,null,null,"Transportation - audience seating ",0.54,5.8,4]
[null,null,null,"Transportation - terminal—ticket counter",1.08,11.6,4]
[null,null,null,"Warehouse - fine material storage",0.95,10.199999999999999,6]
[null,null,null,"Warehouse - medium/bulky material storage",0.57999999999999996,6.2,4]

{"sheet":"Process Loads","index":12,"n_rows":88,"n_cols":14,"rows_kept":88,"cut":false,"hidden":false,"merged":[[69,7,69,8],[4,1,4,6],[41,2,41,3],[42,2,42,3],[43,2,43,3],[44,2,44,3],[28,6,28,8],[38,2,38,3],[38,7,38,8],[21,2,21,3],[21,7,21,8],[19,2,19,3],[23,2,23,3],[24,2,24,3],[20,2,20,3],[64,7,64,8],[64,2,64,3],[66,2,66,3],[67,2,67,3],[65,7,65,8],[65,2,65,3],[66,7,66,8],[19,7,19,8],[22,7,22,8],[23,7,23,8],[24,7,24,8],[25,7,25,8],[20,7,20,8],[42,7,42,8],[25,2,25,3],[26,2,26,3],[37,2,37,3],[37,7,37,8],[68,2,68,3],[60,2,60,7],[61,2,61,7],[7,1,7,7],[9,1,9,7],[12,1,12,8],[11,1,11,8],[15,6,15,8],[15,1,15,5],[43,7,43,8],[44,7,44,8],[45,7,45,8],[22,2,22,3],[26,7,26,8],[27,7,27,8],[41,7,41,8],[87,1,87,8],[70,2,70,3],[71,2,71,3],[72,2,72,3],[73,2,73,3],[83,1,83,8],[70,7,70,8],[71,7,71,8],[72,7,72,8],[73,7,73,8],[69,2,69,3],[27,2,27,3],[28,1,28,3],[36,2,36,3],[39,2,39,3],[40,2,40,3],[29,1,29,7],[36,7,36,8],[39,7,39,8],[40,7,40,8],[45,2,45,3],[46,1,46,3],[67,7,67,8],[68,7,68,8],[46,6,46,8],[47,1,47,7]]}
["G"]
["G","Process Loads"]
["G"]
["G"]
["G","Instructions: Select the method(s) used to model receptacle equipment, and then complete the corresponding receptacle equipment table(s). Non-receptacle process equipment should be reported in the last table. Please refer to the column header notes for information about Appendix G modeling protocol. For any information not applicable to the project, simply enter \"N/A\"."]
["G"]
["G","Process Load Requirements"]
["G","At least 50% of all 125 volt 15 and 20 Amper receptacles installed in private offices, open offices, and computer classrooms shall be controlled by an automatic device which functions on a scheduled basis, an occupant sensor, or a signal from another control system that indicates the area is unoccupied, in accordance with Section 8.4.2."]
["G"]
["G","All receptacle equipment and other process equipment designed or anticipated for the building have been accounted for in the energy models."]
["G"]
["G","If not all the process equipment has been accounted for in the energy model, indicated as \"No\" above, the project does not likely comply with LEED modeling requirements. It is recommended that the project team pursue a \"Credit Interpretation Ruling\" to justify the modeling approach. Please also provide any further information below to justify the modeling approach used."]
["G"]
["G"]
["G","Receptacle Equipment Modeling Method"]
["G","Indicate whether the receptacle equipment was modeled using an average equipment power density for the building, equipment power densities by space type, or by entering the power associated with specific devices in each space.  (select all that apply)",null,null,null,null,"     Building average equipment power density\n\n     Space by space equipment power density",null,null,null,null,null,false,false]
["G"]
["G","Building Average Equipment Power Density"]
["G"]
["G","Building ID","Building Type",null,{"$f":"IF('General Information'!$I$12=\"IP\",\"Total Building Type Area\n(sq ft)\",\"Total Building Type Area\n(sq m)\")","v":"Total Building Type Area\n(sq ft)"},{"$f":"IF('General Information'!$I$12=\"IP\",\"Equipment Power Density\n(W/sq ft)\",\"Equipment Power Density\n(W/sq m)\")","v":"Equipment Power Density\n(W/sq ft)"},"Equipment Included in Power Density","Baseline Modeled Identically"]
[]
[null,{"$f":"'Multiple Buildings Details'!B24","v":"Project Name"},{"$f":"\"Hotel\"","v":"Hotel"}]
["A",{"$f":"GI_Project_Name","v":"Project Name"},null,null,null,null,null,null,null,null,null,{"$f":"IF(H23=\"No\",\"Submit savings using Exceptional Calculation\",\"\")","v":""}]
[null,"Project Name",null,null,null,null,null,null,null,null,null,""]
[null,"Project Name",null,null,null,null,null,null,null,null,null,""]
[null,"Project Name",null,null,null,null,null,null,null,null,null,""]
[null,"Project Name",null,null,null,null,null,null,null,null,null,""]
[null,"Project Name",null,null,null,null,null,null,null,null,null,""]
["G","Totals",null,null,{"$f":"SUM($E$22:$E$28)","v":0},{"$f":"IFERROR(SUMPRODUCT($E$22:$E$28,$F$22:$F$28)/SUM($E$22:$E$28),0)","v":0}]
["G","Total power modeled using building average method (kW)",null,null,null,null,null,null,{"$f":"SUMPRODUCT($E$22:$E$28,$F$22:$F$28)/1000","v":0}]
["G","Note: Any credit for improved receptacle equipment must be submitted using the Exceptional Calculation Method."]
[null,{"$f":"IF(ResDwellingUnitsExist=\"Yes\",\"Note: The above table is for spaces other than dwelling units.  To enter dwelling unit values, use the Multifamily Details tab.\",\"\")","v":""}]
["G"]
["G"]
["G","Space by Space Equipment Power Densities"]
["G"]
["G","Building ID","Building Type",null,{"$f":"IF('General Information'!$I$12=\"IP\",\"Total Space Type Area\n(sq ft)\",\"Total Space Type Area\n(sq m)\")","v":"Total Space Type Area\n(sq ft)"},{"$f":"IF('General Information'!$I$12=\"IP\",\"Equipment Power Density\n(W/sq ft)\",\"Equipment Power Density\n(W/sq m)\")","v":"Equipment Power Density\n(W/sq ft)"},"Equipment Included in Power Density","Baseline Modeled Identically"]
[]
[null,{"$f":"'Multiple Buildings Details'!B24","v":"Project Name"},{"$f":"\"Hotel guest rooms\"","v":"Hotel guest rooms"}]
["B",{"$f":"GI_Project_Name","v":"Project Name"},null,null,null,null,null,null,null,null,null,{"$f":"IF(H40=\"No\",\"Submit savings using Exceptional Calculation\",\"\")","v":""}]
[null,"Project Name",null,null,null,null,null,null,null,null,null,""]
[null,"Project Name",null,null,null,null,null,null,null,null,null,""]
[null,"Project Name",null,null,null,null,null,null,null,null,null,""]
[null,"Project Name",null,null,null,null,null,null,null,null,null,""]
[null,"Project Name",null,null,null,null,null,null,null,null,null,""]
[null,"Project Name",null,null,null,null,null,null,null,null,null,""]
["G","Totals",null,null,{"$f":"SUM($E$39:$E$46)","v":0},{"$f":"IFERROR(SUMPRODUCT($E$39:$E$46,$F$39:$F$46)/SUM($E$39:$E$46),0)","v":0}]
["G","Total power modeled using space by space method (kW)",null,null,null,null,null,null,{"$f":"SUMPRODUCT($E$39:$E$46,$F$39:$F$46)/1000","v":0}]
[null,"Note: Any credit for improved receptacle equipment must be submitted using the Exceptional Calculation Method."]
["G",{"$f":"IF(ResDwellingUnitsExist=\"Yes\",\"Note: The above table is for spaces other than dwelling units.  To enter dwelling unit values, use the Multifamily Details tab.\",\"\")","v":""}]
["G"]
["G"]
[null,"Residential Equipment Calculator"]
[]
[null,"Load Soure","Energy Star",null,"EFLH"]
[]
[]
[]
[]
["G","Summary"]
["G","Building ID","Input Parameter",null,null,null,null,null,"kW"]
[null,{"$f":"'Multiple Buildings Details'!B24","v":"Project Name"},{"$f":"\"Total power for receptacle equipment\"","v":"Total power for receptacle equipment"},null,null,null,null,null,{"$f":"IF($N$16=TRUE,SUMPRODUCT(--($B$39:$B$46=$B62),$E$39:$E$46,$F$39:$F$46)/1000,0)+IF($M$16=TRUE,SUMPRODUCT(--($B$22:$B$28=$B62),$E$22:$E$28,$F$22:$F$28)/1000,0)","v":0}]
["G"]
["G","Non-Receptacle Process Equipment"]
["G","Building ID","Equipment Type ",null,"Energy \nSource",{"$f":"IF('General Information'!$I$12=\"IP\",\"Energy Demand \n(kW for electricity) \n(Btuh for non-electricity)\",\"\nEnergy Demand (kW)\")","v":"Energy Demand \n(kW for electricity) \n(Btuh for non-electricity)"},"Modeling Parameters","Baseline Modeled Identically"]
[null,"Helpful Notes","Modify equipment types as necessary.\n\nNote: Complete the Data Center Calculator (found under the \"Resources\" tab of the Credit Library) in order to claim credit for data center equipment.",null,null,null,"Provide a description of the equipment, the operating schedule, and any latent and sensible loads modeled in the associated space (example: 15 kW electric range with hood; operates 2 full load hours/day; 6.3 kBtu/h (1.8 kW) sensible heat gain).","All process loads must be modeled identically between the Proposed and Baseline case and included in the simulations per Table G3.1#12.\n\nException: When the process or receptacle equipment includes components regulated by minimum efficiency requirements in ASHRAE 90.1, these components may be modeled in the Baseline Case using the minimum ASHRAE 90.1 efficiencies, and in the proposed case using actual proposed case efficiencies (e.g. Baseline may be modeled using furnace efficiencies from Table 6.8.1E, boiler efficiencies from Table 6.8.1G, chiller efficiencies from Table 6.8.1C or Section 6.4.1.2, or motor efficiency from Section 10.4)."]
["C",{"$f":"GI_Project_Name","v":"Project Name"},null,null,null,null,null,null,null,null,null,{"$f":"IF(H67=\"No\",\"Submit savings using Exceptional Calculation\",\"\")","v":""}]
[null,"Project Name","Refrigeration equipment",null,null,null,null,null,null,null,null,""]
[null,"Project Name","Kitchen equipment",null,null,null,null,null,null,null,null,""]
[null,"Project Name","Data center equipment",null,null,null,null,null,null,null,null,""]
[null,"Project Name","Process exhaust fans",null,null,null,null,null,null,null,null,""]
[null,"Project Name","Escalators",null,null,null,null,null,null,null,null,""]
[null,"Project Name",null,null,null,null,null,null,null,null,null,""]
[null,"Project Name",null,null,null,null,null,null,null,null,null,""]
["G","Note: Any credit for improved process equipment must be submitted using the Exceptional Calculation Method."]
["G"]
["G"]
["G","Garage Fan Power Calculation"]
[]
[]
["G","Building ID","Total Design Fan Power (kW)","Total Base Fan Power (kW)",{"$f":"CONCATENATE(\"Ventilated Parking Area \",IF(SI_IP_Units=\"IP\",\"(square feet)\",\"(square meter)\"))","v":"Ventilated Parking Area (square feet)"},{"$f":"CONCATENATE(\"Proposed Airflow \",IF(SI_IP_Units=\"IP\",\"CFM\",\"M/S\"))","v":"Proposed Airflow CFM"},{"$f":"CONCATENATE(\"Baseline Airflow \",IF(SI_IP_Units=\"IP\",\"CFM\",\"M/S\"))","v":"Baseline Airflow CFM"},"Design EFLH","Base EFLH"]
["D",{"$f":"GI_Project_Name","v":"Project Name"},null,"Same as Design",null,null,"Same as Design",null,"Same as Design"]
[null,{"$f":"GI_Project_Name","v":"Project Name"},null,"Same as Design",null,null,"Same as Design",null,"Same as Design"]
["G",{"$f":"\"Note: \"&CHAR(10)&\n\"1.  The Baseline parking area must meet the requirements of ASHRAE 90.1-2010 Section 6.4.3.4.5 which establish mandatory Demand\"&CHAR(10)&\"     Controlled Ventilation (DCV).\"&CHAR(10)&\n\"2.  Fan power for the Baseline case is limited to 0.3 W/CFM\"&CHAR(10)&\n\"3.  Additional requirements are listed in LEED Interpretation #10371 which outlines DCV as an Energy Conservation Measure (ECM) in\"&CHAR(10)&\"     garage areas.\"","v":"Note: \n1.  The Baseline parking area must meet the requirements of ASHRAE 90.1-2010 Section 6.4.3.4.5 which establish mandatory Demand\n     Controlled Ventilation (DCV).\n2.  Fan power for the Baseline case is limited to 0.3 W/CFM\n3.  Additional requirements are listed in LEED Interpretation #10371 which outlines DCV as an Energy Conservation Measure (ECM) in\n     garage areas."}]
["G"]
["G"]
["G"]
["G"]

{"sheet":"Service Water Heating","index":13,"n_rows":73,"n_cols":13,"rows_kept":73,"cut":false,"hidden":false,"merged":[[45,1,45,12],[46,1,46,12],[8,2,8,4],[8,6,8,8],[8,10,8,12],[33,3,33,4],[33,6,33,8],[33,10,33,12],[21,1,21,4],[21,6,21,8],[21,10,21,12],[31,1,31,4],[31,6,31,8],[31,10,31,12],[26,1,26,12],[20,1,20,4],[20,6,20,8],[20,10,20,12],[40,1,40,3],[40,6,40,8],[40,10,40,12],[18,1,18,4],[18,6,18,8],[18,10,18,12],[19,1,19,4],[19,6,19,8],[19,10,19,12],[16,1,16,4],[16,6,16,8],[16,10,16,12],[17,1,17,4],[17,6,17,8],[17,10,17,12],[13,10,13,12],[14,1,14,4],[14,6,14,8],[14,10,14,12],[15,1,15,4],[15,6,15,8],[15,10,15,12],[4,1,4,12],[71,1,71,11],[72,1,72,11],[7,1,7,4],[7,6,7,8],[7,10,7,12],[10,1,10,4],[10,6,10,8],[10,10,10,12],[11,1,11,4],[11,6,11,12],[12,1,12,4],[12,6,12,8],[12,10,12,12],[13,1,13,4],[13,6,13,8]]}
["G"]
["G","Service Water Heating"]
["G"]
["G"]
["G","Instructions: Complete the Service Water Heaters table for each unique type of system in the project. Use the Add System button for more than one type of system. If the project includes service hot water circulation pumps, complete the Service Hot Water Pumps table. Please refer to the column header notes for information about Appendix G modeling protocol. Complete the Service Hot Water Fixtures table if credit is modeled for low-flow fixtures in the proposed. For any information not applicable to the project, simply enter \"N/A\"."]
["G"]
["G","Service Water Heaters"]
["G","Model Input Parameter",null,null,null,null,"Baseline",null,null,null,"Proposed"]
[null,"Helpful Notes:","•  Condenser Heat Recovery - Verify that condenser heat recovery has been modeled in the Baseline if required by 6.5.6.2 and describe any condenser heat recovery modeled; otherwise enter \"Not required\" (example: preheats service hot water to 85°F (29°C))",null,null,null,"•  New systems: minimum performance requirements from Table 7.8 per Table G3.1#11(b)\n•  Existing systems: actual system inputs per Table G3.1#11(a)\n•  Model separate service water heating system when design uses combined system with space heating per Table G3.1#11(e)\n•  Condenser heat recovery as required by 6.5.6.2 per Table G3.1#11(f)",null,null,null,"•  Service water heaters modeled as designed (or installed) per Table G3.1#11(a&b)\n•  Where no service hot water system exists or has been specified but the building will have service hot water loads, a service hot water system should be modeled identical to the Baseline per Table G3.1#11(c)\n•  For buildings with no service hot water loads, no service hot water system should be modeled per Table G3.1#11(d)"]
[null,"Modeled_Input_Param",null,null,null,null,"Baseline",null,null,null,"Proposed"]
["G"]
["G","Building ID",null,null,null,null,"Project Name"]
["G","System type and fuel"]
["G",{"$f":"IF(SI_IP_Units=\"IP\",\"Input rating (kW, MBH, etc.)\",\"Input rating (kW, kBtu/h, etc.)\")","v":"Input rating (kW, MBH, etc.)"}]
["G","Efficiency (EF, SL, %, etc.)"]
["G",{"$f":"IF(SI_IP_Units=\"IP\",\"Storage volume (gal)\",\"Storage volume (L)\")","v":"Storage volume (gal)"}]
["G",{"$f":"IF(SI_IP_Units=\"IP\",\"Storage temperature (°F)\",\"Storage temperature (°C)\")","v":"Storage temperature (°F)"}]
["G",{"$f":"IF(SI_IP_Units=\"IP\",\"Peak hot water demand (gpm)\",\"Peak hot water demand (L/s)\")","v":"Peak hot water demand (gpm)"}]
["G","Condenser heat recovery"]
["G","Number of pumps"]
["G","Total pump power (kW)"]
["G","Type of pump"]
["G"]
["G","Note: Any credit for improved service hot water pumps must be submitted using the Exceptional Calculation Method."]
["G"]
["G",{"$f":"CONCATENATE(\"Service Hot Water Flow\",IF(ResDwellingUnitsExist=\"Yes\", \" (Except Residential Dwelling Units & Laundry)\", \"\"))","v":"Service Hot Water Flow"}]
[null,{"$f":"CONCATENATE(IF(ResDwellingUnitsExist=\"Yes\",CONCATENATE(\"This section is only required to be completed if credit is modeled in the proposed model for low-flow fixtures serving the non-residential portions of the project.\",\" Complete the Multifamily Details tab to take credit for the fixtures in the dwelling units and laundry rooms serving resdential spaces. \",\"The project still must include the non-residential DHW flow in the baseline and proposed case for non-residential spaces even if no credit is taken.\"),CONCATENATE(\"This section is only required to be completed if credit is modeled in the proposed model for low-flow fixtures. \", \"Please note that DHW must be included in the model as designed even if no credit is modeled.\")),\" \n\nNote: The DHW Equivalent Full Load Hours of Operation is linked from the Main Building schedules section of the Schedules tab, which must be completed prior to completion of this tab. \",\"The Modeled DHW Flow rate will not calculate unless a value is entered for the service water heating Equivalent Full Load Hours in the Schedules Tab.\",\" Please ensure that the modeled schedules and flow rates are consistent with the values reported here\")","v":"This section is only required to be completed if credit is modeled in the proposed model for low-flow fixtures. Please note that DHW must be included in the model as designed even if no credit is modeled. \n\nNote: The DHW Equivalent Full Load Hours of Operation is linked from the Main Building schedules section of the Schedules tab, which must be completed prior to completion of this tab. The Modeled DHW Flow rate will not calculate unless a value is entered for the service water heating Equivalent Full Load Hours in the Schedules Tab. Please ensure that the modeled schedules and flow rates are consistent with the values reported here"}]
[]
[null,{"$f":"CONCATENATE(\"Average Cold Water Temperature \",IF(SI_IP_Units=\"IP\",\"(deg. F)\",\"(deg. C)\"))","v":"Average Cold Water Temperature (deg. F)"}]
[]
[]
["G","General Information",null,null,null,null,"Baseline",null,null,null,"Proposed"]
["G","Building ID","Fixture Type",{"$f":"IF(SI_IP_Units=\"IP\",\"Fixture Outlet Temperature\n (°F)\",\"Fixture Outlet Temperature\n (°C)\")","v":"Fixture Outlet Temperature\n (°F)"},"Percent\nHot Water\n(%)",null,{"$f":"IF(SI_IP_Units=\"IP\",\"Flow Rate \n(gpm or gpc)\",\"Flow Rate \n(L/s or L/c)\")","v":"Flow Rate \n(gpm or gpc)"},{"$f":"IF(SI_IP_Units=\"IP\",\"Annual Total Water Consumption of Fixture\n(gallons/year)\",\"Annual Total Water Consumption \n(Liters/year)\")","v":"Annual Total Water Consumption of Fixture\n(gallons/year)"},{"$f":"IF(SI_IP_Units=\"IP\",\"Annual Fixture Hot Water Consumption \n(gallons/year)\",\"Annual Fixture Hot Water Consumption \n(Liters/year)\")","v":"Annual Fixture Hot Water Consumption \n(gallons/year)"},null,{"$f":"IF(SI_IP_Units=\"IP\",\"Flow Rate \n(gpm or gpc)\",\"Flow Rate \n(L/s or L/c)\")","v":"Flow Rate \n(gpm or gpc)"},{"$f":"IF(SI_IP_Units=\"IP\",\"Annual Total Water Consumption \n(gallons/year)\",\"Annual Total Water Consumption \n(Liters/year)\")","v":"Annual Total Water Consumption \n(gallons/year)"},{"$f":"IF(SI_IP_Units=\"IP\",\"Annual Fixture Hot Water Consumption \n(gallons/year)\",\"Annual Fixture Hot Water Consumption \n(Liters/year)\")","v":"Annual Fixture Hot Water Consumption \n(gallons/year)"}]
["G","Helpful Notes:","•  Describe a type of hot water fixture included in the project (example: Lavatory Faucets)","•  Percent hot water is the portion of water usage from the fixture that is hot water versus cold water (e.g. - lavatory cold water usage associated with brushing teeth versus hot water usage associated with washing hands)",null,null,"•  Fixtures included in the WE Prerequisite Indoor Water Use Reduction calculations: values must be consistent with the WE Prerequisite form\n•  Additional fixtures not included in WE Prerequisite Indoor Water Use Reduction: Use Proposed values or provide supporting documentation for Baseline assumption (example: Energy Star documentation of average hot water usage for dishwasher or clothes washer)",null,null,null,"•  Values should be consistent with the design (or installed) fixtures and WE Prerequisite Indoor Water Use Reduction (if applicable)"]
["G","Building ID","Fixture_Type","Fixture_Temp","Percent_HW",null,"Base_Fixture_Flow","Base_Total_Annual_Fixture_Consumption","Base_Annual_HW_Fixture_Consumption",null,"Design_Fixture_Flow","Design_Total_Annual_Fixture_Consumption","Design_Annual_HW_Fixture_Consumption"]
["A",{"$f":"GI_Project_Name","v":"Project Name"},null,null,null,null,null,null,{"$f":"IFERROR(IF(OR($M$29=\"\",$D36=\"\"),\"\",IF(H36>0,H36*$E36*($D36-$M$29)/(IF(INDEX(SWH_Flow_Table,MATCH($B36,SWH_Flow_Index,0),MATCH($D$43,SWH_Flow_Hdr,0))<$D36,FALSE,INDEX(SWH_Flow_Table,MATCH($B36,SWH_Flow_Index,0),MATCH($D$43,SWH_Flow_Hdr,0))-$M$29)),\"\")),\"\")","v":""},null,null,null,{"$f":"IFERROR(IF(OR($M$29=\"\",$D36=\"\"),\"\",IF(L36>0,L36*$E36*($D36-$M$29)/(IF(INDEX(SWH_Flow_Table,MATCH($B36,SWH_Flow_Index,0),MATCH($D$43,SWH_Flow_Hdr,0))<$D36,FALSE,INDEX(SWH_Flow_Table,MATCH($B36,SWH_Flow_Index,0),MATCH($D$43,SWH_Flow_Hdr,0))-$M$29)),\"\")),\"\")","v":""}]
[null,{"$f":"GI_Project_Name","v":"Project Name"},null,null,null,null,null,null,{"$f":"IFERROR(IF(H37>0,H37*$E37*($D37-$M$29)/(INDEX(SWH_Flow_Table,MATCH($B37,SWH_Flow_Index,0),MATCH($D$43,SWH_Flow_Hdr,0))-$M$29),\"\"),\"\")","v":""},null,null,null,{"$f":"IFERROR(IF(L37>0,L37*$E37*($D37-$M$29)/(INDEX(SWH_Flow_Table,MATCH($B37,SWH_Flow_Index,0),MATCH($D$43,SWH_Flow_Hdr,0))-$M$29),\"\"),\"\")","v":""}]
[null,{"$f":"GI_Project_Name","v":"Project Name"},null,null,null,null,null,null,{"$f":"IFERROR(IF(H38>0,H38*$E38*($D38-$M$29)/(INDEX(SWH_Flow_Table,MATCH($B38,SWH_Flow_Index,0),MATCH($D$43,SWH_Flow_Hdr,0))-$M$29),\"\"),\"\")","v":""},null,null,null,{"$f":"IFERROR(IF(L38>0,L38*$E38*($D38-$M$29)/(INDEX(SWH_Flow_Table,MATCH($B38,SWH_Flow_Index,0),MATCH($D$43,SWH_Flow_Hdr,0))-$M$29),\"\"),\"\")","v":""}]
[null,{"$f":"GI_Project_Name","v":"Project Name"},null,null,null,null,null,null,{"$f":"IFERROR(IF(H39>0,H39*$E39*($D39-$M$29)/(INDEX(SWH_Flow_Table,MATCH($B39,SWH_Flow_Index,0),MATCH($D$43,SWH_Flow_Hdr,0))-$M$29),\"\"),\"\")","v":""},null,null,null,{"$f":"IFERROR(IF(L39>0,L39*$E39*($D39-$M$29)/(INDEX(SWH_Flow_Table,MATCH($B39,SWH_Flow_Index,0),MATCH($D$43,SWH_Flow_Hdr,0))-$M$29),\"\"),\"\")","v":""}]
["G"]
["G","Summary",null,null,null,null,"Baseline",null,null,null,"Proposed"]
["G","Building ID","DHW Equivalent Full Load Hours of Operation",{"$f":"CONCATENATE(\"DHW Supply Temperature from Water Heater\",IF(SI_IP_Units=\"IP\",\" (deg. F)\",\" (deg. C)\"))","v":"DHW Supply Temperature from Water Heater (deg. F)"},null,null,{"$f":"CONCATENATE(\"Total Annual Hot Water Consumption at Fixtures\",IF(SI_IP_Units=\"IP\",\" (gallons/year)\",\" (Liters/year)\"))","v":"Total Annual Hot Water Consumption at Fixtures (gallons/year)"},{"$f":"CONCATENATE(\"Total Annual DHW Heater Consumption\",IF(SI_IP_Units=\"IP\",\" (gallons/year)\",\" (Liters/year)\"))","v":"Total Annual DHW Heater Consumption (gallons/year)"},{"$f":"CONCATENATE(\"Modeled DHW Flow Rate \",IF(SI_IP_Units=\"IP\",\"gallons/minute\",\"Liters/second\"))","v":"Modeled DHW Flow Rate gallons/minute"},null,{"$f":"CONCATENATE(\"Total Annual Hot Water Consumption at Fixtures\",IF(SI_IP_Units=\"IP\",\" (gallons/year)\",\" (Liters/year)\"))","v":"Total Annual Hot Water Consumption at Fixtures (gallons/year)"},{"$f":"CONCATENATE(\"Total Annual DHW Heater Consumption\",IF(SI_IP_Units=\"IP\",\" (gallons/year)\",\" (Liters/year)\"))","v":"Total Annual DHW Heater Consumption (gallons/year)"},{"$f":"CONCATENATE(\"Modeled DHW Flow Rate \",IF(SI_IP_Units=\"IP\",\"gallons/minute\",\"Liters/second\"))","v":"Modeled DHW Flow Rate gallons/minute"}]
[null,"Building ID","DHW_EFLH","DHW_Supply_Temp",null,null,"Base_Fixture_HW_Use","Base_DHW_Heater_Use","Base_Modeled_DHW_Flow",null,"Design_Fixture_HW_Use","Design_DHW_Heater_Use","Design_Modeled_DHW_Flow"]
[null,{"$f":"'Multiple Buildings Details'!B24","v":"Project Name"},{"$f":"Schedules!$E$13","v":0},null,null,null,{"$f":"IFERROR(SUMIF(SWH_Fixture_Index,$B44,(OFFSET(SWH_Fixture_Index,0,MATCH($I$35,SWH_Fixture_Hdr,0)-1,ROWS(SWH_Fixture_Table),1))),\"\")","v":0},{"$f":"IFERROR(SUMPRODUCT(OFFSET(SWH_Fixture_Index,0,MATCH($I$35,SWH_Fixture_Hdr,0)-1,ROWS(SWH_Fixture_Index),1),OFFSET(SWH_Fixture_Index,0,MATCH($Z$35,SWH_Fixture_Hdr,0)-1,ROWS(SWH_Fixture_Index),1),--(SWH_Fixture_Index=$B44))/($D44*$M$29/$D44/$M$29*($D44-$M$29)),\"\")","v":""},{"$f":"IFERROR(IF(SI_IP_Units=\"IP\",H44/$C44/60,H44/$C44/60/60),\"\")","v":""},null,{"$f":"IFERROR(SUMIF(SWH_Fixture_Index,$B44,(OFFSET(SWH_Fixture_Index,0,MATCH($M$35,SWH_Fixture_Hdr,0)-1,ROWS(SWH_Fixture_Table),1))),\"\")","v":0},{"$f":"IFERROR(SUMPRODUCT(OFFSET(SWH_Fixture_Index,0,MATCH($M$35,SWH_Fixture_Hdr,0)-1,ROWS(SWH_Fixture_Index),1),OFFSET(SWH_Fixture_Index,0,MATCH($Z$35,SWH_Fixture_Hdr,0)-1,ROWS(SWH_Fixture_Index),1),--(SWH_Fixture_Index=$B44))/($D44*$M$29/$D44/$M$29*($D44-$M$29)),\"\")","v":""},{"$f":"IFERROR(IF(SI_IP_Units=\"IP\",L44/$C44/60,L44/$C44/60/60),\"\")","v":""}]
["G"]
["G","Additional notes:"]
["G"]
[]
[]
[]
[]
[]
[]
[]
["G"]
[]
["G"]
["G"]
["G"]
[]
[]
[]
[]
[]
[]
[]
["G"]
["G"]
["G"]
["G"]
["G"]
["G"]
["G"]

{"sheet":"General HVAC","index":14,"n_rows":81,"n_cols":11,"rows_kept":81,"cut":false,"hidden":false,"merged":[[72,1,72,4],[75,1,75,4],[70,1,70,4],[67,1,67,4],[66,1,66,4],[68,1,68,4],[69,1,69,4],[71,1,71,4],[17,2,17,4],[17,5,17,6],[44,1,44,4],[19,2,19,4],[20,2,20,4],[18,2,18,4],[18,5,18,6],[26,5,26,6],[20,5,20,6],[19,5,19,6],[21,2,21,4],[21,5,21,6],[35,1,35,6],[40,1,40,4],[28,5,28,6],[25,5,25,6],[30,5,30,6],[38,1,38,4],[31,5,31,6],[26,2,26,3],[39,1,39,4],[37,1,37,4],[29,5,29,6],[45,1,45,4],[46,1,46,4],[53,1,53,4],[41,1,41,4],[52,1,52,4],[49,1,49,4],[50,1,50,4],[51,1,51,4],[48,1,48,4],[47,1,47,4],[80,1,80,6],[79,1,79,6],[74,1,74,4],[54,1,54,4],[55,1,55,4],[56,1,56,4],[57,1,57,4],[58,1,58,4],[62,1,62,4],[59,1,59,4],[60,1,60,4],[61,1,61,4],[76,1,76,4],[73,1,73,4],[77,1,77,4],[65,1,65,4],[4,1,4,6],[14,1,14,6],[13,1,13,6],[11,1,11,5],[9,1,9,5],[7,1,7,5],[5,1,5,5]]}
["G"]
["G","General HVAC"]
["G"]
["G"]
["G","Instructions: Confirm that the energy model complies with the General HVAC requirements listed, and provide a narrative explaining any discrepancies. Select the types of water-side systems that are installed on the project site (proposed). Describe each type of HVAC system in the proposed. Select the applicable baseline HVAC system type(s). Confirm that each of the HVAC modeling requirements have been incorporated into the energy models. Please refer to the column header notes for information about Appendix G modeling protocol. For any information not applicable to the project, simply enter \"N/A\". "]
["G","Enclosed parking garage ventilation systems automatically detect contaminant levels and modulate fan airflows rates to 50% or less of design capacity per Section 6.4.3.4.5"]
["G"]
["G","Spaces larger than 500 square feet (50 square meters), with occupancy of greater than 40 people per 1,000 square feet (100 square meters), and are served by systems that have one of the following: an air-side economizer, automatic modulating control of the outdoor air damper, or a design outdoor airflow of greater than 3,000 cfm (1,400 L/s), have been designed with demand control ventilation per Section 6.4.3.9."]
["G"]
["G","Air handling and fan coil units with chilled water cooling coils and with supply fans motors greater than or equal to 5 hp (4 kW) have their supply fans controlled by two-speed motors or variable speed drives per Section 6.4.3.10."]
["G"]
["G","Direct expanstion cooling equipment with an AHRI cooling capacity greater than or equal to 110,000 Btu/h (32 kW) that serve single zones have been designed with supply fans controlled by two-speed motors or variable speed drives per Section 6.4.3.10."]
["G"]
["G","For each item entered as “No” above, describe the applicable ASHRAE 90.1 Appendix G exception(s) that apply, or the circumstances preventing the lighting parameters from being modeled as required. If the energy simulation software is not capable of modeling the required parameters, describe the adjustments that were made to provide a similar representation or provide a narrative justifying why the predicted energy performance results will not be influenced."]
["G"]
["G"]
["G","Proposed HVAC System Type(s)"]
["G","Building ID","System Description",null,null,"Spaces Modeled"]
[null,"Helpful Notes","•  Describe each type of HVAC system included in the Proposed building (example: Constant volume single-zone ground source heat pumps with dedicated outdoor air units with energy recovery).",null,null,"•  List the spaces modeled with the primary system type (example: all spaces except kitchen).\n•  The HVAC system type and all related parameters, such as equipment capacities and efficiencies, must be modeled as designed (or installed) per Table G3.1#10(a&b)\n•  Where no heating system exists or has been designed, the classification is assumed to be electric and the heating system is modeled identically to the Baseline case per Table G3.1#10(c)\n•  Where no cooling system exists or has been designed, the cooling system is modeled identically to the Baseline case per Table G3.1#10(d), unless using baseline HVAC system types 9 or 10."]
["A",{"$f":"GI_Project_Name","v":"Project Name"}]
[null,{"$f":"GI_Project_Name","v":"Project Name"}]
[null,{"$f":"GI_Project_Name","v":"Project Name"}]
["G"]
["G"]
["G","Baseline HVAC System Type(s)"]
["G","Building ID","Model Input Parameter","Table G3.1.1A System Type \n(or Semiconditioned System Description)","G3.1.1 Exception \n(or Semiconditioned Capacity and Area)","Spaces Modeled"]
["G","Helpful Notes","•  Refer to Section G3.1.1 and Table G3.1.1A (including footnotes) for Primary HVAC System selection\n•  A system with any combination of fossil fuel and electric heat is considered fossil/electric hybrid\n•  Systems 1-4: each thermal block shall be modeled with its own system\n•  Systems 5-10: each floor shall be modeled with a separate system\n•  Additional system types for conditioned spaces only permitted using Exceptions to G3.1.1 (min 20,000 sq ft (1860 sq m) required for exception (a))\n•  Systems serving semiconditioned spaces should be modeled identically to the system in the Proposed case (see definition of space in Section 3.2 of ASHRAE 90.1\n•  For California Title-24 projects, type in the appropriate system type",null,"•  Conditioned: describe the exception from G3.1.1 used to model this additional Baseline system type (example: Exception (b) used since peak loads differ by more than 10 Btu/h-sq ft (0.03 kW/sq m))\n•  Semiconditioned: list the total system capacity and floor area it serves","•  List the spaces modeled with the primary system type (example: all spaces except kitchen)"]
["G",{"$f":"B26","v":"Building ID"},{"$f":"C26","v":"Model Input Parameter"},{"$f":"D26","v":"Table G3.1.1A System Type \n(or Semiconditioned System Description)"},{"$f":"E26","v":"G3.1.1 Exception \n(or Semiconditioned Capacity and Area)"},{"$f":"F26","v":"Spaces Modeled"}]
["B",{"$f":"GI_Project_Name","v":"Project Name"},null,null,null,null,null,null,null,{"$f":"IFERROR(IF(ISNUMBER(SEARCH(\"California\",D29)),\"Cali\",IF(MID(D29,8,1)=\"1\",IF(MID(D29,9,1)=\"0\",MID(D29,8,2),MID(D29,8,1)),MID(D29,8,1))),\"\")","v":""}]
[null,{"$f":"GI_Project_Name","v":"Project Name"},"Primary HVAC System",null,null,null,null,null,null,{"$f":"IFERROR(IF(ISNUMBER(SEARCH(\"California\",D30)),\"Cali\",IF(MID(D30,8,1)=\"1\",IF(MID(D30,9,1)=\"0\",MID(D30,8,2),MID(D30,8,1)),MID(D30,8,1))),\"\")","v":""}]
[null,{"$f":"GI_Project_Name","v":"Project Name"},null,null,null,null,null,null,null,{"$f":"IFERROR(IF(ISNUMBER(SEARCH(\"California\",D31)),\"Cali\",IF(MID(D31,8,1)=\"1\",IF(MID(D31,9,1)=\"0\",MID(D31,8,2),MID(D31,8,1)),MID(D31,8,1))),\"\")","v":""}]
[null,{"$f":"GI_Project_Name","v":"Project Name"},null,null,null,null,null,null,null,{"$f":"IFERROR(IF(ISNUMBER(SEARCH(\"California\",D32)),\"Cali\",IF(MID(D32,8,1)=\"1\",IF(MID(D32,9,1)=\"0\",MID(D32,8,2),MID(D32,8,1)),MID(D32,8,1))),\"\")","v":""}]
["G"]
["G"]
["G","HVAC Modeling Requirements"]
["G","All proposed and baseline HVAC system types must be entered above to generate the correct modeling requirements below. Identify each applicable item (indicated in gray) as \"Yes\" or \"No\", and provide a further description for any items marked as \"No\"."]
["G","Proposed HVAC Requirements"]
["G","All proposed HVAC systems and related parameters, such as equipment capacities, efficiencies, airflows, fans, etc. have been modeled as designed and are consistent with supporting documentation.",null,null,null,null,"Required for all systems"]
["G","Each proposed HVAC thermal zone has been modeled as a separate thermal block except as allowed by Table G3.1#7.",null,null,null,null,"Required for all systems"]
["G","All proposed HVAC systems serving conditioned spaces have been modeled with heating and cooling as required by Table G3.1#1(b), with heating and/or cooling added as necessary identically to the baseline per Table G3.1#10(c&d) except where System types (9) or (10) have been modeled.",null,null,null,null,"Required for all systems"]
["G","All proposed HVAC systems and related parameters can be modeled directly in the energy simulation program used.",null,null,null,null,"Required for all systems"]
["G","All proposed fan part-load efficiency curves for variable volume fans have been modeled identically to the baseline curves for variable volume fans (if not, provide a description of the fan curves used in the space at the bottom of this table, and confirm that the proposed curves are representative of the actual building design).",null,null,null,null,"Required for all systems"]
["G"]
["G","Baseline Air-Side HVAC Requirements",null,null,null,null,null,null,"conditional final t/f","number search 1","number search 2"]
["G","All baseline single zone systems have been modeled with a separate HVAC system for each thermal block per G3.1.1.",null,null,null,null,"Required for Systems 1-4",null,{"$f":"IF(J45=TRUE,TRUE,FALSE)","v":false},{"$f":"IF(ISNA(VLOOKUP(\"1\",OFFSET(GenHVACformatref,1,0,ROWS(GenHVACformatref)-1,1),1,FALSE)),IF(ISNA(VLOOKUP(\"2\",OFFSET(GenHVACformatref,1,0,ROWS(GenHVACformatref)-1,1),1,FALSE)),IF(ISNA(VLOOKUP(\"3\",OFFSET(GenHVACformatref,1,0,ROWS(GenHVACformatref)-1,1),1,FALSE)),IF(ISNA(VLOOKUP(\"4\",OFFSET(GenHVACformatref,1,0,ROWS(GenHVACformatref)-1,1),1,FALSE)),FALSE,TRUE),TRUE),TRUE),TRUE)","v":false}]
["G","All baseline VAV systems have been modeled with an HVAC system per floor, or one system per group of thermodynamically similar floors per G3.1.1.",null,null,null,null,"Required for Systems 5-8",null,{"$f":"IF(J46=TRUE,TRUE,FALSE)","v":false},{"$f":"IF(ISNA(VLOOKUP(\"5\",OFFSET(GenHVACformatref,1,0,ROWS(GenHVACformatref)-1,1),1,FALSE)),IF(ISNA(VLOOKUP(\"6\",OFFSET(GenHVACformatref,1,0,ROWS(GenHVACformatref)-1,1),1,FALSE)),IF(ISNA(VLOOKUP(\"7\",OFFSET(GenHVACformatref,1,0,ROWS(GenHVACformatref)-1,1),1,FALSE)),IF(ISNA(VLOOKUP(\"8\",OFFSET(GenHVACformatref,1,0,ROWS(GenHVACformatref)-1,1),1,FALSE)),FALSE,TRUE),TRUE),TRUE),TRUE)","v":false}]
["G","All baseline heating and ventilation systems have been modeled with an HVAC system per floor or one system per group of thermodynamically similar floors per G3.1.1.",null,null,null,null,"Required for Systems 9 and 10",null,{"$f":"IF(J47=TRUE,TRUE,FALSE)","v":false},{"$f":"IF(ISNA(VLOOKUP(\"9\",OFFSET(GenHVACformatref,1,0,ROWS(GenHVACformatref)-1,1),1,FALSE)),IF(ISNA(VLOOKUP(\"10\",OFFSET(GenHVACformatref,1,0,ROWS(GenHVACformatref)-1,1),1,FALSE)),FALSE,TRUE),TRUE)","v":false}]
["G","All applicable baseline exceptions to G3.1.1 have been implemented. Note that these exceptions are required, not optional.",null,null,null,null,"Required for all systems",null,true]
["G","Where baseline or proposed efficiency ratings for DX cooling equipment, such as EER and COP, include fan energy, the descriptor is broken down into its components so that supply fan energy can be modeled separately per G3.1.2.1.",null,null,null,null,"Required for Systems 1-6\nRequired for Systems 1, 3, and 5 if District Heating has been selected on the General Information tab\nNot required if District Cooling has been slected",null,{"$f":"IF(J49=TRUE,TRUE,IF(AND(K49=TRUE,'General Information'!$J$59=TRUE),TRUE,FALSE))","v":false},{"$f":"IF(ISNA(VLOOKUP(\"1\",OFFSET(GenHVACformatref,1,0,ROWS(GenHVACformatref)-1,1),1,FALSE)),IF(ISNA(VLOOKUP(\"2\",OFFSET(GenHVACformatref,1,0,ROWS(GenHVACformatref)-1,1),1,FALSE)),IF(ISNA(VLOOKUP(\"3\",OFFSET(GenHVACformatref,1,0,ROWS(GenHVACformatref)-1,1),1,FALSE)),IF(ISNA(VLOOKUP(\"4\",OFFSET(GenHVACformatref,1,0,ROWS(GenHVACformatref)-1,1),1,FALSE)),IF(ISNA(VLOOKUP(\"5\",OFFSET(GenHVACformatref,1,0,ROWS(GenHVACformatref)-1,1),1,FALSE)),IF(ISNA(VLOOKUP(\"6\",OFFSET(GenHVACformatref,1,0,ROWS(GenHVACformatref)-1,1),1,FALSE)),FALSE,TRUE),TRUE),TRUE),TRUE),TRUE),TRUE)","v":false},{"$f":"IF(ISNA(VLOOKUP(\"1\",OFFSET(GenHVACformatref,1,0,ROWS(GenHVACformatref)-1,1),1,FALSE)),IF(ISNA(VLOOKUP(\"3\",OFFSET(GenHVACformatref,1,0,ROWS(GenHVACformatref)-1,1),1,FALSE)),IF(ISNA(VLOOKUP(\"5\",OFFSET(GenHVACformatref,1,0,ROWS(GenHVACformatref)-1,1),1,FALSE)),FALSE,TRUE),TRUE),TRUE)","v":false}]
["G","All baseline system cooling capacities auto-sized with 15% oversizing per G3.1.2.2 (at the system or plant level, but not both).",null,null,null,null,"Required for all systems",null,true]
["G","All baseline system heating capacities auto-sized with 25% oversizing per G3.1.2.2 (at the system or plant level, but not both).",null,null,null,null,"Required for all systems",null,true]
["G","If the proposed system has a preheat coil, it has been modeled and controlled in the same manner in the baseline system per G3.1.2.4.",null,null,null,null,"Required for all systems",null,true]
["G","All baseline supply and return fans operate continuously when spaces are occupied and cycle when unoccupied per G3.1.2.5.",null,null,null,null,"Required for all systems",null,true]
["G","Demand control ventilation is modeled in the baseline case for all spaces larger than 500 sq ft (50 sq m) that have a design occupancy for ventilation of greater than 40 people per 1,000 sq ft (100 sq m) of floor area (except for spaces served by baseline systems that do not have one of the following: an air-side economizer, automatic modulating control of the outdoor air damper, or a design outdoor airflow of greater than 3,000 cfm (1,400 L/s)) per G3.1.2.6 / 6.4.3.9.",null,null,null,null,"Required for Systems 3-8",null,{"$f":"IF(J54=TRUE,TRUE,FALSE)","v":false},{"$f":"IF(ISNA(VLOOKUP(\"3\",OFFSET(GenHVACformatref,1,0,ROWS(GenHVACformatref)-1,1),1,FALSE)),IF(ISNA(VLOOKUP(\"4\",OFFSET(GenHVACformatref,1,0,ROWS(GenHVACformatref)-1,1),1,FALSE)),IF(ISNA(VLOOKUP(\"5\",OFFSET(GenHVACformatref,1,0,ROWS(GenHVACformatref)-1,1),1,FALSE)),IF(ISNA(VLOOKUP(\"6\",OFFSET(GenHVACformatref,1,0,ROWS(GenHVACformatref)-1,1),1,FALSE)),IF(ISNA(VLOOKUP(\"7\",OFFSET(GenHVACformatref,1,0,ROWS(GenHVACformatref)-1,1),1,FALSE)),IF(ISNA(VLOOKUP(\"8\",OFFSET(GenHVACformatref,1,0,ROWS(GenHVACformatref)-1,1),1,FALSE)),FALSE,TRUE),TRUE),TRUE),TRUE),TRUE),TRUE)","v":false}]
["G","Per Section G3.1.2.6, the minimum baseline outdoor air ventilation rates are modeled using ASHRAE 62.1 minimum outside air volume or the minimum outside air volume required by local code. The proposed outdoor air ventilation rates are modeled as designed.  The baseline outside air volume (equal to the sum of the baseline outside air volume per system) does not exceed the proposed outside air volume (equal to the sum of the outside air volume per system) except using schedule variations for spaces where demand control ventilation has been designed where its use is not required, or when providing Baseline and Proposed ASHRAE 62.1 calculations for systems where the Proposed system Ez > 1.0. Note that the Baseline outside air volume and Proposed outside air volume values must be reported consistently with the information provided in IEQ Prerequisite: Minimum Indoor Air Quality, or supplemental documentation must be provided to support the local OA volume requirements or Baseline calculations for systems with Ez > 1.0.",null,null,null,null,"Required for all systems",null,true]
["G","All baseline systems are modeled with zero outside airflow when fans are cycled to meet unoccupied setback temperatures.",null,null,null,null,"Required for all systems",null,true]
["G","All baseline supply airflows for Systems 1-8 have been auto-sized based on a 20°F (11.1°C) supply-air-to-room-air cooling temperature difference (or the airflow rate required to comply with applicable codes/standards, whichever is greater) per G3.1.2.9.1. Exception: Laboratory spaces have been modeled with a 17°F (9.4°C) supply-air-to-room air temperature difference or the required ventilation air or makeup air, whichever is greater.",null,null,null,null,"Required for Systems 1-8",null,{"$f":"IF(J57=TRUE,TRUE,FALSE)","v":false},{"$f":"IF(ISNA(VLOOKUP(\"1\",OFFSET(GenHVACformatref,1,0,ROWS(GenHVACformatref)-1,1),1,FALSE)),IF(ISNA(VLOOKUP(\"2\",OFFSET(GenHVACformatref,1,0,ROWS(GenHVACformatref)-1,1),1,FALSE)),IF(ISNA(VLOOKUP(\"3\",OFFSET(GenHVACformatref,1,0,ROWS(GenHVACformatref)-1,1),1,FALSE)),IF(ISNA(VLOOKUP(\"4\",OFFSET(GenHVACformatref,1,0,ROWS(GenHVACformatref)-1,1),1,FALSE)),IF(ISNA(VLOOKUP(\"5\",OFFSET(GenHVACformatref,1,0,ROWS(GenHVACformatref)-1,1),1,FALSE)),IF(ISNA(VLOOKUP(\"6\",OFFSET(GenHVACformatref,1,0,ROWS(GenHVACformatref)-1,1),1,FALSE)),IF(ISNA(VLOOKUP(\"7\",OFFSET(GenHVACformatref,1,0,ROWS(GenHVACformatref)-1,1),1,FALSE)),IF(ISNA(VLOOKUP(\"8\",OFFSET(GenHVACformatref,1,0,ROWS(GenHVACformatref)-1,1),1,FALSE)),FALSE,TRUE),TRUE),TRUE),TRUE),TRUE),TRUE),TRUE),TRUE)","v":false}]
["G","All baseline supply airflows for systems 9-10 have been autosized based on the difference between a supply air temperature set point of 105°F (40.6°C) and the design space heating temperature set point (or the airflow rate required to comply with applicable codes/standards, whichever is greater) per G3.1.2.9.2.",null,null,null,null,"Required for Systems 9 and 10",null,false,{"$f":"IF(ISNA(VLOOKUP(\"9\",OFFSET(GenHVACformatref,1,0,ROWS(GenHVACformatref)-1,1),1,FALSE)),IF(ISNA(VLOOKUP(\"10\",OFFSET(GenHVACformatref,1,0,ROWS(GenHVACformatref)-1,1),1,FALSE)),FALSE,TRUE),TRUE)","v":false}]
["G","All baseline heat pumps modeled with electric auxiliary heat only energized below 40°F (4°C) and as the last thermostat stage per G3.1.3.1 (compressor still enabled below 40°F (4°C)). The compressor continues to operate in conjunction with the electric auxiliary heat as low as 17°F(-8.3°C), in accordance with the Baseline equipment efficiency ratings from ASHRAE 90.1 Section 6.8.  See ASHRAE Interpretation 90.1-2007-09 for more information.",null,null,null,null,"Required for Systems 2 and 4\nNot required if District Heating and/or Cooling has been selected on the General Information tab",null,false,{"$f":"IF(ISNA(VLOOKUP(\"2\",OFFSET(GenHVACformatref,1,0,ROWS(GenHVACformatref)-1,1),1,FALSE)),IF(ISNA(VLOOKUP(\"4\",OFFSET(GenHVACformatref,1,0,ROWS(GenHVACformatref)-1,1),1,FALSE)),FALSE,TRUE),TRUE)","v":false}]
["G","All baseline VAV systems modeled with supply air temperature reset of 5°F (2.3°C) under minimum cooling load conditions per G3.1.3.12.",null,null,null,null,"Required for Systems 5-8",null,false,{"$f":"IF(ISNA(VLOOKUP(\"5\",OFFSET(GenHVACformatref,1,0,ROWS(GenHVACformatref)-1,1),1,FALSE)),IF(ISNA(VLOOKUP(\"6\",OFFSET(GenHVACformatref,1,0,ROWS(GenHVACformatref)-1,1),1,FALSE)),IF(ISNA(VLOOKUP(\"7\",OFFSET(GenHVACformatref,1,0,ROWS(GenHVACformatref)-1,1),1,FALSE)),IF(ISNA(VLOOKUP(\"8\",OFFSET(GenHVACformatref,1,0,ROWS(GenHVACformatref)-1,1),1,FALSE)),FALSE,TRUE),TRUE),TRUE),TRUE)","v":false}]
["G","All baseline VAV reheat boxes modeled with a minimum flow setpoint of 30% of peak zone flow (or minimum outdoor airflow rate or code required rate) per G3.1.3.13.",null,null,null,null,"Required for Systems 5 and 7",null,false,{"$f":"IF(ISNA(VLOOKUP(\"5\",OFFSET(GenHVACformatref,1,0,ROWS(GenHVACformatref)-1,1),1,FALSE)),IF(ISNA(VLOOKUP(\"7\",OFFSET(GenHVACformatref,1,0,ROWS(GenHVACformatref)-1,1),1,FALSE)),FALSE,TRUE),TRUE)","v":false}]
["G","All baseline fans in parallel VAV fan-powered boxes sized for 50% of peak primary airflow and modeled with 0.35 W/cfm (0.74 W/L/s) fan power and a minimum flow setpoint of 30% of peak (or minimum ventilation rate) per G3.1.3.14.",null,null,null,null,"Required for Systems 6 and 8",null,false,{"$f":"IF(ISNA(VLOOKUP(\"6\",OFFSET(GenHVACformatref,1,0,ROWS(GenHVACformatref)-1,1),1,FALSE)),IF(ISNA(VLOOKUP(\"8\",OFFSET(GenHVACformatref,1,0,ROWS(GenHVACformatref)-1,1),1,FALSE)),FALSE,TRUE),TRUE)","v":false}]
["G","All baseline VAV fans (Systems 5-8) are modeled with VAV part-load performance curves consistent with Table G3.1.3.15 Method 1 or Method 2.",null,null,null,null,"Required for Systems 5-8",null,false,{"$f":"IF(ISNA(VLOOKUP(\"5\",OFFSET(GenHVACformatref,1,0,ROWS(GenHVACformatref)-1,1),1,FALSE)),IF(ISNA(VLOOKUP(\"6\",OFFSET(GenHVACformatref,1,0,ROWS(GenHVACformatref)-1,1),1,FALSE)),IF(ISNA(VLOOKUP(\"7\",OFFSET(GenHVACformatref,1,0,ROWS(GenHVACformatref)-1,1),1,FALSE)),IF(ISNA(VLOOKUP(\"8\",OFFSET(GenHVACformatref,1,0,ROWS(GenHVACformatref)-1,1),1,FALSE)),FALSE,TRUE),TRUE),TRUE),TRUE)","v":false}]
["G"]
["G","Baseline Water-Side HVAC Requirements"]
["G","The baseline boiler(s) have been modeled as natural draft per G3.1.3.2.",null,null,null,null,"Required for Systems 1, 5, and 7\nRequired for Systems 1-2 and 5-8 if District Cooling has been selected on the General Information tab\nNot required if District Heating has been selected",null,{"$f":"IF('General Information'!$J$59=TRUE,FALSE,IF(J66=TRUE,TRUE,IF(AND(K66=TRUE,'General Information'!$I$59=TRUE),TRUE,FALSE)))","v":false},{"$f":"IF(ISNA(VLOOKUP(\"1\",OFFSET(GenHVACformatref,1,0,ROWS(GenHVACformatref)-1,1),1,FALSE)),IF(ISNA(VLOOKUP(\"5\",OFFSET(GenHVACformatref,1,0,ROWS(GenHVACformatref)-1,1),1,FALSE)),IF(ISNA(VLOOKUP(\"7\",OFFSET(GenHVACformatref,1,0,ROWS(GenHVACformatref)-1,1),1,FALSE)),FALSE,TRUE),TRUE),TRUE)","v":false},{"$f":"IF(ISNA(VLOOKUP(\"1\",OFFSET(GenHVACformatref,1,0,ROWS(GenHVACformatref)-1,1),1,FALSE)),IF(ISNA(VLOOKUP(\"2\",OFFSET(GenHVACformatref,1,0,ROWS(GenHVACformatref)-1,1),1,FALSE)),IF(ISNA(VLOOKUP(\"5\",OFFSET(GenHVACformatref,1,0,ROWS(GenHVACformatref)-1,1),1,FALSE)),IF(ISNA(VLOOKUP(\"6\",OFFSET(GenHVACformatref,1,0,ROWS(GenHVACformatref)-1,1),1,FALSE)),IF(ISNA(VLOOKUP(\"7\",OFFSET(GenHVACformatref,1,0,ROWS(GenHVACformatref)-1,1),1,FALSE)),IF(ISNA(VLOOKUP(\"8\",OFFSET(GenHVACformatref,1,0,ROWS(GenHVACformatref)-1,1),1,FALSE)),FALSE,TRUE),TRUE),TRUE),TRUE),TRUE),TRUE)","v":false}]
["G","The baseline hot water design supply temperature has been modeled as 180°F (82°C)with a return temperature of 130°F (54°C) per G3.1.3.3.",null,null,null,null,"Required for Systems 1, 5, and 7\nRequired for Systems 1-2 and 5-8 if District Cooling has been selected on the General Information tab\nNot required if District Heating has been selected",null,{"$f":"IF('General Information'!$J$59=TRUE,FALSE,IF(J67=TRUE,TRUE,IF(AND(K67=TRUE,'General Information'!$I$59=TRUE),TRUE,FALSE)))","v":false},{"$f":"IF(ISNA(VLOOKUP(\"1\",OFFSET(GenHVACformatref,1,0,ROWS(GenHVACformatref)-1,1),1,FALSE)),IF(ISNA(VLOOKUP(\"5\",OFFSET(GenHVACformatref,1,0,ROWS(GenHVACformatref)-1,1),1,FALSE)),IF(ISNA(VLOOKUP(\"7\",OFFSET(GenHVACformatref,1,0,ROWS(GenHVACformatref)-1,1),1,FALSE)),FALSE,TRUE),TRUE),TRUE)","v":false},{"$f":"IF(ISNA(VLOOKUP(\"1\",OFFSET(GenHVACformatref,1,0,ROWS(GenHVACformatref)-1,1),1,FALSE)),IF(ISNA(VLOOKUP(\"2\",OFFSET(GenHVACformatref,1,0,ROWS(GenHVACformatref)-1,1),1,FALSE)),IF(ISNA(VLOOKUP(\"5\",OFFSET(GenHVACformatref,1,0,ROWS(GenHVACformatref)-1,1),1,FALSE)),IF(ISNA(VLOOKUP(\"6\",OFFSET(GenHVACformatref,1,0,ROWS(GenHVACformatref)-1,1),1,FALSE)),IF(ISNA(VLOOKUP(\"7\",OFFSET(GenHVACformatref,1,0,ROWS(GenHVACformatref)-1,1),1,FALSE)),IF(ISNA(VLOOKUP(\"8\",OFFSET(GenHVACformatref,1,0,ROWS(GenHVACformatref)-1,1),1,FALSE)),FALSE,TRUE),TRUE),TRUE),TRUE),TRUE),TRUE)","v":false}]
["G","The baseline hot water supply temperature reset schedule has been modeled as 180°F (82°C) at outdoor temperatures 20°F (-7°C) and below, 150°F (66°C) at outdoor temperatures 50°F (10°C) and above, and ramped linearly between 180°F (82°C) and 150°F (66°C) at outdoor temperatures between 20°F (-7°C) and 50°F (10°C) per G3.1.3.4.",null,null,null,null,"Required for Systems 1, 5, and 7\nRequired for Systems 1-2 and 5-8 if District Cooling has been selected on the General Information tab\nNot required if District Heating has been selected",null,{"$f":"IF('General Information'!$J$59=TRUE,FALSE,IF(J68=TRUE,TRUE,IF(AND(K68=TRUE,'General Information'!$I$59=TRUE),TRUE,FALSE)))","v":false},{"$f":"IF(ISNA(VLOOKUP(\"1\",OFFSET(GenHVACformatref,1,0,ROWS(GenHVACformatref)-1,1),1,FALSE)),IF(ISNA(VLOOKUP(\"5\",OFFSET(GenHVACformatref,1,0,ROWS(GenHVACformatref)-1,1),1,FALSE)),IF(ISNA(VLOOKUP(\"7\",OFFSET(GenHVACformatref,1,0,ROWS(GenHVACformatref)-1,1),1,FALSE)),FALSE,TRUE),TRUE),TRUE)","v":false},{"$f":"IF(ISNA(VLOOKUP(\"1\",OFFSET(GenHVACformatref,1,0,ROWS(GenHVACformatref)-1,1),1,FALSE)),IF(ISNA(VLOOKUP(\"2\",OFFSET(GenHVACformatref,1,0,ROWS(GenHVACformatref)-1,1),1,FALSE)),IF(ISNA(VLOOKUP(\"5\",OFFSET(GenHVACformatref,1,0,ROWS(GenHVACformatref)-1,1),1,FALSE)),IF(ISNA(VLOOKUP(\"6\",OFFSET(GenHVACformatref,1,0,ROWS(GenHVACformatref)-1,1),1,FALSE)),IF(ISNA(VLOOKUP(\"7\",OFFSET(GenHVACformatref,1,0,ROWS(GenHVACformatref)-1,1),1,FALSE)),IF(ISNA(VLOOKUP(\"8\",OFFSET(GenHVACformatref,1,0,ROWS(GenHVACformatref)-1,1),1,FALSE)),FALSE,TRUE),TRUE),TRUE),TRUE),TRUE),TRUE)","v":false}]
["G","The baseline hot water pump power has been modeled as 19 W/gpm (301 kW/1,000 L/s) per G3.1.3.5.",null,null,null,null,"Required for Systems 1, 5, and 7\nRequired for Systems 1-2 and 5-8 if District Cooling has been selected on the General Information tab\nNot required if District Heating has been selected",null,{"$f":"IF('General Information'!$J$59=TRUE,FALSE,IF(J69=TRUE,TRUE,IF(AND(K69=TRUE,'General Information'!$I$59=TRUE),TRUE,FALSE)))","v":false},{"$f":"IF(ISNA(VLOOKUP(\"1\",OFFSET(GenHVACformatref,1,0,ROWS(GenHVACformatref)-1,1),1,FALSE)),IF(ISNA(VLOOKUP(\"5\",OFFSET(GenHVACformatref,1,0,ROWS(GenHVACformatref)-1,1),1,FALSE)),IF(ISNA(VLOOKUP(\"7\",OFFSET(GenHVACformatref,1,0,ROWS(GenHVACformatref)-1,1),1,FALSE)),FALSE,TRUE),TRUE),TRUE)","v":false},{"$f":"IF(ISNA(VLOOKUP(\"1\",OFFSET(GenHVACformatref,1,0,ROWS(GenHVACformatref)-1,1),1,FALSE)),IF(ISNA(VLOOKUP(\"2\",OFFSET(GenHVACformatref,1,0,ROWS(GenHVACformatref)-1,1),1,FALSE)),IF(ISNA(VLOOKUP(\"5\",OFFSET(GenHVACformatref,1,0,ROWS(GenHVACformatref)-1,1),1,FALSE)),IF(ISNA(VLOOKUP(\"6\",OFFSET(GenHVACformatref,1,0,ROWS(GenHVACformatref)-1,1),1,FALSE)),IF(ISNA(VLOOKUP(\"7\",OFFSET(GenHVACformatref,1,0,ROWS(GenHVACformatref)-1,1),1,FALSE)),IF(ISNA(VLOOKUP(\"8\",OFFSET(GenHVACformatref,1,0,ROWS(GenHVACformatref)-1,1),1,FALSE)),FALSE,TRUE),TRUE),TRUE),TRUE),TRUE),TRUE)","v":false}]
["G","Piping losses have not been modeled in the baseline for hot or chilled water per G3.1.3.6.",null,null,null,null,"Required for Systems 1, 5, 7, and 8\nRequired for all Systems if District Heating and/or Cooling has been selected on the General Information tab",null,{"$f":"IF(OR('General Information'!$I$59=TRUE,'General Information'!$J$59=TRUE),TRUE,IF(J70=TRUE,TRUE,FALSE))","v":false},{"$f":"IF(ISNA(VLOOKUP(\"1\",OFFSET(GenHVACformatref,1,0,ROWS(GenHVACformatref)-1,1),1,FALSE)),IF(ISNA(VLOOKUP(\"5\",OFFSET(GenHVACformatref,1,0,ROWS(GenHVACformatref)-1,1),1,FALSE)),IF(ISNA(VLOOKUP(\"7\",OFFSET(GenHVACformatref,1,0,ROWS(GenHVACformatref)-1,1),1,FALSE)),IF(ISNA(VLOOKUP(\"8\",OFFSET(GenHVACformatref,1,0,ROWS(GenHVACformatref)-1,1),1,FALSE)),FALSE,TRUE),TRUE),TRUE),TRUE)","v":false}]
["G","The baseline chiller(s) quantity and type have been modeled as indicated in Table G3.1.3.7 per G3.1.3.7",null,null,null,null,"Required for Systems 7 and 8\nNot required if District Cooling has been selected on the General Information tab",null,{"$f":"IF('General Information'!$I$59=TRUE,FALSE,IF(J71=TRUE,TRUE,FALSE))","v":false},{"$f":"IF(ISNA(VLOOKUP(\"7\",OFFSET(GenHVACformatref,1,0,ROWS(GenHVACformatref)-1,1),1,FALSE)),IF(ISNA(VLOOKUP(\"8\",OFFSET(GenHVACformatref,1,0,ROWS(GenHVACformatref)-1,1),1,FALSE)),FALSE,TRUE),TRUE)","v":false}]
["G","The baseline chilled water design supply temperature has been modeled as 44°F (6.7°C) with a return temperature of 56°F (13°C) per G3.1.3.8.",null,null,null,null,"Required for Systems 7 and 8\nNot required if District Cooling has been selected on the General Information tab",null,{"$f":"IF('General Information'!$I$59=TRUE,FALSE,IF(J72=TRUE,TRUE,FALSE))","v":false},false]
["G","The baseline chilled water supply temperature reset schedule has been modeled as 44°F (7°C) at outdoor temperatures 80°F (27°C) and above, 54°F (12°C) at outdoor temperatures 60°F (16°C) and below, and ramped linearly between 44°F (7°C) and 54°F (12°C) at outdoor temperatures between 80°F (27°C) and 60°F (16°C) per G3.1.3.9.",null,null,null,null,"Required for Systems 7 and 8\nNot required if District Cooling has been selected on the General Information tab",null,{"$f":"IF('General Information'!$I$59=TRUE,FALSE,IF(J73=TRUE,TRUE,FALSE))","v":false},false]
["G","The baseline chilled water pump power has been modeled as 22 W/gpm (349 kW/1,000 L/s) per G3.1.3.10. Recommended that the pump power be split as one-third (primary) and two-thirds (secondary).",null,null,null,null,"Required for Systems 7 and 8\nNot required if District Cooling has been selected on the General Information tab",null,{"$f":"IF('General Information'!$I$59=TRUE,FALSE,IF(J74=TRUE,TRUE,FALSE))","v":false},false]
["G","The baseline cooling tower has been modeled with a two-speed axial fan per G3.1.3.11 with fan power per Table 6.8.1G.",null,null,null,null,"Required for Systems 7 and 8\nNot required if District Cooling has been selected on the General Information tab",null,{"$f":"IF('General Information'!$I$59=TRUE,FALSE,IF(J75=TRUE,TRUE,FALSE))","v":false},false]
["G","The baseline condenser water design supply temperature has been modeled as 85°F (29°C) or 10°F (5.6°C) approaching design wet-bulb temperature, whichever is lower, with a design temperature rise of 10°F (5.6°C) per G3.1.3.11.",null,null,null,null,"Required for Systems 7 and 8\nNot required if District Cooling has been selected on the General Information tab",null,{"$f":"IF('General Information'!$I$59=TRUE,FALSE,IF(J76=TRUE,TRUE,FALSE))","v":false},false]
["G","The baseline condenser water temperature reset schedule has been modeled to maintain a 70°F (21°C) leaving water temperature where weather permits, floating up to a leaving water temperature at design conditions per G3.1.3.11.",null,null,null,null,"Required for Systems 7 and 8\nNot required if District Cooling has been selected on the General Information tab",null,{"$f":"IF('General Information'!$I$59=TRUE,FALSE,IF(J77=TRUE,TRUE,FALSE))","v":false},false]
["G","The baseline condenser water pump power has been modeled as 19 W/gpm (301 kW/1,000 L/s) per G3.1.3.11.",null,null,null,null,"Required for Systems 7 and 8\nNot required if District Cooling has been selected on the General Information tab",null,{"$f":"IF('General Information'!$I$59=TRUE,FALSE,IF(J78=TRUE,TRUE,FALSE))","v":false},false]
["G"]
["G","For each item entered as “No” above, describe the applicable ASHRAE 90.1 Appendix G exception(s) that apply, or the circumstances preventing the HVAC parameters from being modeled as required, or for proposed parameters, details confirming that the proposed model appropriately represents the actual building design. If the energy simulation software is not capable of modeling the required parameters, describe the adjustments that were made to provide a thermodynamically similar representation of the system or provide a narrative justifying why the predicted energy performance results will not be influenced."]
["G"]

{"sheet":"Air-Side HVAC","index":15,"n_rows":68,"n_cols":29,"rows_kept":68,"cut":false,"hidden":false,"merged":[[7,1,15,2],[7,5,15,5],[8,7,15,7],[8,8,15,8],[4,1,4,8],[7,7,7,8],[7,3,15,3],[16,1,16,2],[37,1,65,1],[31,1,34,1],[17,1,19,1],[21,1,22,1],[20,1,20,2],[23,1,23,2],[24,1,24,2],[25,1,25,2],[27,1,27,2],[41,2,42,2],[43,2,44,2],[45,2,46,2],[26,1,26,2],[37,2,38,2],[36,2,36,3],[66,1,67,1],[66,2,67,2],[66,4,67,4],[28,1,28,2],[29,1,30,1],[39,2,40,2],[59,2,60,2],[61,2,62,2],[63,2,64,2],[49,2,50,2],[51,2,52,2],[53,2,54,2],[55,2,56,2],[57,2,58,2],[47,2,48,2],[31,3,35,3],[37,3,38,3],[39,3,40,3],[41,3,42,3],[43,3,44,3],[45,3,46,3],[47,3,48,3],[49,3,50,3],[51,3,52,3],[53,3,54,3],[55,3,56,3],[57,3,58,3],[59,3,60,3],[61,3,62,3],[63,3,64,3],[66,3,67,3]]}
[]
[null,"Air-Side HVAC"]
[]
[]
[null,"Instructions: Enter all applicable input parameters for the baseline and proposed air-side HVAC systems below. All systems included in the model should be entered. Each individual system may be entered separately, or multiple systems may be grouped together if all input parameters identified with an (*) are similar. The table is set up for two unique HVAC systems (or two groups of similar systems), and additional systems (or groups of similar systems) should be added as necessary using the Add Baseline or Add Proposed button. For any information not applicable to the project, simply enter \"N/A\".  Note: All baseline systems must be identified in the General HVAC Tab in order to display the relevant baseline inputs below. If General HVAC system types are changed, system types must be reselected in this tab.\n\n"]
[]
[null,"Air-Side HVAC System Schedule"]
[null,"Model Input Parameter",null,"Helpful Notes",null,"Units",null,"Totals",null,null,"Baseline",null,"Proposed",null,null,null,null,null,null,null,null,null,null,null,null,null,null,"Baseline","Proposed"]
[null,null,null,null,null,null,null,"Baseline","Proposed",null,"Building ID",null,"Building ID",null,null,null,null,null,null,null,null,null,null,null,null,null,null,"Building ID","Building ID"]
[]
[null,null,null,null,null,null,null,null,null,null,"* System type",null,"* System type",null,null,null,null,null,null,null,null,null,null,null,null,null,null,"* System type","* System type"]
[]
[null,null,null,null,null,null,null,null,null,null,"System designation(s)",null,"System designation(s)",null,null,null,null,null,null,null,null,null,null,null,null,null,null,"System designation(s)","System designation(s)"]
[]
[null,null,null,null,null,null,null,null,null,null,"Number of similar systems",null,"Number of similar systems",null,null,null,null,null,null,null,null,null,null,null,null,null,null,"Number of similar systems","Number of similar systems"]
[]
[null,"Total cooling capacity ",null,"Enter the modeled cooling capacity for the Baseline HVAC system (or the total cooling capacity for a group of similar systems) (example: 105 kBtu/h (30.7 kW))\n\nNote: Auto-sized with 15% oversizing per G3.1.2.2",null,"tons",null,{"$f":"SUMIF($H$8:$KG$8, \"Baseline\", $H17:$KG17)","v":0},{"$f":"SUMIF($H$8:$KG$8, \"Proposed\", $H17:$KG17)","v":0}]
[null,"* Table 6.8.1 Unitary Cooling (Systems 1 through 6)","Table 6.8.1 unitary cooling capacity range","Enter the cooling capacity size category from the appropriate Table 6.8.1 for the Baseline HVAC system (or  group of similar systems) (example: 65-135 kBtu/h (19-39.5 kW))\n\nNote: \nSystems 1 & 2: Table 6.8.1D\nSystems 3, 5, & 6: Table 6.8.1A\nSystem 4: Table 6.8.1B\nSystems 7-10: N/A",null,{"$f":"IF(SI_IP_Units=\"SI\",\"kW\",\"tons\")","v":"tons"},null,null,null,null,null,null,"n/a",null,null,null,null,null,null,null,null,null,null,null,null,null,null,null,"n/a"]
[null,null,"Unitary cooling efficiency ","Units should be consistent with the ASHRAE 90.1 minimum efficiency rating requirements for this system type"]
[null,null,"Unitary cooling part-load efficiency (if applicable) ","Enter the modeled unitary cooling efficiency for the Baseline HVAC system (or group of similar systems) in units consistent with the appropriate Table 6.8.1 (example: 11.0 EER (3.23 COP))"]
[null,"Total heating capacity ",null,"Enter the modeled heating capacity for the Baseline HVAC system (or the total heating capacity for a group of similar systems) in units of kBtu/h (kW) \n\nNote: Auto-sized with 25% oversizing per G3.1.2.2",null,{"$f":"IF(SI_IP_Units=\"SI\",\"kW\",\"kBtu/h\")","v":"kBtu/h"},null,{"$f":"SUMIF($H$8:$KG$8, \"Baseline\", $H21:$KG21)","v":0},{"$f":"SUMIF($H$8:$KG$8, \"Proposed\", $H21:$KG21)","v":0}]
[null,"* Table 6.8.1 Unitary Heating (Systems 2, 3, 4, and 9)","Table 6.8.1 unitary heating capacity range","•  System 2: Table 6.8.1D\n•  Systems 3 & 9: Table 6.8.1E\n•  System 4: Table 6.8.1B\n•  Systems 1, 5-8, 10: N/A  ",null,{"$f":"IF(SI_IP_Units=\"SI\",\"kW\",\"kBtu/h\")","v":"kBtu/h"},null,null,null,null,null,null,"n/a",null,null,null,null,null,null,null,null,null,null,null,null,null,null,null,"n/a"]
[null,null,"Unitary heating efficiency ","List all relevant efficiencies (e.g. 3.2 COP at 47°F db/43°F wb, 2.0 COP at 17°F db/15°F wb outdoor air) (e.g. 3.2 COP at 8.3°C db/6.1°C wb, 2.0 COP at -8.3°C db/-9.4°C wb outdoor air)"]
[null,"* Fan control",null,"•  Systems 1-4, 9 & 10: Constant Volume\n•  Systems 5-8: Variable Volume"]
[null,"Supply airflow ",null,"•  Systems 1-8: Auto-sized based on 20°F (11.1°C) ΔT\n•  Systems 9-10: Auto-sized based on 105°F (40.6°C) SAT",null,{"$f":"IF('General Information'!$I$12=\"IP\",\"cfm\",\"L/s\")","v":"cfm"},null,{"$f":"SUMIF($H$8:$KG$8, \"Baseline\", $H25:$KG25)","v":0},{"$f":"SUMIF($H$8:$KG$8, \"Proposed\", $H25:$KG25)","v":0}]
[null,"Outdoor airflow",null,"•  If DCV modeled in Proposed only: ASHRAE 62.1 minimum ventilation rates reported in EQ Prerequisite Minimum Indoor Air Quality\n•  All other cases: identical to Proposed",null,{"$f":"IF('General Information'!$I$12=\"IP\",\"cfm\",\"L/s\")","v":"cfm"},null,{"$f":"SUMIF($H$8:$KG$8, \"Baseline\", $H26:$KG26)","v":0},{"$f":"SUMIF($H$8:$KG$8, \"Proposed\", $H26:$KG26)","v":0}]
[null,"Demand control ventilation",null,"If required by Section 6.4.3.9 (spaces >500 sq ft (50 m2) with >40 people/1,000 sq ft (100 m2)) ",null,"n/a"]
[null,"* Economizer high-limit shutoff ",null,"•  Systems 1, 2, 9 & 10: N/A\n•  Systems 3-8: as required by G3.1.2.7 & G3.1.2.8 by Climate Zone:\n    •  Not Required - 1a, 1b, 2a, 3a, 4a \n    • 75°F - 1b, 2b, 3b, 3c, 4b, 4c, 5b, 5c, 6b, 7b, 8\n    • 70°F - 5a, 6a, 7a"]
[null,"* Supply air temperature reset",null,"•  Systems 5-8: Supply air temperature reset of 5°F under minimum cooling load conditions per G3.1.3.12 (e.g. from 55 °F to 60 °F (12.7 °C to 15.6 °C))\n•  All other systems: Not required",null,"n/a"]
[null,"* Energy Recovery per 6.5.6.1","For Baseline, any individual systems where supply airflow rate exceeds value in Table 6.5.6.1 based on climate zone and percent outdoor air? For proposed, indicate if energy recovery is modeled.","•  Exhaust air energy recovery required for individual systems exceeding Table 6.5.6.1 per G3.1.2.11 unless any exceptions apply\n•  50% energy recovery effectiveness\n•  Bypass or control to permit economizer",null,"n/a",null,null,null,null,null,null,null,null,null,null,null,null,null,null,null,null,null,null,null,null,null,null,"No"]
[null,null,"Exhaust air energy recovery effectiveness or 6.5.6.1 exception claimed","If energy recovery is modeled for the Baseline HVAC system, list the recovery effectiveness. If energy recovery is required but not modeled, list the exception from G3.1.2.10 used (example: not modeled per exception b)",null,"% energy recovery effectiveness",null,null,null,null,{"$f":"IF(K30=\"Yes\",50%,\"n/a\")","v":"n/a"},null,null,null,null,null,null,null,null,null,null,null,null,null,null,null,null,{"$f":"IF(AB30=\"Yes\",50%,\"n/a\")","v":"n/a"},{"$f":"IF(AC30=\"Yes\",\"\",\"n/a\")","v":"n/a"}]
[null,"Fan Power","Supply fan power","Report exhaust fans not interlocked with HVAC operation (such as parking garage ventilation fans, or unconditioned electrical room exhaust fans), and exhaust fans not required in the calculations (such as those applying Exception 6.5.3.1.1, or kitchen hoods operating independently of the building HVAC system) in \"Process Equipment\".\n\nThese values are calculated based on system type, any pressure adjustments listed below, the total supply volume, and the ASHRAE 90.1 fan motor efficiency associated with the fan motor power.\n\nNote: The sum of fan power for all supply, return, relief, and exhaust fans cannot exceed G3.1.2.10 system fan power allowance calculated using supply airflow.",null,"kW"]
[null,null,"Return or relief fan power ",null,null,"kW"]
[null,null,"Exhaust fan power",null,null,"kW"]
[null,null,"System fan power",null,null,"kW",null,{"$f":"SUMIF($H$8:$KG$8, \"Baseline\", $H35:$KG35)","v":0},{"$f":"SUMIF($H$8:$KG$8, \"Proposed\", $H35:$KG35)","v":0},null,{"$f":"SUM(K32:K34)","v":0},null,{"$f":"SUM(M32:M34)","v":0},null,null,null,null,null,null,null,null,null,null,null,null,null,null,{"$f":"SUM(AB32:AB34)","v":0},{"$f":"SUM(AC32:AC34)","v":0}]
[null,null,"Allowed fan power",null,null,"kW",null,null,null,null,{"$f":"IF(ISERROR(1/K$25),\"\",IF(VLOOKUP(K$12,Fanslookup,13,FALSE)=1,(IF(SI_IP_Units=\"SI\",VLOOKUP((VLOOKUP(K$12,Fanslookup,12,FALSE)*K$25+K$66),Motor_Horsepower_Nominal_Efficiency_SI,4,TRUE)*(VLOOKUP(K$12,Fanslookup,12,FALSE)*K$25+K$66),VLOOKUP((VLOOKUP(K$12,Fanslookup,11,FALSE)*K$25+K$66),Motor_Horsepower_Nominal_Efficiency_IP,5,TRUE)*(VLOOKUP(K$12,Fanslookup,11,FALSE)*K$25+K$66))),(IF(SI_IP_Units=\"IP\",VLOOKUP(K$12,Fanslookup,11,FALSE),VLOOKUP(K$12,Fanslookup,12,FALSE))*K$25+VLOOKUP(K$12,Fanslookup,15,FALSE)*K$67*$K$68)))","v":""},null,"n/a",null,null,null,null,null,null,null,null,null,null,null,null,null,null,{"$f":"IF(ISERROR(1/AB$25),\"\",IF(VLOOKUP(AB$12,Fanslookup,13,FALSE)=1,(IF(SI_IP_Units=\"SI\",VLOOKUP((VLOOKUP(AB$12,Fanslookup,12,FALSE)*AB$25+AB$66),Motor_Horsepower_Nominal_Efficiency_SI,4,TRUE)*(VLOOKUP(AB$12,Fanslookup,12,FALSE)*AB$25+AB$66),VLOOKUP((VLOOKUP(AB$12,Fanslookup,11,FALSE)*AB$25+AB$66),Motor_Horsepower_Nominal_Efficiency_IP,5,TRUE)*(VLOOKUP(AB$12,Fanslookup,11,FALSE)*AB$25+AB$66))),(IF(SI_IP_Units=\"IP\",VLOOKUP(AB$12,Fanslookup,11,FALSE),VLOOKUP(AB$12,Fanslookup,12,FALSE))*AB$25+VLOOKUP(AB$12,Fanslookup,15,FALSE)*AB$67*$K$68)))","v":""},"n/a"]
[null,null,"For each pressure drop adjustment claimed, input the design airflow rate, CFMD, through each applicable device."]
[null,"* Pressure Drop Adjustments (Systems 3 through 8)","Fully ducted return and/or exhaust air systems","Adjustment = 0.5 in. w.c. (125 Pa) (2.15  in. w.c. (535 Pa) for laboratory and vivarium systems)",null,{"$f":"IF('General Information'!$I$12=\"IP\",\"CFMD: cfm\",\"CFMD: L/s\")","v":"CFMD: cfm"},null,null,null,null,null,null,"n/a",null,null,null,null,null,null,null,null,null,null,null,null,null,null,null,"n/a"]
[null,null,null,null,null,{"$f":"IF('General Information'!$I$12=\"IP\",\"Adjustment: in. w. c.\",\"Adjustment: Pa\")","v":"Adjustment: in. w. c."},null,null,null,null,null,null,"n/a",null,{"$f":"IF('General Information'!$I$12=\"IP\",\"IP\",\"SI\")","v":"IP"},null,null,null,null,null,null,null,null,null,null,null,null,null,"n/a"]
[null,null,"Return and/or exhaust airflow control devices","Only where modulated to maintain relative negative or positive space pressure (e.g. lab, operating room)",null,{"$f":"IF('General Information'!$I$12=\"IP\",\"CFMD: cfm\",\"CFMD: L/s\")","v":"CFMD: cfm"},null,null,null,null,null,null,"n/a",null,{"$f":"IF($O$39=\"SI\",125,0.5)","v":0.5},null,null,null,null,null,null,null,null,null,null,null,null,null,"n/a"]
[null,null,null,null,null,{"$f":"IF('General Information'!$I$12=\"IP\",\"Adjustment: in. w. c.\",\"Adjustment: Pa\")","v":"Adjustment: in. w. c."},null,null,null,null,{"$f":"IF('General Information'!$I$12=\"IP\",\"0.5\",\"125\")","v":"0.5"},null,"n/a",null,{"$f":"IF($O$39=\"SI\",535,2.15)","v":2.15},null,null,null,null,null,null,null,null,null,null,null,null,{"$f":"IF('General Information'!$I$12=\"IP\",\"0.5\",\"125\")","v":"0.5"},"n/a"]
[null,null,"Exhaust filters, scrubbers, or other exhaust treatment","Adjustment = Pressure drop of device calculated at fan system design condition",null,{"$f":"IF('General Information'!$I$12=\"IP\",\"CFMD: cfm\",\"CFMD: L/s\")","v":"CFMD: cfm"},null,null,null,null,null,null,"n/a",null,null,null,null,null,null,null,null,null,null,null,null,null,null,null,"n/a"]
[null,null,null,null,null,{"$f":"IF('General Information'!$I$12=\"IP\",\"Adjustment: in. w. c.\",\"Adjustment: Pa\")","v":"Adjustment: in. w. c."},null,null,null,null,null,null,"n/a",null,null,null,null,null,null,null,null,null,null,null,null,null,null,null,"n/a"]
[null,null,"Particulate filtration credit: MERV 9 through 12","Adjustment = 0.5 in. w.c. (125 Pa)",null,{"$f":"IF('General Information'!$I$12=\"IP\",\"CFMD: cfm\",\"CFMD: L/s\")","v":"CFMD: cfm"},null,null,null,null,null,null,"n/a",null,null,null,null,null,null,null,null,null,null,null,null,null,null,null,"n/a"]
[null,null,null,null,null,{"$f":"IF('General Information'!$I$12=\"IP\",\"Adjustment: in. w. c.\",\"Adjustment: Pa\")","v":"Adjustment: in. w. c."},null,null,null,null,{"$f":"IF('General Information'!$I$12=\"IP\",\"0.5\",\"125\")","v":"0.5"},null,"n/a",null,null,null,null,null,null,null,null,null,null,null,null,null,null,{"$f":"IF('General Information'!$I$12=\"IP\",\"0.5\",\"125\")","v":"0.5"},"n/a"]
[null,null,"Particulate filtration credit: MERV 13 through 15","Adjustment = 0.9 in. w.c. (225 Pa)",null,{"$f":"IF('General Information'!$I$12=\"IP\",\"CFMD: cfm\",\"CFMD: L/s\")","v":"CFMD: cfm"},null,null,null,null,null,null,"n/a",null,null,null,null,null,null,null,null,null,null,null,null,null,null,null,"n/a"]
[null,null,null,null,null,{"$f":"IF('General Information'!$I$12=\"IP\",\"Adjustment: in. w. c.\",\"Adjustment: Pa\")","v":"Adjustment: in. w. c."},null,null,null,null,{"$f":"IF('General Information'!$I$12=\"IP\",\"0.9\",\"225\")","v":"0.9"},null,"n/a",null,null,null,null,null,null,null,null,null,null,null,null,null,null,{"$f":"IF('General Information'!$I$12=\"IP\",\"0.9\",\"225\")","v":"0.9"},"n/a"]
[null,null,"Particulate filtration credit: MERV 16 and greater and electronically enhanced filters","Adjustment = Pressure drop calculated at 2× clean filter pressure drop at fan system design condition",null,{"$f":"IF('General Information'!$I$12=\"IP\",\"CFMD: cfm\",\"CFMD: L/s\")","v":"CFMD: cfm"},null,null,null,null,null,null,"n/a",null,null,null,null,null,null,null,null,null,null,null,null,null,null,null,"n/a"]
[null,null,null,null,null,{"$f":"IF('General Information'!$I$12=\"IP\",\"Adjustment: in. w. c.\",\"Adjustment: Pa\")","v":"Adjustment: in. w. c."},null,null,null,null,null,null,"n/a",null,null,null,null,null,null,null,null,null,null,null,null,null,null,null,"n/a"]
[null,null,"Carbon and other gas-phase air cleaners","Adjustment = Clean filter pressure drop at fan system design condition",null,{"$f":"IF('General Information'!$I$12=\"IP\",\"CFMD: cfm\",\"CFMD: L/s\")","v":"CFMD: cfm"},null,null,null,null,null,null,"n/a",null,null,null,null,null,null,null,null,null,null,null,null,null,null,null,"n/a"]
[null,null,null,null,null,{"$f":"IF('General Information'!$I$12=\"IP\",\"Adjustment: in. w. c.\",\"Adjustment: Pa\")","v":"Adjustment: in. w. c."},null,null,null,null,null,null,"n/a",null,null,null,null,null,null,null,null,null,null,null,null,null,null,null,"n/a"]
[null,null,"Biosafety cabinet","Adjustment = Pressure drop of device at fan system design condition",null,{"$f":"IF('General Information'!$I$12=\"IP\",\"CFMD: cfm\",\"CFMD: L/s\")","v":"CFMD: cfm"},null,null,null,null,null,null,"n/a",null,null,null,null,null,null,null,null,null,null,null,null,null,null,null,"n/a"]
[null,null,null,null,null,{"$f":"IF('General Information'!$I$12=\"IP\",\"Adjustment: in. w. c.\",\"Adjustment: Pa\")","v":"Adjustment: in. w. c."},null,null,null,null,null,null,"n/a",null,null,null,null,null,null,null,null,null,null,null,null,null,null,null,"n/a"]
[null,null,"Energy recovery device, other than coil runaround loop","May only be claimed if required in the baseline per Table G3.1.2.9 footnote.\n\nAdjustment =  (2.2 x Energy recovery effectiveness) - 0.5 in. w.c. for each airstream ((550 x Energy recovery effectiveness) - 125 Pa)",null,{"$f":"IF('General Information'!$I$12=\"IP\",\"CFMD: cfm\",\"CFMD: L/s\")","v":"CFMD: cfm"},null,null,null,null,null,null,"n/a",null,null,null,null,null,null,null,null,null,null,null,null,null,null,null,"n/a"]
[null,null,null,null,null,{"$f":"IF('General Information'!$I$12=\"IP\",\"Adjustment: in. w. c.\",\"Adjustment: Pa\")","v":"Adjustment: in. w. c."},null,null,null,null,null,null,"n/a",null,null,null,null,null,null,null,null,null,null,null,null,null,null,null,"n/a"]
[null,null,"Coil runaround loop","May only be claimed if required in the baseline per Table G3.1.2.9 footnote.\n\nAdjustment = 0.6 in. w.c. (150 Pa) for each airstream",null,{"$f":"IF('General Information'!$I$12=\"IP\",\"CFMD: cfm\",\"CFMD: L/s\")","v":"CFMD: cfm"},null,null,null,null,null,null,"n/a",null,null,null,null,null,null,null,null,null,null,null,null,null,null,null,"n/a"]
[null,null,null,null,null,{"$f":"IF('General Information'!$I$12=\"IP\",\"Adjustment: in. w. c.\",\"Adjustment: Pa\")","v":"Adjustment: in. w. c."},null,null,null,null,null,null,"n/a",null,null,null,null,null,null,null,null,null,null,null,null,null,null,null,"n/a"]
[null,null,"Evaporative humidifier/cooler in series with another cooling coil","May only be claimed if required in the baseline.\n\nAdjustment = Clean filter pressure drop at fan system design condition",null,{"$f":"IF('General Information'!$I$12=\"IP\",\"CFMD: cfm\",\"CFMD: L/s\")","v":"CFMD: cfm"},null,null,null,null,null,null,"n/a",null,null,null,null,null,null,null,null,null,null,null,null,null,null,null,"n/a"]
[null,null,null,null,null,{"$f":"IF('General Information'!$I$12=\"IP\",\"Adjustment: in. w. c.\",\"Adjustment: Pa\")","v":"Adjustment: in. w. c."},null,null,null,null,null,null,"n/a",null,null,null,null,null,null,null,null,null,null,null,null,null,null,null,"n/a"]
[null,null,"Sound attenuation section","Adjustment = 0.15 in. w.c. (38 Pa)",null,{"$f":"IF('General Information'!$I$12=\"IP\",\"CFMD: cfm\",\"CFMD: L/s\")","v":"CFMD: cfm"},null,null,null,null,null,null,"n/a",null,null,null,null,null,null,null,null,null,null,null,null,null,null,null,"n/a"]
[null,null,null,null,null,{"$f":"IF('General Information'!$I$12=\"IP\",\"Adjustment: in. w. c.\",\"Adjustment: Pa\")","v":"Adjustment: in. w. c."},null,null,null,null,{"$f":"IF('General Information'!$I$12=\"IP\",\"0.15\",\"38\")","v":"0.15"},null,"n/a",null,null,null,null,null,null,null,null,null,null,null,null,null,null,{"$f":"IF('General Information'!$I$12=\"IP\",\"0.15\",\"38\")","v":"0.15"},"n/a"]
[null,null,"Exhaust system serving fume hoods ","Adjustment = 0.35 in. w.c. (85 Pa)",null,{"$f":"IF('General Information'!$I$12=\"IP\",\"CFMD: cfm\",\"CFMD: L/s\")","v":"CFMD: cfm"},null,null,null,null,null,null,"n/a",null,null,null,null,null,null,null,null,null,null,null,null,null,null,null,"n/a"]
[null,null,null,null,null,{"$f":"IF('General Information'!$I$12=\"IP\",\"Adjustment: in. w. c.\",\"Adjustment: Pa\")","v":"Adjustment: in. w. c."},null,null,null,null,{"$f":"IF('General Information'!$I$12=\"IP\",\"0.35\",\"85\")","v":"0.35"},null,"n/a",null,null,null,null,null,null,null,null,null,null,null,null,null,null,{"$f":"IF('General Information'!$I$12=\"IP\",\"0.35\",\"85\")","v":"0.35"},"n/a"]
[null,null,"Laboratory and vivarium exhaust systems in high-rise buildings","Adjustment = 0.25 in. w.c./100 ft of vertical duct exceeding 75 ft (60 Pa/30 m of vertical duct exceeding 25 m)",null,{"$f":"IF('General Information'!$I$12=\"IP\",\"CFMD: cfm\",\"CFMD: L/s\")","v":"CFMD: cfm"},null,null,null,null,null,null,"n/a",null,null,null,null,null,null,null,null,null,null,null,null,null,null,null,"n/a"]
[null,null,null,null,null,{"$f":"IF('General Information'!$I$12=\"IP\",\"Adjustment: in. w. c.\",\"Adjustment: Pa\")","v":"Adjustment: in. w. c."},null,null,null,null,null,null,"n/a",null,null,null,null,null,null,null,null,null,null,null,null,null,null,null,"n/a"]
[null,null,"Total Table 6.5.3.1.1B pressure drop adjustment (A)",null,null,{"$f":"IF('General Information'!$I$12=\"IP\",\"bhp\",\"kWi\")","v":"bhp"},null,null,null,null,{"$f":"((K38*K39)+(K40*K41)+(K42*K43)+(K44*K45)+(K46*K47)+(K48*K49)+(K50*K51)+(K52*K53)+(K54*K55)+(K56*K57)+(K58*K59)+(K60*K61)+(K62*K63)+(K64*K65))/IF('General Information'!$I$12=\"IP\",4131,650000)","v":0},null,"n/a",null,null,null,null,null,null,null,null,null,null,null,null,null,null,{"$f":"((AB38*AB39)+(AB40*AB41)+(AB42*AB43)+(AB44*AB45)+(AB46*AB47)+(AB48*AB49)+(AB50*AB51)+(AB52*AB53)+(AB54*AB55)+(AB56*AB57)+(AB58*AB59)+(AB60*AB61)+(AB62*AB63)+(AB64*AB65))/IF('General Information'!$I$12=\"IP\",4131,650000)","v":0},"n/a"]
[null,"Fan power adjustments (Systems 9 through 10)","Non-mechanical cooling fan - additional fan power allowance","For Systems 9 and 10, if present in the proposed design, increases the baseline fan power allowance by 0.054 Watts/cfm (0.025 Watts/L/s).",null,{"$f":"IF('General Information'!$I$12=\"IP\",\"cfm\",\"L/s\")","v":"cfm"},null,null,null,null,null,null,"n/a",null,null,null,null,null,null,null,null,null,null,null,null,null,null,null,"n/a"]
[null,null,null,null,null,{"$f":"\"fan power per \" & F67 & \" (kW)\"","v":"fan power per cfm (kW)"},null,null,null,null,{"$f":"IF('General Information'!$I$12=\"IP\",\"0.000054\",\"0.000114\")","v":"0.000054"},null,"n/a",null,null,null,null,null,null,null,null,null,null,null,null,null,null,{"$f":"IF('General Information'!$I$12=\"IP\",\"0.000054\",\"0.000114\")","v":"0.000054"},"n/a"]

{"sheet":"Water-Side HVAC","index":16,"n_rows":100,"n_cols":10,"rows_kept":100,"cut":false,"hidden":false,"merged":[[4,1,4,6],[8,5,8,7],[8,8,8,10],[93,1,93,2],[94,1,94,2],[95,1,95,2],[96,1,96,2],[97,1,97,2],[98,1,98,2],[99,1,99,2]]}
[]
[null,"Water-Side HVAC"]
[]
[]
[null,"Instructions: Enter all applicable input parameters for the baseline and proposed water-side HVAC systems below. All systems included in the model should be entered. Please refer to the row header notes for information about Appendix G modeling protocol. For any information not applicable to the project, simply enter \"N/A\". If taking credit for a campus or district plant efficiency using the DES Path 2 or 3 Guidance, please include all relevant information regarding the District Plant equipment in the proposed Case."]
[]
[null,"Water-Side HVAC System Schedule"]
[null,"Chilled Water"]
[null,null,null,null,null,"Baseline",null,null,"Proposed"]
[null,"Model Input Parameter","Baseline Systems Helpful Notes",null,"Units",null,{"$f":"'Multiple Buildings Details'!B24","v":"Project Name"},null,null,"Project"]
[null,"Number and type of chillers (and capacity per chiller if more than one type or size of chiller)","•  ≤300 tons (≤1055 kW) building peak: 1 water-cooled screw chiller\n•  300-600 tons (1055 - 2110 kW) building peak: 2 equally-sized water-cooled  screw chillers\n•  ≥600 tons (>2110 kW) building peak: At least 2 water-cooled centrifugal chillers (800 tons max per chiller) \n\nNote: Overwrite entry if more than 2 water-cooled centrifugal chillers, or N/A if purchased chilled water is modeled.",null,"n/a"]
[null,"Purchased chilled water rate (cost per unit energy)","Describe how the purchased chilled water rate was determined. Local purchased energy rates must be used when available; when not available, the rates must account for the total costs associated with maintaining the district equipment, and generating and delivering the energy to the project site.",null,"$"]
[null,"Total chiller capacity","Auto-sized with 15% oversizing (unless oversized at the system coil) per G3.1.2.2"]
[null,"Chiller efficiency - full load","Per Table 6.8.1C efficiencies"]
[null,"Chiller efficiency - part load","Per Table 6.8.1C efficiencies"]
[null,"Chilled water (CHW) supply temp","•  44°F (6.7°C) per G3.1.3.8\n•  ASHRAE 90.1 (Path 1) or Full DES (Path 2): Baseline supply temperature based on actual chilled water loop conditions in Proposed Case.",null,{"$f":"IF('General Information'!$I$12=\"IP\",\"°F\",\"°C\")","v":"°F"}]
[null,"CHW ΔT","•  12°F (6.3°C) per  G3.1.3.8\n•  ASHRAE 90.1 (Path 1) or Full DES (Path 2): CHW ΔT  based on actual chilled water loop conditions in Proposed Case.",null,{"$f":"IF('General Information'!$I$12=\"IP\",\"°F\",\"°C\")","v":"°F"}]
[null,"CHW supply temp reset parameters","•  44°F (7°C) at outdoor temps 80°F (27°C) and above, 54°F (12°C) at outdoor temps 60°F (16°C) and below, and ramped linearly between 44°F (7°C) and 54°F (12°C) at outdoor temps between 80°F (27°C) and 60°F (16°C) per G3.1.3.9\n•  ASHRAE 90.1 (Path 1) or Full DES (Path 2): CHW Temp Reset  based on actual CHW loop conditions in Proposed Case.",null,"n/a"]
[null,"CHW loop configuration","•  Primary/secondary per G3.1.3.10\n•  ASHRAE 90.1 (Path 1) or Full DES (Path 2): only building distribution pumps shall be modeled, in which case pump controls shall match the Baseline secondary CHW pump control requirements.",null,"n/a"]
[null,"Number of primary or DES plant CHW pumps","•  1 per chiller per G3.1.3.11\n•  ASHRAE 90.1 (Path 1) or Full DES (Path 2): no primary  CHW pumps should be modeled (since these are considered part of the upstream source)",null,"#"]
[null,"Primary or DES plant CHW pump power","•  The sum of primary and secondary must be 22 W/gpm (349 kW/1000 L/s) per G3.1.3.10. Recommended that the pump power be split as one-third (primary) and two-thirds (secondary).\n•  ASHRAE 90.1 (Path 1) or Full DES (Path 2): Not applicable"]
[null,"Primary or DES plant CHW pump flow","Auto-sized with a capacity ratio of 1.0 based on CHW temperatures",null,{"$f":"IF('General Information'!$I$12=\"IP\",\"gpm\",\"L/s\")","v":"gpm"}]
[null,"Primary or DES plant CHW pump control","Constant Flow - each primary pump interlocked to operate with associated chiller - G3.1.3.10, G3.1.3.11",null,"n/a"]
[null,"Number of secondary or building booster CHW pumps","•  1 per G3.1.3.10\n•  ASHRAE 90.1 (Path 1) or Full DES (Path 2): one on-site CHW distribution pump shall only be modeled if CHW distribution pumps are present on site (these would otherwise be considered part of the upstream source) (per G3.1.1.3.4)",null,"#"]
[null,"Secondary or building booster CHW pump power","•  The sum of primary and secondary must be 22 W/gpm (349 kW/1000 L/s) per G3.1.3.10. Recommended that the pump power be split as one-third (primary) and two-thirds (secondary).\n•  Full DES (Path 2): 16 W/gpm (254 kW/1000 L/s) per exception to G3.1.3.10\n•  California Title 24 (Path 4): Same W/gpm (kW/1000 L/s) as Proposed or 22 W/gpm (349 kW/1000 L/s)"]
[null,"Secondary or building booster CHW pump flow","Auto-sized with a capacity ratio of 1.0 based on CHW temperatures",null,{"$f":"IF('General Information'!$I$12=\"IP\",\"gpm\",\"L/s\")","v":"gpm"}]
[null,"Secondary or building booster CHW pump control","•  <300 tons (1055kW): riding the pump curve\n•  ≥300 tons (1055 kW): variable speed",null,"n/a"]
[null,"Water-side economizer ",null,null,"n/a"]
[null,"Water-side energy recovery",null,null,"n/a"]
[]
[null,"Cooling Tower and Condenser Water"]
[null,"Model Input Parameter","Baseline Systems Helpful Notes",null,"Units",null,{"$f":"G10","v":"Project Name"},null,null,{"$f":"J10","v":"Project"}]
[null,"Number of cooling towers or fluid coolers","1 per G3.1.3.11",null,"#"]
[null,"Cooling tower fan power","Minimum 38.2 gpm/hp (3.23 L/s·kW) (maximum 0.0262 hp/gpm or 19.5 W/gpm) (0.301 kW/L/s)  per Table 6.8.1G"]
[null,"Cooling tower fan control","Two-speed axial fans per G3.1.3.11",null,"n/a"]
[null,"Condenser water (CW) leaving temp","85°F (29°C) or 10°F (5.6°C) approaching design wet-bulb temperature, whichever is lower per G3.1.3.11",null,{"$f":"IF('General Information'!$I$12=\"IP\",\"°F\",\"°C\")","v":"°F"}]
[null,"CW ΔT","10°F (5.6°) per G3.1.3.11",null,{"$f":"IF('General Information'!$I$12=\"IP\",\"°F\",\"°C\")","v":"°F"}]
[null,"CW loop temp reset parameters","Maintain a 70°F (21°C) leaving water temperature where weather permits, floating up to leaving water temperature at design conditions per G3.1.3.11",null,"n/a"]
[null,"Number of CW pumps","1 per chiller per G3.1.3.11",null,"#"]
[null,"CW pump power","19 W/gpm (310 kW/1000 L/\ns) per G3.1.3.11"]
[null,"CW pump flow","Auto-sized with a capacity ratio of 1.0 based on CW temperatures",null,{"$f":"IF('General Information'!$I$12=\"IP\",\"gpm\",\"L/s\")","v":"gpm"}]
[null,"CW pump control","Riding the pump curve per G3.1.3.11",null,"n/a"]
[]
[null,"Hot Water or Steam"]
[null,"Model Input Parameter","Baseline Systems Helpful Notes",null,"Units",null,{"$f":"G10","v":"Project Name"},null,null,{"$f":"J10","v":"Project"}]
[null,"Number and type of boilers","•  ≤15,000 sq ft (1400 m2): 1 natural draft hot water boiler\n•  >15,000 sq ft (1400 m2): 2 equally-sized natural draft hot water boilers staged as required by the load",null,"n/a"]
[null,"Purchased heating rate (cost per unit energy)","Describe how the purchased heating rate was determined. Local purchased energy rates must be used when available; when not available, the rates must account for the total costs associated with maintaining the district equipment, and generating and delivering the energy to the project site.",null,"$"]
[null,"Total boiler capacity","Auto-sized with 25% oversizing (unless oversized at the system coil) per G3.1.2.2"]
[null,"Boiler efficiency","Per Table 6.8.1F minimum efficiencies"]
[null,"Hot water or steam (HHW) supply temp","•  180°F (82°C) per G3.1.3.3\n•  ASHRAE 90.1 (Path 1) or Full DES (Path 2): Purchased Energy - Baseline supply temperature based on actual HHW/Steam loop conditions in Proposed Case",null,{"$f":"IF('General Information'!$I$12=\"IP\",\"°F\",\"°C\")","v":"°F"}]
[null,"HHW ΔT","•  50°F (28°C) per G3.1.3.3\n•  ASHRAE 90.1 (Path 1) or Full DES (Path 2): Baseline ΔT based on actual HHW/Steam loop conditions in Proposed Case",null,{"$f":"IF('General Information'!$I$12=\"IP\",\"°F\",\"°C\")","v":"°F"}]
[null,"HHW temp reset parameters","•  180°F (83°C) at outdoor temps 20°F (-7°C) and below, 150°F (66°C) at outdoor temps 50°F (10°C) and above, and ramped linearly between 180°F (83°C) and 150°F (66°C) at outdoor temps between 20°F(-7°C) and 50°F (10°C) per G3.1.3.4\n•  ASHRAE 90.1 (Path 1) or Full DES (Path 2): Baseline Temp Reset based on actual HHW/Steam loop conditions in Proposed Case",null,"n/a"]
[null,"HHW loop configuration","•  Primary-only per G3.1.3.5\n•  ASHRAE 90.1 (Path 1) or Full DES (Path 2): Baseline pumps shall only be modeled if distribution pumps are present in the building, in which case buildings shall be modeled as primary-only per G3.1.3.5",null,"n/a"]
[null,"Number of primary or DES plant HHW pumps","•  One pump\n•  ASHRAE 90.1 (Path 1) or Full DES (Path 2): equal to the number of distribution pumps present in the building",null,"#"]
[null,"Primary or DES plant HHW pump power","•  19 W/gpm (301 kW/1000 L/s) per G3.1.3.5\n\n•  DES Path 2 - 14 W/gpm (222 kW/1000 L/s) per exception to G3.1.3.5\n\n•  DES Path 1 - same as the W/gpm (kW/1000 L/s) for the Proposed Case pumps (or alternatively 14 W/gpm (222 kW/1000 L/s) limit from Addendum ai G3.1.3.5 would be acceptable)"]
[null,"Primary or DES plant HHW pump flow","Auto-sized with a capacity ratio of 1.0 based on HHW temperatures",null,{"$f":"IF('General Information'!$I$12=\"IP\",\"gpm\",\"L/s\")","v":"gpm"}]
[null,"Primary or DES plant HHW pump control","•  <120,000 sq ft (11,160 m2): riding the pump curve\n•  ≥120,000 sq ft (11,160 m2): variable speed",null,"n/a"]
[null,"Number of secondary or building booster HHW pumps","Baseline is primary-only",null,"#"]
[null,"Secondary or building booster HHW pump power","Baseline is primary-only",null,"n/a"]
[null,"Secondary or building booster HHW pump flow","Baseline is primary-only",null,"n/a"]
[null,"Secondary or building booster HHW pump control","Baseline is primary-only",null,"n/a"]
[]
[null,"Geothermal Loop"]
[null,"Model Input Parameter","Baseline Systems Helpful Notes",null,"Units",null,{"$f":"G10","v":"Project Name"},null,null,{"$f":"J10","v":"Project"}]
[null,"Type of geothermal system","Proposed Case: Describe the geothermal or geoexchange system (e.g. closed loop vertical system, 4 inch (100 mm) diameter drilled 20 feet (6095 mm) apart, 250 feet (76.2 m) deep)",null,"n/a"]
[null,"Soil conductivity (if applicable)","Proposed Case: For ground source systems, enter the soil conductivity modeled for the system. This should be based on testing performed on the soil.",null,"n/a"]
[null,"Geothermal source design temperature - summer","Proposed Case: Enter the summer design temperature of the soil (for ground source heat pumps), or surface water (for lake, pond, ocean, or other water exchange heat pumps)",null,{"$f":"IF('General Information'!$I$12=\"IP\",\"°F\",\"°C\")","v":"°F"}]
[null,"Geothermal source design temperature - winter","Proposed Case: Enter the winter design temperature of the soil (for ground source heat pumps), or surface water (for lake, pond, ocean, or other water exchange heat pumps)",null,{"$f":"IF('General Information'!$I$12=\"IP\",\"°F\",\"°C\")","v":"°F"}]
[null,"Geoexchange loop design fluid supply temperature - cooling",null,null,{"$f":"IF('General Information'!$I$12=\"IP\",\"°F\",\"°C\")","v":"°F"}]
[null,"Geoexchange loop design fluid supply temperature -heating",null,null,{"$f":"IF('General Information'!$I$12=\"IP\",\"°F\",\"°C\")","v":"°F"}]
[null,"Geoexchange loop - operating temperature","Proposed Case: Describe how the operating temperature of the geothermal loop will be controlled, and how this was accounted for in the energy model.",null,{"$f":"IF('General Information'!$I$12=\"IP\",\"°F\",\"°C\")","v":"°F"}]
[null,"Geothermal energy transfer effect","Proposed Case: Describe how the energy transfer effect from the building to the ground or surface water source has been accounted for in the energy model and the geothermal loop design.",null,"n/a"]
[null,"Geothermal loop pumping configuration",null,null,"n/a"]
[null,"Number of geothermal loop pumps","Proposed Case: Enter the number of Proposed geothermal loop pumps modeled (example: 1 (additional scheduled pump is stand-by))",null,"#"]
[null,"Geothermal loop pump control",null,null,"n/a"]
[null,"Geothermal pump power ",null,null,"n/a"]
[null,"Geothermal loop flow",null,null,"n/a"]
[null,"Geothermal air-side efficiency curves","Proposed Case: Provide a brief description of how the geothermal air-side equipment efficiency curves were modeled, and confirm that they take into account the expected operating temperatures of the geothermal loop.",null,"n/a"]
[]
[null,"Combined Heat and Power (CHP)"]
[null,"Model Input Parameter","Baseline Systems Helpful Notes",null,"Units",null,{"$f":"G10","v":"Project Name"},null,null,{"$f":"J10","v":"Project"}]
[null,"Type of generator",null,null,"n/a"]
[null,"Quantity of CHP generators",null,null,"n/a"]
[null,"Total capacity of CHP generators (kW) at design conditions",null,null,"n/a"]
[null,"Thermal efficiency (%) at design conditions",null,null,"n/a"]
[null,"Electrical efficiency (%) at design conditions",null,null,"n/a"]
[null,"Controls or schedule",null,null,"n/a"]
[null,"Fuel Source",null,null,"n/a"]
[null,"Where is the recovered heat used? (e.g. gas absorption chillers, hot water distribution loop, etc.)",null,null,"n/a"]
[null,"Backup heat source when waste heat from CHP is unavailable? (e.g. fossil fuel boilers)",null,null,"n/a"]
[null,"Parasitic losses (e.g. air handling unit to cool the intake air)",null,null,"n/a"]
[]
[null,"Other"]
[null,"Model Input Parameter",null,null,"Units",null,{"$f":"G10","v":"Project Name"},null,null,{"$f":"J10","v":"Project"}]
[null,"Other (describe)"]
[null,"Other (describe)"]
[null,"Other (describe)"]
[null,"Other (describe)"]
[null,"Other (describe)"]
[null,"Other (describe)"]

{"sheet":"Performance_Outputs_1","index":17,"n_rows":394,"n_cols":39,"rows_kept":394,"cut":false,"hidden":false,"merged":[[316,6,316,7],[316,10,316,12],[325,2,325,3],[325,10,325,11],[242,2,242,3],[242,10,242,11],[264,2,264,3],[264,10,264,11],[275,2,275,3],[275,10,275,11],[284,2,284,3],[284,10,284,11],[293,2,293,3],[293,10,293,11],[243,1,243,3],[243,10,243,11],[245,1,245,11],[246,1,246,12],[247,1,248,1],[247,2,248,3],[247,4,247,6],[247,7,247,9],[247,10,247,11],[305,1,305,3],[390,8,390,12],[389,8,389,12],[385,8,385,12],[387,8,387,12],[388,8,388,12],[338,1,339,1],[340,1,341,1],[342,1,343,1],[350,1,351,1],[352,1,355,1],[370,8,370,12],[371,8,371,12],[372,8,372,12],[373,8,373,12],[374,8,374,12],[375,8,375,12],[376,8,376,12],[377,8,377,12],[378,8,378,12],[369,8,369,12],[386,8,386,12],[344,1,349,1],[370,1,370,7],[371,1,371,7],[335,1,335,4],[364,8,364,12],[366,8,366,12],[365,8,365,12],[367,8,367,12],[368,8,368,12],[379,8,379,12],[383,8,383,12],[384,8,384,12],[380,8,380,12],[381,8,381,12],[382,8,382,12],[358,1,358,7],[359,1,359,7],[360,1,360,7],[361,1,361,7],[362,1,362,7],[363,1,363,7],[364,1,364,7],[365,1,365,7],[366,1,366,7],[367,1,367,7],[368,1,368,7],[369,1,369,7],[4,7,4,12],[6,1,6,12],[7,1,7,12],[8,1,8,12],[9,1,9,12],[10,1,10,12],[335,5,335,12],[331,5,331,7],[331,8,331,12],[332,8,332,12],[333,8,333,12],[332,5,332,7],[333,5,333,7],[334,5,334,7],[334,8,334,12],[11,1,11,12],[12,1,12,12],[13,1,14,1],[13,2,14,3],[13,4,14,4],[13,5,14,6],[13,7,14,9],[13,10,13,12],[14,10,14,11],[19,1,19,10],[19,11,19,12],[20,1,20,10],[20,11,20,12],[27,1,27,12],[28,1,28,12],[15,2,15,3],[16,2,16,3],[16,5,16,6],[16,7,16,9],[16,10,16,11],[17,2,17,3],[17,5,17,6],[17,7,17,9],[17,10,17,11],[18,2,18,3],[18,5,18,6],[18,7,18,9],[18,10,18,11],[33,1,33,3],[33,9,33,12],[34,1,34,12],[35,1,36,3],[35,4,35,6],[35,7,36,8],[35,9,36,12],[36,4,36,5],[30,1,30,3],[30,5,30,6],[30,7,30,8],[30,9,30,12],[32,1,32,3],[32,9,32,12],[41,1,41,5],[41,7,41,8],[41,9,41,12],[42,1,42,8],[42,9,42,12],[43,1,43,11],[38,1,38,3],[38,7,38,8],[38,9,38,12],[39,1,39,3],[39,7,39,8],[39,9,39,12],[40,1,40,3],[40,7,40,8],[40,9,40,12],[56,9,56,10],[56,11,56,12],[58,9,58,10],[58,11,58,12],[48,1,48,12],[51,1,51,12],[53,2,54,2],[53,6,53,10],[53,11,54,12],[54,6,54,7],[54,9,54,10],[53,1,54,1],[55,3,55,4],[53,3,54,4],[56,3,56,4],[58,3,58,4],[53,5,54,5],[57,3,57,4],[57,9,57,10],[57,11,57,12],[63,1,63,5],[63,9,63,10],[63,11,63,12],[65,1,65,4],[67,1,67,5],[67,9,67,10],[67,11,67,12],[59,9,59,10],[59,11,59,12],[60,1,60,4],[62,1,62,5],[62,9,62,10],[62,11,62,12],[59,3,59,4],[64,1,64,5],[64,9,64,10],[64,11,64,12],[72,1,72,12],[75,1,75,12],[76,1,76,12],[78,1,78,12],[80,1,80,12],[82,1,82,12],[68,1,68,5],[68,9,68,10],[68,11,68,12],[70,1,70,5],[70,9,70,10],[70,11,70,12],[69,1,69,5],[69,9,69,10],[69,11,69,12],[92,1,92,12],[94,1,94,2],[94,10,94,12],[96,1,97,2],[96,3,97,3],[96,4,97,4],[96,10,96,12],[97,10,97,12],[83,1,83,12],[87,1,87,12],[88,1,88,12],[89,1,89,12],[90,1,90,12],[91,1,91,12],[98,1,99,2],[98,3,99,3],[98,4,99,4],[98,10,98,12],[99,10,99,12],[100,1,101,2],[100,3,101,3],[100,4,101,4],[100,10,100,12],[101,10,101,12],[102,1,103,2],[102,3,103,3],[102,4,103,4],[102,10,102,12],[103,10,103,12],[104,1,105,2],[104,3,105,3],[104,4,105,4],[104,10,104,12],[105,10,105,12],[106,1,107,2],[106,3,107,3],[106,4,107,4],[106,10,106,12],[107,10,107,12],[108,1,109,2],[108,3,109,3],[108,4,109,4],[108,10,108,12],[109,10,109,12],[110,1,111,2],[110,3,111,3],[110,4,111,4],[110,10,110,12],[111,10,111,12],[112,1,113,2],[112,3,113,3],[112,4,113,4],[112,10,112,12],[113,10,113,12],[114,1,115,2],[114,3,115,3],[114,4,115,4],[114,10,114,12],[115,10,115,12],[116,1,117,2],[116,3,117,3],[116,4,117,4],[116,10,116,12],[117,10,117,12],[118,1,119,2],[118,3,119,3],[118,4,119,4],[118,10,118,12],[119,10,119,12],[120,1,121,2],[120,3,121,3],[120,4,121,4],[120,10,120,12],[121,10,121,12],[122,1,123,2],[122,3,123,3],[122,4,123,4],[122,10,122,12],[123,10,123,12],[124,1,125,2],[124,3,125,3],[124,4,125,4],[124,10,124,12],[125,10,125,12],[126,1,127,2],[126,3,127,3],[126,4,127,4],[126,10,126,12],[127,10,127,12],[128,1,129,2],[128,3,129,3],[128,4,129,4],[128,10,128,12],[129,10,129,12],[130,1,131,2],[130,3,131,3],[130,4,131,4],[130,10,130,12],[131,10,131,12],[132,1,133,2],[132,3,133,3],[132,4,133,4],[132,10,132,12],[133,10,133,12],[134,1,135,2],[134,3,135,3],[134,4,135,4],[134,10,134,12],[135,10,135,12],[136,1,137,2],[136,3,137,3],[136,4,137,4],[136,10,136,12],[137,10,137,12],[142,1,143,2],[142,3,143,3],[142,4,143,4],[142,10,142,12],[143,10,143,12],[145,10,145,12],[138,1,139,2],[138,3,139,3],[138,4,139,4],[138,10,138,12],[139,10,139,12],[140,1,141,2],[140,3,141,3],[140,4,141,4],[140,10,140,12],[141,10,141,12],[145,1,145,3],[154,1,154,4],[154,10,154,12],[155,1,155,4],[155,10,155,12],[157,1,157,5],[157,10,157,12],[146,10,146,12],[148,1,148,5],[148,10,148,12],[149,1,149,5],[149,10,149,12],[152,1,152,5],[152,10,152,12],[146,1,146,3],[147,1,147,3],[147,10,147,12],[156,1,156,4],[156,10,156,12],[168,1,168,2],[168,10,168,11],[170,1,171,2],[170,3,171,3],[170,4,171,4],[170,9,171,9],[170,10,171,11],[161,1,161,12],[162,1,162,12],[163,1,163,12],[164,1,164,12],[165,1,165,12],[166,1,166,12],[170,12,171,12],[170,31,171,32],[172,1,173,2],[172,3,173,3],[172,4,173,4],[172,9,173,9],[172,10,173,11],[172,12,173,12],[172,31,173,32],[174,31,175,32],[176,1,177,2],[176,3,177,3],[176,4,177,4],[176,9,177,9],[176,10,177,11],[176,12,177,12],[176,31,177,32],[174,1,175,2],[174,3,175,3],[174,4,175,4],[174,9,175,9],[174,10,175,11],[174,12,175,12],[178,31,179,32],[180,1,181,2],[180,3,181,3],[180,4,181,4],[180,9,181,9],[180,10,181,11],[180,12,181,12],[180,31,181,32],[178,1,179,2],[178,3,179,3],[178,4,179,4],[178,9,179,9],[178,10,179,11],[178,12,179,12],[182,31,183,32],[184,1,185,2],[184,3,185,3],[184,4,185,4],[184,9,185,9],[184,10,185,11],[184,12,185,12],[184,31,185,32],[182,1,183,2],[182,3,183,3],[182,4,183,4],[182,9,183,9],[182,10,183,11],[182,12,183,12],[186,31,187,32],[188,1,189,2],[188,3,189,3],[188,4,189,4],[188,9,189,9],[188,10,189,11],[188,12,189,12],[188,31,189,32],[186,1,187,2],[186,3,187,3],[186,4,187,4],[186,9,187,9],[186,10,187,11],[186,12,187,12],[190,31,191,32],[192,1,193,2],[192,3,193,3],[192,4,193,4],[192,9,193,9],[192,10,193,11],[192,12,193,12],[192,31,193,32],[190,1,191,2],[190,3,191,3],[190,4,191,4],[190,9,191,9],[190,10,191,11],[190,12,191,12],[194,31,195,32],[196,1,197,2],[196,3,197,3],[196,4,197,4],[196,9,197,9],[196,10,197,11],[196,12,197,12],[196,31,197,32],[194,1,195,2],[194,3,195,3],[194,4,195,4],[194,9,195,9],[194,10,195,11],[194,12,195,12],[198,31,199,32],[200,1,201,2],[200,3,201,3],[200,4,201,4],[200,9,201,9],[200,10,201,11],[200,12,201,12],[200,31,201,32],[198,1,199,2],[198,3,199,3],[198,4,199,4],[198,9,199,9],[198,10,199,11],[198,12,199,12],[202,31,203,32],[204,1,205,2],[204,3,205,3],[204,4,205,4],[204,9,205,9],[204,10,205,11],[204,12,205,12],[204,31,205,32],[202,1,203,2],[202,3,203,3],[202,4,203,4],[202,9,203,9],[202,10,203,11],[202,12,203,12],[206,31,207,32],[208,1,209,2],[208,3,209,3],[208,4,209,4],[208,9,209,9],[208,10,209,11],[208,12,209,12],[208,31,209,32],[206,1,207,2],[206,3,207,3],[206,4,207,4],[206,9,207,9],[206,10,207,11],[206,12,207,12],[210,31,211,32],[212,1,213,2],[212,3,213,3],[212,4,213,4],[212,9,213,9],[212,10,213,11],[212,12,213,12],[212,31,213,32],[210,1,211,2],[210,3,211,3],[210,4,211,4],[210,9,211,9],[210,10,211,11],[210,12,211,12],[214,31,215,32],[216,1,217,2],[216,3,217,3],[216,4,217,4],[216,9,217,9],[216,10,217,11],[216,12,217,12],[216,31,217,32],[214,1,215,2],[214,3,215,3],[214,4,215,4],[214,9,215,9],[214,10,215,11],[214,12,215,12],[223,2,223,3],[223,10,223,11],[224,2,224,3],[224,10,224,11],[226,1,226,3],[226,10,226,11],[220,1,221,1],[220,2,221,3],[220,4,220,6],[220,7,220,9],[220,10,220,12],[221,10,221,11],[225,2,225,3],[225,10,225,11],[229,1,229,11],[230,1,230,3],[230,4,230,6],[230,7,230,9],[230,10,230,12],[232,2,232,3],[232,4,232,6],[232,7,232,9],[232,10,232,12],[237,13,237,15],[238,10,238,11],[240,2,240,3],[240,10,240,11],[241,2,241,3],[241,10,241,11],[233,2,233,3],[233,4,233,6],[233,7,233,9],[233,10,233,12],[236,1,236,11],[237,1,238,1],[237,2,238,3],[237,4,237,6],[237,7,237,9],[237,10,237,12],[234,2,234,3],[234,4,234,6],[234,7,234,9],[234,10,234,12],[259,13,259,15],[260,10,260,11],[262,2,262,3],[262,10,262,11],[263,2,263,3],[263,10,263,11],[258,1,258,3],[259,1,260,1],[259,2,260,3],[259,4,259,6],[259,7,259,9],[259,10,259,12],[270,13,270,15],[271,10,271,11],[273,2,273,3],[273,10,273,11],[274,2,274,3],[274,10,274,11],[265,1,265,3],[265,10,265,11],[266,1,266,3],[268,1,268,12],[270,1,271,1],[270,2,271,3],[270,4,270,6],[270,7,270,9],[270,10,270,12],[279,13,279,15],[280,10,280,11],[282,2,282,3],[282,10,282,11],[283,2,283,3],[283,10,283,11],[276,1,276,3],[276,10,276,11],[277,1,277,11],[279,1,280,1],[279,2,280,3],[279,4,279,6],[279,7,279,9],[279,10,279,12],[288,13,288,15],[289,10,289,11],[291,2,291,3],[291,10,291,11],[292,2,292,3],[292,10,292,11],[285,1,285,3],[285,10,285,11],[286,1,286,11],[288,1,289,1],[288,2,289,3],[288,4,288,6],[288,7,288,9],[288,10,288,12],[299,13,299,15],[300,10,300,11],[302,2,302,3],[302,10,302,11],[303,2,303,3],[303,10,303,11],[294,1,294,3],[294,10,294,11],[295,1,295,11],[296,1,296,9],[296,10,296,12],[299,1,300,1],[299,2,300,3],[299,4,299,6],[299,7,299,9],[299,10,299,12],[334,1,334,4],[309,13,309,15],[310,6,310,7],[310,10,310,12],[312,2,312,3],[312,6,312,7],[312,10,312,12],[315,2,315,3],[315,6,315,7],[315,10,315,12],[317,1,317,3],[317,6,317,7],[317,10,317,12],[313,1,313,3],[313,6,313,7],[313,10,313,12],[314,2,314,3],[314,6,314,7],[314,10,314,12],[309,1,310,1],[309,2,310,3],[320,7,320,9],[320,10,320,12],[316,2,316,3],[391,8,391,12],[392,8,392,12],[393,8,393,12],[321,10,321,11],[363,8,363,12],[336,2,336,6],[327,1,327,11],[331,1,331,4],[332,1,332,4],[333,1,333,4],[323,2,323,3],[323,10,323,11],[324,2,324,3],[324,10,324,11],[326,1,326,3],[326,10,326,11],[361,8,361,12],[362,8,362,12],[358,8,358,12],[359,8,359,12],[360,8,360,12],[320,1,321,1],[320,2,321,3],[320,4,320,6],[305,10,305,11],[308,1,308,12],[309,4,309,7],[309,8,309,12],[250,1,250,3],[251,2,251,3],[252,2,252,3],[254,1,254,3],[255,2,255,3],[256,2,256,3],[304,2,304,3],[304,10,304,11],[390,1,390,7],[357,1,357,7],[357,8,357,12],[391,1,391,7],[392,1,392,7],[393,1,393,7],[381,1,381,7],[382,1,382,7],[383,1,383,7],[384,1,384,7],[385,1,385,7],[386,1,386,7],[387,1,387,7],[388,1,388,7],[389,1,389,7],[372,1,372,7],[373,1,373,7],[374,1,374,7],[375,1,375,7],[376,1,376,7],[377,1,377,7],[378,1,378,7],[379,1,379,7],[380,1,380,7]]}
["G"]
["G","Performance Rating Method Outputs"]
["G"]
["G",null,null,null,null,null,null,null,null,null,null,null,null,null,null,null,"Multiplier"]
["G","Energy Model ID",null,null,null,null,null,{"$f":"INDEX(MBD_EMI_Table,2,1)","v":"Project Name"},null,null,null,null,null,null,null,null,{"$f":"IFERROR(INDEX(MBD_EMI_Table,MATCH($H$5,MBD_EMI_Index,0),MATCH('Multiple Buildings Details'!$J$16,MBD_EMI_Hdr,0)),\"ERROR\")","v":1}]
["G"]
["G","Energy Sources"]
["G"]
["G","Enter each energy source serving the project, the units for the energy consumption and demand, and the associated utility rate name and tariff structure. Default EIA Rates may be used in lieu of local utility rates at the discretion of the energy modeler.  All project energy types and the demand and consumption units must be entered before entering energy simulation output data. Also enter the units used to report energy consumption totals (the sum of all energy types) for site energy consumption and source energy consumption (generally, the IP units are Btu x 10^6, the SI site energy units are kWh, and the SI source energy units are MJ).\n\n\n"]
["G","DES Path 1: If the project is using campus or district thermal energy using ASHRAE 90.1-2010 without Addenda (District Energy Modeling Path 1), select District Cooling, District Hot Water, or District Steam as applicable and all other energy sources serving the building "]
["G","DES Path 2: If the project is modeling campus or district thermal energy using the Full DES Performance Accounting method (District Energy Modeling Path 2) include each energy source serving the building except District Energy, AND include each energy source in the district or campus plant (e.g. electricity, natural gas, etc.) if different from the energy sources serving the building. Do not select District Cooling, District Hot Water, or District Steam. "]
["G","DES Path 3: If the project is modeling campus or district thermal energy using the Streamlined DES Accounting Method (District Energy Modeling Path 3), select District Cooling, District Hot Water, or District Steam as applicable, AND each energy source serving the building, AND each energy source in the district or campus plant if different from the energy sources serving the building (e.g. electricity, natural gas, etc.).\n"]
["G"]
["G","Energy Type","Energy Consumption Units",null,"Demand Units","Utility Rate Name",null,"Utility Rate Structure",null,null,"Unit Conversion Factors"]
["G",null,null,null,null,null,null,null,null,null,{"$f":"CONCATENATE(\"Energy Type Consumption Units to Site Energy Consumption (\",PO_SiteUnits,\")\")","v":"Energy Type Consumption Units to Site Energy Consumption (Btu x 10^6)"},null,{"$f":"CONCATENATE(\"Energy Type Consumption Units to Source Energy Consumption (\",PO_SourceUnits,\")\")","v":"Energy Type Consumption Units to Source Energy Consumption (Btu x 10^6)"}]
["G","Energy_Type","Energy_Consumption_Units",null,"Demand_Units","Utility_Rate_Name",null,"Utility_Rate_Structure",null,null,"Site_Energy_Conversion_Factor",null,"Source_Energy_Conversion_Factor"]
["G","Electricity","kWh",null,"kW",null,null,null,null,null,{"$f":"IFERROR(VLOOKUP(\"kBtu\",EnergyUnitsTable,3,FALSE)/VLOOKUP(PO_SiteUnits,EnergyUnitsTable,3,FALSE)*VLOOKUP($C17,EnergyUnitsTable,3,FALSE),\"\")","v":3.4120000000000001E-3},null,{"$f":"IFERROR(VLOOKUP(\"kBtu\",EnergyUnitsTable,3,FALSE)/VLOOKUP(PO_SourceUnits,EnergyUnitsTable,3,FALSE)*VLOOKUP($C17,EnergyUnitsTable,3,FALSE)*VLOOKUP($B17,FuelTypesTable,2,FALSE),\"\")","v":1.0713680000000001E-2}]
["G","Natural Gas","therm",null,"Btuh x 10^6",null,null,null,null,null,{"$f":"IFERROR(VLOOKUP(\"kBtu\",EnergyUnitsTable,3,FALSE)/VLOOKUP(PO_SiteUnits,EnergyUnitsTable,3,FALSE)*VLOOKUP($C18,EnergyUnitsTable,3,FALSE),\"\")","v":0.1},null,{"$f":"IFERROR(VLOOKUP(\"kBtu\",EnergyUnitsTable,3,FALSE)/VLOOKUP(PO_SourceUnits,EnergyUnitsTable,3,FALSE)*VLOOKUP($C18,EnergyUnitsTable,3,FALSE)*VLOOKUP($B18,FuelTypesTable,2,FALSE),\"\")","v":0.10500000000000001}]
["G","District Cooling","MWh",null,"MW",null,null,null,null,null,{"$f":"IFERROR(VLOOKUP(\"kBtu\",EnergyUnitsTable,3,FALSE)/VLOOKUP(PO_SiteUnits,EnergyUnitsTable,3,FALSE)*VLOOKUP($C19,EnergyUnitsTable,3,FALSE),\"\")","v":3.4119999999999999},null,{"$f":"IFERROR(VLOOKUP(\"kBtu\",EnergyUnitsTable,3,FALSE)/VLOOKUP(PO_SourceUnits,EnergyUnitsTable,3,FALSE)*VLOOKUP($C19,EnergyUnitsTable,3,FALSE)*VLOOKUP($B19,FuelTypesTable,2,FALSE),\"\")","v":3.4119999999999999}]
["G","Site energy consumption units used to report energy consumption totals (sum of energy types)",null,null,null,null,null,null,null,null,null,{"$f":"IF(SI_IP_Units=\"SI\",\"MWh\",\"Btu x 10^6\")","v":"Btu x 10^6"}]
["G","Source energy consumption units used to report energy consumption totals (sum of energy types)",null,null,null,null,null,null,null,null,null,{"$f":"IF(SI_IP_Units=\"SI\",\"MWh\",\"Btu x 10^6\")","v":"Btu x 10^6"}]
["G"]
["G"]
["G","On-Site Renewable Energy Production"]
["G",null,null,null,null,null,null,null,null,null,null,null,null,null,null,null,null,null,null,null,null,null,null,null,null,null,null,null,null,"Site-generated renewable energy?"]
["G","The project building uses on-site renewable energy systems. (Optional)",null,null,null,null,null,null,null,null,null,null,null,null,null,null,null,null,null,null,null,null,null,null,null,null,null,null,null,true]
["G"]
["G","Table: On-Site Renewable energy source summary"]
["G","Renewable energy production should be reported in the table below. Note: This calculator will automatically reduce the proposed energy consumption and cost to accurately reflect the revised results. Therefore, any site-generated renewable energy production should NOT be included in the Performance Rating Method tables below.\n\nSelect the site-generated renewable energy source. Enter the rated capacity of the site-generated renewable source including the units (e.g. for photovoltaics 10 kW). Include all relevant capacities (i.e for solar thermal, both the storage tank capacity and the solar thermal panel capacity).\n\nThe cost of the Site-generated renewable cost will be automatically determined using the virtual rate once the output data (consumption and cost) is entered below. The cost may be overridden by the user, however this may generate an issue on the Quality Checks and the user should be prepared to justify the entered cost value."]
["G"]
["G","On-Site Renewable Source",null,null,"Offset \nEnergy Type","Rated Capacity ",null,"Annual Site Energy Generated",null,"Annual Energy Cost Offset with \nSite-Generated Renewables \n($/year)",null,null,null,null,null,null,null,null,null,"Default_Cost","Rate_Variance"]
["G","Renewable_Source",null,null,"Offset_Energy_Type","Rated_Capacity",null,"Annual_Site_Energy",null,"Cost",null,null,null,null,null,null,"Site_Unit_Conversion","Source_Unit_Conversion","EFLH","Default_Cost","Rate_Variance"]
["A","Photovoltaic system",null,null,"Electricity",null,{"$f":"IFERROR(IF(ISBLANK($E33),\"\",VLOOKUP($E33,PO_Enrgy_1_Table,MATCH($E$16,PO_Enrgy_1_Hdr,0),FALSE)),\"\")","v":"kW"},null,{"$f":"IFERROR(IF(ISBLANK($E33),\"\",VLOOKUP($E33,PO_Enrgy_1_Table,MATCH($C$16,PO_Enrgy_1_Hdr,0),FALSE)),\"\")","v":"kWh"},{"$f":"IFERROR($H33*VLOOKUP($E33,PO_Enrgy_8_Table,MATCH($H$232,PO_Enrgy_8_Hdr,0),FALSE),\"\")","v":""},"","","",null,null,null,{"$f":"IFERROR(IF(ISBLANK($E33),\"\",VLOOKUP($E33,PO_Enrgy_1_Table,MATCH($K$16,PO_Enrgy_1_Hdr,0),FALSE)),\"\")","v":3.4120000000000001E-3},{"$f":"IFERROR(IF(ISBLANK($E33),\"\",VLOOKUP($E33,PO_Enrgy_1_Table,MATCH($M$16,PO_Enrgy_1_Hdr,0),FALSE)),\"\")","v":1.0713680000000001E-2},{"$f":"IFERROR((H33*VLOOKUP(I33,EnergyUnitsTable,3,FALSE))/(F33*VLOOKUP(G33,DemandTable,3,FALSE)),\"\")","v":""},{"$f":"IFERROR($H33*VLOOKUP($E33,PO_Enrgy_8_Table,MATCH($H$232,PO_Enrgy_8_Hdr,0),FALSE),\"\")","v":""},{"$f":"IFERROR(1-$J33/$T33,0)","v":0}]
[null,"Solar thermal system",null,null,"Natural Gas",null,{"$f":"IFERROR(IF(ISBLANK($E34),\"\",VLOOKUP($E34,PO_Enrgy_1_Table,MATCH($E$16,PO_Enrgy_1_Hdr,0),FALSE)),\"\")","v":"Btuh x 10^6"},null,{"$f":"IFERROR(IF(ISBLANK($E34),\"\",VLOOKUP($E34,PO_Enrgy_1_Table,MATCH($C$16,PO_Enrgy_1_Hdr,0),FALSE)),\"\")","v":"therm"},"","","","",null,null,null,{"$f":"IFERROR(IF(ISBLANK($E34),\"\",VLOOKUP($E34,PO_Enrgy_1_Table,MATCH($K$16,PO_Enrgy_1_Hdr,0),FALSE)),\"\")","v":0.1},{"$f":"IFERROR(IF(ISBLANK($E34),\"\",VLOOKUP($E34,PO_Enrgy_1_Table,MATCH($M$16,PO_Enrgy_1_Hdr,0),FALSE)),\"\")","v":0.10500000000000001},{"$f":"IFERROR((H34*VLOOKUP(I34,EnergyUnitsTable,3,FALSE))/(F34*VLOOKUP(G34,DemandTable,3,FALSE)),\"\")","v":""},{"$f":"IFERROR($H34*VLOOKUP($E34,PO_Enrgy_8_Table,MATCH($H$232,PO_Enrgy_8_Hdr,0),FALSE),\"\")","v":""},{"$f":"IFERROR(1-$J34/$T34,0)","v":0}]
[null,"Renewable Summary"]
[null,"Offset Energy Type",null,null,"Annual Site Energy Generated",null,null,{"$f":"CONCATENATE(\"Annual Source Energy Generated\n (\", PO_SourceUnits, \")\")","v":"Annual Source Energy Generated\n (Btu x 10^6)"},null,"Annual Energy Cost Offset with \nSite-Generated Renewables \n($/year)"]
[null,null,null,null,"Units per Energy Type",null,{"$f":"CONCATENATE(\"Units = \", PO_SiteUnits,\")\")","v":"Units = Btu x 10^6)"}]
[null,"Energy_Type",null,null,"Site_Energy_Ind_Units","Site_Ind_Units","Site_Energy_Same_Units","Source_Energy",null,"Cost",null,null,null,null,null,null,"Site_Unit_Conversion","Source_Unit_Conversion"]
[null,{"$f":"IFERROR(IF(ISBLANK(B17),\"\",B17),\"\")","v":"Electricity"},null,null,{"$f":"IFERROR(IF(PO_SiteRenewable=TRUE,SUMIF(INDEX(PO_renewable_table,0,MATCH($E$32,PO_renewable_hdr,0)),$B39,INDEX(PO_renewable_table,0,MATCH($H$32,PO_renewable_hdr,0))),\"\"),\"\")","v":0},{"$f":"IFERROR(IF(ISBLANK($B39),\"\",VLOOKUP($B39,PO_Enrgy_1_Table,MATCH($C$16,PO_Enrgy_1_Hdr,0),FALSE)),\"\")","v":"kWh"},{"$f":"IFERROR($E39*$Q39,\"\")","v":0},{"$f":"IFERROR($E39*$R39,\"\")","v":0},null,{"$f":"IFERROR(IF(PO_SiteRenewable=TRUE,SUMIF($E$33:$E$34,$B39,$J$33:$J$34),0),\"\")","v":0},null,null,null,null,null,null,{"$f":"IFERROR(IF(ISBLANK($B39),\"\",VLOOKUP($B39,PO_Enrgy_1_Table,MATCH($K$16,PO_Enrgy_1_Hdr,0),FALSE)),\"\")","v":3.4120000000000001E-3},{"$f":"IFERROR(IF(ISBLANK($B39),\"\",VLOOKUP($B39,PO_Enrgy_1_Table,MATCH($M$16,PO_Enrgy_1_Hdr,0),FALSE)),\"\")","v":1.0713680000000001E-2}]
[null,{"$f":"IFERROR(IF(ISBLANK(B18),\"\",B18),\"\")","v":"Natural Gas"},null,null,{"$f":"IFERROR(IF(PO_SiteRenewable=TRUE,SUMIF(INDEX(PO_renewable_table,0,MATCH($E$32,PO_renewable_hdr,0)),$B40,INDEX(PO_renewable_table,0,MATCH($H$32,PO_renewable_hdr,0))),\"\"),\"\")","v":0},{"$f":"IFERROR(IF(ISBLANK($B40),\"\",VLOOKUP($B40,PO_Enrgy_1_Table,MATCH($C$16,PO_Enrgy_1_Hdr,0),FALSE)),\"\")","v":"therm"},{"$f":"IFERROR($E40*$Q40,\"\")","v":0},{"$f":"IFERROR($E40*$R40,\"\")","v":0},null,{"$f":"IFERROR(IF(PO_SiteRenewable=TRUE,SUMIF($E$33:$E$34,$B40,$J$33:$J$34),0),\"\")","v":0},null,null,null,null,null,null,{"$f":"IFERROR(IF(ISBLANK($B40),\"\",VLOOKUP($B40,PO_Enrgy_1_Table,MATCH($K$16,PO_Enrgy_1_Hdr,0),FALSE)),\"\")","v":0.1},{"$f":"IFERROR(IF(ISBLANK($B40),\"\",VLOOKUP($B40,PO_Enrgy_1_Table,MATCH($M$16,PO_Enrgy_1_Hdr,0),FALSE)),\"\")","v":0.10500000000000001}]
[null,{"$f":"IFERROR(IF(ISBLANK(B19),\"\",B19),\"\")","v":"District Cooling"},null,null,{"$f":"IFERROR(IF(PO_SiteRenewable=TRUE,SUMIF(INDEX(PO_renewable_table,0,MATCH($E$32,PO_renewable_hdr,0)),$B41,INDEX(PO_renewable_table,0,MATCH($H$32,PO_renewable_hdr,0))),\"\"),\"\")","v":0},{"$f":"IFERROR(IF(ISBLANK($B41),\"\",VLOOKUP($B41,PO_Enrgy_1_Table,MATCH($C$16,PO_Enrgy_1_Hdr,0),FALSE)),\"\")","v":"MWh"},{"$f":"IFERROR($E41*$Q41,\"\")","v":0},{"$f":"IFERROR($E41*$R41,\"\")","v":0},null,{"$f":"IFERROR(IF(PO_SiteRenewable=TRUE,SUMIF($E$33:$E$34,$B41,$J$33:$J$34),0),\"\")","v":0},null,null,null,null,null,null,{"$f":"IFERROR(IF(ISBLANK($B41),\"\",VLOOKUP($B41,PO_Enrgy_1_Table,MATCH($K$16,PO_Enrgy_1_Hdr,0),FALSE)),\"\")","v":3.4119999999999999},{"$f":"IFERROR(IF(ISBLANK($B41),\"\",VLOOKUP($B41,PO_Enrgy_1_Table,MATCH($M$16,PO_Enrgy_1_Hdr,0),FALSE)),\"\")","v":3.4119999999999999}]
[null,"Total",null,null,null,null,{"$f":"IFERROR(SUM(INDEX(PO_Enrgy_2_Table,0,MATCH($G$38,PO_Enrgy_2_Hdr,0))),\"\")","v":0},{"$f":"IFERROR(SUM(INDEX(PO_Enrgy_2_Table,0,MATCH($H$38,PO_Enrgy_2_Hdr,0))),\"\")","v":0},{"$f":"SUM(I38:I40)","v":0},{"$f":"IFERROR(SUM(J32:J34),\"\")","v":0}]
[null,"Percent renewable energy (by cost)",null,null,null,null,null,null,null,{"$f":"IF(Datacenter_Avg=TRUE,IFERROR($J42/$J$295,\"\"),IFERROR($J42/$J$266,\"\"))","v":""}]
["G"]
["G"]
["G","Exceptional Calculation Methods",null,null,null,null,null,null,null,null,null,null,null,null,null,null,null,null,null,"Exceptional Calculations?"]
["G",null,null,null,null,null,null,null,null,null,null,null,null,null,null,null,null,null,null,true]
["G","The building energy analysis includes exceptional calculation methods. (Optional)"]
["G","Data Centers:  If using the Data Center Calculator to document energy improvements in IT loads, the checkbox stating that the building energy analysis includes exceptional calculation methods must be checked.  In the table below, select the checkbox “Apply to Baseline?” for each end-use impacted, and provide:\n•  The completed Data Center Calculator (found under the prerequisite's \"Resources\" tab in the Credit Library), as well as copies of any other spreadsheets used to perform the calculations\n•  If energy efficiency credit is applied for any future IT equipment, electrical infrastructure, and/or for future server room cooling equipment that will serve unfinished spaces (meaning that the IT equipment, electrical infrastructure, and/or unfinished space cooling equipment will not be installed during Startup Occupancy), provide a binding Owner commitment letter and (for any tenants) sample lease agreements with binding tenant requirements that confirms that the future installed IT equipment will be at least as efficient as the equipment modeled in the Data Center Calculator. Note that the future equipment may not be modeled as being more efficient than the equipment installed for Startup occupancy.\n•  If taking credit for the impact of IT equipment load reductions on HVAC energy consumption, upload the simulation input summary and simulation output reports, and Performance Rating summary with the baseline model revised to include the baseline IT and electrical infrastructure from the Data Center Calculator.\n"]
["G"]
["G","Table: Exceptional calculation methods energy summary"]
["G","Report Exceptional calculation methods in the table below.\n\nSelect \"Add to Baseline\" if the exceptional calculation adjusts the Baseline building energy consumption and cost up, or \"Subtract from Proposed\" if the exceptional calculation adjusts the Proposed building energy consumption and cost down.\n\nThis calculator will automatically reduce the proposed energy consumption and cost, or increase the baseline energy consumption and cost to accurately reflect the revised results. Therefore, any exceptional calculation methods should NOT be included in the Performance Rating Method Compliance report below.  If any single Exceptional Calculation Method results in energy penalties for a given energy type (i.e. increased proposed case electricity energy usage, or decreased baseline case fossil fuel energy usage), that penalty should be entered as a negative number. If any single Exceptional Calculation Method affects more than one energy type, please add additional rows to capture the method's impact to that energy type. If taking credit for Data Center Equipment or Retail Process Loads, those savings must be recorded here and the supplemental spreadsheets associated with that equipment must be uploaded as part of the submittal documents.\n\nThe cost of the Exceptional Calculation Method will be automatically determined using the virtual rate once the output data (consumption and cost) is entered below. The cost may be overridden by the user, however this may generate an issue on the Quality Checks and the user should be prepared to justify the entered cost value."]
["G"]
["G","Exceptional \nCalculation \nNumber","Exceptional \nCalculation \nMethod ID","Energy Type(s)",null,"Add to Baseline?\nSubtract from Proposed?","Annual Energy Difference by Energy Type",null,null,null,null,"Annual Energy Cost Difference"]
["G",null,null,null,null,null,"Site Energy \n(Units per Energy Type)",null,{"$f":"CONCATENATE(\"Site Energy \n(Units = \", PO_SiteUnits,\")\")","v":"Site Energy \n(Units = Btu x 10^6)"},{"$f":"\"Source Energy Consumption \n(\"  & PO_SourceUnits & \")\"","v":"Source Energy Consumption \n(Btu x 10^6)"}]
["G","Ex_Calc_Number","Ex_Calc_ID","Energy_Type",null,"Add_Baseline_Subtract_Proposed","Site_Energy_Ind_Units","Site_Ind_Units","Site_Energy_Same_Units","Source_Energy",null,"Cost",null,null,null,null,"Site_Unit_Conversion","Source_Unit_Conversion",null,"Default_Cost","Rate_Variance"]
["B",null,null,null,null,null,null,{"$f":"IFERROR(IF(ISBLANK($D57),\"\",VLOOKUP($D57,PO_Enrgy_1_Table,MATCH($C$16,PO_Enrgy_1_Hdr,0),FALSE)),\"\")","v":""},{"$f":"IFERROR(VLOOKUP($D57,PO_Enrgy_1_Table,MATCH($K$16,PO_Enrgy_1_Hdr,0),FALSE)*$G57,\"\")","v":""},{"$f":"IFERROR(VLOOKUP($D57,PO_Enrgy_1_Table,MATCH($M$16,PO_Enrgy_1_Hdr,0),FALSE)*$G57,\"\")","v":""},null,{"$f":"IFERROR($G57*IF($F57=\"Subtract from Proposed\",VLOOKUP($D57,PO_Enrgy_8_Table,MATCH($H$232,PO_Enrgy_8_Hdr,0),FALSE),VLOOKUP($D57,PO_Enrgy_8_Table,MATCH($E$232,PO_Enrgy_8_Hdr,0),FALSE)),\"\")","v":""},null,null,null,null,{"$f":"IFERROR(IF(ISBLANK($D57),\"\",VLOOKUP($D57,PO_Enrgy_1_Table,MATCH($K$16,PO_Enrgy_1_Hdr,0),FALSE)),\"\")","v":""},{"$f":"IFERROR(IF(ISBLANK($D57),\"\",VLOOKUP($D57,PO_Enrgy_1_Table,MATCH($M$16,PO_Enrgy_1_Hdr,0),FALSE)),\"\")","v":""},null,{"$f":"IFERROR($G57*IF($F57=\"Subtract from Proposed\",VLOOKUP($D57,PO_Enrgy_8_Table,MATCH($H$232,PO_Enrgy_8_Hdr,0),FALSE),VLOOKUP($D57,PO_Enrgy_8_Table,MATCH($E$232,PO_Enrgy_8_Hdr,0),FALSE)),\"\")","v":""},{"$f":"IFERROR(1-$J57/$T57,0)","v":0},null,null,null,null,null,null,""]
[null,1,null,null,null,null,null,{"$f":"IFERROR(IF(ISBLANK($D58),\"\",VLOOKUP($D58,PO_Enrgy_1_Table,MATCH($C$16,PO_Enrgy_1_Hdr,0),FALSE)),\"\")","v":""},{"$f":"IFERROR(VLOOKUP($D58,PO_Enrgy_1_Table,MATCH($K$16,PO_Enrgy_1_Hdr,0),FALSE)*$G58,\"\")","v":""},{"$f":"IFERROR(VLOOKUP($D58,PO_Enrgy_1_Table,MATCH($M$16,PO_Enrgy_1_Hdr,0),FALSE)*$G58,\"\")","v":""},null,{"$f":"IFERROR($G58*IF($F58=\"Subtract from Proposed\",VLOOKUP($D58,PO_Enrgy_8_Table,MATCH($H$232,PO_Enrgy_8_Hdr,0),FALSE),VLOOKUP($D58,PO_Enrgy_8_Table,MATCH($E$232,PO_Enrgy_8_Hdr,0),FALSE)),\"\")","v":""},null,null,null,null,{"$f":"IFERROR(IF(ISBLANK($D58),\"\",VLOOKUP($D58,PO_Enrgy_1_Table,MATCH($K$16,PO_Enrgy_1_Hdr,0),FALSE)),\"\")","v":""},{"$f":"IFERROR(IF(ISBLANK($D58),\"\",VLOOKUP($D58,PO_Enrgy_1_Table,MATCH($M$16,PO_Enrgy_1_Hdr,0),FALSE)),\"\")","v":""},null,{"$f":"IFERROR($G58*IF($F58=\"Subtract from Proposed\",VLOOKUP($D58,PO_Enrgy_8_Table,MATCH($H$232,PO_Enrgy_8_Hdr,0),FALSE),VLOOKUP($D58,PO_Enrgy_8_Table,MATCH($E$232,PO_Enrgy_8_Hdr,0),FALSE)),\"\")","v":""},{"$f":"IFERROR(1-$J58/$T58,0)","v":0}]
[null,2,null,null,null,null,null,{"$f":"IFERROR(IF(ISBLANK($D59),\"\",VLOOKUP($D59,PO_Enrgy_1_Table,MATCH($C$16,PO_Enrgy_1_Hdr,0),FALSE)),\"\")","v":""},{"$f":"IFERROR(VLOOKUP($D59,PO_Enrgy_1_Table,MATCH($K$16,PO_Enrgy_1_Hdr,0),FALSE)*$G59,\"\")","v":""},{"$f":"IFERROR(VLOOKUP($D59,PO_Enrgy_1_Table,MATCH($M$16,PO_Enrgy_1_Hdr,0),FALSE)*$G59,\"\")","v":""},null,{"$f":"IFERROR($G59*IF($F59=\"Subtract from Proposed\",VLOOKUP($D59,PO_Enrgy_8_Table,MATCH($H$232,PO_Enrgy_8_Hdr,0),FALSE),VLOOKUP($D59,PO_Enrgy_8_Table,MATCH($E$232,PO_Enrgy_8_Hdr,0),FALSE)),\"\")","v":""},null,null,null,null,{"$f":"IFERROR(IF(ISBLANK($D59),\"\",VLOOKUP($D59,PO_Enrgy_1_Table,MATCH($K$16,PO_Enrgy_1_Hdr,0),FALSE)),\"\")","v":""},{"$f":"IFERROR(IF(ISBLANK($D59),\"\",VLOOKUP($D59,PO_Enrgy_1_Table,MATCH($M$16,PO_Enrgy_1_Hdr,0),FALSE)),\"\")","v":""},null,{"$f":"IFERROR($G59*IF($F59=\"Subtract from Proposed\",VLOOKUP($D59,PO_Enrgy_8_Table,MATCH($H$232,PO_Enrgy_8_Hdr,0),FALSE),VLOOKUP($D59,PO_Enrgy_8_Table,MATCH($E$232,PO_Enrgy_8_Hdr,0),FALSE)),\"\")","v":""},{"$f":"IFERROR(1-$J59/$T59,0)","v":0},null,null,null,null,null,null,""]
[null,3,null,null,null,null,null,{"$f":"IFERROR(IF(ISBLANK($D60),\"\",VLOOKUP($D60,PO_Enrgy_1_Table,MATCH($C$16,PO_Enrgy_1_Hdr,0),FALSE)),\"\")","v":""},{"$f":"IFERROR(VLOOKUP($D60,PO_Enrgy_1_Table,MATCH($K$16,PO_Enrgy_1_Hdr,0),FALSE)*$G60,\"\")","v":""},{"$f":"IFERROR(VLOOKUP($D60,PO_Enrgy_1_Table,MATCH($M$16,PO_Enrgy_1_Hdr,0),FALSE)*$G60,\"\")","v":""},null,{"$f":"IFERROR($G60*IF($F60=\"Subtract from Proposed\",VLOOKUP($D60,PO_Enrgy_8_Table,MATCH($H$232,PO_Enrgy_8_Hdr,0),FALSE),VLOOKUP($D60,PO_Enrgy_8_Table,MATCH($E$232,PO_Enrgy_8_Hdr,0),FALSE)),\"\")","v":""},null,null,null,null,{"$f":"IFERROR(IF(ISBLANK($D60),\"\",VLOOKUP($D60,PO_Enrgy_1_Table,MATCH($K$16,PO_Enrgy_1_Hdr,0),FALSE)),\"\")","v":""},{"$f":"IFERROR(IF(ISBLANK($D60),\"\",VLOOKUP($D60,PO_Enrgy_1_Table,MATCH($M$16,PO_Enrgy_1_Hdr,0),FALSE)),\"\")","v":""},null,{"$f":"IFERROR($G60*IF($F60=\"Subtract from Proposed\",VLOOKUP($D60,PO_Enrgy_8_Table,MATCH($H$232,PO_Enrgy_8_Hdr,0),FALSE),VLOOKUP($D60,PO_Enrgy_8_Table,MATCH($E$232,PO_Enrgy_8_Hdr,0),FALSE)),\"\")","v":""},{"$f":"IFERROR(1-$J60/$T60,0)","v":0},null,null,null,null,null,null,""]
[null,"Subtotals added to baseline"]
[null,"Energy_Type",null,null,null,null,"Site_Energy_Ind_Units","Site_Ind_Units","Site_Energy_Same_Units","Source_Energy",null,"Cost",null,null,null,null,"Site_Unit_Conversion","Source_Unit_Conversion"]
[null,{"$f":"IFERROR(IF(ISBLANK(B17),\"\",B17),\"\")","v":"Electricity"},null,null,null,null,{"$f":"IFERROR(IF(PO_ShowExCalc=TRUE,SUMIFS(INDEX(PO_ExCalc_Table,0,MATCH($G$56,PO_ExCalc_Hdr,0)),INDEX(PO_ExCalc_Table,0,MATCH($D$56,PO_ExCalc_Hdr,0)),$B63,INDEX(PO_ExCalc_Table,0,MATCH($F$56,PO_ExCalc_Hdr,0)),\"Add to Baseline\"),\"\"),\"\")","v":0},{"$f":"IFERROR(IF(ISBLANK($B63),\"\",VLOOKUP($B63,PO_Enrgy_1_Table,MATCH($C$16,PO_Enrgy_1_Hdr,0),FALSE)),\"\")","v":"kWh"},{"$f":"IFERROR($G63*$Q63,\"\")","v":0},{"$f":"IFERROR($G63*$R63,\"\")","v":0},{"$f":"IFERROR($G63*$Q63,\"\")","v":0},{"$f":"IFERROR(IF(PO_ShowExCalc=TRUE,SUMIFS(INDEX(PO_ExCalc_Table,0,MATCH($L$56,PO_ExCalc_Hdr,0)),INDEX(PO_ExCalc_Table,0,MATCH($D$56,PO_ExCalc_Hdr,0)),$B63,INDEX(PO_ExCalc_Table,0,MATCH($F$56,PO_ExCalc_Hdr,0)),\"Add to Baseline\"),\"\"),\"\")","v":0},{"$f":"IFERROR(IF(PO_ShowExCalc=TRUE,SUMIFS(M$57:M$60,$D$57:$D$60,$B63,$F$57:$F$60,\"Add to Baseline\"),\"\"),\"\")","v":0},null,null,null,{"$f":"IFERROR(IF(ISBLANK($B63),\"\",VLOOKUP($B63,PO_Enrgy_1_Table,MATCH($K$16,PO_Enrgy_1_Hdr,0),FALSE)),\"\")","v":3.4120000000000001E-3},{"$f":"IFERROR(IF(ISBLANK($B63),\"\",VLOOKUP($B63,PO_Enrgy_1_Table,MATCH($M$16,PO_Enrgy_1_Hdr,0),FALSE)),\"\")","v":1.0713680000000001E-2}]
[null,{"$f":"IFERROR(IF(ISBLANK(B18),\"\",B18),\"\")","v":"Natural Gas"},null,null,null,null,{"$f":"IFERROR(IF(PO_ShowExCalc=TRUE,SUMIFS(INDEX(PO_ExCalc_Table,0,MATCH($G$56,PO_ExCalc_Hdr,0)),INDEX(PO_ExCalc_Table,0,MATCH($D$56,PO_ExCalc_Hdr,0)),$B64,INDEX(PO_ExCalc_Table,0,MATCH($F$56,PO_ExCalc_Hdr,0)),\"Add to Baseline\"),\"\"),\"\")","v":0},{"$f":"IFERROR(IF(ISBLANK($B64),\"\",VLOOKUP($B64,PO_Enrgy_1_Table,MATCH($C$16,PO_Enrgy_1_Hdr,0),FALSE)),\"\")","v":"therm"},{"$f":"IFERROR($G64*$Q64,\"\")","v":0},{"$f":"IFERROR($G64*$R64,\"\")","v":0},0,{"$f":"IFERROR(IF(PO_ShowExCalc=TRUE,SUMIFS(INDEX(PO_ExCalc_Table,0,MATCH($L$56,PO_ExCalc_Hdr,0)),INDEX(PO_ExCalc_Table,0,MATCH($D$56,PO_ExCalc_Hdr,0)),$B64,INDEX(PO_ExCalc_Table,0,MATCH($F$56,PO_ExCalc_Hdr,0)),\"Add to Baseline\"),\"\"),\"\")","v":0},{"$f":"IFERROR(IF(PO_ShowExCalc=TRUE,SUMIFS(M$57:M$60,$D$57:$D$60,$B64,$F$57:$F$60,\"Add to Baseline\"),\"\"),\"\")","v":0},null,null,null,{"$f":"IFERROR(IF(ISBLANK($B64),\"\",VLOOKUP($B64,PO_Enrgy_1_Table,MATCH($K$16,PO_Enrgy_1_Hdr,0),FALSE)),\"\")","v":0.1},{"$f":"IFERROR(IF(ISBLANK($B64),\"\",VLOOKUP($B64,PO_Enrgy_1_Table,MATCH($M$16,PO_Enrgy_1_Hdr,0),FALSE)),\"\")","v":0.10500000000000001}]
[null,{"$f":"IFERROR(IF(ISBLANK(B19),\"\",B19),\"\")","v":"District Cooling"},null,null,null,null,{"$f":"IFERROR(IF(PO_ShowExCalc=TRUE,SUMIFS(INDEX(PO_ExCalc_Table,0,MATCH($G$56,PO_ExCalc_Hdr,0)),INDEX(PO_ExCalc_Table,0,MATCH($D$56,PO_ExCalc_Hdr,0)),$B65,INDEX(PO_ExCalc_Table,0,MATCH($F$56,PO_ExCalc_Hdr,0)),\"Add to Baseline\"),\"\"),\"\")","v":0},{"$f":"IFERROR(IF(ISBLANK($B65),\"\",VLOOKUP($B65,PO_Enrgy_1_Table,MATCH($C$16,PO_Enrgy_1_Hdr,0),FALSE)),\"\")","v":"MWh"},{"$f":"IFERROR($G65*$Q65,\"\")","v":0},{"$f":"IFERROR($G65*$R65,\"\")","v":0},0,{"$f":"IFERROR(IF(PO_ShowExCalc=TRUE,SUMIFS(INDEX(PO_ExCalc_Table,0,MATCH($L$56,PO_ExCalc_Hdr,0)),INDEX(PO_ExCalc_Table,0,MATCH($D$56,PO_ExCalc_Hdr,0)),$B65,INDEX(PO_ExCalc_Table,0,MATCH($F$56,PO_ExCalc_Hdr,0)),\"Add to Baseline\"),\"\"),\"\")","v":0},{"$f":"IFERROR(IF(PO_ShowExCalc=TRUE,SUMIFS(M$57:M$60,$D$57:$D$60,$B65,$F$57:$F$60,\"Add to Baseline\"),\"\"),\"\")","v":0},null,null,null,{"$f":"IFERROR(IF(ISBLANK($B65),\"\",VLOOKUP($B65,PO_Enrgy_1_Table,MATCH($K$16,PO_Enrgy_1_Hdr,0),FALSE)),\"\")","v":3.4119999999999999},{"$f":"IFERROR(IF(ISBLANK($B65),\"\",VLOOKUP($B65,PO_Enrgy_1_Table,MATCH($M$16,PO_Enrgy_1_Hdr,0),FALSE)),\"\")","v":3.4119999999999999}]
[null,"Subtotals subtracted from proposed"]
[null,"Energy_Type",null,null,null,null,"Site_Energy_Ind_Units","Site_Ind_Units","Site_Energy_Same_Units","Source_Energy",null,"Cost",null,null,null,null,"Site_Unit_Conversion","Source_Unit_Conversion"]
[null,{"$f":"IFERROR(IF(ISBLANK(B17),\"\",B17),\"\")","v":"Electricity"},null,null,null,null,{"$f":"IFERROR(IF(PO_ShowExCalc=TRUE,SUMIFS(INDEX(PO_ExCalc_Table,0,MATCH($G$56,PO_ExCalc_Hdr,0)),INDEX(PO_ExCalc_Table,0,MATCH($D$56,PO_ExCalc_Hdr,0)),$B68,INDEX(PO_ExCalc_Table,0,MATCH($F$56,PO_ExCalc_Hdr,0)),\"Subtract from Proposed\"),\"\"),\"\")","v":0},{"$f":"IFERROR(IF(ISBLANK($B68),\"\",VLOOKUP($B68,PO_Enrgy_1_Table,MATCH($C$16,PO_Enrgy_1_Hdr,0),FALSE)),\"\")","v":"kWh"},{"$f":"IFERROR($G68*$Q68,\"\")","v":0},{"$f":"IFERROR($G68*$R68,\"\")","v":0},{"$f":"IFERROR($G68*$Q68,\"\")","v":0},{"$f":"IFERROR(IF(PO_ShowExCalc=TRUE,SUMIFS(INDEX(PO_ExCalc_Table,0,MATCH($L$56,PO_ExCalc_Hdr,0)),INDEX(PO_ExCalc_Table,0,MATCH($D$56,PO_ExCalc_Hdr,0)),$B68,INDEX(PO_ExCalc_Table,0,MATCH($F$56,PO_ExCalc_Hdr,0)),\"Subtract from Proposed\"),\"\"),\"\")","v":0},{"$f":"IFERROR(IF(PO_ShowExCalc=TRUE,SUMIFS(M$57:M$60,$D$57:$D$60,$B68,$F$57:$F$60,\"Add to Baseline\"),\"\"),\"\")","v":0},null,null,null,{"$f":"IFERROR(IF(ISBLANK($B68),\"\",VLOOKUP($B68,PO_Enrgy_1_Table,MATCH($K$16,PO_Enrgy_1_Hdr,0),FALSE)),\"\")","v":3.4120000000000001E-3},{"$f":"IFERROR(IF(ISBLANK($B68),\"\",VLOOKUP($B68,PO_Enrgy_1_Table,MATCH($M$16,PO_Enrgy_1_Hdr,0),FALSE)),\"\")","v":1.0713680000000001E-2}]
[null,{"$f":"IFERROR(IF(ISBLANK(B18),\"\",B18),\"\")","v":"Natural Gas"},null,null,null,null,{"$f":"IFERROR(IF(PO_ShowExCalc=TRUE,SUMIFS(INDEX(PO_ExCalc_Table,0,MATCH($G$56,PO_ExCalc_Hdr,0)),INDEX(PO_ExCalc_Table,0,MATCH($D$56,PO_ExCalc_Hdr,0)),$B69,INDEX(PO_ExCalc_Table,0,MATCH($F$56,PO_ExCalc_Hdr,0)),\"Subtract from Proposed\"),\"\"),\"\")","v":0},{"$f":"IFERROR(IF(ISBLANK($B69),\"\",VLOOKUP($B69,PO_Enrgy_1_Table,MATCH($C$16,PO_Enrgy_1_Hdr,0),FALSE)),\"\")","v":"therm"},{"$f":"IFERROR($G69*$Q69,\"\")","v":0},{"$f":"IFERROR($G69*$R69,\"\")","v":0},0,{"$f":"IFERROR(IF(PO_ShowExCalc=TRUE,SUMIFS(INDEX(PO_ExCalc_Table,0,MATCH($L$56,PO_ExCalc_Hdr,0)),INDEX(PO_ExCalc_Table,0,MATCH($D$56,PO_ExCalc_Hdr,0)),$B69,INDEX(PO_ExCalc_Table,0,MATCH($F$56,PO_ExCalc_Hdr,0)),\"Subtract from Proposed\"),\"\"),\"\")","v":0},{"$f":"IFERROR(IF(PO_ShowExCalc=TRUE,SUMIFS(M$57:M$60,$D$57:$D$60,$B69,$F$57:$F$60,\"Add to Baseline\"),\"\"),\"\")","v":0},null,null,null,{"$f":"IFERROR(IF(ISBLANK($B69),\"\",VLOOKUP($B69,PO_Enrgy_1_Table,MATCH($K$16,PO_Enrgy_1_Hdr,0),FALSE)),\"\")","v":0.1},{"$f":"IFERROR(IF(ISBLANK($B69),\"\",VLOOKUP($B69,PO_Enrgy_1_Table,MATCH($M$16,PO_Enrgy_1_Hdr,0),FALSE)),\"\")","v":0.10500000000000001}]
[null,{"$f":"IFERROR(IF(ISBLANK(B19),\"\",B19),\"\")","v":"District Cooling"},null,null,null,null,{"$f":"IFERROR(IF(PO_ShowExCalc=TRUE,SUMIFS(INDEX(PO_ExCalc_Table,0,MATCH($G$56,PO_ExCalc_Hdr,0)),INDEX(PO_ExCalc_Table,0,MATCH($D$56,PO_ExCalc_Hdr,0)),$B70,INDEX(PO_ExCalc_Table,0,MATCH($F$56,PO_ExCalc_Hdr,0)),\"Subtract from Proposed\"),\"\"),\"\")","v":0},{"$f":"IFERROR(IF(ISBLANK($B70),\"\",VLOOKUP($B70,PO_Enrgy_1_Table,MATCH($C$16,PO_Enrgy_1_Hdr,0),FALSE)),\"\")","v":"MWh"},{"$f":"IFERROR($G70*$Q70,\"\")","v":0},{"$f":"IFERROR($G70*$R70,\"\")","v":0},0,{"$f":"IFERROR(IF(PO_ShowExCalc=TRUE,SUMIFS(INDEX(PO_ExCalc_Table,0,MATCH($L$56,PO_ExCalc_Hdr,0)),INDEX(PO_ExCalc_Table,0,MATCH($D$56,PO_ExCalc_Hdr,0)),$B70,INDEX(PO_ExCalc_Table,0,MATCH($F$56,PO_ExCalc_Hdr,0)),\"Subtract from Proposed\"),\"\"),\"\")","v":0},{"$f":"IFERROR(IF(PO_ShowExCalc=TRUE,SUMIFS(M$57:M$60,$D$57:$D$60,$B70,$F$57:$F$60,\"Add to Baseline\"),\"\"),\"\")","v":0},null,null,null,{"$f":"IFERROR(IF(ISBLANK($B70),\"\",VLOOKUP($B70,PO_Enrgy_1_Table,MATCH($K$16,PO_Enrgy_1_Hdr,0),FALSE)),\"\")","v":3.4119999999999999},{"$f":"IFERROR(IF(ISBLANK($B70),\"\",VLOOKUP($B70,PO_Enrgy_1_Table,MATCH($M$16,PO_Enrgy_1_Hdr,0),FALSE)),\"\")","v":3.4119999999999999}]
[null,"Total Exceptional Calculation Method Adjustment",null,null,null,null,null,null,{"$f":"IFERROR(SUM(INDEX(PO_Enrgy_3_Table,0,MATCH($I62,PO_Enrgy_3_Hdr,0)),INDEX(PO_Enrgy_4_Table,0,MATCH($I67,PO_Enrgy_4_Hdr,0))),\"\")","v":0},{"$f":"IFERROR(SUM(INDEX(PO_Enrgy_3_Table,0,MATCH($J62,PO_Enrgy_3_Hdr,0)),INDEX(PO_Enrgy_4_Table,0,MATCH($J67,PO_Enrgy_4_Hdr,0))),\"\")","v":0},{"$f":"IFERROR(SUM(K$35:K$69),0)","v":0},{"$f":"IFERROR(SUM(INDEX(PO_Enrgy_3_Table,0,MATCH($L62,PO_Enrgy_3_Hdr,0)),INDEX(PO_Enrgy_4_Table,0,MATCH($L67,PO_Enrgy_4_Hdr,0))),\"\")","v":0},{"$f":"IFERROR(SUM(M$35:M$69),0)","v":0}]
["G"]
["G","Upload: Exceptional calculation \nProvide a detailed narrative explaining the exceptional calculation method(s) performed, including all end-uses affected by the exceptional calculation method. If more than one exceptional calculation method is used, the exceptional calculation ID in the narrative must match the values listed in the table above.  The exceptional calculation method must include:\n•  Step-by-step documentation of the exceptional calculation method(s) performed detailed enough to reproduce the results\n•  Copies of all spreadsheets used to perform the calculations, or simulation energy model input and output summaries documenting the calculations performed\n•  For methods that significantly impact HVAC or refrigeration energy, the calculations shall be performed on a time step basis consistent with the simulation program used\n•  The Performance Rating calculated with and without the exceptional calculation method\n•  Documentation of the baseline and proposed assumptions. Documentation of baseline assumptions verify that the efficiency measure is not conventional practice by including, but not limited to:\n    ○  a recently published study (published within five years of the project registration date) with researched tabulations or monitored data establishing standard practice for the given application in similar newly constructed facilities\n    ○  a new construction utility or government program that incentivizes the measure\n    ○  a document showing the systems used to perform the same function in other newly constructed facilities (for example, three similar facilities built within the past five years). These systems would be treated as the baseline system in the analysis, and evidence must be provided to demonstrate how the energy for the baseline and proposed buildings are determined \n    ○  use any of the prescriptive requirements from 90.1-2010 as the baseline requirement without further justification to substantiate conventional practice, but only for the specific component addressed by the prescriptive requirement"]
["G"]
["G","Energy Modeling Output Reporting Method"]
["G","Select one of the following before entering any simulation output data:\nNote: If this is selected after data has been entered in the tables below, the energy types, baseline energy by end use, and baseline cost data will be cleared from these tables."]
["G","Complete the baseline results for each of the four building orientations, in addition to the proposed results.",null,null,null,null,null,null,null,null,null,null,null,null,null,null,null,1]
["G"]
["G","Report the averaged baseline results, in addition to the proposed results. In the EAp2 form uploads, provide simulation output summaries from the simulation output software that include the energy consumption by end-use, total energy consumption by energy type, and total energy cost by energy type, reported separately  for each of the four baseline rotations, and the average baseline energy consumption by end-use, energy consumption by energy type, and energy cost by energy type. (The simulation software must report this average as a standard report in order to use this option)."]
["G"]
["G","The project is not required to simulate four baseline orientations because (a) the vertical fenestration area on each orientation varies by less than 5%, (b) the energy code used does not require simulation of four baseline orientations, or (c) the building is more than 50% existing based on conditioned floor area. Report the non-rotated baseline results, in addition to the proposed results.\n"]
["G"]
["G","The project is not required to simulate four baseline orientations because the building orientation is dictated by site consideration, as allowed by Table G3.1.5 (a) (baseline) Exception 1. Report the non-rotated baseline results, in addition to the proposed results."]
["G"]
["G"]
["G","Performance Rating Method Compliance Report"]
["G","Table: Baseline energy summary by end use"]
["G","Complete the table below for the proposed, providing information on baseline energy consumption and peak demand by end-use. This data will be used to autopopulate the Performance tables below. If an end-use has two energy types (e.g. proposed space heating includes both fossil fuel and electric), enter the end-use twice in the table, and list the two different energy types."]
["G","ASHRAE 90.1-2010 without Addenda (District Energy Modeling Path 1): Report the district energy type (District Cooling, District Hot Water, or District Steam) for the cooling and heating end-uses as applicable for both the baseline and proposed.  "]
["G","Full DES Performance Accounting method (District Energy Modeling Path 2): Report the baseline energy as if the thermal energy is produced in the building.  Report the proposed energy used to generate and distribute the district thermal energy serving the building based on calculated average district thermal efficiencies (e.g. report the electricity used to generate and distribute chilled water to the building).\n"]
["G","Streamlined DES Accounting Method (District Energy Modeling Path 3): Report the energy type (District Cooling, District Hot Water, or District Steam for the cooling and heating end-uses as applicable for both the baseline and proposed. "]
["G","Data Centers: The energy consumption for IT equipment must be metered and reported separately from other end-uses in the energy model, and in the tables below to allow the proper determination of the PUE. Complete the table below for the baseline using the full build-out IT loads for the proposed design.\n"]
["G","Retail: The energy consumption for cooking, refrigeration, and kitchen ventilation fans must be metered and reported separately from other end-uses in the energy model and in the tables below. Energy savings or consumption attributable to unregulated equipment, other than Commercial Kitchen Equipment, Supermarket Refrigeration, Walk-in Coolers and Freezers, or Commercial Kitchen Ventilation listed in Tables 1 – 4 of the LEED v4 BD+C:Retail and ID+C: Retail Rating System Appendix 3 must be claimed via Exceptional Calculation Methodology."]
["G"]
["G","End Use",null,"Unregulated?","Energy Type","Units of \nAnnual Energy and Peak Demand","Baseline 0° rotation","Baseline 90° rotation","Baseline 180° rotation","Baseline 270° rotation","Baseline Design Total\n (Average of 4 rotations)"]
["G","End_Use",null,"Unregulated","Energy_Type","Energy_Units","Baseline_0_Rotation","Baseline_90_Rotation","Baseline_180_Rotation","Baseline_270_Rotation","Base_Consumption_Demand",null,null,null,null,null,"Site_Unit_Conversion","Source_Unit_Conversion","EFLH"]
["G","Interior lighting",null,null,"Electricity",{"$f":"IFERROR(IF(ISBLANK(E97),\"\",\"Consumption (\" & VLOOKUP($E97,PO_Enrgy_1_Table,MATCH($C$16,PO_Enrgy_1_Hdr,0),FALSE) & \")\"),\"\")","v":"Consumption (kWh)"},null,null,null,null,{"$f":"IFERROR(AVERAGE(G97,H97,I97,J97),\"\")","v":""},null,null,null,null,null,{"$f":"IFERROR(IF(ISBLANK($E97),\"\",VLOOKUP($E97,PO_Enrgy_1_Table,MATCH($K$16,PO_Enrgy_1_Hdr,0),FALSE)),\"\")","v":3.4120000000000001E-3},{"$f":"IFERROR(IF(ISBLANK($E97),\"\",VLOOKUP($E97,PO_Enrgy_1_Table,MATCH($M$16,PO_Enrgy_1_Hdr,0),FALSE)),\"\")","v":1.0713680000000001E-2},{"$f":"IFERROR(IF(FIND(\"Consumption\",F97),(K97*VLOOKUP(MID(F97,FIND(\"(\",F97)+1,LEN(F97)-FIND(\"(\",F97)-1),EnergyUnitsTable,3,FALSE))/(K98*VLOOKUP(MID(F98,FIND(\"(\",F98)+1,LEN(F98)-FIND(\"(\",F98)-1),DemandTable,3,FALSE)),1),\"\")","v":""}]
["G",null,null,null,null,{"$f":"IFERROR(IF(ISBLANK(E97),\"\",\"Demand (\" & VLOOKUP($E97,PO_Enrgy_1_Table,MATCH($E$16,PO_Enrgy_1_Hdr,0),FALSE) & \")\"),\"\")","v":"Demand (kW)"},null,null,null,null,"",null,null,null,null,null,"","",""]
["G","Exterior lighting",null,null,"Electricity",{"$f":"IFERROR(IF(ISBLANK(E99),\"\",\"Consumption (\" & VLOOKUP($E99,PO_Enrgy_1_Table,MATCH($C$16,PO_Enrgy_1_Hdr,0),FALSE) & \")\"),\"\")","v":"Consumption (kWh)"},null,null,null,null,{"$f":"IFERROR(AVERAGE(G99,H99,I99,J99),\"\")","v":""},null,null,null,null,null,3.4120000000000001E-3,1.0713680000000001E-2,""]
["G",null,null,null,null,{"$f":"IFERROR(IF(ISBLANK(E99),\"\",\"Demand (\" & VLOOKUP($E99,PO_Enrgy_1_Table,MATCH($E$16,PO_Enrgy_1_Hdr,0),FALSE) & \")\"),\"\")","v":"Demand (kW)"},null,null,null,null,"",null,null,null,null,null,"","",""]
["G","Space heating",null,null,"Natural Gas",{"$f":"IFERROR(IF(ISBLANK(E101),\"\",\"Consumption (\" & VLOOKUP($E101,PO_Enrgy_1_Table,MATCH($C$16,PO_Enrgy_1_Hdr,0),FALSE) & \")\"),\"\")","v":"Consumption (therm)"},null,null,null,null,{"$f":"IFERROR(AVERAGE(G101,H101,I101,J101),\"\")","v":""},null,null,null,null,null,0.1,0.10500000000000001,""]
["G",null,null,null,null,{"$f":"IFERROR(IF(ISBLANK(E101),\"\",\"Demand (\" & VLOOKUP($E101,PO_Enrgy_1_Table,MATCH($E$16,PO_Enrgy_1_Hdr,0),FALSE) & \")\"),\"\")","v":"Demand (Btuh x 10^6)"},null,null,null,null,"",null,null,null,null,null,"","",""]
["G","Space cooling",null,null,"Electricity",{"$f":"IFERROR(IF(ISBLANK(E103),\"\",\"Consumption (\" & VLOOKUP($E103,PO_Enrgy_1_Table,MATCH($C$16,PO_Enrgy_1_Hdr,0),FALSE) & \")\"),\"\")","v":"Consumption (kWh)"},null,null,null,null,"",null,null,null,null,null,3.4120000000000001E-3,1.0713680000000001E-2,""]
["G",null,null,null,null,{"$f":"IFERROR(IF(ISBLANK(E103),\"\",\"Demand (\" & VLOOKUP($E103,PO_Enrgy_1_Table,MATCH($E$16,PO_Enrgy_1_Hdr,0),FALSE) & \")\"),\"\")","v":"Demand (kW)"},null,null,null,null,"",null,null,null,null,null,"","",""]
["G","Pumps",null,null,"Electricity",{"$f":"IFERROR(IF(ISBLANK(E105),\"\",\"Consumption (\" & VLOOKUP($E105,PO_Enrgy_1_Table,MATCH($C$16,PO_Enrgy_1_Hdr,0),FALSE) & \")\"),\"\")","v":"Consumption (kWh)"},null,null,null,null,"",null,null,null,null,null,3.4120000000000001E-3,1.0713680000000001E-2,""]
["G",null,null,null,null,{"$f":"IFERROR(IF(ISBLANK(E105),\"\",\"Demand (\" & VLOOKUP($E105,PO_Enrgy_1_Table,MATCH($E$16,PO_Enrgy_1_Hdr,0),FALSE) & \")\"),\"\")","v":"Demand (kW)"},null,null,null,null,"",null,null,null,null,null,"","",""]
["G","Heat rejection",null,null,"Electricity",{"$f":"IFERROR(IF(ISBLANK(E107),\"\",\"Consumption (\" & VLOOKUP($E107,PO_Enrgy_1_Table,MATCH($C$16,PO_Enrgy_1_Hdr,0),FALSE) & \")\"),\"\")","v":"Consumption (kWh)"},null,null,null,null,"",null,null,null,null,null,3.4120000000000001E-3,1.0713680000000001E-2,""]
["G",null,null,null,null,{"$f":"IFERROR(IF(ISBLANK(E107),\"\",\"Demand (\" & VLOOKUP($E107,PO_Enrgy_1_Table,MATCH($E$16,PO_Enrgy_1_Hdr,0),FALSE) & \")\"),\"\")","v":"Demand (kW)"},null,null,null,null,"",null,null,null,null,null,"","",""]
["G","Fans - interior ventilation",null,null,"Electricity",{"$f":"IFERROR(IF(ISBLANK(E109),\"\",\"Consumption (\" & VLOOKUP($E109,PO_Enrgy_1_Table,MATCH($C$16,PO_Enrgy_1_Hdr,0),FALSE) & \")\"),\"\")","v":"Consumption (kWh)"},null,null,null,null,"",null,null,null,null,null,3.4120000000000001E-3,1.0713680000000001E-2,""]
["G",null,null,null,null,{"$f":"IFERROR(IF(ISBLANK(E109),\"\",\"Demand (\" & VLOOKUP($E109,PO_Enrgy_1_Table,MATCH($E$16,PO_Enrgy_1_Hdr,0),FALSE) & \")\"),\"\")","v":"Demand (kW)"},null,null,null,null,"",null,null,null,null,null,"","",""]
["G","Fans - parking garage",null,"x","Electricity",{"$f":"IFERROR(IF(ISBLANK(E111),\"\",\"Consumption (\" & VLOOKUP($E111,PO_Enrgy_1_Table,MATCH($C$16,PO_Enrgy_1_Hdr,0),FALSE) & \")\"),\"\")","v":"Consumption (kWh)"},null,null,null,null,"",null,null,null,null,null,3.4120000000000001E-3,1.0713680000000001E-2,""]
["G",null,null,null,null,{"$f":"IFERROR(IF(ISBLANK(E111),\"\",\"Demand (\" & VLOOKUP($E111,PO_Enrgy_1_Table,MATCH($E$16,PO_Enrgy_1_Hdr,0),FALSE) & \")\"),\"\")","v":"Demand (kW)"},null,null,null,null,"",null,null,null,null,null,"","",""]
["G","Service water heating",null,null,"Natural Gas",{"$f":"IFERROR(IF(ISBLANK(E113),\"\",\"Consumption (\" & VLOOKUP($E113,PO_Enrgy_1_Table,MATCH($C$16,PO_Enrgy_1_Hdr,0),FALSE) & \")\"),\"\")","v":"Consumption (therm)"},null,null,null,null,"",null,null,null,null,null,0.1,0.10500000000000001,""]
["G",null,null,null,null,{"$f":"IFERROR(IF(ISBLANK(E113),\"\",\"Demand (\" & VLOOKUP($E113,PO_Enrgy_1_Table,MATCH($E$16,PO_Enrgy_1_Hdr,0),FALSE) & \")\"),\"\")","v":"Demand (Btuh x 10^6)"},null,null,null,null,"",null,null,null,null,null,"","",""]
["G","Receptacle equipment",null,"x","Electricity",{"$f":"IFERROR(IF(ISBLANK(E115),\"\",\"Consumption (\" & VLOOKUP($E115,PO_Enrgy_1_Table,MATCH($C$16,PO_Enrgy_1_Hdr,0),FALSE) & \")\"),\"\")","v":"Consumption (kWh)"},null,null,null,null,"",null,null,null,null,null,3.4120000000000001E-3,1.0713680000000001E-2,""]
["G",null,null,null,null,{"$f":"IFERROR(IF(ISBLANK(E115),\"\",\"Demand (\" & VLOOKUP($E115,PO_Enrgy_1_Table,MATCH($E$16,PO_Enrgy_1_Hdr,0),FALSE) & \")\"),\"\")","v":"Demand (kW)"},null,null,null,null,"",null,null,null,null,null,"","",""]
["G","IT equipment",null,"x","Electricity",{"$f":"IFERROR(IF(ISBLANK(E117),\"\",\"Consumption (\" & VLOOKUP($E117,PO_Enrgy_1_Table,MATCH($C$16,PO_Enrgy_1_Hdr,0),FALSE) & \")\"),\"\")","v":"Consumption (kWh)"},null,null,null,null,"",null,null,null,null,null,3.4120000000000001E-3,1.0713680000000001E-2,""]
["G",null,null,null,null,{"$f":"IFERROR(IF(ISBLANK(E117),\"\",\"Demand (\" & VLOOKUP($E117,PO_Enrgy_1_Table,MATCH($E$16,PO_Enrgy_1_Hdr,0),FALSE) & \")\"),\"\")","v":"Demand (kW)"},null,null,null,null,"",null,null,null,null,null,"","",""]
["G","Interior lighting - process",null,"x","Electricity",{"$f":"IFERROR(IF(ISBLANK(E119),\"\",\"Consumption (\" & VLOOKUP($E119,PO_Enrgy_1_Table,MATCH($C$16,PO_Enrgy_1_Hdr,0),FALSE) & \")\"),\"\")","v":"Consumption (kWh)"},null,null,null,null,"",null,null,null,null,null,3.4120000000000001E-3,1.0713680000000001E-2,""]
["G",null,null,null,null,{"$f":"IFERROR(IF(ISBLANK(E119),\"\",\"Demand (\" & VLOOKUP($E119,PO_Enrgy_1_Table,MATCH($E$16,PO_Enrgy_1_Hdr,0),FALSE) & \")\"),\"\")","v":"Demand (kW)"},null,null,null,null,"",null,null,null,null,null,"","",""]
["G","Refrigeration equipment",null,"x","Electricity",{"$f":"IFERROR(IF(ISBLANK(E121),\"\",\"Consumption (\" & VLOOKUP($E121,PO_Enrgy_1_Table,MATCH($C$16,PO_Enrgy_1_Hdr,0),FALSE) & \")\"),\"\")","v":"Consumption (kWh)"},null,null,null,null,"",null,null,null,null,null,3.4120000000000001E-3,1.0713680000000001E-2,""]
["G",null,null,null,null,{"$f":"IFERROR(IF(ISBLANK(E121),\"\",\"Demand (\" & VLOOKUP($E121,PO_Enrgy_1_Table,MATCH($E$16,PO_Enrgy_1_Hdr,0),FALSE) & \")\"),\"\")","v":"Demand (kW)"},null,null,null,null,"",null,null,null,null,null,"","",""]
["G","Fans - Kitchen Ventilation",null,"x","Electricity",{"$f":"IFERROR(IF(ISBLANK(E123),\"\",\"Consumption (\" & VLOOKUP($E123,PO_Enrgy_1_Table,MATCH($C$16,PO_Enrgy_1_Hdr,0),FALSE) & \")\"),\"\")","v":"Consumption (kWh)"},null,null,null,null,"",null,null,null,null,null,3.4120000000000001E-3,1.0713680000000001E-2,""]
["G",null,null,null,null,{"$f":"IFERROR(IF(ISBLANK(E123),\"\",\"Demand (\" & VLOOKUP($E123,PO_Enrgy_1_Table,MATCH($E$16,PO_Enrgy_1_Hdr,0),FALSE) & \")\"),\"\")","v":"Demand (kW)"},null,null,null,null,"",null,null,null,null,null,"","",""]
["G","Cooking",null,"x","Electricity",{"$f":"IFERROR(IF(ISBLANK(E125),\"\",\"Consumption (\" & VLOOKUP($E125,PO_Enrgy_1_Table,MATCH($C$16,PO_Enrgy_1_Hdr,0),FALSE) & \")\"),\"\")","v":"Consumption (kWh)"},null,null,null,null,"",null,null,null,null,null,3.4120000000000001E-3,1.0713680000000001E-2,""]
["G",null,null,null,null,{"$f":"IFERROR(IF(ISBLANK(E125),\"\",\"Demand (\" & VLOOKUP($E125,PO_Enrgy_1_Table,MATCH($E$16,PO_Enrgy_1_Hdr,0),FALSE) & \")\"),\"\")","v":"Demand (kW)"},null,null,null,null,"",null,null,null,null,null,"","",""]
["G","Industrial Process",null,"x","Electricity",{"$f":"IFERROR(IF(ISBLANK(E127),\"\",\"Consumption (\" & VLOOKUP($E127,PO_Enrgy_1_Table,MATCH($C$16,PO_Enrgy_1_Hdr,0),FALSE) & \")\"),\"\")","v":"Consumption (kWh)"},null,null,null,null,"",null,null,null,null,null,3.4120000000000001E-3,1.0713680000000001E-2,""]
["G",null,null,null,null,{"$f":"IFERROR(IF(ISBLANK(E127),\"\",\"Demand (\" & VLOOKUP($E127,PO_Enrgy_1_Table,MATCH($E$16,PO_Enrgy_1_Hdr,0),FALSE) & \")\"),\"\")","v":"Demand (kW)"},null,null,null,null,"",null,null,null,null,null,"","",""]
["G","Elevators and escalators",null,"x","Electricity",{"$f":"IFERROR(IF(ISBLANK(E129),\"\",\"Consumption (\" & VLOOKUP($E129,PO_Enrgy_1_Table,MATCH($C$16,PO_Enrgy_1_Hdr,0),FALSE) & \")\"),\"\")","v":"Consumption (kWh)"},null,null,null,null,"",null,null,null,null,null,3.4120000000000001E-3,1.0713680000000001E-2,{"$f":"IFERROR(IF(FIND(\"Consumption\",F129),(K129*VLOOKUP(MID(F129,FIND(\"(\",F129)+1,LEN(F129)-FIND(\"(\",F129)-1),EnergyUnitsTable,3,FALSE))/(K130*VLOOKUP(MID(F130,FIND(\"(\",F130)+1,LEN(F130)-FIND(\"(\",F130)-1),DemandTable,3,FALSE)),1),\"\")","v":""}]
["G",null,null,null,null,{"$f":"IFERROR(IF(ISBLANK(E129),\"\",\"Demand (\" & VLOOKUP($E129,PO_Enrgy_1_Table,MATCH($E$16,PO_Enrgy_1_Hdr,0),FALSE) & \")\"),\"\")","v":"Demand (kW)"},null,null,null,null,"",null,null,null,null,null,"","",""]
["G","Heat Pump Supplementary",null,null,"Electricity",{"$f":"IFERROR(IF(ISBLANK(E131),\"\",\"Consumption (\" & VLOOKUP($E131,PO_Enrgy_1_Table,MATCH($C$16,PO_Enrgy_1_Hdr,0),FALSE) & \")\"),\"\")","v":"Consumption (kWh)"},null,null,null,null,"",null,null,null,null,null,3.4120000000000001E-3,1.0713680000000001E-2,""]
["G",null,null,null,null,{"$f":"IFERROR(IF(ISBLANK(E131),\"\",\"Demand (\" & VLOOKUP($E131,PO_Enrgy_1_Table,MATCH($E$16,PO_Enrgy_1_Hdr,0),FALSE) & \")\"),\"\")","v":"Demand (kW)"},null,null,null,null,"",null,null,null,null,null,"","",""]
["G",null,null,null,null,{"$f":"IFERROR(IF(ISBLANK(E133),\"\",\"Consumption (\" & VLOOKUP($E133,PO_Enrgy_1_Table,MATCH($C$16,PO_Enrgy_1_Hdr,0),FALSE) & \")\"),\"\")","v":""},null,null,null,null,"",null,null,null,null,null,"","",""]
["G",null,null,null,null,{"$f":"IFERROR(IF(ISBLANK(E133),\"\",\"Demand (\" & VLOOKUP($E133,PO_Enrgy_1_Table,MATCH($E$16,PO_Enrgy_1_Hdr,0),FALSE) & \")\"),\"\")","v":""},null,null,null,null,"",null,null,null,null,null,"","",""]
["G",null,null,null,null,{"$f":"IFERROR(IF(ISBLANK(E135),\"\",\"Consumption (\" & VLOOKUP($E135,PO_Enrgy_1_Table,MATCH($C$16,PO_Enrgy_1_Hdr,0),FALSE) & \")\"),\"\")","v":""},null,null,null,null,"",null,null,null,null,null,"","",""]
["G",null,null,null,null,{"$f":"IFERROR(IF(ISBLANK(E135),\"\",\"Demand (\" & VLOOKUP($E135,PO_Enrgy_1_Table,MATCH($E$16,PO_Enrgy_1_Hdr,0),FALSE) & \")\"),\"\")","v":""},null,null,null,null,"",null,null,null,null,null,"","",""]
["G",null,null,null,null,{"$f":"IFERROR(IF(ISBLANK(E137),\"\",\"Consumption (\" & VLOOKUP($E137,PO_Enrgy_1_Table,MATCH($C$16,PO_Enrgy_1_Hdr,0),FALSE) & \")\"),\"\")","v":""},null,null,null,null,"",null,null,null,null,null,"","",""]
["G",null,null,null,null,{"$f":"IFERROR(IF(ISBLANK(E137),\"\",\"Demand (\" & VLOOKUP($E137,PO_Enrgy_1_Table,MATCH($E$16,PO_Enrgy_1_Hdr,0),FALSE) & \")\"),\"\")","v":""},null,null,null,null,"",null,null,null,null,null,"","",""]
["G",null,null,null,null,{"$f":"IFERROR(IF(ISBLANK(E139),\"\",\"Consumption (\" & VLOOKUP($E139,PO_Enrgy_1_Table,MATCH($C$16,PO_Enrgy_1_Hdr,0),FALSE) & \")\"),\"\")","v":""},null,null,null,null,"",null,null,null,null,null,"","",""]
["G",null,null,null,null,{"$f":"IFERROR(IF(ISBLANK(E139),\"\",\"Demand (\" & VLOOKUP($E139,PO_Enrgy_1_Table,MATCH($E$16,PO_Enrgy_1_Hdr,0),FALSE) & \")\"),\"\")","v":""},null,null,null,null,"",null,null,null,null,null,"","",""]
["G",null,null,null,null,{"$f":"IFERROR(IF(ISBLANK(E141),\"\",\"Consumption (\" & VLOOKUP($E141,PO_Enrgy_1_Table,MATCH($C$16,PO_Enrgy_1_Hdr,0),FALSE) & \")\"),\"\")","v":""},null,null,null,null,"",null,null,null,null,null,"","",""]
["G",null,null,null,null,{"$f":"IFERROR(IF(ISBLANK(E141),\"\",\"Demand (\" & VLOOKUP($E141,PO_Enrgy_1_Table,MATCH($E$16,PO_Enrgy_1_Hdr,0),FALSE) & \")\"),\"\")","v":""},null,null,null,null,"",null,null,null,null,null,"","",""]
["G",null,null,null,null,{"$f":"IFERROR(IF(ISBLANK(E143),\"\",\"Consumption (\" & VLOOKUP($E143,PO_Enrgy_1_Table,MATCH($C$16,PO_Enrgy_1_Hdr,0),FALSE) & \")\"),\"\")","v":""},null,null,null,null,"",null,null,null,null,null,"","",""]
["G",null,null,null,null,{"$f":"IFERROR(IF(ISBLANK(E143),\"\",\"Demand (\" & VLOOKUP($E143,PO_Enrgy_1_Table,MATCH($E$16,PO_Enrgy_1_Hdr,0),FALSE) & \")\"),\"\")","v":""},null,null,null,null,"",null,null,null,null,null,"","",""]
["G",null,null,null,"Energy_Type","Energy_Units","Baseline_0_Rotation","Baseline_90_Rotation","Baseline_180_Rotation","Baseline_270_Rotation","Baseline_Total",null,null,null,null,null,"Site_Unit_Conversion","Source_Unit_Conversion",""]
["G","Total energy consumption by energy type ",null,null,{"$f":"IFERROR(IF(ISBLANK(B17),\"\",B17),\"\")","v":"Electricity"},{"$f":"IFERROR(IF(ISBLANK(E146),\"\",VLOOKUP($E146,PO_Enrgy_1_Table,MATCH($C$16,PO_Enrgy_1_Hdr,0),FALSE) ),\"\")","v":"kWh"},{"$f":"IFERROR(SUMIFS(INDEX(PO_baseline_table,0,MATCH(G$96,PO_baseline_hdr,0)),INDEX(PO_baseline_table,0,MATCH($E$96,PO_baseline_hdr,0)),$E146,INDEX(PO_baseline_table,0,MATCH($F$96,PO_baseline_hdr,0)),\"=Con*\"),\"\")","v":0},0,0,0,0,"","",null,null,null,{"$f":"IFERROR(IF(ISBLANK($E146),\"\",VLOOKUP($E146,PO_Enrgy_1_Table,MATCH($K$16,PO_Enrgy_1_Hdr,0),FALSE)),\"\")","v":3.4120000000000001E-3},{"$f":"IFERROR(IF(ISBLANK($E146),\"\",VLOOKUP($E146,PO_Enrgy_1_Table,MATCH($M$16,PO_Enrgy_1_Hdr,0),FALSE)),\"\")","v":1.0713680000000001E-2}]
["G",null,null,null,{"$f":"IFERROR(IF(ISBLANK(B18),\"\",B18),\"\")","v":"Natural Gas"},{"$f":"IFERROR(IF(ISBLANK(E147),\"\",VLOOKUP($E147,PO_Enrgy_1_Table,MATCH($C$16,PO_Enrgy_1_Hdr,0),FALSE) ),\"\")","v":"therm"},0,0,0,0,0,"","",null,null,null,{"$f":"IFERROR(IF(ISBLANK($E147),\"\",VLOOKUP($E147,PO_Enrgy_1_Table,MATCH($K$16,PO_Enrgy_1_Hdr,0),FALSE)),\"\")","v":0.1},{"$f":"IFERROR(IF(ISBLANK($E147),\"\",VLOOKUP($E147,PO_Enrgy_1_Table,MATCH($M$16,PO_Enrgy_1_Hdr,0),FALSE)),\"\")","v":0.10500000000000001}]
["G",null,null,null,{"$f":"IFERROR(IF(ISBLANK(B19),\"\",B19),\"\")","v":"District Cooling"},{"$f":"IFERROR(IF(ISBLANK(E148),\"\",VLOOKUP($E148,PO_Enrgy_1_Table,MATCH($C$16,PO_Enrgy_1_Hdr,0),FALSE) ),\"\")","v":"MWh"},0,0,0,0,0,"","",null,null,null,{"$f":"IFERROR(IF(ISBLANK($E148),\"\",VLOOKUP($E148,PO_Enrgy_1_Table,MATCH($K$16,PO_Enrgy_1_Hdr,0),FALSE)),\"\")","v":3.4119999999999999},{"$f":"IFERROR(IF(ISBLANK($E148),\"\",VLOOKUP($E148,PO_Enrgy_1_Table,MATCH($M$16,PO_Enrgy_1_Hdr,0),FALSE)),\"\")","v":3.4119999999999999}]
["G",{"$f":"\"Total site energy (\" & PO_SiteUnits & \")\"","v":"Total site energy (Btu x 10^6)"},null,null,null,null,{"$f":"IFERROR(SUMPRODUCT(INDEX(PO_Enrgy_5_Table,0,MATCH(G$145,PO_Enrgy_5_Hdr,0)),INDEX(PO_Enrgy_5_Table,0,MATCH($Q145,PO_Enrgy_5_Hdr,0))),\"\")","v":0},0,0,0,0,"",""]
["G",{"$f":"\"Total source energy (\" & PO_SourceUnits & \")\"","v":"Total source energy (Btu x 10^6)"},null,null,null,null,{"$f":"IFERROR(SUMPRODUCT(G$146:G$147,$R$146:$R$147),0)","v":0},{"$f":"IFERROR(SUMPRODUCT(H$146:H$147,$R$146:$R$147),0)","v":0},{"$f":"IFERROR(SUMPRODUCT(I$146:I$147,$R$146:$R$147),0)","v":0},{"$f":"IFERROR(SUMPRODUCT(J$146:J$147,$R$146:$R$147),0)","v":0},{"$f":"IFERROR(SUMPRODUCT(K$146:K$147,$R$146:$R$147),0)","v":0},0,0]
["G"]
["G","Table: Baseline building annual energy cost by energy type "]
["G","Energy Type",null,null,null,null,"Baseline 0° rotation","Baseline 90° rotation","Baseline 180° rotation","Baseline 270° rotation","Baseline Design Total"]
["G","Energy_Type",null,null,null,null,"Baseline_0_Rotation","Baseline_90_Rotation","Baseline_180_Rotation","Baseline_270_Rotation","Base_Cost",null,null,null,null,null,"Site_Unit_Conversion","Source_Unit_Conversion"]
["G",{"$f":"IFERROR(IF(ISBLANK(B17),\"\",B17),\"\")","v":"Electricity"},null,null,null,{"$f":"IFERROR(IF(ISBLANK($B155),\"\",VLOOKUP($B155,PO_Enrgy_1_Table,MATCH($C$16,PO_Enrgy_1_Hdr,0),FALSE) ),\"\")","v":"kWh"},null,null,null,null,{"$f":"IFERROR((AVERAGE(G155:J155)),\"\")","v":""},null,null,null,null,null,{"$f":"IFERROR(IF(ISBLANK($B155),\"\",VLOOKUP($B155,PO_Enrgy_1_Table,MATCH($K$16,PO_Enrgy_1_Hdr,0),FALSE)),\"\")","v":3.4120000000000001E-3},{"$f":"IFERROR(IF(ISBLANK($B155),\"\",VLOOKUP($B155,PO_Enrgy_1_Table,MATCH($M$16,PO_Enrgy_1_Hdr,0),FALSE)),\"\")","v":1.0713680000000001E-2}]
["G",{"$f":"IFERROR(IF(ISBLANK(B18),\"\",B18),\"\")","v":"Natural Gas"},null,null,null,{"$f":"IFERROR(IF(ISBLANK($B156),\"\",VLOOKUP($B156,PO_Enrgy_1_Table,MATCH($C$16,PO_Enrgy_1_Hdr,0),FALSE) ),\"\")","v":"therm"},null,null,null,null,{"$f":"IFERROR((AVERAGE(G156:J156)),\"\")","v":""},null,null,null,null,null,{"$f":"IFERROR(IF(ISBLANK($B156),\"\",VLOOKUP($B156,PO_Enrgy_1_Table,MATCH($K$16,PO_Enrgy_1_Hdr,0),FALSE)),\"\")","v":0.1},{"$f":"IFERROR(IF(ISBLANK($B156),\"\",VLOOKUP($B156,PO_Enrgy_1_Table,MATCH($M$16,PO_Enrgy_1_Hdr,0),FALSE)),\"\")","v":0.10500000000000001}]
["G",{"$f":"IFERROR(IF(ISBLANK(B19),\"\",B19),\"\")","v":"District Cooling"},null,null,null,{"$f":"IFERROR(IF(ISBLANK($B157),\"\",VLOOKUP($B157,PO_Enrgy_1_Table,MATCH($C$16,PO_Enrgy_1_Hdr,0),FALSE) ),\"\")","v":"MWh"},null,null,null,null,{"$f":"IFERROR((AVERAGE(G157:J157)),\"\")","v":""},null,null,null,null,null,{"$f":"IFERROR(IF(ISBLANK($B157),\"\",VLOOKUP($B157,PO_Enrgy_1_Table,MATCH($K$16,PO_Enrgy_1_Hdr,0),FALSE)),\"\")","v":3.4119999999999999},{"$f":"IFERROR(IF(ISBLANK($B157),\"\",VLOOKUP($B157,PO_Enrgy_1_Table,MATCH($M$16,PO_Enrgy_1_Hdr,0),FALSE)),\"\")","v":3.4119999999999999}]
["G","Baseline annual energy cost",null,null,null,null,{"$f":"IFERROR(SUM(INDEX(PO_Enrgy_6_Table,0,MATCH(G$154,PO_Enrgy_6_Hdr,0))),\"\")","v":0},0,0,0,0,"",""]
["G"]
["G"]
["G","Table: Proposed energy summary by end use"]
["G","Complete the table below, providing information on energy consumption and demand by end-use. If an end-use has two energy types (e.g. proposed case space heating includes both fossil fuel and electric), enter the end-use twice in the table, and list the two different energy types."]
["G","ASHRAE 90.1-2010 without Addenda (District Energy Modeling Path 1): Report the district energy type (District Cooling, District Hot Water, or District Steam) for the cooling and heating end-uses as applicable for both the baseline and proposed."]
["G","Full DES Performance Accounting method (District Energy Modeling Path 2): Report the baseline energy as if the thermal energy is produced in the building.  Report the proposed energy used to generate and distribute the district thermal energy serving the building based on calculated average district thermal efficiencies (e.g. report the electricity used to generate and distribute chilled water to the building).\n"]
["G","Streamlined DES Accounting Method (District Energy Modeling Path 3): Report the energy type (District Cooling, District Hot Water, or District Steam for the cooling and heating end-uses as applicable for both the baseline and proposed. "]
["G","Data Centers: The energy consumption for IT equipment must be metered and reported separately from other end-uses in the energy model, and in the tables below to allow the proper determination of the PUE. Complete the table below for the baseline using the full build-out IT loads for the proposed design.\n"]
["G","Retail: The energy consumption for cooking, refrigeration, and kitchen ventilation fans must be metered and reported separately from other end-uses in the energy model and in the tables below. Energy savings or consumption attributable to unregulated equipment, other than Commercial Kitchen Equipment, Supermarket Refrigeration, Walk-in Coolers and Freezers, or Commercial Kitchen Ventilation listed in Tables 1 – 4 of the LEED v4 BD+C: Retail and ID+C: Retail Rating System Appendix 3 must be claimed via Exceptional Calculation Methodology."]
["G"]
["G","End Use",null,"Unregulated?","Energy Type","Units of \nAnnual Energy and Peak Demand","Baseline","Proposed","Energy / Demand Savings \nper End-Use","End Use \nPercent Contribution to Total Energy Savings","End Use \nPercent \nContribution to \nTotal Cost Savings",null,"Percent of Total Proposed  \nSite Energy Consumption",null,null,null,null,null,null,null,null,null,"contribution rank",null,"Rank with ties","rank no ties",null,null,null,null,null,null,"QC_EFLH"]
["G","End_Use",null,"Unregulated","Energy_Type","Energy_Units","Base_Consumption_Demand","Design_Consumption_Demand","End_Use_Savings","End_Use_Contribution_to_Energy_Savings","End_Use_Contribution_to_Cost_Savings",null,"Percent_Design_Site_Consumption",null,null,null,"Site_Unit_Conversion","Source_Unit_Conversion","Base_EFLH","Design_EFLH",null,null,"contribution rank",null,"Rank with ties","rank no ties"]
["G","Interior lighting",null,{"$f":"INDEX(PO_baseline_table,1, 3)","v":0},{"$f":"INDEX(PO_baseline_table,1, 4)","v":"Electricity"},{"$f":"IFERROR(IF(ISBLANK(E171),\"\",\"Consumption (\" & VLOOKUP($E171,PO_Enrgy_1_Table,MATCH($C$16,PO_Enrgy_1_Hdr,0),FALSE) & \")\"),\"\")","v":"Consumption (kWh)"},{"$f":"INDEX(PO_baseline_table,1, 10)","v":""},null,{"$f":"IFERROR(1-H171/G171,\"\")","v":""},{"$f":"IFERROR(IF($E$327-$H$327<0,\"\",($G171-$H171)*VLOOKUP($E171,PO_Enrgy_1_Table,MATCH($K$16,PO_Enrgy_1_Hdr,0),FALSE)/($E$327-$H$327)),\"\")","v":""},{"$f":"IFERROR(IF($G$327-$J$327<0,\"\",($G171*VLOOKUP($E171,PO_Enrgy_8_Table,MATCH($E$232,PO_Enrgy_8_Hdr,0),FALSE)-($H171*VLOOKUP($E171,PO_Enrgy_8_Table,MATCH($H$232,PO_Enrgy_8_Hdr,0),FALSE)))/($G$327-$J$327)),\"\")","v":""},null,{"$f":"IFERROR(H171*VLOOKUP($E171,PO_Enrgy_1_Table,MATCH($K$16,PO_Enrgy_1_Hdr,0))/$H$227,\"\")","v":""},null,null,null,{"$f":"IFERROR(IF(ISBLANK($E171),\"\",VLOOKUP($E171,PO_Enrgy_1_Table,MATCH($K$16,PO_Enrgy_1_Hdr,0),FALSE)),\"\")","v":3.4120000000000001E-3},{"$f":"IFERROR(IF(ISBLANK($E171),\"\",VLOOKUP($E171,PO_Enrgy_1_Table,MATCH($M$16,PO_Enrgy_1_Hdr,0),FALSE)),\"\")","v":1.0713680000000001E-2},{"$f":"IFERROR(IF(FIND(\"Consumption\",F171),(G171*VLOOKUP(MID(F171,FIND(\"(\",F171)+1,LEN(F171)-FIND(\"(\",F171)-1),EnergyUnitsTable,3,FALSE))/(G172*VLOOKUP(MID(F172,FIND(\"(\",F172)+1,LEN(F172)-FIND(\"(\",F172)-1),DemandTable,3,FALSE)),1),\"\")","v":""},{"$f":"IFERROR(IF(FIND(\"Consumption\",$F171),(H171*VLOOKUP(MID($F171,FIND(\"(\",$F171)+1,LEN($F171)-FIND(\"(\",$F171)-1),EnergyUnitsTable,3,FALSE))/(H172*VLOOKUP(MID($F172,FIND(\"(\",$F172)+1,LEN($F172)-FIND(\"(\",$F172)-1),DemandTable,3,FALSE)),1),\"\")","v":""},null,{"$f":"IFERROR($AN171*H171,0)","v":0},{"$f":"IFERROR(G171*VLOOKUP($AE171,PO_Enrgy_8_Table,4,FALSE),0)","v":0},{"$f":"IFERROR(H171*VLOOKUP($AE171,PO_Enrgy_8_Table,7,FALSE),0)","v":0},{"$f":"IFERROR(IF(D171=\"x\",IF(OR(G171/H171>1.03,G171/H171<0.97),TRUE,FALSE),FALSE),FALSE)","v":false},{"$f":"IFERROR(J171*100,)","v":0},null,{"$f":"RANK(Z171,$Z$171:$Z$218,0)","v":1},{"$f":"AB171","v":1},{"$f":"B171","v":"Interior lighting"},null,{"$f":"IFERROR(G171/Lighting!$L$43,\"\")","v":""}]
["G",null,null,null,null,{"$f":"IFERROR(IF(ISBLANK(E171),\"\",\"Demand (\" & VLOOKUP($E171,PO_Enrgy_1_Table,MATCH($E$16,PO_Enrgy_1_Hdr,0),FALSE) & \")\"),\"\")","v":"Demand (kW)"},{"$f":"INDEX(PO_baseline_table,2, 10)","v":""},null,{"$f":"IFERROR(1-H172/G172,\"\")","v":""},null,null,null,null,null,null,null,"","","","",null,0,0,0]
["G","Exterior lighting",null,{"$f":"INDEX(PO_baseline_table,3, 3)","v":0},{"$f":"INDEX(PO_baseline_table,3, 4)","v":"Electricity"},{"$f":"IFERROR(IF(ISBLANK(E173),\"\",\"Consumption (\" & VLOOKUP($E173,PO_Enrgy_1_Table,MATCH($C$16,PO_Enrgy_1_Hdr,0),FALSE) & \")\"),\"\")","v":"Consumption (kWh)"},{"$f":"INDEX(PO_baseline_table,3, 10)","v":""},null,"",{"$f":"IFERROR(IF($E$327-$H$327<0,\"\",($G173-$H173)*VLOOKUP($E173,PO_Enrgy_1_Table,MATCH($K$16,PO_Enrgy_1_Hdr,0),FALSE)/($E$327-$H$327)),\"\")","v":""},{"$f":"IFERROR(IF($G$327-$J$327<0,\"\",($G173*VLOOKUP($E173,PO_Enrgy_8_Table,MATCH($E$232,PO_Enrgy_8_Hdr,0),FALSE)-($H173*VLOOKUP($E173,PO_Enrgy_8_Table,MATCH($H$232,PO_Enrgy_8_Hdr,0),FALSE)))/($G$327-$J$327)),\"\")","v":""},null,{"$f":"IFERROR(H173*VLOOKUP($E173,PO_Enrgy_1_Table,MATCH($K$16,PO_Enrgy_1_Hdr,0))/$H$227,\"\")","v":""},null,null,null,3.4120000000000001E-3,1.0713680000000001E-2,"","",null,0,0,0,{"$f":"IFERROR(IF(D173=\"x\",IF(OR(G173/H173>1.03,G173/H173<0.97),TRUE,FALSE),FALSE),FALSE)","v":false},{"$f":"IFERROR(J173*100,)","v":0},null,{"$f":"RANK(Z173,$Z$171:$Z$218,0)","v":1},{"$f":"AB173+COUNTIF($AB$171:$AB172,AB173)","v":2},{"$f":"B173","v":"Exterior lighting"}]
["G",null,null,null,null,{"$f":"IFERROR(IF(ISBLANK(E173),\"\",\"Demand (\" & VLOOKUP($E173,PO_Enrgy_1_Table,MATCH($E$16,PO_Enrgy_1_Hdr,0),FALSE) & \")\"),\"\")","v":"Demand (kW)"},{"$f":"INDEX(PO_baseline_table,4, 10)","v":""},null,"",null,null,null,null,null,null,null,"","","","",null,0,0,0]
["G","Space heating",null,{"$f":"INDEX(PO_baseline_table,5, 3)","v":0},{"$f":"INDEX(PO_baseline_table,5, 4)","v":"Natural Gas"},{"$f":"IFERROR(IF(ISBLANK(E175),\"\",\"Consumption (\" & VLOOKUP($E175,PO_Enrgy_1_Table,MATCH($C$16,PO_Enrgy_1_Hdr,0),FALSE) & \")\"),\"\")","v":"Consumption (therm)"},{"$f":"INDEX(PO_baseline_table,5, 10)","v":""},null,"",{"$f":"IFERROR(IF($E$327-$H$327<0,\"\",($G175-$H175)*VLOOKUP($E175,PO_Enrgy_1_Table,MATCH($K$16,PO_Enrgy_1_Hdr,0),FALSE)/($E$327-$H$327)),\"\")","v":""},{"$f":"IFERROR(IF($G$327-$J$327<0,\"\",($G175*VLOOKUP($E175,PO_Enrgy_8_Table,MATCH($E$232,PO_Enrgy_8_Hdr,0),FALSE)-($H175*VLOOKUP($E175,PO_Enrgy_8_Table,MATCH($H$232,PO_Enrgy_8_Hdr,0),FALSE)))/($G$327-$J$327)),\"\")","v":""},null,{"$f":"IFERROR(H175*VLOOKUP($E175,PO_Enrgy_1_Table,MATCH($K$16,PO_Enrgy_1_Hdr,0))/$H$227,\"\")","v":""},null,null,null,0.1,0.10500000000000001,"","",null,0,0,0,{"$f":"IFERROR(IF(D175=\"x\",IF(OR(G175/H175>1.03,G175/H175<0.97),TRUE,FALSE),FALSE),FALSE)","v":false},{"$f":"IFERROR(J175*100,)","v":0},null,{"$f":"RANK(Z175,$Z$171:$Z$218,0)","v":1},{"$f":"AB175+COUNTIF($AB$171:$AB174,AB175)","v":3},{"$f":"B175","v":"Space heating"}]
["G",null,null,null,null,{"$f":"IFERROR(IF(ISBLANK(E175),\"\",\"Demand (\" & VLOOKUP($E175,PO_Enrgy_1_Table,MATCH($E$16,PO_Enrgy_1_Hdr,0),FALSE) & \")\"),\"\")","v":"Demand (Btuh x 10^6)"},{"$f":"INDEX(PO_baseline_table,6, 10)","v":""},null,"",null,null,null,null,null,null,null,"","","","",null,0,0,0]
["G","Space cooling",null,{"$f":"INDEX(PO_baseline_table,7, 3)","v":0},{"$f":"INDEX(PO_baseline_table,7, 4)","v":"Electricity"},{"$f":"IFERROR(IF(ISBLANK(E177),\"\",\"Consumption (\" & VLOOKUP($E177,PO_Enrgy_1_Table,MATCH($C$16,PO_Enrgy_1_Hdr,0),FALSE) & \")\"),\"\")","v":"Consumption (kWh)"},{"$f":"INDEX(PO_baseline_table,7, 10)","v":""},null,"",{"$f":"IFERROR(IF($E$327-$H$327<0,\"\",($G177-$H177)*VLOOKUP($E177,PO_Enrgy_1_Table,MATCH($K$16,PO_Enrgy_1_Hdr,0),FALSE)/($E$327-$H$327)),\"\")","v":""},{"$f":"IFERROR(IF($G$327-$J$327<0,\"\",($G177*VLOOKUP($E177,PO_Enrgy_8_Table,MATCH($E$232,PO_Enrgy_8_Hdr,0),FALSE)-($H177*VLOOKUP($E177,PO_Enrgy_8_Table,MATCH($H$232,PO_Enrgy_8_Hdr,0),FALSE)))/($G$327-$J$327)),\"\")","v":""},null,{"$f":"IFERROR(H177*VLOOKUP($E177,PO_Enrgy_1_Table,MATCH($K$16,PO_Enrgy_1_Hdr,0))/$H$227,\"\")","v":""},null,null,null,3.4120000000000001E-3,1.0713680000000001E-2,"","",null,0,0,0,{"$f":"IFERROR(IF(D177=\"x\",IF(OR(G177/H177>1.03,G177/H177<0.97),TRUE,FALSE),FALSE),FALSE)","v":false},{"$f":"IFERROR(J177*100,)","v":0},null,{"$f":"RANK(Z177,$Z$171:$Z$218,0)","v":1},{"$f":"AB177+COUNTIF($AB$171:$AB176,AB177)","v":4},{"$f":"B177","v":"Space cooling"}]
["G",null,null,null,null,{"$f":"IFERROR(IF(ISBLANK(E177),\"\",\"Demand (\" & VLOOKUP($E177,PO_Enrgy_1_Table,MATCH($E$16,PO_Enrgy_1_Hdr,0),FALSE) & \")\"),\"\")","v":"Demand (kW)"},{"$f":"INDEX(PO_baseline_table,8, 10)","v":""},null,"",null,null,null,null,null,null,null,"","","","",null,0,0,0]
["G","Pumps",null,{"$f":"INDEX(PO_baseline_table,9, 3)","v":0},{"$f":"INDEX(PO_baseline_table,9, 4)","v":"Electricity"},{"$f":"IFERROR(IF(ISBLANK(E179),\"\",\"Consumption (\" & VLOOKUP($E179,PO_Enrgy_1_Table,MATCH($C$16,PO_Enrgy_1_Hdr,0),FALSE) & \")\"),\"\")","v":"Consumption (kWh)"},{"$f":"INDEX(PO_baseline_table,9, 10)","v":""},null,"",{"$f":"IFERROR(IF($E$327-$H$327<0,\"\",($G179-$H179)*VLOOKUP($E179,PO_Enrgy_1_Table,MATCH($K$16,PO_Enrgy_1_Hdr,0),FALSE)/($E$327-$H$327)),\"\")","v":""},{"$f":"IFERROR(IF($G$327-$J$327<0,\"\",($G179*VLOOKUP($E179,PO_Enrgy_8_Table,MATCH($E$232,PO_Enrgy_8_Hdr,0),FALSE)-($H179*VLOOKUP($E179,PO_Enrgy_8_Table,MATCH($H$232,PO_Enrgy_8_Hdr,0),FALSE)))/($G$327-$J$327)),\"\")","v":""},null,{"$f":"IFERROR(H179*VLOOKUP($E179,PO_Enrgy_1_Table,MATCH($K$16,PO_Enrgy_1_Hdr,0))/$H$227,\"\")","v":""},null,null,null,3.4120000000000001E-3,1.0713680000000001E-2,"","",null,0,0,0,{"$f":"IFERROR(IF(D179=\"x\",IF(OR(G179/H179>1.03,G179/H179<0.97),TRUE,FALSE),FALSE),FALSE)","v":false},{"$f":"IFERROR(J179*100,)","v":0},null,{"$f":"RANK(Z179,$Z$171:$Z$218,0)","v":1},{"$f":"AB179+COUNTIF($AB$171:$AB178,AB179)","v":5},{"$f":"B179","v":"Pumps"}]
["G",null,null,null,null,{"$f":"IFERROR(IF(ISBLANK(E179),\"\",\"Demand (\" & VLOOKUP($E179,PO_Enrgy_1_Table,MATCH($E$16,PO_Enrgy_1_Hdr,0),FALSE) & \")\"),\"\")","v":"Demand (kW)"},{"$f":"INDEX(PO_baseline_table,10, 10)","v":""},null,"",null,null,null,null,null,null,null,"","","","",null,0,0,0]
["G","Heat rejection",null,{"$f":"INDEX(PO_baseline_table,11, 3)","v":0},{"$f":"INDEX(PO_baseline_table,11, 4)","v":"Electricity"},{"$f":"IFERROR(IF(ISBLANK(E181),\"\",\"Consumption (\" & VLOOKUP($E181,PO_Enrgy_1_Table,MATCH($C$16,PO_Enrgy_1_Hdr,0),FALSE) & \")\"),\"\")","v":"Consumption (kWh)"},{"$f":"INDEX(PO_baseline_table,11, 10)","v":""},null,"",{"$f":"IFERROR(IF($E$327-$H$327<0,\"\",($G181-$H181)*VLOOKUP($E181,PO_Enrgy_1_Table,MATCH($K$16,PO_Enrgy_1_Hdr,0),FALSE)/($E$327-$H$327)),\"\")","v":""},{"$f":"IFERROR(IF($G$327-$J$327<0,\"\",($G181*VLOOKUP($E181,PO_Enrgy_8_Table,MATCH($E$232,PO_Enrgy_8_Hdr,0),FALSE)-($H181*VLOOKUP($E181,PO_Enrgy_8_Table,MATCH($H$232,PO_Enrgy_8_Hdr,0),FALSE)))/($G$327-$J$327)),\"\")","v":""},null,{"$f":"IFERROR(H181*VLOOKUP($E181,PO_Enrgy_1_Table,MATCH($K$16,PO_Enrgy_1_Hdr,0))/$H$227,\"\")","v":""},null,null,null,3.4120000000000001E-3,1.0713680000000001E-2,"","",null,0,0,0,{"$f":"IFERROR(IF(D181=\"x\",IF(OR(G181/H181>1.03,G181/H181<0.97),TRUE,FALSE),FALSE),FALSE)","v":false},{"$f":"IFERROR(J181*100,)","v":0},null,{"$f":"RANK(Z181,$Z$171:$Z$218,0)","v":1},{"$f":"AB181+COUNTIF($AB$171:$AB180,AB181)","v":6},{"$f":"B181","v":"Heat rejection"}]
["G",null,null,null,null,{"$f":"IFERROR(IF(ISBLANK(E181),\"\",\"Demand (\" & VLOOKUP($E181,PO_Enrgy_1_Table,MATCH($E$16,PO_Enrgy_1_Hdr,0),FALSE) & \")\"),\"\")","v":"Demand (kW)"},{"$f":"INDEX(PO_baseline_table,12, 10)","v":""},null,"",null,null,null,null,null,null,null,"","","","",null,0,0,0]
["G","Fans - interior ventilation",null,{"$f":"INDEX(PO_baseline_table,13, 3)","v":0},{"$f":"INDEX(PO_baseline_table,13, 4)","v":"Electricity"},{"$f":"IFERROR(IF(ISBLANK(E183),\"\",\"Consumption (\" & VLOOKUP($E183,PO_Enrgy_1_Table,MATCH($C$16,PO_Enrgy_1_Hdr,0),FALSE) & \")\"),\"\")","v":"Consumption (kWh)"},{"$f":"INDEX(PO_baseline_table,13, 10)","v":""},null,"",{"$f":"IFERROR(IF($E$327-$H$327<0,\"\",($G183-$H183)*VLOOKUP($E183,PO_Enrgy_1_Table,MATCH($K$16,PO_Enrgy_1_Hdr,0),FALSE)/($E$327-$H$327)),\"\")","v":""},{"$f":"IFERROR(IF($G$327-$J$327<0,\"\",($G183*VLOOKUP($E183,PO_Enrgy_8_Table,MATCH($E$232,PO_Enrgy_8_Hdr,0),FALSE)-($H183*VLOOKUP($E183,PO_Enrgy_8_Table,MATCH($H$232,PO_Enrgy_8_Hdr,0),FALSE)))/($G$327-$J$327)),\"\")","v":""},null,{"$f":"IFERROR(H183*VLOOKUP($E183,PO_Enrgy_1_Table,MATCH($K$16,PO_Enrgy_1_Hdr,0))/$H$227,\"\")","v":""},null,null,null,3.4120000000000001E-3,1.0713680000000001E-2,"","",null,0,0,0,{"$f":"IFERROR(IF(D183=\"x\",IF(OR(G183/H183>1.03,G183/H183<0.97),TRUE,FALSE),FALSE),FALSE)","v":false},{"$f":"IFERROR(J183*100,)","v":0},null,{"$f":"RANK(Z183,$Z$171:$Z$218,0)","v":1},{"$f":"AB183+COUNTIF($AB$171:$AB182,AB183)","v":7},{"$f":"B183","v":"Fans - interior ventilation"}]
["G",null,null,null,null,{"$f":"IFERROR(IF(ISBLANK(E183),\"\",\"Demand (\" & VLOOKUP($E183,PO_Enrgy_1_Table,MATCH($E$16,PO_Enrgy_1_Hdr,0),FALSE) & \")\"),\"\")","v":"Demand (kW)"},{"$f":"INDEX(PO_baseline_table,14, 10)","v":""},null,"",null,null,null,null,null,null,null,"","","","",null,0,0,0]
["G","Fans - parking garage",null,{"$f":"INDEX(PO_baseline_table,15, 3)","v":"x"},{"$f":"INDEX(PO_baseline_table,15, 4)","v":"Electricity"},{"$f":"IFERROR(IF(ISBLANK(E185),\"\",\"Consumption (\" & VLOOKUP($E185,PO_Enrgy_1_Table,MATCH($C$16,PO_Enrgy_1_Hdr,0),FALSE) & \")\"),\"\")","v":"Consumption (kWh)"},{"$f":"INDEX(PO_baseline_table,15, 10)","v":""},null,"",{"$f":"IFERROR(IF($E$327-$H$327<0,\"\",($G185-$H185)*VLOOKUP($E185,PO_Enrgy_1_Table,MATCH($K$16,PO_Enrgy_1_Hdr,0),FALSE)/($E$327-$H$327)),\"\")","v":""},{"$f":"IFERROR(IF($G$327-$J$327<0,\"\",($G185*VLOOKUP($E185,PO_Enrgy_8_Table,MATCH($E$232,PO_Enrgy_8_Hdr,0),FALSE)-($H185*VLOOKUP($E185,PO_Enrgy_8_Table,MATCH($H$232,PO_Enrgy_8_Hdr,0),FALSE)))/($G$327-$J$327)),\"\")","v":""},null,{"$f":"IFERROR(H185*VLOOKUP($E185,PO_Enrgy_1_Table,MATCH($K$16,PO_Enrgy_1_Hdr,0))/$H$227,\"\")","v":""},null,null,null,3.4120000000000001E-3,1.0713680000000001E-2,"","",null,0,0,0,{"$f":"IFERROR(IF(D185=\"x\",IF(OR(G185/H185>1.03,G185/H185<0.97),TRUE,FALSE),FALSE),FALSE)","v":false},{"$f":"IFERROR(J185*100,)","v":0},null,{"$f":"RANK(Z185,$Z$171:$Z$218,0)","v":1},{"$f":"AB185+COUNTIF($AB$171:$AB184,AB185)","v":8},{"$f":"B185","v":"Fans - parking garage"}]
["G",null,null,null,null,{"$f":"IFERROR(IF(ISBLANK(E185),\"\",\"Demand (\" & VLOOKUP($E185,PO_Enrgy_1_Table,MATCH($E$16,PO_Enrgy_1_Hdr,0),FALSE) & \")\"),\"\")","v":"Demand (kW)"},{"$f":"INDEX(PO_baseline_table,16, 10)","v":""},null,"",null,null,null,null,null,null,null,"","","","",null,0,0,0]
["G","Service water heating",null,{"$f":"INDEX(PO_baseline_table,17, 3)","v":0},{"$f":"INDEX(PO_baseline_table,17, 4)","v":"Natural Gas"},{"$f":"IFERROR(IF(ISBLANK(E187),\"\",\"Consumption (\" & VLOOKUP($E187,PO_Enrgy_1_Table,MATCH($C$16,PO_Enrgy_1_Hdr,0),FALSE) & \")\"),\"\")","v":"Consumption (therm)"},{"$f":"INDEX(PO_baseline_table,17, 10)","v":""},null,"",{"$f":"IFERROR(IF($E$327-$H$327<0,\"\",($G187-$H187)*VLOOKUP($E187,PO_Enrgy_1_Table,MATCH($K$16,PO_Enrgy_1_Hdr,0),FALSE)/($E$327-$H$327)),\"\")","v":""},{"$f":"IFERROR(IF($G$327-$J$327<0,\"\",($G187*VLOOKUP($E187,PO_Enrgy_8_Table,MATCH($E$232,PO_Enrgy_8_Hdr,0),FALSE)-($H187*VLOOKUP($E187,PO_Enrgy_8_Table,MATCH($H$232,PO_Enrgy_8_Hdr,0),FALSE)))/($G$327-$J$327)),\"\")","v":""},null,{"$f":"IFERROR(H187*VLOOKUP($E187,PO_Enrgy_1_Table,MATCH($K$16,PO_Enrgy_1_Hdr,0))/$H$227,\"\")","v":""},null,null,null,0.1,0.10500000000000001,"","",null,0,0,0,{"$f":"IFERROR(IF(D187=\"x\",IF(OR(G187/H187>1.03,G187/H187<0.97),TRUE,FALSE),FALSE),FALSE)","v":false},{"$f":"IFERROR(J187*100,)","v":0},null,{"$f":"RANK(Z187,$Z$171:$Z$218,0)","v":1},{"$f":"AB187+COUNTIF($AB$171:$AB186,AB187)","v":9},{"$f":"B187","v":"Service water heating"}]
["G",null,null,null,null,{"$f":"IFERROR(IF(ISBLANK(E187),\"\",\"Demand (\" & VLOOKUP($E187,PO_Enrgy_1_Table,MATCH($E$16,PO_Enrgy_1_Hdr,0),FALSE) & \")\"),\"\")","v":"Demand (Btuh x 10^6)"},{"$f":"INDEX(PO_baseline_table,18, 10)","v":""},null,"",null,null,null,null,null,null,null,"","","","",null,0,0,0]
["G","Receptacle equipment",null,{"$f":"INDEX(PO_baseline_table,19, 3)","v":"x"},{"$f":"INDEX(PO_baseline_table,19, 4)","v":"Electricity"},{"$f":"IFERROR(IF(ISBLANK(E189),\"\",\"Consumption (\" & VLOOKUP($E189,PO_Enrgy_1_Table,MATCH($C$16,PO_Enrgy_1_Hdr,0),FALSE) & \")\"),\"\")","v":"Consumption (kWh)"},{"$f":"INDEX(PO_baseline_table,19, 10)","v":""},null,"",{"$f":"IFERROR(IF($E$327-$H$327<0,\"\",($G189-$H189)*VLOOKUP($E189,PO_Enrgy_1_Table,MATCH($K$16,PO_Enrgy_1_Hdr,0),FALSE)/($E$327-$H$327)),\"\")","v":""},{"$f":"IFERROR(IF($G$327-$J$327<0,\"\",($G189*VLOOKUP($E189,PO_Enrgy_8_Table,MATCH($E$232,PO_Enrgy_8_Hdr,0),FALSE)-($H189*VLOOKUP($E189,PO_Enrgy_8_Table,MATCH($H$232,PO_Enrgy_8_Hdr,0),FALSE)))/($G$327-$J$327)),\"\")","v":""},null,{"$f":"IFERROR(H189*VLOOKUP($E189,PO_Enrgy_1_Table,MATCH($K$16,PO_Enrgy_1_Hdr,0))/$H$227,\"\")","v":""},null,null,null,3.4120000000000001E-3,1.0713680000000001E-2,"","",null,0,0,0,{"$f":"IFERROR(IF(D189=\"x\",IF(OR(G189/H189>1.03,G189/H189<0.97),TRUE,FALSE),FALSE),FALSE)","v":false},{"$f":"IFERROR(J189*100,)","v":0},null,{"$f":"RANK(Z189,$Z$171:$Z$218,0)","v":1},{"$f":"AB189+COUNTIF($AB$171:$AB188,AB189)","v":10},{"$f":"B189","v":"Receptacle equipment"}]
["G",null,null,null,null,{"$f":"IFERROR(IF(ISBLANK(E189),\"\",\"Demand (\" & VLOOKUP($E189,PO_Enrgy_1_Table,MATCH($E$16,PO_Enrgy_1_Hdr,0),FALSE) & \")\"),\"\")","v":"Demand (kW)"},{"$f":"INDEX(PO_baseline_table,20, 10)","v":""},null,"",null,null,null,null,null,null,null,"","","","",null,0,0,0]
["G","IT equipment",null,{"$f":"INDEX(PO_baseline_table,21, 3)","v":"x"},{"$f":"INDEX(PO_baseline_table,21, 4)","v":"Electricity"},{"$f":"IFERROR(IF(ISBLANK(E191),\"\",\"Consumption (\" & VLOOKUP($E191,PO_Enrgy_1_Table,MATCH($C$16,PO_Enrgy_1_Hdr,0),FALSE) & \")\"),\"\")","v":"Consumption (kWh)"},{"$f":"INDEX(PO_baseline_table,21, 10)","v":""},null,"",{"$f":"IFERROR(IF($E$327-$H$327<0,\"\",($G191-$H191)*VLOOKUP($E191,PO_Enrgy_1_Table,MATCH($K$16,PO_Enrgy_1_Hdr,0),FALSE)/($E$327-$H$327)),\"\")","v":""},{"$f":"IFERROR(IF($G$327-$J$327<0,\"\",($G191*VLOOKUP($E191,PO_Enrgy_8_Table,MATCH($E$232,PO_Enrgy_8_Hdr,0),FALSE)-($H191*VLOOKUP($E191,PO_Enrgy_8_Table,MATCH($H$232,PO_Enrgy_8_Hdr,0),FALSE)))/($G$327-$J$327)),\"\")","v":""},null,{"$f":"IFERROR(H191*VLOOKUP($E191,PO_Enrgy_1_Table,MATCH($K$16,PO_Enrgy_1_Hdr,0))/$H$227,\"\")","v":""},null,null,null,3.4120000000000001E-3,1.0713680000000001E-2,"","",null,0,0,0,{"$f":"IFERROR(IF(D191=\"x\",IF(OR(G191/H191>1.03,G191/H191<0.97),TRUE,FALSE),FALSE),FALSE)","v":false},{"$f":"IFERROR(J191*100,)","v":0},null,{"$f":"RANK(Z191,$Z$171:$Z$218,0)","v":1},{"$f":"AB191+COUNTIF($AB$171:$AB190,AB191)","v":11},{"$f":"B191","v":"IT equipment"}]
["G",null,null,null,null,{"$f":"IFERROR(IF(ISBLANK(E191),\"\",\"Demand (\" & VLOOKUP($E191,PO_Enrgy_1_Table,MATCH($E$16,PO_Enrgy_1_Hdr,0),FALSE) & \")\"),\"\")","v":"Demand (kW)"},{"$f":"INDEX(PO_baseline_table,22, 10)","v":""},null,"",null,null,null,null,null,null,null,"","","","",null,0,0,0]
["G","Interior lighting - process",null,{"$f":"INDEX(PO_baseline_table,23, 3)","v":"x"},{"$f":"INDEX(PO_baseline_table,23, 4)","v":"Electricity"},{"$f":"IFERROR(IF(ISBLANK(E193),\"\",\"Consumption (\" & VLOOKUP($E193,PO_Enrgy_1_Table,MATCH($C$16,PO_Enrgy_1_Hdr,0),FALSE) & \")\"),\"\")","v":"Consumption (kWh)"},{"$f":"INDEX(PO_baseline_table,23, 10)","v":""},null,"",{"$f":"IFERROR(IF($E$327-$H$327<0,\"\",($G193-$H193)*VLOOKUP($E193,PO_Enrgy_1_Table,MATCH($K$16,PO_Enrgy_1_Hdr,0),FALSE)/($E$327-$H$327)),\"\")","v":""},{"$f":"IFERROR(IF($G$327-$J$327<0,\"\",($G193*VLOOKUP($E193,PO_Enrgy_8_Table,MATCH($E$232,PO_Enrgy_8_Hdr,0),FALSE)-($H193*VLOOKUP($E193,PO_Enrgy_8_Table,MATCH($H$232,PO_Enrgy_8_Hdr,0),FALSE)))/($G$327-$J$327)),\"\")","v":""},null,{"$f":"IFERROR(H193*VLOOKUP($E193,PO_Enrgy_1_Table,MATCH($K$16,PO_Enrgy_1_Hdr,0))/$H$227,\"\")","v":""},null,null,null,3.4120000000000001E-3,1.0713680000000001E-2,"","",null,0,0,0,{"$f":"IFERROR(IF(D193=\"x\",IF(OR(G193/H193>1.03,G193/H193<0.97),TRUE,FALSE),FALSE),FALSE)","v":false},{"$f":"IFERROR(J193*100,)","v":0},null,{"$f":"RANK(Z193,$Z$171:$Z$218,0)","v":1},{"$f":"AB193+COUNTIF($AB$171:$AB192,AB193)","v":12},{"$f":"B193","v":"Interior lighting - process"}]
["G",null,null,null,null,{"$f":"IFERROR(IF(ISBLANK(E193),\"\",\"Demand (\" & VLOOKUP($E193,PO_Enrgy_1_Table,MATCH($E$16,PO_Enrgy_1_Hdr,0),FALSE) & \")\"),\"\")","v":"Demand (kW)"},{"$f":"INDEX(PO_baseline_table,24, 10)","v":""},null,"",null,null,null,null,null,null,null,"","","","",null,0,0,0]
["G","Refrigeration equipment",null,{"$f":"INDEX(PO_baseline_table,25, 3)","v":"x"},{"$f":"INDEX(PO_baseline_table,25, 4)","v":"Electricity"},{"$f":"IFERROR(IF(ISBLANK(E195),\"\",\"Consumption (\" & VLOOKUP($E195,PO_Enrgy_1_Table,MATCH($C$16,PO_Enrgy_1_Hdr,0),FALSE) & \")\"),\"\")","v":"Consumption (kWh)"},{"$f":"INDEX(PO_baseline_table,25, 10)","v":""},null,"",{"$f":"IFERROR(IF($E$327-$H$327<0,\"\",($G195-$H195)*VLOOKUP($E195,PO_Enrgy_1_Table,MATCH($K$16,PO_Enrgy_1_Hdr,0),FALSE)/($E$327-$H$327)),\"\")","v":""},{"$f":"IFERROR(IF($G$327-$J$327<0,\"\",($G195*VLOOKUP($E195,PO_Enrgy_8_Table,MATCH($E$232,PO_Enrgy_8_Hdr,0),FALSE)-($H195*VLOOKUP($E195,PO_Enrgy_8_Table,MATCH($H$232,PO_Enrgy_8_Hdr,0),FALSE)))/($G$327-$J$327)),\"\")","v":""},null,{"$f":"IFERROR(H195*VLOOKUP($E195,PO_Enrgy_1_Table,MATCH($K$16,PO_Enrgy_1_Hdr,0))/$H$227,\"\")","v":""},null,null,null,3.4120000000000001E-3,1.0713680000000001E-2,"","",null,0,0,0,{"$f":"IFERROR(IF(D195=\"x\",IF(OR(G195/H195>1.03,G195/H195<0.97),TRUE,FALSE),FALSE),FALSE)","v":false},{"$f":"IFERROR(J195*100,)","v":0},null,{"$f":"RANK(Z195,$Z$171:$Z$218,0)","v":1},{"$f":"AB195+COUNTIF($AB$171:$AB194,AB195)","v":13},{"$f":"B195","v":"Refrigeration equipment"}]
["G",null,null,null,null,{"$f":"IFERROR(IF(ISBLANK(E195),\"\",\"Demand (\" & VLOOKUP($E195,PO_Enrgy_1_Table,MATCH($E$16,PO_Enrgy_1_Hdr,0),FALSE) & \")\"),\"\")","v":"Demand (kW)"},{"$f":"INDEX(PO_baseline_table,26, 10)","v":""},null,"",null,null,null,null,null,null,null,"","","","",null,0,0,0]
["G","Fans - Kitchen Ventilation",null,{"$f":"INDEX(PO_baseline_table,27, 3)","v":"x"},{"$f":"INDEX(PO_baseline_table,27, 4)","v":"Electricity"},{"$f":"IFERROR(IF(ISBLANK(E197),\"\",\"Consumption (\" & VLOOKUP($E197,PO_Enrgy_1_Table,MATCH($C$16,PO_Enrgy_1_Hdr,0),FALSE) & \")\"),\"\")","v":"Consumption (kWh)"},{"$f":"INDEX(PO_baseline_table,27, 10)","v":""},null,"",{"$f":"IFERROR(IF($E$327-$H$327<0,\"\",($G197-$H197)*VLOOKUP($E197,PO_Enrgy_1_Table,MATCH($K$16,PO_Enrgy_1_Hdr,0),FALSE)/($E$327-$H$327)),\"\")","v":""},{"$f":"IFERROR(IF($G$327-$J$327<0,\"\",($G197*VLOOKUP($E197,PO_Enrgy_8_Table,MATCH($E$232,PO_Enrgy_8_Hdr,0),FALSE)-($H197*VLOOKUP($E197,PO_Enrgy_8_Table,MATCH($H$232,PO_Enrgy_8_Hdr,0),FALSE)))/($G$327-$J$327)),\"\")","v":""},null,{"$f":"IFERROR(H197*VLOOKUP($E197,PO_Enrgy_1_Table,MATCH($K$16,PO_Enrgy_1_Hdr,0))/$H$227,\"\")","v":""},null,null,null,3.4120000000000001E-3,1.0713680000000001E-2,"","",null,0,0,0,{"$f":"IFERROR(IF(D197=\"x\",IF(OR(G197/H197>1.03,G197/H197<0.97),TRUE,FALSE),FALSE),FALSE)","v":false},{"$f":"IFERROR(J197*100,)","v":0},null,{"$f":"RANK(Z197,$Z$171:$Z$218,0)","v":1},{"$f":"AB197+COUNTIF($AB$171:$AB196,AB197)","v":14},{"$f":"B197","v":"Fans - Kitchen Ventilation"}]
["G",null,null,null,null,{"$f":"IFERROR(IF(ISBLANK(E197),\"\",\"Demand (\" & VLOOKUP($E197,PO_Enrgy_1_Table,MATCH($E$16,PO_Enrgy_1_Hdr,0),FALSE) & \")\"),\"\")","v":"Demand (kW)"},{"$f":"INDEX(PO_baseline_table,28, 10)","v":""},null,"",null,null,null,null,null,null,null,"","","","",null,0,0,0]
["G","Cooking",null,{"$f":"INDEX(PO_baseline_table,29, 3)","v":"x"},{"$f":"INDEX(PO_baseline_table,29, 4)","v":"Electricity"},{"$f":"IFERROR(IF(ISBLANK(E199),\"\",\"Consumption (\" & VLOOKUP($E199,PO_Enrgy_1_Table,MATCH($C$16,PO_Enrgy_1_Hdr,0),FALSE) & \")\"),\"\")","v":"Consumption (kWh)"},{"$f":"INDEX(PO_baseline_table,29, 10)","v":""},null,"",{"$f":"IFERROR(IF($E$327-$H$327<0,\"\",($G199-$H199)*VLOOKUP($E199,PO_Enrgy_1_Table,MATCH($K$16,PO_Enrgy_1_Hdr,0),FALSE)/($E$327-$H$327)),\"\")","v":""},{"$f":"IFERROR(IF($G$327-$J$327<0,\"\",($G199*VLOOKUP($E199,PO_Enrgy_8_Table,MATCH($E$232,PO_Enrgy_8_Hdr,0),FALSE)-($H199*VLOOKUP($E199,PO_Enrgy_8_Table,MATCH($H$232,PO_Enrgy_8_Hdr,0),FALSE)))/($G$327-$J$327)),\"\")","v":""},null,{"$f":"IFERROR(H199*VLOOKUP($E199,PO_Enrgy_1_Table,MATCH($K$16,PO_Enrgy_1_Hdr,0))/$H$227,\"\")","v":""},null,null,null,3.4120000000000001E-3,1.0713680000000001E-2,"","",null,0,0,0,{"$f":"IFERROR(IF(D199=\"x\",IF(OR(G199/H199>1.03,G199/H199<0.97),TRUE,FALSE),FALSE),FALSE)","v":false},{"$f":"IFERROR(J199*100,)","v":0},null,{"$f":"RANK(Z199,$Z$171:$Z$218,0)","v":1},{"$f":"AB199+COUNTIF($AB$171:$AB198,AB199)","v":15},{"$f":"B199","v":"Cooking"}]
["G",null,null,null,null,{"$f":"IFERROR(IF(ISBLANK(E199),\"\",\"Demand (\" & VLOOKUP($E199,PO_Enrgy_1_Table,MATCH($E$16,PO_Enrgy_1_Hdr,0),FALSE) & \")\"),\"\")","v":"Demand (kW)"},{"$f":"INDEX(PO_baseline_table,30, 10)","v":""},null,"",null,null,null,null,null,null,null,"","","","",null,0,0,0]
["G","Industrial Process",null,{"$f":"INDEX(PO_baseline_table,31, 3)","v":"x"},{"$f":"INDEX(PO_baseline_table,31, 4)","v":"Electricity"},{"$f":"IFERROR(IF(ISBLANK(E201),\"\",\"Consumption (\" & VLOOKUP($E201,PO_Enrgy_1_Table,MATCH($C$16,PO_Enrgy_1_Hdr,0),FALSE) & \")\"),\"\")","v":"Consumption (kWh)"},{"$f":"INDEX(PO_baseline_table,31, 10)","v":""},null,"",{"$f":"IFERROR(IF($E$327-$H$327<0,\"\",($G201-$H201)*VLOOKUP($E201,PO_Enrgy_1_Table,MATCH($K$16,PO_Enrgy_1_Hdr,0),FALSE)/($E$327-$H$327)),\"\")","v":""},{"$f":"IFERROR(IF($G$327-$J$327<0,\"\",($G201*VLOOKUP($E201,PO_Enrgy_8_Table,MATCH($E$232,PO_Enrgy_8_Hdr,0),FALSE)-($H201*VLOOKUP($E201,PO_Enrgy_8_Table,MATCH($H$232,PO_Enrgy_8_Hdr,0),FALSE)))/($G$327-$J$327)),\"\")","v":""},null,{"$f":"IFERROR(H201*VLOOKUP($E201,PO_Enrgy_1_Table,MATCH($K$16,PO_Enrgy_1_Hdr,0))/$H$227,\"\")","v":""},null,null,null,3.4120000000000001E-3,1.0713680000000001E-2,"","",null,0,0,0,{"$f":"IFERROR(IF(D201=\"x\",IF(OR(G201/H201>1.03,G201/H201<0.97),TRUE,FALSE),FALSE),FALSE)","v":false},{"$f":"IFERROR(J201*100,)","v":0},null,{"$f":"RANK(Z201,$Z$171:$Z$218,0)","v":1},{"$f":"AB201+COUNTIF($AB$171:$AB200,AB201)","v":16},{"$f":"B201","v":"Industrial Process"}]
["G",null,null,null,null,{"$f":"IFERROR(IF(ISBLANK(E201),\"\",\"Demand (\" & VLOOKUP($E201,PO_Enrgy_1_Table,MATCH($E$16,PO_Enrgy_1_Hdr,0),FALSE) & \")\"),\"\")","v":"Demand (kW)"},{"$f":"INDEX(PO_baseline_table,32, 10)","v":""},null,"",null,null,null,null,null,null,null,"","","","",null,0,0,0]
["G","Elevators and escalators",null,{"$f":"INDEX(PO_baseline_table,33, 3)","v":"x"},{"$f":"INDEX(PO_baseline_table,33, 4)","v":"Electricity"},{"$f":"IFERROR(IF(ISBLANK(E203),\"\",\"Consumption (\" & VLOOKUP($E203,PO_Enrgy_1_Table,MATCH($C$16,PO_Enrgy_1_Hdr,0),FALSE) & \")\"),\"\")","v":"Consumption (kWh)"},{"$f":"INDEX(PO_baseline_table,33, 10)","v":""},null,"",{"$f":"IFERROR(IF($E$327-$H$327<0,\"\",($G203-$H203)*VLOOKUP($E203,PO_Enrgy_1_Table,MATCH($K$16,PO_Enrgy_1_Hdr,0),FALSE)/($E$327-$H$327)),\"\")","v":""},{"$f":"IFERROR(IF($G$327-$J$327<0,\"\",($G203*VLOOKUP($E203,PO_Enrgy_8_Table,MATCH($E$232,PO_Enrgy_8_Hdr,0),FALSE)-($H203*VLOOKUP($E203,PO_Enrgy_8_Table,MATCH($H$232,PO_Enrgy_8_Hdr,0),FALSE)))/($G$327-$J$327)),\"\")","v":""},null,{"$f":"IFERROR(H203*VLOOKUP($E203,PO_Enrgy_1_Table,MATCH($K$16,PO_Enrgy_1_Hdr,0))/$H$227,\"\")","v":""},null,null,null,3.4120000000000001E-3,1.0713680000000001E-2,"","",null,0,0,0,{"$f":"IFERROR(IF(D203=\"x\",IF(OR(G203/H203>1.03,G203/H203<0.97),TRUE,FALSE),FALSE),FALSE)","v":false},{"$f":"IFERROR(J203*100,)","v":0},null,{"$f":"RANK(Z203,$Z$171:$Z$218,0)","v":1},{"$f":"AB203+COUNTIF($AB$171:$AB202,AB203)","v":17},{"$f":"B203","v":"Elevators and escalators"}]
["G",null,null,null,null,{"$f":"IFERROR(IF(ISBLANK(E203),\"\",\"Demand (\" & VLOOKUP($E203,PO_Enrgy_1_Table,MATCH($E$16,PO_Enrgy_1_Hdr,0),FALSE) & \")\"),\"\")","v":"Demand (kW)"},{"$f":"INDEX(PO_baseline_table,34, 10)","v":""},null,"",null,null,null,null,null,null,null,"","","","",null,0,0,0]
["G","Heat Pump Supplementary",null,{"$f":"INDEX(PO_baseline_table,35, 3)","v":0},{"$f":"INDEX(PO_baseline_table,35, 4)","v":"Electricity"},{"$f":"IFERROR(IF(ISBLANK(E205),\"\",\"Consumption (\" & VLOOKUP($E205,PO_Enrgy_1_Table,MATCH($C$16,PO_Enrgy_1_Hdr,0),FALSE) & \")\"),\"\")","v":"Consumption (kWh)"},{"$f":"INDEX(PO_baseline_table,35, 10)","v":""},null,"",{"$f":"IFERROR(IF($E$327-$H$327<0,\"\",($G205-$H205)*VLOOKUP($E205,PO_Enrgy_1_Table,MATCH($K$16,PO_Enrgy_1_Hdr,0),FALSE)/($E$327-$H$327)),\"\")","v":""},{"$f":"IFERROR(IF($G$327-$J$327<0,\"\",($G205*VLOOKUP($E205,PO_Enrgy_8_Table,MATCH($E$232,PO_Enrgy_8_Hdr,0),FALSE)-($H205*VLOOKUP($E205,PO_Enrgy_8_Table,MATCH($H$232,PO_Enrgy_8_Hdr,0),FALSE)))/($G$327-$J$327)),\"\")","v":""},null,{"$f":"IFERROR(H205*VLOOKUP($E205,PO_Enrgy_1_Table,MATCH($K$16,PO_Enrgy_1_Hdr,0))/$H$227,\"\")","v":""},null,null,null,3.4120000000000001E-3,1.0713680000000001E-2,"","",null,0,0,0,{"$f":"IFERROR(IF(D205=\"x\",IF(OR(G205/H205>1.03,G205/H205<0.97),TRUE,FALSE),FALSE),FALSE)","v":false},{"$f":"IFERROR(J205*100,)","v":0},null,{"$f":"RANK(Z205,$Z$171:$Z$218,0)","v":1},{"$f":"AB205+COUNTIF($AB$171:$AB204,AB205)","v":18},{"$f":"B205","v":"Heat Pump Supplementary"}]
["G",null,null,null,null,{"$f":"IFERROR(IF(ISBLANK(E205),\"\",\"Demand (\" & VLOOKUP($E205,PO_Enrgy_1_Table,MATCH($E$16,PO_Enrgy_1_Hdr,0),FALSE) & \")\"),\"\")","v":"Demand (kW)"},{"$f":"INDEX(PO_baseline_table,36, 10)","v":""},null,"",null,null,null,null,null,null,null,"","","","",null,0,0,0]
["G",{"$f":"INDEX(PO_base_Add_EndUses,1, 1)","v":0},null,{"$f":"INDEX(PO_baseline_table,37, 3)","v":0},{"$f":"INDEX(PO_baseline_table,37, 4)","v":0},{"$f":"IFERROR(IF(ISBLANK(E207),\"\",\"Consumption (\" & VLOOKUP($E207,PO_Enrgy_1_Table,MATCH($C$16,PO_Enrgy_1_Hdr,0),FALSE) & \")\"),\"\")","v":""},{"$f":"INDEX(PO_baseline_table,37, 10)","v":""},null,"",{"$f":"IFERROR(IF($E$327-$H$327<0,\"\",($G207-$H207)*VLOOKUP($E207,PO_Enrgy_1_Table,MATCH($K$16,PO_Enrgy_1_Hdr,0),FALSE)/($E$327-$H$327)),\"\")","v":""},{"$f":"IFERROR(IF($G$327-$J$327<0,\"\",($G207*VLOOKUP($E207,PO_Enrgy_8_Table,MATCH($E$232,PO_Enrgy_8_Hdr,0),FALSE)-($H207*VLOOKUP($E207,PO_Enrgy_8_Table,MATCH($H$232,PO_Enrgy_8_Hdr,0),FALSE)))/($G$327-$J$327)),\"\")","v":""},null,{"$f":"IFERROR(H207*VLOOKUP($E207,PO_Enrgy_1_Table,MATCH($K$16,PO_Enrgy_1_Hdr,0))/$H$227,\"\")","v":""},null,null,null,"","","","",null,0,0,0,{"$f":"IFERROR(IF(D207=\"x\",IF(OR(G207/H207>1.03,G207/H207<0.97),TRUE,FALSE),FALSE),FALSE)","v":false},{"$f":"IFERROR(J207*100,)","v":0},null,{"$f":"RANK(Z207,$Z$171:$Z$218,0)","v":1},{"$f":"AB207+COUNTIF($AB$171:$AB206,AB207)","v":19},{"$f":"B207","v":0}]
["G",null,null,null,null,{"$f":"IFERROR(IF(ISBLANK(E207),\"\",\"Demand (\" & VLOOKUP($E207,PO_Enrgy_1_Table,MATCH($E$16,PO_Enrgy_1_Hdr,0),FALSE) & \")\"),\"\")","v":""},{"$f":"INDEX(PO_baseline_table,38, 10)","v":""},null,"",null,null,null,null,null,null,null,"","","","",null,0,0,0]
["G",{"$f":"INDEX(PO_base_Add_EndUses,3, 1)","v":0},null,{"$f":"INDEX(PO_baseline_table,39, 3)","v":0},{"$f":"INDEX(PO_baseline_table,39, 4)","v":0},{"$f":"IFERROR(IF(ISBLANK(E209),\"\",\"Consumption (\" & VLOOKUP($E209,PO_Enrgy_1_Table,MATCH($C$16,PO_Enrgy_1_Hdr,0),FALSE) & \")\"),\"\")","v":""},{"$f":"INDEX(PO_baseline_table,39, 10)","v":""},null,"",{"$f":"IFERROR(IF($E$327-$H$327<0,\"\",($G209-$H209)*VLOOKUP($E209,PO_Enrgy_1_Table,MATCH($K$16,PO_Enrgy_1_Hdr,0),FALSE)/($E$327-$H$327)),\"\")","v":""},{"$f":"IFERROR(IF($G$327-$J$327<0,\"\",($G209*VLOOKUP($E209,PO_Enrgy_8_Table,MATCH($E$232,PO_Enrgy_8_Hdr,0),FALSE)-($H209*VLOOKUP($E209,PO_Enrgy_8_Table,MATCH($H$232,PO_Enrgy_8_Hdr,0),FALSE)))/($G$327-$J$327)),\"\")","v":""},null,{"$f":"IFERROR(H209*VLOOKUP($E209,PO_Enrgy_1_Table,MATCH($K$16,PO_Enrgy_1_Hdr,0))/$H$227,\"\")","v":""},null,null,null,"","","","",null,0,0,0,{"$f":"IFERROR(IF(D209=\"x\",IF(OR(G209/H209>1.03,G209/H209<0.97),TRUE,FALSE),FALSE),FALSE)","v":false},{"$f":"IFERROR(J209*100,)","v":0},null,{"$f":"RANK(Z209,$Z$171:$Z$218,0)","v":1},{"$f":"AB209+COUNTIF($AB$171:$AB208,AB209)","v":20},{"$f":"B209","v":0}]
["G",null,null,null,null,{"$f":"IFERROR(IF(ISBLANK(E209),\"\",\"Demand (\" & VLOOKUP($E209,PO_Enrgy_1_Table,MATCH($E$16,PO_Enrgy_1_Hdr,0),FALSE) & \")\"),\"\")","v":""},{"$f":"INDEX(PO_baseline_table,40, 10)","v":""},null,"",null,null,null,null,null,null,null,"","","","",null,0,0,0]
["G",{"$f":"INDEX(PO_base_Add_EndUses,5, 1)","v":0},null,{"$f":"INDEX(PO_baseline_table,41, 3)","v":0},{"$f":"INDEX(PO_baseline_table,41, 4)","v":0},{"$f":"IFERROR(IF(ISBLANK(E211),\"\",\"Consumption (\" & VLOOKUP($E211,PO_Enrgy_1_Table,MATCH($C$16,PO_Enrgy_1_Hdr,0),FALSE) & \")\"),\"\")","v":""},{"$f":"INDEX(PO_baseline_table,41, 10)","v":""},null,"",{"$f":"IFERROR(IF($E$327-$H$327<0,\"\",($G211-$H211)*VLOOKUP($E211,PO_Enrgy_1_Table,MATCH($K$16,PO_Enrgy_1_Hdr,0),FALSE)/($E$327-$H$327)),\"\")","v":""},{"$f":"IFERROR(IF($G$327-$J$327<0,\"\",($G211*VLOOKUP($E211,PO_Enrgy_8_Table,MATCH($E$232,PO_Enrgy_8_Hdr,0),FALSE)-($H211*VLOOKUP($E211,PO_Enrgy_8_Table,MATCH($H$232,PO_Enrgy_8_Hdr,0),FALSE)))/($G$327-$J$327)),\"\")","v":""},null,{"$f":"IFERROR(H211*VLOOKUP($E211,PO_Enrgy_1_Table,MATCH($K$16,PO_Enrgy_1_Hdr,0))/$H$227,\"\")","v":""},null,null,null,"","","","",null,0,0,0,{"$f":"IFERROR(IF(D211=\"x\",IF(OR(G211/H211>1.03,G211/H211<0.97),TRUE,FALSE),FALSE),FALSE)","v":false},{"$f":"IFERROR(J211*100,)","v":0},null,{"$f":"RANK(Z211,$Z$171:$Z$218,0)","v":1},{"$f":"AB211+COUNTIF($AB$171:$AB210,AB211)","v":21},{"$f":"B211","v":0}]
["G",null,null,null,null,{"$f":"IFERROR(IF(ISBLANK(E211),\"\",\"Demand (\" & VLOOKUP($E211,PO_Enrgy_1_Table,MATCH($E$16,PO_Enrgy_1_Hdr,0),FALSE) & \")\"),\"\")","v":""},{"$f":"INDEX(PO_baseline_table,42, 10)","v":""},null,"",null,null,null,null,null,null,null,"","","","",null,0,0,0]
["G",{"$f":"INDEX(PO_base_Add_EndUses,7, 1)","v":0},null,{"$f":"INDEX(PO_baseline_table,43, 3)","v":0},{"$f":"INDEX(PO_baseline_table,43, 4)","v":0},{"$f":"IFERROR(IF(ISBLANK(E213),\"\",\"Consumption (\" & VLOOKUP($E213,PO_Enrgy_1_Table,MATCH($C$16,PO_Enrgy_1_Hdr,0),FALSE) & \")\"),\"\")","v":""},{"$f":"INDEX(PO_baseline_table,43, 10)","v":""},null,"",{"$f":"IFERROR(IF($E$327-$H$327<0,\"\",($G213-$H213)*VLOOKUP($E213,PO_Enrgy_1_Table,MATCH($K$16,PO_Enrgy_1_Hdr,0),FALSE)/($E$327-$H$327)),\"\")","v":""},{"$f":"IFERROR(IF($G$327-$J$327<0,\"\",($G213*VLOOKUP($E213,PO_Enrgy_8_Table,MATCH($E$232,PO_Enrgy_8_Hdr,0),FALSE)-($H213*VLOOKUP($E213,PO_Enrgy_8_Table,MATCH($H$232,PO_Enrgy_8_Hdr,0),FALSE)))/($G$327-$J$327)),\"\")","v":""},null,{"$f":"IFERROR(H213*VLOOKUP($E213,PO_Enrgy_1_Table,MATCH($K$16,PO_Enrgy_1_Hdr,0))/$H$227,\"\")","v":""},null,null,null,"","","","",null,0,0,0,{"$f":"IFERROR(IF(D213=\"x\",IF(OR(G213/H213>1.03,G213/H213<0.97),TRUE,FALSE),FALSE),FALSE)","v":false},{"$f":"IFERROR(J213*100,)","v":0},null,{"$f":"RANK(Z213,$Z$171:$Z$218,0)","v":1},{"$f":"AB213+COUNTIF($AB$171:$AB212,AB213)","v":22},{"$f":"B213","v":0}]
["G",null,null,null,null,{"$f":"IFERROR(IF(ISBLANK(E213),\"\",\"Demand (\" & VLOOKUP($E213,PO_Enrgy_1_Table,MATCH($E$16,PO_Enrgy_1_Hdr,0),FALSE) & \")\"),\"\")","v":""},{"$f":"INDEX(PO_baseline_table,44, 10)","v":""},null,"",null,null,null,null,null,null,null,"","","","",null,0,0,0]
["G",{"$f":"INDEX(PO_base_Add_EndUses,9, 1)","v":0},null,{"$f":"INDEX(PO_baseline_table,45, 3)","v":0},{"$f":"INDEX(PO_baseline_table,45, 4)","v":0},{"$f":"IFERROR(IF(ISBLANK(E215),\"\",\"Consumption (\" & VLOOKUP($E215,PO_Enrgy_1_Table,MATCH($C$16,PO_Enrgy_1_Hdr,0),FALSE) & \")\"),\"\")","v":""},{"$f":"INDEX(PO_baseline_table,45, 10)","v":""},null,"",{"$f":"IFERROR(IF($E$327-$H$327<0,\"\",($G215-$H215)*VLOOKUP($E215,PO_Enrgy_1_Table,MATCH($K$16,PO_Enrgy_1_Hdr,0),FALSE)/($E$327-$H$327)),\"\")","v":""},{"$f":"IFERROR(IF($G$327-$J$327<0,\"\",($G215*VLOOKUP($E215,PO_Enrgy_8_Table,MATCH($E$232,PO_Enrgy_8_Hdr,0),FALSE)-($H215*VLOOKUP($E215,PO_Enrgy_8_Table,MATCH($H$232,PO_Enrgy_8_Hdr,0),FALSE)))/($G$327-$J$327)),\"\")","v":""},null,{"$f":"IFERROR(H215*VLOOKUP($E215,PO_Enrgy_1_Table,MATCH($K$16,PO_Enrgy_1_Hdr,0))/$H$227,\"\")","v":""},null,null,null,"","","","",null,0,0,0,{"$f":"IFERROR(IF(D215=\"x\",IF(OR(G215/H215>1.03,G215/H215<0.97),TRUE,FALSE),FALSE),FALSE)","v":false},{"$f":"IFERROR(J215*100,)","v":0},null,{"$f":"RANK(Z215,$Z$171:$Z$218,0)","v":1},{"$f":"AB215+COUNTIF($AB$171:$AB214,AB215)","v":23},{"$f":"B215","v":0}]
["G",null,null,null,null,{"$f":"IFERROR(IF(ISBLANK(E215),\"\",\"Demand (\" & VLOOKUP($E215,PO_Enrgy_1_Table,MATCH($E$16,PO_Enrgy_1_Hdr,0),FALSE) & \")\"),\"\")","v":""},{"$f":"INDEX(PO_baseline_table,46, 10)","v":""},null,"",null,null,null,null,null,null,null,"","","","",null,0,0,0]
["G",{"$f":"INDEX(PO_base_Add_EndUses,11, 1)","v":0},null,{"$f":"INDEX(PO_baseline_table,47, 3)","v":0},{"$f":"INDEX(PO_baseline_table,47, 4)","v":0},{"$f":"IFERROR(IF(ISBLANK(E217),\"\",\"Consumption (\" & VLOOKUP($E217,PO_Enrgy_1_Table,MATCH($C$16,PO_Enrgy_1_Hdr,0),FALSE) & \")\"),\"\")","v":""},{"$f":"INDEX(PO_baseline_table,47, 10)","v":""},null,"",{"$f":"IFERROR(IF($E$327-$H$327<0,\"\",($G217-$H217)*VLOOKUP($E217,PO_Enrgy_1_Table,MATCH($K$16,PO_Enrgy_1_Hdr,0),FALSE)/($E$327-$H$327)),\"\")","v":""},{"$f":"IFERROR(IF($G$327-$J$327<0,\"\",($G217*VLOOKUP($E217,PO_Enrgy_8_Table,MATCH($E$232,PO_Enrgy_8_Hdr,0),FALSE)-($H217*VLOOKUP($E217,PO_Enrgy_8_Table,MATCH($H$232,PO_Enrgy_8_Hdr,0),FALSE)))/($G$327-$J$327)),\"\")","v":""},null,{"$f":"IFERROR(H217*VLOOKUP($E217,PO_Enrgy_1_Table,MATCH($K$16,PO_Enrgy_1_Hdr,0))/$H$227,\"\")","v":""},null,null,null,"","","","",null,0,0,0,{"$f":"IFERROR(IF(D217=\"x\",IF(OR(G217/H217>1.03,G217/H217<0.97),TRUE,FALSE),FALSE),FALSE)","v":false},{"$f":"IFERROR(J217*100,)","v":0},null,{"$f":"RANK(Z217,$Z$171:$Z$218,0)","v":1},{"$f":"AB217+COUNTIF($AB$171:$AB216,AB217)","v":24},{"$f":"B217","v":0}]
["G",null,null,null,null,{"$f":"IFERROR(IF(ISBLANK(E217),\"\",\"Demand (\" & VLOOKUP($E217,PO_Enrgy_1_Table,MATCH($E$16,PO_Enrgy_1_Hdr,0),FALSE) & \")\"),\"\")","v":""},{"$f":"INDEX(PO_baseline_table,48, 10)","v":""},null,"",null,null,null,null,null,null,null,"","","","",null,0,0,0]
["G"]
["G","Table: Performance rating energy consumption and cost by fuel type"]
["G","Energy Type","Site Energy Units",null,"Baseline",null,null,"Proposed",null,null,"Percent Savings"]
["G",null,null,null,"Site Energy Use (Units shown per energy type)",{"$f":"\"Source Energy Use \n(\"  & PO_SourceUnits & \")\"","v":"Source Energy Use \n(Btu x 10^6)"},"Cost","Site Energy Use (Units shown per energy type)",{"$f":"\"Source Energy Use \n(\"  & PO_SourceUnits & \")\"","v":"Source Energy Use \n(Btu x 10^6)"},"Cost","Site Energy Use",null,"Cost"]
["G","Energy_Type","Energy_Units",null,"Base_Site_Energy","Base_Source_Energy","Base_Cost","Design_Site_Energy","Design_Source_Energy","Design_Cost","Percent_Savings_Site_Energy",null,"Percent_Savings_Cost",null,null,null,"Site_Unit_Conversion","Source_Unit_Conversion"]
["G",{"$f":"IFERROR(IF(ISBLANK(B17),\"\",B17),\"\")","v":"Electricity"},{"$f":"IFERROR(IF(ISBLANK($B224),\"\",VLOOKUP($B224,PO_Enrgy_1_Table,MATCH($C$16,PO_Enrgy_1_Hdr,0),FALSE) ),\"\")","v":"kWh"},{"$f":"IF(C224=\"\",\"\",VLOOKUP(C224,ProjectEnergyTypeTable,3,FALSE))","v":{"$error":"#NAME?"}},{"$f":"IFERROR(SUMIFS(G$171:G$218,$F$171:$F$218,\"=Con*\",$E$171:$E$218,$B224), 0)","v":0},{"$f":"IFERROR(SUMIFS(G$171:G$218,$F$171:$F$218,\"=Con*\",$E$171:$E$218,$B224)*VLOOKUP($B224,PO_Enrgy_1_Table,MATCH($M$16,PO_Enrgy_1_Hdr,0),FALSE), 0)","v":0},{"$f":"INDEX(PO_Enrgy_6_Table,1, 10)","v":""},{"$f":"IFERROR(SUMIFS(H$171:H$218,$F$171:$F$218,\"=Con*\",$E$171:$E$218,$B224), 0)","v":0},{"$f":"IFERROR(SUMIFS(H$171:H$218,$F$171:$F$218,\"=Con*\",$E$171:$E$218,$B224)*VLOOKUP($B224,PO_Enrgy_1_Table,MATCH($M$16,PO_Enrgy_1_Hdr,0),FALSE), 0)","v":0},null,{"$f":"IFERROR(1-H224/E224,\"\")","v":""},null,{"$f":"IFERROR(1-J224/G224,\"\")","v":""},null,null,null,{"$f":"IFERROR(IF(ISBLANK($B224),\"\",VLOOKUP($B224,PO_Enrgy_1_Table,MATCH($K$16,PO_Enrgy_1_Hdr,0),FALSE)),\"\")","v":3.4120000000000001E-3},{"$f":"IFERROR(IF(ISBLANK($B224),\"\",VLOOKUP($B224,PO_Enrgy_1_Table,MATCH($M$16,PO_Enrgy_1_Hdr,0),FALSE)),\"\")","v":1.0713680000000001E-2}]
["G",{"$f":"IFERROR(IF(ISBLANK(B18),\"\",B18),\"\")","v":"Natural Gas"},{"$f":"IFERROR(IF(ISBLANK($B225),\"\",VLOOKUP($B225,PO_Enrgy_1_Table,MATCH($C$16,PO_Enrgy_1_Hdr,0),FALSE) ),\"\")","v":"therm"},{"$f":"IF(C225=\"\",\"\",VLOOKUP(C225,ProjectEnergyTypeTable,3,FALSE))","v":{"$error":"#NAME?"}},{"$f":"IFERROR(SUMIFS(G$171:G$218,$F$171:$F$218,\"=Con*\",$E$171:$E$218,$B225), 0)","v":0},{"$f":"IFERROR(SUMIFS(G$171:G$218,$F$171:$F$218,\"=Con*\",$E$171:$E$218,$B225)*VLOOKUP($B225,PO_Enrgy_1_Table,MATCH($M$16,PO_Enrgy_1_Hdr,0),FALSE), 0)","v":0},{"$f":"INDEX(PO_Enrgy_6_Table,2, 10)","v":""},{"$f":"IFERROR(SUMIFS(H$171:H$218,$F$171:$F$218,\"=Con*\",$E$171:$E$218,$B225), 0)","v":0},{"$f":"IFERROR(SUMIFS(H$171:H$218,$F$171:$F$218,\"=Con*\",$E$171:$E$218,$B225)*VLOOKUP($B225,PO_Enrgy_1_Table,MATCH($M$16,PO_Enrgy_1_Hdr,0),FALSE), 0)","v":0},null,{"$f":"IFERROR(1-H225/E225,\"\")","v":""},null,{"$f":"IFERROR(1-J225/G225,\"\")","v":""},null,null,null,{"$f":"IFERROR(IF(ISBLANK($B225),\"\",VLOOKUP($B225,PO_Enrgy_1_Table,MATCH($K$16,PO_Enrgy_1_Hdr,0),FALSE)),\"\")","v":0.1},{"$f":"IFERROR(IF(ISBLANK($B225),\"\",VLOOKUP($B225,PO_Enrgy_1_Table,MATCH($M$16,PO_Enrgy_1_Hdr,0),FALSE)),\"\")","v":0.10500000000000001}]
["G",{"$f":"IFERROR(IF(ISBLANK(B19),\"\",B19),\"\")","v":"District Cooling"},{"$f":"IFERROR(IF(ISBLANK($B226),\"\",VLOOKUP($B226,PO_Enrgy_1_Table,MATCH($C$16,PO_Enrgy_1_Hdr,0),FALSE) ),\"\")","v":"MWh"},{"$f":"IF(C226=\"\",\"\",VLOOKUP(C226,ProjectEnergyTypeTable,3,FALSE))","v":{"$error":"#NAME?"}},{"$f":"IFERROR(SUMIFS(G$171:G$218,$F$171:$F$218,\"=Con*\",$E$171:$E$218,$B226), 0)","v":0},{"$f":"IFERROR(SUMIFS(G$171:G$218,$F$171:$F$218,\"=Con*\",$E$171:$E$218,$B226)*VLOOKUP($B226,PO_Enrgy_1_Table,MATCH($M$16,PO_Enrgy_1_Hdr,0),FALSE), 0)","v":0},{"$f":"INDEX(PO_Enrgy_6_Table,3, 10)","v":""},{"$f":"IFERROR(SUMIFS(H$171:H$218,$F$171:$F$218,\"=Con*\",$E$171:$E$218,$B226), 0)","v":0},{"$f":"IFERROR(SUMIFS(H$171:H$218,$F$171:$F$218,\"=Con*\",$E$171:$E$218,$B226)*VLOOKUP($B226,PO_Enrgy_1_Table,MATCH($M$16,PO_Enrgy_1_Hdr,0),FALSE), 0)","v":0},null,{"$f":"IFERROR(1-H226/E226,\"\")","v":""},null,{"$f":"IFERROR(1-J226/G226,\"\")","v":""},null,null,null,{"$f":"IFERROR(IF(ISBLANK($B226),\"\",VLOOKUP($B226,PO_Enrgy_1_Table,MATCH($K$16,PO_Enrgy_1_Hdr,0),FALSE)),\"\")","v":3.4119999999999999},{"$f":"IFERROR(IF(ISBLANK($B226),\"\",VLOOKUP($B226,PO_Enrgy_1_Table,MATCH($M$16,PO_Enrgy_1_Hdr,0),FALSE)),\"\")","v":3.4119999999999999}]
["G",{"$f":"\"Energy model subtotal (\" & PO_SiteUnits & \")\"","v":"Energy model subtotal (Btu x 10^6)"},null,null,{"$f":"IFERROR(SUMPRODUCT(INDEX(PO_Enrgy_7_Table,0,MATCH(E$223,PO_Enrgy_7_Hdr,0)),INDEX(PO_Enrgy_7_Table,0,MATCH($Q$223,PO_Enrgy_7_Hdr,0))),\"\")","v":0},{"$f":"IFERROR(SUM(INDEX(PO_Enrgy_7_Table,0,MATCH(F$223,PO_Enrgy_7_Hdr,0))),\"\")","v":0},{"$f":"IFERROR(SUM(INDEX(PO_Enrgy_7_Table,0,MATCH(G$223,PO_Enrgy_7_Hdr,0))),\"\")","v":0},{"$f":"IFERROR(SUMPRODUCT(INDEX(PO_Enrgy_7_Table,0,MATCH(H$223,PO_Enrgy_7_Hdr,0)),INDEX(PO_Enrgy_7_Table,0,MATCH($Q$223,PO_Enrgy_7_Hdr,0))),\"\")","v":0},{"$f":"IFERROR(SUM(INDEX(PO_Enrgy_7_Table,0,MATCH(I$223,PO_Enrgy_7_Hdr,0))),\"\")","v":0},{"$f":"IFERROR(SUM(INDEX(PO_Enrgy_7_Table,0,MATCH(J$223,PO_Enrgy_7_Hdr,0))),\"\")","v":0},{"$f":"IFERROR(1-H227/E227,\"\")","v":""},null,{"$f":"IFERROR(1-J227/G227,\"\")","v":""}]
["G"]
["G"]
["G","Table: Virtual rate (average energy cost per unit energy)"]
["G","Energy Type",null,null,"Baseline",null,null,"Proposed",null,null,"Percent Variance"]
["G","Energy_Type","Units",null,"Base_Virtual_Rate",null,null,"Design_Virtual_Rate",null,null,"Percent_Variance",null,null,null,null,null,"Site_Unit_Conversion","Source_Unit_Conversion",null,"Default_Base","Default_Proposed"]
["G",{"$f":"IFERROR(IF(ISBLANK(B17),\"\",B17),\"\")","v":"Electricity"},{"$f":"IFERROR(CONCATENATE(\"$ / \",VLOOKUP($B233,PO_Enrgy_1_Table,MATCH($C$16,PO_Enrgy_1_Hdr,0),FALSE)),\"\")","v":"$ / kWh"},{"$f":"IF(C233=\"\",\"\",VLOOKUP(C233,ProjectEnergyTypeTable,3,FALSE))","v":{"$error":"#NAME?"}},{"$f":"IFERROR(IF(AND(DESPath=3,OR($B233=\"District Cooling\",$B233=\"District Steam\",$B233=\"District Hot Water\")),IF($B233=\"District Cooling\",$V$251,$W$251),VLOOKUP($B233,PO_Enrgy_7_Table,MATCH($G$223,PO_Enrgy_7_Hdr,0),FALSE)/VLOOKUP($B233,PO_Enrgy_7_Table,MATCH($E$223,PO_Enrgy_7_Hdr,0),FALSE)),\"\")","v":""},"","",{"$f":"IFERROR(IF(AND(DESPath=3,OR($B233=\"District Cooling\",$B233=\"District Steam\",$B233=\"District Hot Water\")),IF($B233=\"District Cooling\",$V$255,$W$255),VLOOKUP($B233,PO_Enrgy_7_Table,MATCH($J$223,PO_Enrgy_7_Hdr,0),FALSE)/VLOOKUP($B233,PO_Enrgy_7_Table,MATCH($H$223,PO_Enrgy_7_Hdr,0),FALSE)),\"\")","v":""},"","",{"$f":"IFERROR(ABS(1-H233/E233),\"\")","v":""},null,null,null,null,null,{"$f":"IFERROR(IF(ISBLANK($B233),\"\",VLOOKUP($B233,PO_Enrgy_1_Table,MATCH($K$16,PO_Enrgy_1_Hdr,0),FALSE)),\"\")","v":3.4120000000000001E-3},{"$f":"IFERROR(IF(ISBLANK($B233),\"\",VLOOKUP($B233,PO_Enrgy_1_Table,MATCH($M$16,PO_Enrgy_1_Hdr,0),FALSE)),\"\")","v":1.0713680000000001E-2},null,{"$f":"IFERROR(IF(AND(DESPath=3,OR($B233=\"District Cooling\",$B233=\"District Steam\",$B233=\"District Hot Water\")),IF($B233=\"District Cooling\",$V$251,$W$251),VLOOKUP($B233,PO_Enrgy_7_Table,MATCH($G$223,PO_Enrgy_7_Hdr,0),FALSE)/VLOOKUP($B233,PO_Enrgy_7_Table,MATCH($E$223,PO_Enrgy_7_Hdr,0),FALSE)),\"\")","v":""},{"$f":"IFERROR(IF(AND(DESPath=3,OR($B233=\"District Cooling\",$B233=\"District Steam\",$B233=\"District Hot Water\")),IF($B233=\"District Cooling\",$V$255,$W$255),VLOOKUP($B233,PO_Enrgy_7_Table,MATCH($J$223,PO_Enrgy_7_Hdr,0),FALSE)/VLOOKUP($B233,PO_Enrgy_7_Table,MATCH($H$223,PO_Enrgy_7_Hdr,0),FALSE)),\"\")","v":""}]
["G",{"$f":"IFERROR(IF(ISBLANK(B18),\"\",B18),\"\")","v":"Natural Gas"},{"$f":"IFERROR(CONCATENATE(\"$ / \",VLOOKUP($B234,PO_Enrgy_1_Table,MATCH($C$16,PO_Enrgy_1_Hdr,0),FALSE)),\"\")","v":"$ / therm"},{"$f":"IF(C234=\"\",\"\",VLOOKUP(C234,ProjectEnergyTypeTable,3,FALSE))","v":{"$error":"#NAME?"}},"","","","","","",{"$f":"IFERROR(ABS(1-H234/E234),\"\")","v":""},null,null,null,null,null,{"$f":"IFERROR(IF(ISBLANK($B234),\"\",VLOOKUP($B234,PO_Enrgy_1_Table,MATCH($K$16,PO_Enrgy_1_Hdr,0),FALSE)),\"\")","v":0.1},{"$f":"IFERROR(IF(ISBLANK($B234),\"\",VLOOKUP($B234,PO_Enrgy_1_Table,MATCH($M$16,PO_Enrgy_1_Hdr,0),FALSE)),\"\")","v":0.10500000000000001},null,{"$f":"IFERROR(IF(AND(DESPath=3,OR($B234=\"District Cooling\",$B234=\"District Steam\",$B234=\"District Hot Water\")),IF($B234=\"District Cooling\",$V$251,$W$251),VLOOKUP($B234,PO_Enrgy_7_Table,MATCH($G$223,PO_Enrgy_7_Hdr,0),FALSE)/VLOOKUP($B234,PO_Enrgy_7_Table,MATCH($E$223,PO_Enrgy_7_Hdr,0),FALSE)),\"\")","v":""},{"$f":"IFERROR(IF(AND(DESPath=3,OR($B234=\"District Cooling\",$B234=\"District Steam\",$B234=\"District Hot Water\")),IF($B234=\"District Cooling\",$V$255,$W$255),VLOOKUP($B234,PO_Enrgy_7_Table,MATCH($J$223,PO_Enrgy_7_Hdr,0),FALSE)/VLOOKUP($B234,PO_Enrgy_7_Table,MATCH($H$223,PO_Enrgy_7_Hdr,0),FALSE)),\"\")","v":""}]
["G",{"$f":"IFERROR(IF(ISBLANK(B19),\"\",B19),\"\")","v":"District Cooling"},{"$f":"IFERROR(CONCATENATE(\"$ / \",VLOOKUP($B235,PO_Enrgy_1_Table,MATCH($C$16,PO_Enrgy_1_Hdr,0),FALSE)),\"\")","v":"$ / MWh"},{"$f":"IF(C235=\"\",\"\",VLOOKUP(C235,ProjectEnergyTypeTable,3,FALSE))","v":{"$error":"#NAME?"}},"","","","","","",{"$f":"IFERROR(ABS(1-H235/E235),\"\")","v":""},null,null,null,null,null,{"$f":"IFERROR(IF(ISBLANK($B235),\"\",VLOOKUP($B235,PO_Enrgy_1_Table,MATCH($K$16,PO_Enrgy_1_Hdr,0),FALSE)),\"\")","v":3.4119999999999999},{"$f":"IFERROR(IF(ISBLANK($B235),\"\",VLOOKUP($B235,PO_Enrgy_1_Table,MATCH($M$16,PO_Enrgy_1_Hdr,0),FALSE)),\"\")","v":3.4119999999999999},null,{"$f":"IFERROR(IF(AND(DESPath=3,OR($B235=\"District Cooling\",$B235=\"District Steam\",$B235=\"District Hot Water\")),IF($B235=\"District Cooling\",$V$251,$W$251),VLOOKUP($B235,PO_Enrgy_7_Table,MATCH($G$223,PO_Enrgy_7_Hdr,0),FALSE)/VLOOKUP($B235,PO_Enrgy_7_Table,MATCH($E$223,PO_Enrgy_7_Hdr,0),FALSE)),\"\")","v":""},{"$f":"IFERROR(IF(AND(DESPath=3,OR($B235=\"District Cooling\",$B235=\"District Steam\",$B235=\"District Hot Water\")),IF($B235=\"District Cooling\",$V$255,$W$255),VLOOKUP($B235,PO_Enrgy_7_Table,MATCH($J$223,PO_Enrgy_7_Hdr,0),FALSE)/VLOOKUP($B235,PO_Enrgy_7_Table,MATCH($H$223,PO_Enrgy_7_Hdr,0),FALSE)),\"\")","v":""}]
["G"]
["G","Table: Exceptional calculation methods"]
["G","Energy Type","Site Energy Units",null,"Baseline Energy Consumption \nwith Exceptional Calculation Methods",null,null,"Proposed Energy Consumption \nwith Exceptional Calculation Methods",null,null,"Percent Savings"]
["G",null,null,null,"Site Energy Use (Units shown per energy type)",{"$f":"\"Source Energy Use \n(\"  & PO_SourceUnits & \")\"","v":"Source Energy Use \n(Btu x 10^6)"},"Cost","Site Energy Use (Units shown per energy type)",{"$f":"\"Source Energy Use \n(\"  & PO_SourceUnits & \")\"","v":"Source Energy Use \n(Btu x 10^6)"},"Cost","Site Energy Use",null,"Cost"]
["G","Energy_Type","Energy_Units",null,"Base_Site_Energy","Base_Source_Energy","Base_Cost","Design_Site_Energy","Design_Source_Energy","Design_Cost","Percent_Savings_Site_Energy",null,"Percent_Savings_Cost",null,null,null,"Site_Unit_Conversion","Source_Unit_Conversion"]
["G",{"$f":"IFERROR(IF(ISBLANK(B17),\"\",B17),\"\")","v":"Electricity"},{"$f":"IFERROR(IF(ISBLANK($B241),\"\",VLOOKUP($B241,PO_Enrgy_1_Table,MATCH($C$16,PO_Enrgy_1_Hdr,0),FALSE) ),\"\")","v":"kWh"},{"$f":"IF(C241=\"\",\"\",VLOOKUP(C241,ProjectEnergyTypeTable,3,FALSE))","v":{"$error":"#NAME?"}},{"$f":"IFERROR(VLOOKUP($B241,PO_Enrgy_7_Table,MATCH($E$223,PO_Enrgy_7_Hdr,0),FALSE)+IF(PO_ShowExCalc=TRUE,VLOOKUP($B241,PO_Enrgy_3_Table,MATCH($G$62,PO_Enrgy_3_Hdr,0),FALSE),0),0)","v":0},{"$f":"IFERROR(VLOOKUP($B241,PO_Enrgy_7_Table,MATCH($F$223,PO_Enrgy_7_Hdr,0),FALSE)+IF(PO_ShowExCalc=TRUE,VLOOKUP($B241,PO_Enrgy_3_Table,MATCH($J$62,PO_Enrgy_3_Hdr,0),FALSE),0),0)","v":0},{"$f":"IFERROR(VLOOKUP($B241,PO_Enrgy_7_Table,MATCH($G$223,PO_Enrgy_7_Hdr,0),FALSE)+IF(PO_ShowExCalc=TRUE,VLOOKUP($B241,PO_Enrgy_3_Table,MATCH($L$62,PO_Enrgy_3_Hdr,0),FALSE),0),0)","v":0},{"$f":"IFERROR(VLOOKUP($B241,PO_Enrgy_7_Table,MATCH($H$223,PO_Enrgy_7_Hdr,0),FALSE)-IF(PO_ShowExCalc=TRUE,VLOOKUP($B241,PO_Enrgy_4_Table,MATCH($G$62,PO_Enrgy_3_Hdr,0),FALSE),0),0)","v":0},{"$f":"IFERROR(VLOOKUP($B241,PO_Enrgy_7_Table,MATCH($I$223,PO_Enrgy_7_Hdr,0),FALSE)-IF(PO_ShowExCalc=TRUE,VLOOKUP($B241,PO_Enrgy_4_Table,MATCH($J$62,PO_Enrgy_3_Hdr,0),FALSE),0),0)","v":0},{"$f":"IFERROR(VLOOKUP($B241,PO_Enrgy_7_Table,MATCH($J$223,PO_Enrgy_7_Hdr,0),FALSE)-IF(PO_ShowExCalc=TRUE,VLOOKUP($B241,PO_Enrgy_4_Table,MATCH($L$62,PO_Enrgy_3_Hdr,0),FALSE),0),0)","v":0},{"$f":"IFERROR(1-H241/E241,\"\")","v":""},null,{"$f":"IFERROR(1-J241/G241,\"\")","v":""},null,null,null,{"$f":"IFERROR(IF(ISBLANK($B241),\"\",VLOOKUP($B241,PO_Enrgy_1_Table,MATCH($K$16,PO_Enrgy_1_Hdr,0),FALSE)),\"\")","v":3.4120000000000001E-3},{"$f":"IFERROR(IF(ISBLANK($B241),\"\",VLOOKUP($B241,PO_Enrgy_1_Table,MATCH($M$16,PO_Enrgy_1_Hdr,0),FALSE)),\"\")","v":1.0713680000000001E-2}]
["G",{"$f":"IFERROR(IF(ISBLANK(B18),\"\",B18),\"\")","v":"Natural Gas"},{"$f":"IFERROR(IF(ISBLANK($B242),\"\",VLOOKUP($B242,PO_Enrgy_1_Table,MATCH($C$16,PO_Enrgy_1_Hdr,0),FALSE) ),\"\")","v":"therm"},{"$f":"IF(C242=\"\",\"\",VLOOKUP(C242,ProjectEnergyTypeTable,3,FALSE))","v":{"$error":"#NAME?"}},{"$f":"IFERROR(VLOOKUP($B242,PO_Enrgy_7_Table,MATCH($E$223,PO_Enrgy_7_Hdr,0),FALSE)+IF(PO_ShowExCalc=TRUE,VLOOKUP($B242,PO_Enrgy_3_Table,MATCH($G$62,PO_Enrgy_3_Hdr,0),FALSE),0),0)","v":0},{"$f":"IFERROR(VLOOKUP($B242,PO_Enrgy_7_Table,MATCH($F$223,PO_Enrgy_7_Hdr,0),FALSE)+IF(PO_ShowExCalc=TRUE,VLOOKUP($B242,PO_Enrgy_3_Table,MATCH($J$62,PO_Enrgy_3_Hdr,0),FALSE),0),0)","v":0},{"$f":"IFERROR(VLOOKUP($B242,PO_Enrgy_7_Table,MATCH($G$223,PO_Enrgy_7_Hdr,0),FALSE)+IF(PO_ShowExCalc=TRUE,VLOOKUP($B242,PO_Enrgy_3_Table,MATCH($L$62,PO_Enrgy_3_Hdr,0),FALSE),0),0)","v":0},{"$f":"IFERROR(VLOOKUP($B242,PO_Enrgy_7_Table,MATCH($H$223,PO_Enrgy_7_Hdr,0),FALSE)-IF(PO_ShowExCalc=TRUE,VLOOKUP($B242,PO_Enrgy_4_Table,MATCH($G$62,PO_Enrgy_3_Hdr,0),FALSE),0),0)","v":0},{"$f":"IFERROR(VLOOKUP($B242,PO_Enrgy_7_Table,MATCH($I$223,PO_Enrgy_7_Hdr,0),FALSE)-IF(PO_ShowExCalc=TRUE,VLOOKUP($B242,PO_Enrgy_4_Table,MATCH($J$62,PO_Enrgy_3_Hdr,0),FALSE),0),0)","v":0},{"$f":"IFERROR(VLOOKUP($B242,PO_Enrgy_7_Table,MATCH($J$223,PO_Enrgy_7_Hdr,0),FALSE)+IF(PO_ShowExCalc=TRUE,VLOOKUP($B242,PO_Enrgy_4_Table,MATCH($L$62,PO_Enrgy_3_Hdr,0),FALSE),0),0)","v":0},{"$f":"IFERROR(1-H242/E242,\"\")","v":""},null,{"$f":"IFERROR(1-J242/G242,\"\")","v":""},null,null,null,{"$f":"IFERROR(IF(ISBLANK($B242),\"\",VLOOKUP($B242,PO_Enrgy_1_Table,MATCH($K$16,PO_Enrgy_1_Hdr,0),FALSE)),\"\")","v":0.1},{"$f":"IFERROR(IF(ISBLANK($B242),\"\",VLOOKUP($B242,PO_Enrgy_1_Table,MATCH($M$16,PO_Enrgy_1_Hdr,0),FALSE)),\"\")","v":0.10500000000000001}]
["G",{"$f":"IFERROR(IF(ISBLANK(B19),\"\",B19),\"\")","v":"District Cooling"},{"$f":"IFERROR(IF(ISBLANK($B243),\"\",VLOOKUP($B243,PO_Enrgy_1_Table,MATCH($C$16,PO_Enrgy_1_Hdr,0),FALSE) ),\"\")","v":"MWh"},{"$f":"IF(C243=\"\",\"\",VLOOKUP(C243,ProjectEnergyTypeTable,3,FALSE))","v":{"$error":"#NAME?"}},{"$f":"IFERROR(VLOOKUP($B243,PO_Enrgy_7_Table,MATCH($E$223,PO_Enrgy_7_Hdr,0),FALSE)+IF(PO_ShowExCalc=TRUE,VLOOKUP($B243,PO_Enrgy_3_Table,MATCH($G$62,PO_Enrgy_3_Hdr,0),FALSE),0),0)","v":0},{"$f":"IFERROR(VLOOKUP($B243,PO_Enrgy_7_Table,MATCH($F$223,PO_Enrgy_7_Hdr,0),FALSE)+IF(PO_ShowExCalc=TRUE,VLOOKUP($B243,PO_Enrgy_3_Table,MATCH($J$62,PO_Enrgy_3_Hdr,0),FALSE),0),0)","v":0},{"$f":"IFERROR(VLOOKUP($B243,PO_Enrgy_7_Table,MATCH($G$223,PO_Enrgy_7_Hdr,0),FALSE)+IF(PO_ShowExCalc=TRUE,VLOOKUP($B243,PO_Enrgy_3_Table,MATCH($L$62,PO_Enrgy_3_Hdr,0),FALSE),0),0)","v":0},{"$f":"IFERROR(VLOOKUP($B243,PO_Enrgy_7_Table,MATCH($H$223,PO_Enrgy_7_Hdr,0),FALSE)-IF(PO_ShowExCalc=TRUE,VLOOKUP($B243,PO_Enrgy_4_Table,MATCH($G$62,PO_Enrgy_3_Hdr,0),FALSE),0),0)","v":0},{"$f":"IFERROR(VLOOKUP($B243,PO_Enrgy_7_Table,MATCH($I$223,PO_Enrgy_7_Hdr,0),FALSE)-IF(PO_ShowExCalc=TRUE,VLOOKUP($B243,PO_Enrgy_4_Table,MATCH($J$62,PO_Enrgy_3_Hdr,0),FALSE),0),0)","v":0},{"$f":"IFERROR(VLOOKUP($B243,PO_Enrgy_7_Table,MATCH($J$223,PO_Enrgy_7_Hdr,0),FALSE)+IF(PO_ShowExCalc=TRUE,VLOOKUP($B243,PO_Enrgy_4_Table,MATCH($L$62,PO_Enrgy_3_Hdr,0),FALSE),0),0)","v":0},{"$f":"IFERROR(1-H243/E243,\"\")","v":""},null,{"$f":"IFERROR(1-J243/G243,\"\")","v":""},null,null,null,{"$f":"IFERROR(IF(ISBLANK($B243),\"\",VLOOKUP($B243,PO_Enrgy_1_Table,MATCH($K$16,PO_Enrgy_1_Hdr,0),FALSE)),\"\")","v":3.4119999999999999},{"$f":"IFERROR(IF(ISBLANK($B243),\"\",VLOOKUP($B243,PO_Enrgy_1_Table,MATCH($M$16,PO_Enrgy_1_Hdr,0),FALSE)),\"\")","v":3.4119999999999999}]
["G",{"$f":"\"Energy model subtotal (\" & PO_SiteUnits & \")\"","v":"Energy model subtotal (Btu x 10^6)"},null,null,{"$f":"IFERROR(SUMPRODUCT(INDEX(PO_Enrgy_9_Table,0,MATCH(E$240,PO_Enrgy_9_Hdr,0)),INDEX(PO_Enrgy_9_Table,0,MATCH($Q$240,PO_Enrgy_9_Hdr,0))),\"\")","v":0},{"$f":"IFERROR(SUM(INDEX(PO_Enrgy_9_Table,0,MATCH(F$240,PO_Enrgy_9_Hdr,0))),\"\")","v":0},{"$f":"IFERROR(SUM(INDEX(PO_Enrgy_9_Table,0,MATCH(G$240,PO_Enrgy_9_Hdr,0))),\"\")","v":0},{"$f":"IFERROR(SUMPRODUCT(INDEX(PO_Enrgy_9_Table,0,MATCH(H$240,PO_Enrgy_9_Hdr,0)),INDEX(PO_Enrgy_9_Table,0,MATCH($Q$240,PO_Enrgy_9_Hdr,0))),\"\")","v":0},{"$f":"IFERROR(SUM(INDEX(PO_Enrgy_9_Table,0,MATCH(I$240,PO_Enrgy_9_Hdr,0))),\"\")","v":0},{"$f":"IFERROR(SUM(INDEX(PO_Enrgy_9_Table,0,MATCH(J$240,PO_Enrgy_9_Hdr,0))),\"\")","v":0},{"$f":"IFERROR(1-H244/E244,\"\")","v":""},null,{"$f":"IFERROR(1-J244/G244,\"\")","v":""}]
["G"]
["G","Table: Streamlined DES Accounting Method (DES Path 3) - District Energy Allocation to Project Based on Average Efficiencies"]
["G","Select the fossil fuel energy type used to generate any district heating or cooling.  Enter the proposed average District Cooling and District Heating efficiencies as applicable. For District Cooling, include chillers, cooling towers, chilled water and condenser water pumps, thermal distribution losses, and any other end-uses contributing towards the energy used to generate and distribute chilled water to the building. For District Heating, include boilers, pumps, thermal distribution losses, and any other end-uses contributing towards the energy used to generate and distribute heating to the building. In the Uploads section of the form, provide details regarding the calculations and or monitoring used to determine the proposed District Energy average efficiency, including any energy simulation outputs for the district plant if using the modeling method.\n\n* Average DES efficiency (COP) per energy source is equal to one unit of thermal energy divided by the input energy for the energy source associated with generating one unit of thermal energy and delivering it to the building. Baseline average efficiency is determined based on chilled water or hot water capacity and ASHRAE 90.1 Appendix G Baseline requirements for on-site CHW and HHW generation equipment (see District Energy Path 3 tab for details)."]
["G","Fuel Source for District Cooling and/or Heating","Site Energy Units",null,"District Cooling ",null,null,"District Heating"]
["G",null,null,null,"Average \nEfficiency \n(COP)*","Site Energy Use \n(Units shown per energy type)","Cost","Average \nEfficiency \n(COP)*","Site Energy Use (Units shown per energy type)","Cost"]
["G","Energy_Type","Energy_Units",null,"Cooling_Avg_Efficiency","Cooling_Site_Energy","Cooling_Cost","Heating_Avg_Effiicency","Heating_Site_Energy","Heating_Cost",null,null,null,null,null,null,null,null,null,null,"Total Baseline","Cost/Unit District Cooling","Cost/Unit District Heating"]
["G","Baseline",null,null,null,null,null,null,null,null,null,null,null,null,null,null,"Site_Unit_Conversion","Source_Unit_Conversion",null,null,null,{"$f":"IFERROR(V253+V252,\"\")","v":""},{"$f":"IFERROR(W253+W252,\"\")","v":""}]
["G",{"$f":"IFERROR(IF(DESPath=3,\"Electricity\",\"\"),\"\")","v":""},{"$f":"IFERROR(IF(ISBLANK($B252),\"\",VLOOKUP($B252,PO_Enrgy_1_Table,MATCH($C$16,PO_Enrgy_1_Hdr,0),FALSE) ),\"\")","v":""},{"$f":"IF(C252=\"\",\"\",VLOOKUP(C252,ProjectEnergyTypeTable,3,FALSE))","v":""},{"$f":"IFERROR(IF(AND(DESPath=3,DistrictCooling,$B$252=\"Electricity\"),DESPath3_Cooling_COP,\"\"),\"\")","v":""},{"$f":"IFERROR(IF(DESPath=3,VLOOKUP(\"District Cooling\",PO_Enrgy_9_Table,MATCH($E$240,PO_Enrgy_9_Hdr,0),FALSE)/$E252*VLOOKUP(VLOOKUP(\"District Cooling\",PO_Enrgy_9_Table,MATCH($C$240,PO_Enrgy_9_Hdr,0),FALSE),EnergyUnitsTable,3,FALSE)/VLOOKUP($C252,EnergyUnitsTable,3,FALSE),\"\"),\"\")","v":""},{"$f":"IFERROR(F252*VLOOKUP($B252,PO_Enrgy_8_Table,MATCH($E$232,PO_Enrgy_8_Hdr,0),FALSE),\"\")","v":""},{"$f":"IFERROR(IF(AND(DESPath=3,DistrictHeating,$B$252=\"Electricity\"),DESPath3_Heating_eCOP,\"\"),\"\")","v":""},{"$f":"IF(DESPath = 3,IFERROR(VLOOKUP(\"District Hot Water\",PO_Enrgy_9_Table,MATCH($E$240,PO_Enrgy_9_Hdr,0),FALSE)/$H252*VLOOKUP(VLOOKUP(\"District Hot Water\",PO_Enrgy_9_Table,MATCH($C$240,PO_Enrgy_9_Hdr,0),FALSE),EnergyUnitsTable,3,FALSE)/VLOOKUP($C252,EnergyUnitsTable,3,FALSE),0)+IFERROR(VLOOKUP(\"District Steam\",PO_Enrgy_9_Table,MATCH($E$240,PO_Enrgy_9_Hdr,0),FALSE)/$E252*VLOOKUP(VLOOKUP(\"District Steam\",PO_Enrgy_9_Table,MATCH($C$240,PO_Enrgy_9_Hdr,0),FALSE),EnergyUnitsTable,3,FALSE)/VLOOKUP($H252,EnergyUnitsTable,3,FALSE),0),0)","v":0},{"$f":"IFERROR(I252*VLOOKUP($B252,PO_Enrgy_8_Table,MATCH($E$232,PO_Enrgy_8_Hdr,0),FALSE),\"\")","v":""},null,null,null,null,null,null,{"$f":"IFERROR(IF(ISBLANK($B252),\"\",VLOOKUP($B252,PO_Enrgy_1_Table,MATCH($K$16,PO_Enrgy_1_Hdr,0),FALSE)),\"\")","v":""},{"$f":"IFERROR(IF(ISBLANK($B252),\"\",VLOOKUP($B252,PO_Enrgy_1_Table,MATCH($M$16,PO_Enrgy_1_Hdr,0),FALSE)),\"\")","v":""},null,null,"Elec",{"$f":"IFERROR(VLOOKUP($B252,PO_Enrgy_8_Table,MATCH($E$232,PO_Enrgy_8_Hdr,0),FALSE)/$E$252*VLOOKUP(VLOOKUP(\"District Cooling\",PO_Enrgy_9_Table,MATCH($C$240,PO_Enrgy_9_Hdr,0),FALSE),EnergyUnitsTable,3,FALSE)/VLOOKUP($C252,EnergyUnitsTable,3,FALSE),\"\")","v":""},{"$f":"IFERROR(VLOOKUP($B252,PO_Enrgy_8_Table,MATCH($E$232,PO_Enrgy_8_Hdr,0),FALSE)/$H$252*(IFERROR(VLOOKUP(VLOOKUP(\"District Hot Water\",PO_Enrgy_9_Table,MATCH($C$240,PO_Enrgy_9_Hdr,0),FALSE),EnergyUnitsTable,3,FALSE),1)+IFERROR(VLOOKUP(VLOOKUP(\"District Steam\",PO_Enrgy_9_Table,MATCH($C$240,PO_Enrgy_9_Hdr,0),FALSE),EnergyUnitsTable,3,FALSE),1))/VLOOKUP($C252,EnergyUnitsTable,3,FALSE),\"\")","v":""}]
["G",{"$f":"IFERROR(IF(DESPath=3,IF(MATCH(\"Natural Gas\",PO_Enrgy_1_Index,0)>0,\"Natural Gas\",IF(MATCH(\"Fuel Oil / Diesel\",PO_Enrgy_1_Table,0)>1,\"Fuel Oil / Diesel\",\"\")),\"\"),\"\")","v":""},{"$f":"IFERROR(IF(ISBLANK($B253),\"\",VLOOKUP($B253,PO_Enrgy_1_Table,MATCH($C$16,PO_Enrgy_1_Hdr,0),FALSE) ),\"\")","v":""},{"$f":"IF(C253=\"\",\"\",VLOOKUP(C253,ProjectEnergyTypeTable,3,FALSE))","v":""},null,null,null,{"$f":"IFERROR(IF(AND(DESPath=3,DistrictHeating,$B$252=\"Electricity\"),DESPath3_Heating_fCOP,\"\"),\"\")","v":""},{"$f":"IF(DESPath = 3,IFERROR(VLOOKUP(\"District Hot Water\",PO_Enrgy_9_Table,MATCH($E$240,PO_Enrgy_9_Hdr,0),FALSE)/$H253*VLOOKUP(VLOOKUP(\"District Hot Water\",PO_Enrgy_9_Table,MATCH($C$240,PO_Enrgy_9_Hdr,0),FALSE),EnergyUnitsTable,3,FALSE)/VLOOKUP($C253,EnergyUnitsTable,3,FALSE),0)+IFERROR(VLOOKUP(\"District Steam\",PO_Enrgy_9_Table,MATCH($E$240,PO_Enrgy_9_Hdr,0),FALSE)/$E253*VLOOKUP(VLOOKUP(\"District Steam\",PO_Enrgy_9_Table,MATCH($C$240,PO_Enrgy_9_Hdr,0),FALSE),EnergyUnitsTable,3,FALSE)/VLOOKUP($H253,EnergyUnitsTable,3,FALSE),0),0)","v":0},{"$f":"IFERROR(I253*VLOOKUP($B253,PO_Enrgy_8_Table,MATCH($E$232,PO_Enrgy_8_Hdr,0),FALSE),\"\")","v":""},null,null,null,null,null,null,{"$f":"IFERROR(IF(ISBLANK($B253),\"\",VLOOKUP($B253,PO_Enrgy_1_Table,MATCH($K$16,PO_Enrgy_1_Hdr,0),FALSE)),\"\")","v":""},{"$f":"IFERROR(IF(ISBLANK($B253),\"\",VLOOKUP($B253,PO_Enrgy_1_Table,MATCH($M$16,PO_Enrgy_1_Hdr,0),FALSE)),\"\")","v":""},null,null,"Fuel",{"$f":"IFERROR(VLOOKUP($B253,PO_Enrgy_8_Table,MATCH($E$232,PO_Enrgy_8_Hdr,0),FALSE)/$E$252*VLOOKUP(VLOOKUP(\"District Cooling\",PO_Enrgy_9_Table,MATCH($C$240,PO_Enrgy_9_Hdr,0),FALSE),EnergyUnitsTable,3,FALSE)/VLOOKUP($C253,EnergyUnitsTable,3,FALSE),\"\")","v":""},{"$f":"IFERROR(VLOOKUP($B253,PO_Enrgy_8_Table,MATCH($E$232,PO_Enrgy_8_Hdr,0),FALSE)/$H$252*(IFERROR(VLOOKUP(VLOOKUP(\"District Hot Water\",PO_Enrgy_9_Table,MATCH($C$240,PO_Enrgy_9_Hdr,0),FALSE),EnergyUnitsTable,3,FALSE),1)+IFERROR(VLOOKUP(VLOOKUP(\"District Steam\",PO_Enrgy_9_Table,MATCH($C$240,PO_Enrgy_9_Hdr,0),FALSE),EnergyUnitsTable,3,FALSE),1))/VLOOKUP($C253,EnergyUnitsTable,3,FALSE),\"\")","v":""}]
["G","Energy_Type","Energy_Units",null,"Cooling_Avg_Efficiency","Cooling_Site_Energy","Cooling_Cost","Heating_Avg_Effiicency","Heating_Site_Energy","Heating_Cost",null,null,null,null,null,null,"Site_Unit_Conversion","Source_Unit_Conversion",null,null,null,"Cost/Unit District Cooling","Cost/Unit District Heating"]
["G","Proposed",null,null,null,null,null,null,null,null,null,null,null,null,null,null,null,null,null,null,"Total Proposed",{"$f":"IFERROR(V256+V257,\"\")","v":""},{"$f":"IFERROR(W256+W257,\"\")","v":""}]
["G",{"$f":"IFERROR(IF(ISBLANK(B17),\"\",B17),\"\")","v":"Electricity"},{"$f":"IFERROR(IF(ISBLANK($B256),\"\",VLOOKUP($B256,PO_Enrgy_1_Table,MATCH($C$16,PO_Enrgy_1_Hdr,0),FALSE) ),\"\")","v":"kWh"},{"$f":"IF(C256=\"\",\"\",VLOOKUP(C256,ProjectEnergyTypeTable,3,FALSE))","v":{"$error":"#NAME?"}},null,{"$f":"IFERROR(VLOOKUP($B256,PO_Enrgy_9_Table,MATCH($E$240,PO_Enrgy_9_Hdr,0),FALSE)/$E$256*VLOOKUP(VLOOKUP(\"District Cooling\",PO_Enrgy_9_Table,MATCH($C$240,PO_Enrgy_9_Hdr,0),FALSE),EnergyUnitsTable,3,FALSE)/VLOOKUP($C256,EnergyUnitsTable,3,FALSE),\"\")","v":""},{"$f":"IFERROR(F256*VLOOKUP($B256,PO_Enrgy_8_Table,MATCH($H$232,PO_Enrgy_8_Hdr,0),FALSE),\"\")","v":""},null,{"$f":"IF(DESPath = 3,IFERROR(VLOOKUP(\"District Hot Water\",PO_Enrgy_9_Table,MATCH($H$240,PO_Enrgy_9_Hdr,0),FALSE)/$H256*VLOOKUP(VLOOKUP(\"District Hot Water\",PO_Enrgy_9_Table,MATCH($C$240,PO_Enrgy_9_Hdr,0),FALSE),EnergyUnitsTable,3,FALSE)/VLOOKUP($C256,EnergyUnitsTable,3,FALSE),0)+IFERROR(VLOOKUP(\"District Steam\",PO_Enrgy_9_Table,MATCH($H$240,PO_Enrgy_9_Hdr,0),FALSE)/$E256*VLOOKUP(VLOOKUP(\"District Steam\",PO_Enrgy_9_Table,MATCH($C$240,PO_Enrgy_9_Hdr,0),FALSE),EnergyUnitsTable,3,FALSE)/VLOOKUP($H256,EnergyUnitsTable,3,FALSE),0),0)","v":0},{"$f":"IFERROR(I256*VLOOKUP($B256,PO_Enrgy_8_Table,MATCH($H$232,PO_Enrgy_8_Hdr,0),FALSE),\"\")","v":""},null,null,null,null,null,null,{"$f":"IFERROR(IF(ISBLANK($B256),\"\",VLOOKUP($B256,PO_Enrgy_1_Table,MATCH($K$16,PO_Enrgy_1_Hdr,0),FALSE)),\"\")","v":3.4120000000000001E-3},{"$f":"IFERROR(IF(ISBLANK($B256),\"\",VLOOKUP($B256,PO_Enrgy_1_Table,MATCH($M$16,PO_Enrgy_1_Hdr,0),FALSE)),\"\")","v":1.0713680000000001E-2},null,null,"Elec",{"$f":"IFERROR(VLOOKUP($B256,PO_Enrgy_8_Table,MATCH($H$232,PO_Enrgy_8_Hdr,0),FALSE)/$E$256*VLOOKUP(VLOOKUP(\"District Cooling\",PO_Enrgy_9_Table,MATCH($C$240,PO_Enrgy_9_Hdr,0),FALSE),EnergyUnitsTable,3,FALSE)/VLOOKUP($C256,EnergyUnitsTable,3,FALSE),\"\")","v":""},{"$f":"IFERROR(VLOOKUP($B256,PO_Enrgy_8_Table,MATCH($H$232,PO_Enrgy_8_Hdr,0),FALSE)/$H$256*(IFERROR(VLOOKUP(VLOOKUP(\"District Hot Water\",PO_Enrgy_9_Table,MATCH($C$240,PO_Enrgy_9_Hdr,0),FALSE),EnergyUnitsTable,3,FALSE),1)+IFERROR(VLOOKUP(VLOOKUP(\"District Steam\",PO_Enrgy_9_Table,MATCH($C$240,PO_Enrgy_9_Hdr,0),FALSE),EnergyUnitsTable,3,FALSE),1))/VLOOKUP($C256,EnergyUnitsTable,3,FALSE),\"\")","v":""}]
["G",{"$f":"IFERROR(IF(ISBLANK($B$253),\"\",$B$253),\"\")","v":""},{"$f":"IFERROR(IF(ISBLANK($B257),\"\",VLOOKUP($B257,PO_Enrgy_1_Table,MATCH($C$16,PO_Enrgy_1_Hdr,0),FALSE) ),\"\")","v":""},{"$f":"IF(C257=\"\",\"\",VLOOKUP(C257,ProjectEnergyTypeTable,3,FALSE))","v":""},null,{"$f":"IFERROR(VLOOKUP($B257,PO_Enrgy_9_Table,MATCH($E$240,PO_Enrgy_9_Hdr,0),FALSE)/$E$256*VLOOKUP(VLOOKUP(\"District Cooling\",PO_Enrgy_9_Table,MATCH($C$240,PO_Enrgy_9_Hdr,0),FALSE),EnergyUnitsTable,3,FALSE)/VLOOKUP($C257,EnergyUnitsTable,3,FALSE),\"\")","v":""},{"$f":"IFERROR(F257*VLOOKUP($B257,PO_Enrgy_8_Table,MATCH($H$232,PO_Enrgy_8_Hdr,0),FALSE),\"\")","v":""},null,{"$f":"IF(DESPath = 3,IFERROR(VLOOKUP(\"District Hot Water\",PO_Enrgy_9_Table,MATCH($H$240,PO_Enrgy_9_Hdr,0),FALSE)/$H257*VLOOKUP(VLOOKUP(\"District Hot Water\",PO_Enrgy_9_Table,MATCH($C$240,PO_Enrgy_9_Hdr,0),FALSE),EnergyUnitsTable,3,FALSE)/VLOOKUP($C257,EnergyUnitsTable,3,FALSE),0)+IFERROR(VLOOKUP(\"District Steam\",PO_Enrgy_9_Table,MATCH($H$240,PO_Enrgy_9_Hdr,0),FALSE)/$E257*VLOOKUP(VLOOKUP(\"District Steam\",PO_Enrgy_9_Table,MATCH($C$240,PO_Enrgy_9_Hdr,0),FALSE),EnergyUnitsTable,3,FALSE)/VLOOKUP($H257,EnergyUnitsTable,3,FALSE),0),0)","v":0},{"$f":"IFERROR(I257*VLOOKUP($B257,PO_Enrgy_8_Table,MATCH($H$232,PO_Enrgy_8_Hdr,0),FALSE),\"\")","v":""},null,null,null,null,null,null,{"$f":"IFERROR(IF(ISBLANK($B257),\"\",VLOOKUP($B257,PO_Enrgy_1_Table,MATCH($K$16,PO_Enrgy_1_Hdr,0),FALSE)),\"\")","v":""},{"$f":"IFERROR(IF(ISBLANK($B257),\"\",VLOOKUP($B257,PO_Enrgy_1_Table,MATCH($M$16,PO_Enrgy_1_Hdr,0),FALSE)),\"\")","v":""},null,null,"Fuel",{"$f":"IFERROR(VLOOKUP($B257,PO_Enrgy_8_Table,MATCH($H$232,PO_Enrgy_8_Hdr,0),FALSE)/$E$256*VLOOKUP(VLOOKUP(\"District Cooling\",PO_Enrgy_9_Table,MATCH($C$240,PO_Enrgy_9_Hdr,0),FALSE),EnergyUnitsTable,3,FALSE)/VLOOKUP($C257,EnergyUnitsTable,3,FALSE),\"\")","v":""},{"$f":"IFERROR(VLOOKUP($B257,PO_Enrgy_8_Table,MATCH($H$232,PO_Enrgy_8_Hdr,0),FALSE)/$H$256*(IFERROR(VLOOKUP(VLOOKUP(\"District Hot Water\",PO_Enrgy_9_Table,MATCH($C$240,PO_Enrgy_9_Hdr,0),FALSE),EnergyUnitsTable,3,FALSE),1)+IFERROR(VLOOKUP(VLOOKUP(\"District Steam\",PO_Enrgy_9_Table,MATCH($C$240,PO_Enrgy_9_Hdr,0),FALSE),EnergyUnitsTable,3,FALSE),1))/VLOOKUP($C257,EnergyUnitsTable,3,FALSE),\"\")","v":""},null,null,null,null,null,null,null,null,null,null,null,null,null,null,{"$f":"IFERROR(G257/E257,\"\")","v":""},{"$f":"IFERROR(J257/H257,\"\")","v":""}]
["G",null,null,null,null,null,null,null,"("]
["G"]
["G","Energy Type","Site Energy Units",null,"Baseline Energy Consumption \nwith District Energy Average Efficiencies \n(if DES Path 3 is used)",null,null,"Proposed Energy Consumption \nwith District Energy Average Efficiencies \n(if DES Path 3 is used)",null,null,"Percent Savings"]
["G",null,null,null,"Site Energy Use (Units shown per energy type)",{"$f":"\"Source Energy Use (\"  & PO_SourceUnits & \")\"","v":"Source Energy Use (Btu x 10^6)"},"Cost","Site Energy Use (Units shown per energy type)",{"$f":"\"Source Energy Use (\"  & PO_SourceUnits & \")\"","v":"Source Energy Use (Btu x 10^6)"},"Cost","Site Energy Use",null,"Cost"]
["G","Energy_Type","Energy_Units",null,"Base_Site_Energy","Base_Source_Energy","Base_Cost","Design_Site_Energy","Design_Source_Energy","Design_Cost","Percent_Savings_Site",null,"Percent_Savings_Cost",null,null,null,"Site_Unit_Conversion","Source_Unit_Conversion"]
["G",{"$f":"IFERROR(IF(ISBLANK(B17),\"\",B17),\"\")","v":"Electricity"},{"$f":"IFERROR(IF(ISBLANK($B263),\"\",VLOOKUP($B263,PO_Enrgy_1_Table,MATCH($C$16,PO_Enrgy_1_Hdr,0),FALSE) ),\"\")","v":"kWh"},{"$f":"IF(C263=\"\",\"\",VLOOKUP(C263,ProjectEnergyTypeTable,3,FALSE))","v":{"$error":"#NAME?"}},{"$f":"IFERROR(IFERROR(IFERROR(VLOOKUP($B263,PO_DESbase_Enrgy_Table,MATCH($F$250,PO_DESbase_Enrgy_Hdr,0),FALSE),0)+IFERROR(VLOOKUP($B263,PO_DESbase_Enrgy_Table,MATCH($I$250,PO_DESbase_Enrgy_Hdr,0),FALSE),0),0)+IF(OR(DESPath<>3,AND(B263<>\"District Cooling\",B263<>\"District Hot Water\",B263<>\"District Steam\")),VLOOKUP($B263,PO_Enrgy_9_Table,MATCH($E$240,PO_Enrgy_9_Hdr,0),FALSE),0),\"\")","v":0},{"$f":"IFERROR(E263*$R263,\"\")","v":0},{"$f":"IFERROR(IFERROR(IFERROR(VLOOKUP($B263,PO_DESbase_Enrgy_Table,MATCH($G$250,PO_DESbase_Enrgy_Hdr,0),FALSE),0)+IFERROR(VLOOKUP($B263,PO_DESbase_Enrgy_Table,MATCH($J$250,PO_DESbase_Enrgy_Hdr,0),FALSE),0),0)+IF(OR(DESPath<>3,AND(B263<>\"District Cooling\",B263<>\"District Hot Water\",B263<>\"District Steam\")),VLOOKUP($B263,PO_Enrgy_9_Table,MATCH($G$240,PO_Enrgy_9_Hdr,0),FALSE),0),\"\")","v":0},{"$f":"IFERROR(IFERROR(IFERROR(VLOOKUP($B263,PO_DESdesign_Enrgy_Table,MATCH($F$254,PO_DESdesign_Enrgy_Hdr,0),FALSE),0)+IFERROR(VLOOKUP($B263,PO_DESdesign_Enrgy_Table,MATCH($I$254,PO_DESdesign_Enrgy_Hdr,0),FALSE),0),0)+IF(OR(DESPath<>3,AND(B263<>\"District Cooling\",B263<>\"District Hot Water\",B263<>\"District Steam\")),VLOOKUP($B263,PO_Enrgy_9_Table,MATCH($H$240,PO_Enrgy_9_Hdr,0),FALSE),0),\"\")","v":0},{"$f":"IFERROR(H263*$R263,\"\")","v":0},{"$f":"IFERROR(IFERROR(IFERROR(VLOOKUP($B263,PO_DESdesign_Enrgy_Table,MATCH($G$254,PO_DESdesign_Enrgy_Hdr,0),FALSE),0)+IFERROR(VLOOKUP($B263,PO_DESdesign_Enrgy_Table,MATCH($J$254,PO_DESdesign_Enrgy_Hdr,0),FALSE),0),0)+IF(OR(DESPath<>3,AND(B263<>\"District Cooling\",B263<>\"District Hot Water\",B263<>\"District Steam\")),VLOOKUP($B263,PO_Enrgy_9_Table,MATCH($J$240,PO_Enrgy_9_Hdr,0),FALSE),0),\"\")","v":0},{"$f":"IFERROR(1-H263/E263,\"\")","v":""},null,{"$f":"IFERROR(1-J263/G263,\"\")","v":""},null,null,null,{"$f":"IFERROR(IF(ISBLANK($B263),\"\",VLOOKUP($B263,PO_Enrgy_1_Table,MATCH($K$16,PO_Enrgy_1_Hdr,0),FALSE)),\"\")","v":3.4120000000000001E-3},{"$f":"IFERROR(IF(ISBLANK($B263),\"\",VLOOKUP($B263,PO_Enrgy_1_Table,MATCH($M$16,PO_Enrgy_1_Hdr,0),FALSE)),\"\")","v":1.0713680000000001E-2}]
["G",{"$f":"IFERROR(IF(ISBLANK(B18),\"\",B18),\"\")","v":"Natural Gas"},{"$f":"IFERROR(IF(ISBLANK($B264),\"\",VLOOKUP($B264,PO_Enrgy_1_Table,MATCH($C$16,PO_Enrgy_1_Hdr,0),FALSE) ),\"\")","v":"therm"},{"$f":"IF(C264=\"\",\"\",VLOOKUP(C264,ProjectEnergyTypeTable,3,FALSE))","v":{"$error":"#NAME?"}},{"$f":"IFERROR(IFERROR(IFERROR(VLOOKUP($B264,PO_DESbase_Enrgy_Table,MATCH($F$250,PO_DESbase_Enrgy_Hdr,0),FALSE),0)+IFERROR(VLOOKUP($B264,PO_DESbase_Enrgy_Table,MATCH($I$250,PO_DESbase_Enrgy_Hdr,0),FALSE),0),0)+IF(OR(DESPath<>3,AND(B264<>\"District Cooling\",B264<>\"District Hot Water\",B264<>\"District Steam\")),VLOOKUP($B264,PO_Enrgy_9_Table,MATCH($E$240,PO_Enrgy_9_Hdr,0),FALSE),0),\"\")","v":0},{"$f":"IFERROR(E264*$R264,\"\")","v":0},{"$f":"IFERROR(IFERROR(IFERROR(VLOOKUP($B264,PO_DESbase_Enrgy_Table,MATCH($G$250,PO_DESbase_Enrgy_Hdr,0),FALSE),0)+IFERROR(VLOOKUP($B264,PO_DESbase_Enrgy_Table,MATCH($J$250,PO_DESbase_Enrgy_Hdr,0),FALSE),0),0)+IF(OR(DESPath<>3,AND(B264<>\"District Cooling\",B264<>\"District Hot Water\",B264<>\"District Steam\")),VLOOKUP($B264,PO_Enrgy_9_Table,MATCH($G$240,PO_Enrgy_9_Hdr,0),FALSE),0),\"\")","v":0},{"$f":"IFERROR(IFERROR(IFERROR(VLOOKUP($B264,PO_DESdesign_Enrgy_Table,MATCH($F$254,PO_DESdesign_Enrgy_Hdr,0),FALSE),0)+IFERROR(VLOOKUP($B264,PO_DESdesign_Enrgy_Table,MATCH($I$254,PO_DESdesign_Enrgy_Hdr,0),FALSE),0),0)+IF(OR(DESPath<>3,AND(B264<>\"District Cooling\",B264<>\"District Hot Water\",B264<>\"District Steam\")),VLOOKUP($B264,PO_Enrgy_9_Table,MATCH($H$240,PO_Enrgy_9_Hdr,0),FALSE),0),\"\")","v":0},{"$f":"IFERROR(H264*$R264,\"\")","v":0},{"$f":"IFERROR(IFERROR(IFERROR(VLOOKUP($B264,PO_DESdesign_Enrgy_Table,MATCH($G$254,PO_DESdesign_Enrgy_Hdr,0),FALSE),0)+IFERROR(VLOOKUP($B264,PO_DESdesign_Enrgy_Table,MATCH($J$254,PO_DESdesign_Enrgy_Hdr,0),FALSE),0),0)+IF(OR(DESPath<>3,AND(B264<>\"District Cooling\",B264<>\"District Hot Water\",B264<>\"District Steam\")),VLOOKUP($B264,PO_Enrgy_9_Table,MATCH($J$240,PO_Enrgy_9_Hdr,0),FALSE),0),\"\")","v":0},{"$f":"IFERROR(1-H264/E264,\"\")","v":""},null,{"$f":"IFERROR(1-J264/G264,\"\")","v":""},null,null,null,{"$f":"IFERROR(IF(ISBLANK($B264),\"\",VLOOKUP($B264,PO_Enrgy_1_Table,MATCH($K$16,PO_Enrgy_1_Hdr,0),FALSE)),\"\")","v":0.1},{"$f":"IFERROR(IF(ISBLANK($B264),\"\",VLOOKUP($B264,PO_Enrgy_1_Table,MATCH($M$16,PO_Enrgy_1_Hdr,0),FALSE)),\"\")","v":0.10500000000000001}]
["G",{"$f":"IFERROR(IF(ISBLANK(B19),\"\",B19),\"\")","v":"District Cooling"},{"$f":"IFERROR(IF(ISBLANK($B265),\"\",VLOOKUP($B265,PO_Enrgy_1_Table,MATCH($C$16,PO_Enrgy_1_Hdr,0),FALSE) ),\"\")","v":"MWh"},{"$f":"IF(C265=\"\",\"\",VLOOKUP(C265,ProjectEnergyTypeTable,3,FALSE))","v":{"$error":"#NAME?"}},{"$f":"IFERROR(IFERROR(IFERROR(VLOOKUP($B265,PO_DESbase_Enrgy_Table,MATCH($F$250,PO_DESbase_Enrgy_Hdr,0),FALSE),0)+IFERROR(VLOOKUP($B265,PO_DESbase_Enrgy_Table,MATCH($I$250,PO_DESbase_Enrgy_Hdr,0),FALSE),0),0)+IF(OR(DESPath<>3,AND(B265<>\"District Cooling\",B265<>\"District Hot Water\",B265<>\"District Steam\")),VLOOKUP($B265,PO_Enrgy_9_Table,MATCH($E$240,PO_Enrgy_9_Hdr,0),FALSE),0),\"\")","v":0},{"$f":"IFERROR(E265*$R265,\"\")","v":0},{"$f":"IFERROR(IFERROR(IFERROR(VLOOKUP($B265,PO_DESbase_Enrgy_Table,MATCH($G$250,PO_DESbase_Enrgy_Hdr,0),FALSE),0)+IFERROR(VLOOKUP($B265,PO_DESbase_Enrgy_Table,MATCH($J$250,PO_DESbase_Enrgy_Hdr,0),FALSE),0),0)+IF(OR(DESPath<>3,AND(B265<>\"District Cooling\",B265<>\"District Hot Water\",B265<>\"District Steam\")),VLOOKUP($B265,PO_Enrgy_9_Table,MATCH($G$240,PO_Enrgy_9_Hdr,0),FALSE),0),\"\")","v":0},{"$f":"IFERROR(IFERROR(IFERROR(VLOOKUP($B265,PO_DESdesign_Enrgy_Table,MATCH($F$254,PO_DESdesign_Enrgy_Hdr,0),FALSE),0)+IFERROR(VLOOKUP($B265,PO_DESdesign_Enrgy_Table,MATCH($I$254,PO_DESdesign_Enrgy_Hdr,0),FALSE),0),0)+IF(OR(DESPath<>3,AND(B265<>\"District Cooling\",B265<>\"District Hot Water\",B265<>\"District Steam\")),VLOOKUP($B265,PO_Enrgy_9_Table,MATCH($H$240,PO_Enrgy_9_Hdr,0),FALSE),0),\"\")","v":0},{"$f":"IFERROR(H265*$R265,\"\")","v":0},{"$f":"IFERROR(IFERROR(IFERROR(VLOOKUP($B265,PO_DESdesign_Enrgy_Table,MATCH($G$254,PO_DESdesign_Enrgy_Hdr,0),FALSE),0)+IFERROR(VLOOKUP($B265,PO_DESdesign_Enrgy_Table,MATCH($J$254,PO_DESdesign_Enrgy_Hdr,0),FALSE),0),0)+IF(OR(DESPath<>3,AND(B265<>\"District Cooling\",B265<>\"District Hot Water\",B265<>\"District Steam\")),VLOOKUP($B265,PO_Enrgy_9_Table,MATCH($J$240,PO_Enrgy_9_Hdr,0),FALSE),0),\"\")","v":0},{"$f":"IFERROR(1-H265/E265,\"\")","v":""},null,{"$f":"IFERROR(1-J265/G265,\"\")","v":""},null,null,null,{"$f":"IFERROR(IF(ISBLANK($B265),\"\",VLOOKUP($B265,PO_Enrgy_1_Table,MATCH($K$16,PO_Enrgy_1_Hdr,0),FALSE)),\"\")","v":3.4119999999999999},{"$f":"IFERROR(IF(ISBLANK($B265),\"\",VLOOKUP($B265,PO_Enrgy_1_Table,MATCH($M$16,PO_Enrgy_1_Hdr,0),FALSE)),\"\")","v":3.4119999999999999}]
["G",{"$f":"\"Energy Model Subtotal (\" & PO_SiteUnits & \")\"","v":"Energy Model Subtotal (Btu x 10^6)"},null,null,{"$f":"IFERROR(SUMPRODUCT(INDEX(PO_Enrgy_10_Table,0,MATCH(E$262,PO_Enrgy_10_Hdr,0)),INDEX(PO_Enrgy_10_Table,0,MATCH($Q$262,PO_Enrgy_10_Hdr,0))),\"\")","v":0},{"$f":"IFERROR(SUM(INDEX(PO_Enrgy_10_Table,0,MATCH(F$262,PO_Enrgy_10_Hdr,0))),\"\")","v":0},{"$f":"IFERROR(SUM(INDEX(PO_Enrgy_10_Table,0,MATCH(G$262,PO_Enrgy_10_Hdr,0))),\"\")","v":0},{"$f":"IFERROR(SUMPRODUCT(INDEX(PO_Enrgy_10_Table,0,MATCH(H$262,PO_Enrgy_10_Hdr,0)),INDEX(PO_Enrgy_10_Table,0,MATCH($Q$262,PO_Enrgy_10_Hdr,0))),\"\")","v":0},{"$f":"IFERROR(SUM(INDEX(PO_Enrgy_10_Table,0,MATCH(I$262,PO_Enrgy_10_Hdr,0))),\"\")","v":0},{"$f":"IFERROR(SUM(INDEX(PO_Enrgy_10_Table,0,MATCH(J$262,PO_Enrgy_10_Hdr,0))),\"\")","v":0},{"$f":"IFERROR(1-H266/E266,\"\")","v":""},null,{"$f":"IFERROR(1-J266/G266,\"\")","v":""}]
["G"]
["G","Data Center - Performance Rating Method Results"]
["G",{"$f":"CONCATENATE(\"Startup IT Loads: Enter the simulated energy consumption and cost for the Data Center based on Startup IT Loads as defined in the LEED Reference Guide.\",\" Report exceptional calculations and results from the Data Center calculator in the startup load results below,\",\" but do not include renewable energy in these reported results. Provide separate exceptional calculation method uploads as applicable for Startup Loads and for Full build-out.\", \" Also upload simulation outputs and performance rating method calculations with and without the exceptional calculation methods for both Startup IT Loads, and the full buildout IT loads.\",\"\n\n\",IF(DESPath=3,\" Note: The calculations using DES Path 3 must be performed manually for the Startup IT Load method, and supplemental documentation uploaded for the project must show these calculations.\",\"\"))","v":"Startup IT Loads: Enter the simulated energy consumption and cost for the Data Center based on Startup IT Loads as defined in the LEED Reference Guide. Report exceptional calculations and results from the Data Center calculator in the startup load results below, but do not include renewable energy in these reported results. Provide separate exceptional calculation method uploads as applicable for Startup Loads and for Full build-out. Also upload simulation outputs and performance rating method calculations with and without the exceptional calculation methods for both Startup IT Loads, and the full buildout IT loads.\n\n"}]
["G","Table: Performance rating data center - Startup IT loads"]
["G","Energy Type","Site Energy Units",null,"Baseline Energy Consumption \nwith Exceptional Calculation Methods",null,null,"Proposed Energy Consumption \nwith Exceptional Calculation Methods",null,null,"Percent Savings"]
["G",null,null,null,"Site Energy Use (Units shown per energy type)",{"$f":"\"Source Energy Use (\"  & PO_SourceUnits & \")\"","v":"Source Energy Use (Btu x 10^6)"},"Cost","Site Energy Use (Units shown per energy type)",{"$f":"\"Source Energy Use (\"  & PO_SourceUnits & \")\"","v":"Source Energy Use (Btu x 10^6)"},"Cost","Site Energy Use",null,"Cost"]
["G","Energy_Type","Energy_Units",null,"Base_Site_Energy","Base_Source_Energy","Base_Cost","Design_Site_Energy","Design_Source_Energy","Design_Cost","Percent_Savings_Site",null,"Percent_Savings_Cost",null,null,null,"Site_Unit_Conversion","Source_Unit_Conversion"]
["G",{"$f":"IFERROR(IF(ISBLANK(B17),\"\",B17),\"\")","v":"Electricity"},{"$f":"IFERROR(IF(ISBLANK($B274),\"\",VLOOKUP($B274,PO_Enrgy_1_Table,MATCH($C$16,PO_Enrgy_1_Hdr,0),FALSE) ),\"\")","v":"kWh"},{"$f":"IF(C274=\"\",\"\",VLOOKUP(C274,ProjectEnergyTypeTable,3,FALSE))","v":{"$error":"#NAME?"}},null,{"$f":"IFERROR(E274*$Q274,\"\")","v":0},null,null,{"$f":"IFERROR(H274*$Q274,\"\")","v":0},null,{"$f":"IFERROR(1-H274/E274,\"\")","v":""},null,{"$f":"IFERROR(1-J274/G274,\"\")","v":""},null,null,null,{"$f":"IFERROR(IF(ISBLANK($B274),\"\",VLOOKUP($B274,PO_Enrgy_1_Table,MATCH($K$16,PO_Enrgy_1_Hdr,0),FALSE)),\"\")","v":3.4120000000000001E-3},{"$f":"IFERROR(IF(ISBLANK($B274),\"\",VLOOKUP($B274,PO_Enrgy_1_Table,MATCH($M$16,PO_Enrgy_1_Hdr,0),FALSE)),\"\")","v":1.0713680000000001E-2}]
["G",{"$f":"IFERROR(IF(ISBLANK(B18),\"\",B18),\"\")","v":"Natural Gas"},{"$f":"IFERROR(IF(ISBLANK($B275),\"\",VLOOKUP($B275,PO_Enrgy_1_Table,MATCH($C$16,PO_Enrgy_1_Hdr,0),FALSE) ),\"\")","v":"therm"},{"$f":"IF(C275=\"\",\"\",VLOOKUP(C275,ProjectEnergyTypeTable,3,FALSE))","v":{"$error":"#NAME?"}},null,{"$f":"IFERROR(E275*$Q275,\"\")","v":0},null,null,{"$f":"IFERROR(H275*$Q275,\"\")","v":0},null,{"$f":"IFERROR(1-H275/E275,\"\")","v":""},null,{"$f":"IFERROR(1-J275/G275,\"\")","v":""},null,null,null,{"$f":"IFERROR(IF(ISBLANK($B275),\"\",VLOOKUP($B275,PO_Enrgy_1_Table,MATCH($K$16,PO_Enrgy_1_Hdr,0),FALSE)),\"\")","v":0.1},{"$f":"IFERROR(IF(ISBLANK($B275),\"\",VLOOKUP($B275,PO_Enrgy_1_Table,MATCH($M$16,PO_Enrgy_1_Hdr,0),FALSE)),\"\")","v":0.10500000000000001}]
["G",{"$f":"IFERROR(IF(ISBLANK(B19),\"\",B19),\"\")","v":"District Cooling"},{"$f":"IFERROR(IF(ISBLANK($B276),\"\",VLOOKUP($B276,PO_Enrgy_1_Table,MATCH($C$16,PO_Enrgy_1_Hdr,0),FALSE) ),\"\")","v":"MWh"},{"$f":"IF(C276=\"\",\"\",VLOOKUP(C276,ProjectEnergyTypeTable,3,FALSE))","v":{"$error":"#NAME?"}},null,{"$f":"IFERROR(E276*$Q276,\"\")","v":0},null,null,{"$f":"IFERROR(H276*$Q276,\"\")","v":0},null,{"$f":"IFERROR(1-H276/E276,\"\")","v":""},null,{"$f":"IFERROR(1-J276/G276,\"\")","v":""},null,null,null,{"$f":"IFERROR(IF(ISBLANK($B276),\"\",VLOOKUP($B276,PO_Enrgy_1_Table,MATCH($K$16,PO_Enrgy_1_Hdr,0),FALSE)),\"\")","v":3.4119999999999999},{"$f":"IFERROR(IF(ISBLANK($B276),\"\",VLOOKUP($B276,PO_Enrgy_1_Table,MATCH($M$16,PO_Enrgy_1_Hdr,0),FALSE)),\"\")","v":3.4119999999999999}]
["G",{"$f":"\"Energy model subtotal (\" & PO_SiteUnits & \")\"","v":"Energy model subtotal (Btu x 10^6)"},null,null,{"$f":"IFERROR(SUMPRODUCT(INDEX(PO_Enrgy_11_Table,0,MATCH(E$273,PO_Enrgy_11_Hdr,0)),INDEX(PO_Enrgy_11_Table,0,MATCH($Q$273,PO_Enrgy_11_Hdr,0))),\"\")","v":0},{"$f":"IFERROR(SUM(INDEX(PO_Enrgy_11_Table,0,MATCH(F$273,PO_Enrgy_11_Hdr,0))),\"\")","v":0},{"$f":"IFERROR(SUM(INDEX(PO_Enrgy_11_Table,0,MATCH(G$273,PO_Enrgy_11_Hdr,0))),\"\")","v":0},{"$f":"IFERROR(SUMPRODUCT(INDEX(PO_Enrgy_11_Table,0,MATCH(H$273,PO_Enrgy_11_Hdr,0)),INDEX(PO_Enrgy_11_Table,0,MATCH($Q$273,PO_Enrgy_11_Hdr,0))),\"\")","v":0},{"$f":"IFERROR(SUM(INDEX(PO_Enrgy_11_Table,0,MATCH(I$273,PO_Enrgy_11_Hdr,0))),\"\")","v":0},{"$f":"IFERROR(SUM(INDEX(PO_Enrgy_11_Table,0,MATCH(J$273,PO_Enrgy_11_Hdr,0))),\"\")","v":0},{"$f":"IFERROR(1-H277/E277,\"\")","v":""},null,{"$f":"IFERROR(1-J277/G277,\"\")","v":""}]
["G"]
["G","Table: Performance rating data center - Full load IT loads (tabulated from spreadsheet data entered above)"]
["G","Energy Type","Site Energy Units",null,"Baseline Energy Consumption \nwith Exceptional Calculation Methods",null,null,"Proposed Energy Consumption \nwith Exceptional Calculation Methods",null,null,"Percent Savings"]
["G",null,null,null,"Site Energy Use (Units shown per energy type)",{"$f":"\"Source Energy Use (\"  & PO_SourceUnits & \")\"","v":"Source Energy Use (Btu x 10^6)"},"Cost","Site Energy Use (Units shown per energy type)",{"$f":"\"Source Energy Use (\"  & PO_SourceUnits & \")\"","v":"Source Energy Use (Btu x 10^6)"},"Cost","Site Energy Use",null,"Cost"]
["G","Energy_Type","Energy_Units",null,"Base_Site_Energy","Base_Source_Energy","Base_Cost","Design_Site_Energy","Design_Source_Energy","Design_Cost","Percent_Savings_Site",null,"Percent_Savings_Cost",null,null,null,"Site_Unit_Conversion","Source_Unit_Conversion"]
["G",{"$f":"IFERROR(IF(ISBLANK(B17),\"\",B17),\"\")","v":"Electricity"},{"$f":"IFERROR(IF(ISBLANK($B283),\"\",VLOOKUP($B283,PO_Enrgy_1_Table,MATCH($C$16,PO_Enrgy_1_Hdr,0),FALSE) ),\"\")","v":"kWh"},{"$f":"IF(C283=\"\",\"\",VLOOKUP(C283,ProjectEnergyTypeTable,3,FALSE))","v":{"$error":"#NAME?"}},{"$f":"IFERROR(VLOOKUP($B283,PO_Enrgy_10_Table,MATCH($E$262,PO_Enrgy_10_Hdr,0),FALSE),\"\")","v":0},{"$f":"IFERROR(E283*$R283,\"\")","v":0},{"$f":"IFERROR(VLOOKUP($B283,PO_Enrgy_10_Table,MATCH($G$262,PO_Enrgy_10_Hdr,0),FALSE),\"\")","v":0},{"$f":"IFERROR(VLOOKUP($B283,PO_Enrgy_10_Table,MATCH($H$262,PO_Enrgy_10_Hdr,0),FALSE),\"\")","v":0},{"$f":"IFERROR(H283*$R283,\"\")","v":0},{"$f":"IFERROR(VLOOKUP($B283,PO_Enrgy_10_Table,MATCH($J$262,PO_Enrgy_10_Hdr,0),FALSE),\"\")","v":0},{"$f":"IFERROR(1-H283/E283,\"\")","v":""},null,{"$f":"IFERROR(1-J283/G283,\"\")","v":""},null,null,null,{"$f":"IFERROR(IF(ISBLANK($B283),\"\",VLOOKUP($B283,PO_Enrgy_1_Table,MATCH($K$16,PO_Enrgy_1_Hdr,0),FALSE)),\"\")","v":3.4120000000000001E-3},{"$f":"IFERROR(IF(ISBLANK($B283),\"\",VLOOKUP($B283,PO_Enrgy_1_Table,MATCH($M$16,PO_Enrgy_1_Hdr,0),FALSE)),\"\")","v":1.0713680000000001E-2}]
["G",{"$f":"IFERROR(IF(ISBLANK(B18),\"\",B18),\"\")","v":"Natural Gas"},{"$f":"IFERROR(IF(ISBLANK($B284),\"\",VLOOKUP($B284,PO_Enrgy_1_Table,MATCH($C$16,PO_Enrgy_1_Hdr,0),FALSE) ),\"\")","v":"therm"},{"$f":"IF(C284=\"\",\"\",VLOOKUP(C284,ProjectEnergyTypeTable,3,FALSE))","v":{"$error":"#NAME?"}},{"$f":"IFERROR(VLOOKUP($B284,PO_Enrgy_10_Table,MATCH($E$262,PO_Enrgy_10_Hdr,0),FALSE),\"\")","v":0},{"$f":"IFERROR(E284*$R284,\"\")","v":0},{"$f":"IFERROR(VLOOKUP($B284,PO_Enrgy_10_Table,MATCH($G$262,PO_Enrgy_10_Hdr,0),FALSE),\"\")","v":0},{"$f":"IFERROR(VLOOKUP($B284,PO_Enrgy_10_Table,MATCH($H$262,PO_Enrgy_10_Hdr,0),FALSE),\"\")","v":0},{"$f":"IFERROR(H284*$R284,\"\")","v":0},{"$f":"IFERROR(VLOOKUP($B284,PO_Enrgy_10_Table,MATCH($J$262,PO_Enrgy_10_Hdr,0),FALSE),\"\")","v":0},{"$f":"IFERROR(1-H284/E284,\"\")","v":""},null,{"$f":"IFERROR(1-J284/G284,\"\")","v":""},null,null,null,{"$f":"IFERROR(IF(ISBLANK($B284),\"\",VLOOKUP($B284,PO_Enrgy_1_Table,MATCH($K$16,PO_Enrgy_1_Hdr,0),FALSE)),\"\")","v":0.1},{"$f":"IFERROR(IF(ISBLANK($B284),\"\",VLOOKUP($B284,PO_Enrgy_1_Table,MATCH($M$16,PO_Enrgy_1_Hdr,0),FALSE)),\"\")","v":0.10500000000000001}]
["G",{"$f":"IFERROR(IF(ISBLANK(B19),\"\",B19),\"\")","v":"District Cooling"},{"$f":"IFERROR(IF(ISBLANK($B285),\"\",VLOOKUP($B285,PO_Enrgy_1_Table,MATCH($C$16,PO_Enrgy_1_Hdr,0),FALSE) ),\"\")","v":"MWh"},{"$f":"IF(C285=\"\",\"\",VLOOKUP(C285,ProjectEnergyTypeTable,3,FALSE))","v":{"$error":"#NAME?"}},{"$f":"IFERROR(VLOOKUP($B285,PO_Enrgy_10_Table,MATCH($E$262,PO_Enrgy_10_Hdr,0),FALSE),\"\")","v":0},{"$f":"IFERROR(E285*$R285,\"\")","v":0},{"$f":"IFERROR(VLOOKUP($B285,PO_Enrgy_10_Table,MATCH($G$262,PO_Enrgy_10_Hdr,0),FALSE),\"\")","v":0},{"$f":"IFERROR(VLOOKUP($B285,PO_Enrgy_10_Table,MATCH($H$262,PO_Enrgy_10_Hdr,0),FALSE),\"\")","v":0},{"$f":"IFERROR(H285*$R285,\"\")","v":0},{"$f":"IFERROR(VLOOKUP($B285,PO_Enrgy_10_Table,MATCH($J$262,PO_Enrgy_10_Hdr,0),FALSE),\"\")","v":0},{"$f":"IFERROR(1-H285/E285,\"\")","v":""},null,{"$f":"IFERROR(1-J285/G285,\"\")","v":""},null,null,null,{"$f":"IFERROR(IF(ISBLANK($B285),\"\",VLOOKUP($B285,PO_Enrgy_1_Table,MATCH($K$16,PO_Enrgy_1_Hdr,0),FALSE)),\"\")","v":3.4119999999999999},{"$f":"IFERROR(IF(ISBLANK($B285),\"\",VLOOKUP($B285,PO_Enrgy_1_Table,MATCH($M$16,PO_Enrgy_1_Hdr,0),FALSE)),\"\")","v":3.4119999999999999}]
["G",{"$f":"\"Energy model subtotal (\" & PO_SiteUnits & \")\"","v":"Energy model subtotal (Btu x 10^6)"},null,null,{"$f":"IFERROR(SUMPRODUCT(INDEX(PO_Enrgy_12_Table,0,MATCH(E$282,PO_Enrgy_12_Hdr,0)),INDEX(PO_Enrgy_12_Table,0,MATCH($Q$282,PO_Enrgy_12_Hdr,0))),\"\")","v":0},{"$f":"IFERROR(SUM(INDEX(PO_Enrgy_12_Table,0,MATCH(F$282,PO_Enrgy_12_Hdr,0))),\"\")","v":0},{"$f":"IFERROR(SUM(INDEX(PO_Enrgy_12_Table,0,MATCH(G$282,PO_Enrgy_12_Hdr,0))),\"\")","v":0},{"$f":"IFERROR(SUMPRODUCT(INDEX(PO_Enrgy_12_Table,0,MATCH(H$282,PO_Enrgy_12_Hdr,0)),INDEX(PO_Enrgy_12_Table,0,MATCH($Q$282,PO_Enrgy_12_Hdr,0))),\"\")","v":0},{"$f":"IFERROR(SUM(INDEX(PO_Enrgy_12_Table,0,MATCH(I$282,PO_Enrgy_12_Hdr,0))),\"\")","v":0},{"$f":"IFERROR(SUM(INDEX(PO_Enrgy_12_Table,0,MATCH(J$282,PO_Enrgy_12_Hdr,0))),\"\")","v":0},{"$f":"IFERROR(1-H286/E286,\"\")","v":""},null,{"$f":"IFERROR(1-J286/G286,\"\")","v":""}]
["G"]
["G","Table: Performance rating data center - Average between full Load IT loads and startup IT loads"]
["G","Energy Type","Site Energy Units",null,"Baseline Building Energy Consumption \nwith Exceptional Calculation Methods",null,null,"Proposed Building Energy Consumption \nwith Exceptional Calculation Methods",null,null,"Percent Savings"]
["G",null,null,null,"Site Energy Use (Units shown per energy type)",{"$f":"\"Source Energy Use (\"  & PO_SourceUnits & \")\"","v":"Source Energy Use (Btu x 10^6)"},"Cost","Site Energy Use (Units shown per energy type)",{"$f":"\"Source Energy Use (\"  & PO_SourceUnits & \")\"","v":"Source Energy Use (Btu x 10^6)"},"Cost","Site Energy Use",null,"Cost"]
["G","Energy_Type","Energy_Units",null,"Base_Site_Energy","Base_Source_Energy","Base_Cost","Design_Site_Energy","Design_Source_Energy","Design_Cost","Percent_Savings_Site",null,"Percent_Savings_Cost",null,null,null,"Site_Unit_Conversion","Source_Unit_Conversion"]
["G",{"$f":"IFERROR(IF(ISBLANK(B17),\"\",B17),\"\")","v":"Electricity"},{"$f":"IFERROR(IF(ISBLANK($B292),\"\",VLOOKUP($B292,PO_Enrgy_1_Table,MATCH($C$16,PO_Enrgy_1_Hdr,0),FALSE) ),\"\")","v":"kWh"},{"$f":"IF(C292=\"\",\"\",VLOOKUP(C292,ProjectEnergyTypeTable,3,FALSE))","v":{"$error":"#NAME?"}},{"$f":"IFERROR(IF(Datacenter_Avg=TRUE,AVERAGE(VLOOKUP($B292,PO_Enrgy_11_Table,MATCH($E$273,PO_Enrgy_11_Hdr,0),FALSE),VLOOKUP($B292,PO_Enrgy_12_Table,MATCH($E$282,PO_Enrgy_12_Hdr,0),FALSE)),VLOOKUP($B292,PO_Enrgy_12_Table,MATCH($E$282,PO_Enrgy_12_Hdr,0),FALSE)),\"\")","v":0},{"$f":"IFERROR(E292*$R292,\"\")","v":0},{"$f":"IFERROR(IF(Datacenter_Avg=TRUE,AVERAGE(VLOOKUP($B292,PO_Enrgy_11_Table,MATCH($G$273,PO_Enrgy_11_Hdr,0),FALSE),VLOOKUP($B292,PO_Enrgy_12_Table,MATCH($G$282,PO_Enrgy_12_Hdr,0),FALSE)),VLOOKUP($B292,PO_Enrgy_12_Table,MATCH($G$282,PO_Enrgy_12_Hdr,0),FALSE)),\"\")","v":0},{"$f":"IFERROR(IF(Datacenter_Avg=TRUE,AVERAGE(VLOOKUP($B292,PO_Enrgy_11_Table,MATCH($H$273,PO_Enrgy_11_Hdr,0),FALSE),VLOOKUP($B292,PO_Enrgy_12_Table,MATCH($H$282,PO_Enrgy_12_Hdr,0),FALSE)),VLOOKUP($B292,PO_Enrgy_12_Table,MATCH($H$282,PO_Enrgy_12_Hdr,0),FALSE)),\"\")","v":0},{"$f":"IFERROR(H292*$R292,\"\")","v":0},{"$f":"IFERROR(IF(Datacenter_Avg=TRUE,AVERAGE(VLOOKUP($B292,PO_Enrgy_11_Table,MATCH($J$273,PO_Enrgy_11_Hdr,0),FALSE),VLOOKUP($B292,PO_Enrgy_12_Table,MATCH($J$282,PO_Enrgy_12_Hdr,0),FALSE)),VLOOKUP($B292,PO_Enrgy_12_Table,MATCH($J$282,PO_Enrgy_12_Hdr,0),FALSE)),\"\")","v":0},{"$f":"IFERROR(1-H292/E292,\"\")","v":""},null,{"$f":"IFERROR(1-J292/G292,\"\")","v":""},null,null,null,{"$f":"IFERROR(IF(ISBLANK($B292),\"\",VLOOKUP($B292,PO_Enrgy_1_Table,MATCH($K$16,PO_Enrgy_1_Hdr,0),FALSE)),\"\")","v":3.4120000000000001E-3},{"$f":"IFERROR(IF(ISBLANK($B292),\"\",VLOOKUP($B292,PO_Enrgy_1_Table,MATCH($M$16,PO_Enrgy_1_Hdr,0),FALSE)),\"\")","v":1.0713680000000001E-2}]
["G",{"$f":"IFERROR(IF(ISBLANK(B18),\"\",B18),\"\")","v":"Natural Gas"},{"$f":"IFERROR(IF(ISBLANK($B293),\"\",VLOOKUP($B293,PO_Enrgy_1_Table,MATCH($C$16,PO_Enrgy_1_Hdr,0),FALSE) ),\"\")","v":"therm"},{"$f":"IF(C293=\"\",\"\",VLOOKUP(C293,ProjectEnergyTypeTable,3,FALSE))","v":{"$error":"#NAME?"}},{"$f":"IFERROR(IF(Datacenter_Avg=TRUE,AVERAGE(VLOOKUP($B293,PO_Enrgy_11_Table,MATCH($E$273,PO_Enrgy_11_Hdr,0),FALSE),VLOOKUP($B293,PO_Enrgy_12_Table,MATCH($E$282,PO_Enrgy_12_Hdr,0),FALSE)),VLOOKUP($B293,PO_Enrgy_12_Table,MATCH($E$282,PO_Enrgy_12_Hdr,0),FALSE)),\"\")","v":0},{"$f":"IFERROR(E293*$R293,\"\")","v":0},{"$f":"IFERROR(IF(Datacenter_Avg=TRUE,AVERAGE(VLOOKUP($B293,PO_Enrgy_11_Table,MATCH($G$273,PO_Enrgy_11_Hdr,0),FALSE),VLOOKUP($B293,PO_Enrgy_12_Table,MATCH($G$282,PO_Enrgy_12_Hdr,0),FALSE)),VLOOKUP($B293,PO_Enrgy_12_Table,MATCH($G$282,PO_Enrgy_12_Hdr,0),FALSE)),\"\")","v":0},{"$f":"IFERROR(IF(Datacenter_Avg=TRUE,AVERAGE(VLOOKUP($B293,PO_Enrgy_11_Table,MATCH($H$273,PO_Enrgy_11_Hdr,0),FALSE),VLOOKUP($B293,PO_Enrgy_12_Table,MATCH($H$282,PO_Enrgy_12_Hdr,0),FALSE)),VLOOKUP($B293,PO_Enrgy_12_Table,MATCH($H$282,PO_Enrgy_12_Hdr,0),FALSE)),\"\")","v":0},{"$f":"IFERROR(H293*$R293,\"\")","v":0},{"$f":"IFERROR(IF(Datacenter_Avg=TRUE,AVERAGE(VLOOKUP($B293,PO_Enrgy_11_Table,MATCH($J$273,PO_Enrgy_11_Hdr,0),FALSE),VLOOKUP($B293,PO_Enrgy_12_Table,MATCH($J$282,PO_Enrgy_12_Hdr,0),FALSE)),VLOOKUP($B293,PO_Enrgy_12_Table,MATCH($J$282,PO_Enrgy_12_Hdr,0),FALSE)),\"\")","v":0},{"$f":"IFERROR(1-H293/E293,\"\")","v":""},null,{"$f":"IFERROR(1-J293/G293,\"\")","v":""},null,null,null,{"$f":"IFERROR(IF(ISBLANK($B293),\"\",VLOOKUP($B293,PO_Enrgy_1_Table,MATCH($K$16,PO_Enrgy_1_Hdr,0),FALSE)),\"\")","v":0.1},{"$f":"IFERROR(IF(ISBLANK($B293),\"\",VLOOKUP($B293,PO_Enrgy_1_Table,MATCH($M$16,PO_Enrgy_1_Hdr,0),FALSE)),\"\")","v":0.10500000000000001}]
["G",{"$f":"IFERROR(IF(ISBLANK(B19),\"\",B19),\"\")","v":"District Cooling"},{"$f":"IFERROR(IF(ISBLANK($B294),\"\",VLOOKUP($B294,PO_Enrgy_1_Table,MATCH($C$16,PO_Enrgy_1_Hdr,0),FALSE) ),\"\")","v":"MWh"},{"$f":"IF(C294=\"\",\"\",VLOOKUP(C294,ProjectEnergyTypeTable,3,FALSE))","v":{"$error":"#NAME?"}},{"$f":"IFERROR(IF(Datacenter_Avg=TRUE,AVERAGE(VLOOKUP($B294,PO_Enrgy_11_Table,MATCH($E$273,PO_Enrgy_11_Hdr,0),FALSE),VLOOKUP($B294,PO_Enrgy_12_Table,MATCH($E$282,PO_Enrgy_12_Hdr,0),FALSE)),VLOOKUP($B294,PO_Enrgy_12_Table,MATCH($E$282,PO_Enrgy_12_Hdr,0),FALSE)),\"\")","v":0},{"$f":"IFERROR(E294*$R294,\"\")","v":0},{"$f":"IFERROR(IF(Datacenter_Avg=TRUE,AVERAGE(VLOOKUP($B294,PO_Enrgy_11_Table,MATCH($G$273,PO_Enrgy_11_Hdr,0),FALSE),VLOOKUP($B294,PO_Enrgy_12_Table,MATCH($G$282,PO_Enrgy_12_Hdr,0),FALSE)),VLOOKUP($B294,PO_Enrgy_12_Table,MATCH($G$282,PO_Enrgy_12_Hdr,0),FALSE)),\"\")","v":0},{"$f":"IFERROR(IF(Datacenter_Avg=TRUE,AVERAGE(VLOOKUP($B294,PO_Enrgy_11_Table,MATCH($H$273,PO_Enrgy_11_Hdr,0),FALSE),VLOOKUP($B294,PO_Enrgy_12_Table,MATCH($H$282,PO_Enrgy_12_Hdr,0),FALSE)),VLOOKUP($B294,PO_Enrgy_12_Table,MATCH($H$282,PO_Enrgy_12_Hdr,0),FALSE)),\"\")","v":0},{"$f":"IFERROR(H294*$R294,\"\")","v":0},{"$f":"IFERROR(IF(Datacenter_Avg=TRUE,AVERAGE(VLOOKUP($B294,PO_Enrgy_11_Table,MATCH($J$273,PO_Enrgy_11_Hdr,0),FALSE),VLOOKUP($B294,PO_Enrgy_12_Table,MATCH($J$282,PO_Enrgy_12_Hdr,0),FALSE)),VLOOKUP($B294,PO_Enrgy_12_Table,MATCH($J$282,PO_Enrgy_12_Hdr,0),FALSE)),\"\")","v":0},{"$f":"IFERROR(1-H294/E294,\"\")","v":""},null,{"$f":"IFERROR(1-J294/G294,\"\")","v":""},null,null,null,{"$f":"IFERROR(IF(ISBLANK($B294),\"\",VLOOKUP($B294,PO_Enrgy_1_Table,MATCH($K$16,PO_Enrgy_1_Hdr,0),FALSE)),\"\")","v":3.4119999999999999},{"$f":"IFERROR(IF(ISBLANK($B294),\"\",VLOOKUP($B294,PO_Enrgy_1_Table,MATCH($M$16,PO_Enrgy_1_Hdr,0),FALSE)),\"\")","v":3.4119999999999999}]
["G",{"$f":"\"Energy Model Subtotal (\" & PO_SiteUnits & \")\"","v":"Energy Model Subtotal (Btu x 10^6)"},null,null,{"$f":"IFERROR(SUMPRODUCT(INDEX(PO_Enrgy_13_Table,0,MATCH(E$291,PO_Enrgy_13_Hdr,0)),INDEX(PO_Enrgy_13_Table,0,MATCH($Q$291,PO_Enrgy_13_Hdr,0))),\"\")","v":0},{"$f":"IFERROR(SUM(INDEX(PO_Enrgy_13_Table,0,MATCH(F$291,PO_Enrgy_12_Hdr,0))),\"\")","v":0},{"$f":"IFERROR(SUM(INDEX(PO_Enrgy_13_Table,0,MATCH(G$291,PO_Enrgy_12_Hdr,0))),\"\")","v":0},{"$f":"IFERROR(SUMPRODUCT(INDEX(PO_Enrgy_13_Table,0,MATCH(H$291,PO_Enrgy_13_Hdr,0)),INDEX(PO_Enrgy_13_Table,0,MATCH($Q$291,PO_Enrgy_13_Hdr,0))),\"\")","v":0},{"$f":"IFERROR(SUM(INDEX(PO_Enrgy_13_Table,0,MATCH(I$291,PO_Enrgy_12_Hdr,0))),\"\")","v":0},{"$f":"IFERROR(SUM(INDEX(PO_Enrgy_13_Table,0,MATCH(J$291,PO_Enrgy_12_Hdr,0))),\"\")","v":0},{"$f":"IFERROR(1-H295/E295,\"\")","v":""},null,{"$f":"IFERROR(1-J295/G295,\"\")","v":""}]
["G"]
["G","Total energy cost savings (excluding site-generated renewable energy) (%)",null,null,null,null,null,null,null,null,{"$f":"$M$295","v":""}]
["G"]
["G","Table: Renewable energy production"]
["G","Energy Type","Site Energy Units",null,"On-Site Renewable Savings",null,null,"Proposed with On-Site Renewable Energy",null,null,"Percent Cost Savings"]
["G",null,null,null,"Site Energy Use Savings ",{"$f":"\"Source Energy Use Savings \n(\"  & PO_SourceUnits & \")\"","v":"Source Energy Use Savings \n(Btu x 10^6)"},"Cost Savings","Site Energy Use (Units shown per energy type)",{"$f":"\"Source Energy Use \n(\"  & PO_SourceUnits & \")\"","v":"Source Energy Use \n(Btu x 10^6)"},"Cost","Site Energy Use",null,"Cost"]
["G","Energy_Type","Energy_Units",null,"Renewable_Site_Savings","Renewable_Source_Savings","Renewable_Cost_Savings","Design_Site_Energy","Design_Source_Energy","Design_Cost","Percent_Savings_Site",null,"Percent_Savings_Cost",null,null,null,"Site_Unit_Conversion","Source_Unit_Conversion","Virtual Rate"]
["G",{"$f":"IFERROR(IF(ISBLANK(B17),\"\",B17),\"\")","v":"Electricity"},{"$f":"IFERROR(IF(ISBLANK($B303),\"\",VLOOKUP($B303,PO_Enrgy_1_Table,MATCH($C$16,PO_Enrgy_1_Hdr,0),FALSE) ),\"\")","v":"kWh"},{"$f":"IF(C303=\"\",\"\",VLOOKUP(C303,ProjectEnergyTypeTable,3,FALSE))","v":{"$error":"#NAME?"}},{"$f":"IFERROR(IF(PO_SiteRenewable=TRUE,VLOOKUP($B303,PO_Enrgy_2_Table,MATCH($E$38,PO_Enrgy_2_Hdr,0),FALSE),0),\"\")","v":0},{"$f":"IFERROR(E303*$R303,\"\")","v":0},{"$f":"IFERROR(IF(PO_SiteRenewable=TRUE,VLOOKUP($B303,PO_Enrgy_2_Table,MATCH($J$38,PO_Enrgy_2_Hdr,0),FALSE),0),\"\")","v":0},{"$f":"IFERROR(VLOOKUP($B303,PO_Enrgy_13_Table,MATCH($H$291,PO_Enrgy_13_Hdr,0),FALSE)-IF(PO_SiteRenewable=TRUE,VLOOKUP($B303,PO_Enrgy_2_Table,MATCH($E$38,PO_Enrgy_2_Hdr,0),FALSE),0),0)","v":0},{"$f":"IFERROR(H303*$R303,\"\")","v":0},{"$f":"IFERROR(VLOOKUP($B303,PO_Enrgy_13_Table,MATCH($J$291,PO_Enrgy_13_Hdr,0),FALSE)-IF(PO_SiteRenewable=TRUE,VLOOKUP($B303,PO_Enrgy_2_Table,MATCH($J$38,PO_Enrgy_2_Hdr,0),FALSE),0),0)","v":0},{"$f":"IFERROR(1-$H303/VLOOKUP($B303,PO_Enrgy_13_Table,MATCH($E$291,PO_Enrgy_13_Hdr,0),FALSE),\"\")","v":""},null,{"$f":"IFERROR(1-$J303/VLOOKUP($B303,PO_Enrgy_13_Table,MATCH($G$291,PO_Enrgy_13_Hdr,0),FALSE),\"\")","v":""},null,null,null,{"$f":"IFERROR(IF(ISBLANK($B303),\"\",VLOOKUP($B303,PO_Enrgy_1_Table,MATCH($K$16,PO_Enrgy_1_Hdr,0),FALSE)),\"\")","v":3.4120000000000001E-3},{"$f":"IFERROR(IF(ISBLANK($B303),\"\",VLOOKUP($B303,PO_Enrgy_1_Table,MATCH($M$16,PO_Enrgy_1_Hdr,0),FALSE)),\"\")","v":1.0713680000000001E-2},{"$f":"IFERROR(G303/E303,\"\")","v":""}]
["G",{"$f":"IFERROR(IF(ISBLANK(B18),\"\",B18),\"\")","v":"Natural Gas"},{"$f":"IFERROR(IF(ISBLANK($B304),\"\",VLOOKUP($B304,PO_Enrgy_1_Table,MATCH($C$16,PO_Enrgy_1_Hdr,0),FALSE) ),\"\")","v":"therm"},{"$f":"IF(C304=\"\",\"\",VLOOKUP(C304,ProjectEnergyTypeTable,3,FALSE))","v":{"$error":"#NAME?"}},{"$f":"IFERROR(IF(PO_SiteRenewable=TRUE,VLOOKUP($B304,PO_Enrgy_2_Table,MATCH($E$38,PO_Enrgy_2_Hdr,0),FALSE),0),\"\")","v":0},{"$f":"IFERROR(E304*$R304,\"\")","v":0},{"$f":"IFERROR(IF(PO_SiteRenewable=TRUE,VLOOKUP($B304,PO_Enrgy_2_Table,MATCH($J$38,PO_Enrgy_2_Hdr,0),FALSE),0),\"\")","v":0},{"$f":"IFERROR(VLOOKUP($B304,PO_Enrgy_13_Table,MATCH($H$291,PO_Enrgy_13_Hdr,0),FALSE)-IF(PO_SiteRenewable=TRUE,VLOOKUP($B304,PO_Enrgy_2_Table,MATCH($E$38,PO_Enrgy_2_Hdr,0),FALSE),0),0)","v":0},{"$f":"IFERROR(H304*$R304,\"\")","v":0},{"$f":"IFERROR(VLOOKUP($B304,PO_Enrgy_13_Table,MATCH($J$291,PO_Enrgy_13_Hdr,0),FALSE)-IF(PO_SiteRenewable=TRUE,VLOOKUP($B304,PO_Enrgy_2_Table,MATCH($J$38,PO_Enrgy_2_Hdr,0),FALSE),0),0)","v":0},{"$f":"IFERROR(1-$H304/VLOOKUP($B304,PO_Enrgy_13_Table,MATCH($E$291,PO_Enrgy_13_Hdr,0),FALSE),\"\")","v":""},null,{"$f":"IFERROR(1-$J304/VLOOKUP($B304,PO_Enrgy_13_Table,MATCH($G$291,PO_Enrgy_13_Hdr,0),FALSE),\"\")","v":""},null,null,null,{"$f":"IFERROR(IF(ISBLANK($B304),\"\",VLOOKUP($B304,PO_Enrgy_1_Table,MATCH($K$16,PO_Enrgy_1_Hdr,0),FALSE)),\"\")","v":0.1},{"$f":"IFERROR(IF(ISBLANK($B304),\"\",VLOOKUP($B304,PO_Enrgy_1_Table,MATCH($M$16,PO_Enrgy_1_Hdr,0),FALSE)),\"\")","v":0.10500000000000001},{"$f":"IFERROR(G304/E304,\"\")","v":""}]
["G",{"$f":"IFERROR(IF(ISBLANK(B19),\"\",B19),\"\")","v":"District Cooling"},{"$f":"IFERROR(IF(ISBLANK($B305),\"\",VLOOKUP($B305,PO_Enrgy_1_Table,MATCH($C$16,PO_Enrgy_1_Hdr,0),FALSE) ),\"\")","v":"MWh"},{"$f":"IF(C305=\"\",\"\",VLOOKUP(C305,ProjectEnergyTypeTable,3,FALSE))","v":{"$error":"#NAME?"}},{"$f":"IFERROR(IF(PO_SiteRenewable=TRUE,VLOOKUP($B305,PO_Enrgy_2_Table,MATCH($E$38,PO_Enrgy_2_Hdr,0),FALSE),0),\"\")","v":0},{"$f":"IFERROR(E305*$R305,\"\")","v":0},{"$f":"IFERROR(IF(PO_SiteRenewable=TRUE,VLOOKUP($B305,PO_Enrgy_2_Table,MATCH($J$38,PO_Enrgy_2_Hdr,0),FALSE),0),\"\")","v":0},{"$f":"IFERROR(VLOOKUP($B305,PO_Enrgy_13_Table,MATCH($H$291,PO_Enrgy_13_Hdr,0),FALSE)-IF(PO_SiteRenewable=TRUE,VLOOKUP($B305,PO_Enrgy_2_Table,MATCH($E$38,PO_Enrgy_2_Hdr,0),FALSE),0),0)","v":0},{"$f":"IFERROR(H305*$R305,\"\")","v":0},{"$f":"IFERROR(VLOOKUP($B305,PO_Enrgy_13_Table,MATCH($J$291,PO_Enrgy_13_Hdr,0),FALSE)-IF(PO_SiteRenewable=TRUE,VLOOKUP($B305,PO_Enrgy_2_Table,MATCH($J$38,PO_Enrgy_2_Hdr,0),FALSE),0),0)","v":0},{"$f":"IFERROR(1-$H305/VLOOKUP($B305,PO_Enrgy_13_Table,MATCH($E$291,PO_Enrgy_13_Hdr,0),FALSE),\"\")","v":""},null,{"$f":"IFERROR(1-$J305/VLOOKUP($B305,PO_Enrgy_13_Table,MATCH($G$291,PO_Enrgy_13_Hdr,0),FALSE),\"\")","v":""},null,null,null,{"$f":"IFERROR(IF(ISBLANK($B305),\"\",VLOOKUP($B305,PO_Enrgy_1_Table,MATCH($K$16,PO_Enrgy_1_Hdr,0),FALSE)),\"\")","v":3.4119999999999999},{"$f":"IFERROR(IF(ISBLANK($B305),\"\",VLOOKUP($B305,PO_Enrgy_1_Table,MATCH($M$16,PO_Enrgy_1_Hdr,0),FALSE)),\"\")","v":3.4119999999999999},{"$f":"IFERROR(G305/E305,\"\")","v":""}]
["G",{"$f":"\"Energy model subtotal (\" & PO_SiteUnits & \")\"","v":"Energy model subtotal (Btu x 10^6)"},null,null,{"$f":"IFERROR(SUMPRODUCT(INDEX(PO_Enrgy_14_Table,0,MATCH(E$302,PO_Enrgy_14_Hdr,0)),INDEX(PO_Enrgy_14_Table,0,MATCH($Q$302,PO_Enrgy_14_Hdr,0))),\"\")","v":0},{"$f":"IFERROR(SUM(INDEX(PO_Enrgy_14_Table,0,MATCH(F$302,PO_Enrgy_14_Hdr,0))),\"\")","v":0},{"$f":"IFERROR(SUM(INDEX(PO_Enrgy_14_Table,0,MATCH(G$302,PO_Enrgy_14_Hdr,0))),\"\")","v":0},{"$f":"IFERROR(SUMPRODUCT(INDEX(PO_Enrgy_14_Table,0,MATCH(H$302,PO_Enrgy_14_Hdr,0)),INDEX(PO_Enrgy_14_Table,0,MATCH($Q$302,PO_Enrgy_14_Hdr,0))),\"\")","v":0},{"$f":"IFERROR(SUM(INDEX(PO_Enrgy_14_Table,0,MATCH(I$302,PO_Enrgy_14_Hdr,0))),\"\")","v":0},{"$f":"IFERROR(SUM(INDEX(PO_Enrgy_14_Table,0,MATCH(J$302,PO_Enrgy_14_Hdr,0))),\"\")","v":0},{"$f":"IFERROR(1-$H306/$E$295,\"\")","v":""},null,{"$f":"IFERROR(1-$J306/$G$295,\"\")","v":""}]
["G"]
["G","Table: Data center PUE3 of startup and full buildout IT loads "]
["G",{"$f":"\"Enter the IT equipment energy consumption \" & IF(Datacenter_Avg=FALSE, \" and total building consumption by end-use including renewable energy \",\"\") & \"for the Startup IT loads.  The information for the full buildout loads is tabulated from the data above.  PUE3 is calculated based on source energy.\"","v":"Enter the IT equipment energy consumption  and total building consumption by end-use including renewable energy for the Startup IT loads.  The information for the full buildout loads is tabulated from the data above.  PUE3 is calculated based on source energy."}]
["G","Energy Type","Site Energy Units",null,"Startup IT Loads\nBuilding energy consumption with Startup IT loads \nincluding Data Center Calculator and exceptional calculation measures",null,null,null,"Full Buildout IT Loads\nBuilding energy consumption with Full Buildout IT loads \nincluding Data Center Calculator and exceptional calculation measures"]
["G",null,null,null,"Site Energy Use (Units shown per energy type)",{"$f":"\"Source Energy Use \n(\"  & PO_SourceUnits & \")\"","v":"Source Energy Use \n(Btu x 10^6)"},"PUE3",null,"Site Energy Use (Units shown per energy type)",{"$f":"\"Source Energy Use \n(\"  & PO_SourceUnits & \")\"","v":"Source Energy Use \n(Btu x 10^6)"},"PUE3"]
["G","Energy_Type","Energy_Units",null,"Startup_Site_Energy","Startup_Source_Energy","Startup_PUE",null,"Buildout_Site_Energy","Buildout_Source_Energy","Buildoout_PUE",null,null,null,null,null,"Site_Unit_Conversion","Source_Unit_Conversion"]
["G",{"$f":"B191","v":"IT equipment"},"kWh",{"$f":"IF(C313=\"\",\"\",VLOOKUP(C313,ProjectEnergyTypeTable,3,FALSE))","v":{"$error":"#NAME?"}},null,{"$f":"IFERROR(E313*$R313,\"\")","v":0},null,null,{"$f":"IFERROR(VLOOKUP(B313,PO_design_table,MATCH($H$170,PO_design_hdr,0),FALSE),\"\")","v":0},{"$f":"IFERROR(I313*$R313,\"\")","v":0},null,null,null,null,null,null,{"$f":"IFERROR(VLOOKUP(\"Electricity\",PO_Enrgy_1_Table,MATCH($K$16,PO_Enrgy_1_Hdr,0),FALSE),\"\")","v":3.4120000000000001E-3},{"$f":"IFERROR(VLOOKUP(\"electricity\",PO_Enrgy_1_Table,MATCH($M$16,PO_Enrgy_1_Hdr,0),FALSE),\"\")","v":1.0713680000000001E-2}]
["G","Total building consumption by end-use",null,null,null,null,null,null,null,null,null,null,null,null,null,null,"Site_Unit_Conversion","Source_Unit_Conversion"]
["G",{"$f":"IFERROR(IF(ISBLANK(B17),\"\",B17),\"\")","v":"Electricity"},{"$f":"IFERROR(IF(ISBLANK($B315),\"\",VLOOKUP($B315,PO_Enrgy_1_Table,MATCH($C$16,PO_Enrgy_1_Hdr,0),FALSE) ),\"\")","v":"kWh"},{"$f":"IF(C315=\"\",\"\",VLOOKUP(C315,ProjectEnergyTypeTable,3,FALSE))","v":{"$error":"#NAME?"}},{"$f":"IFERROR(IF(Datacenter_Avg=TRUE,VLOOKUP($B315,PO_Enrgy_11_Table,MATCH($H$273,PO_Enrgy_11_Hdr,0),FALSE)-VLOOKUP($B315,PO_Enrgy_14_Table,MATCH($E302,PO_Enrgy_14_Hdr,0),FALSE),\"\"),\"\")","v":""},{"$f":"IFERROR(E315*$R315,\"\")","v":""},null,null,{"$f":"IFERROR(VLOOKUP($B315,PO_Enrgy_12_Table,MATCH($H$282,PO_Enrgy_12_Hdr,0),FALSE)-VLOOKUP($B315,PO_Enrgy_14_Table,MATCH($E$302,PO_Enrgy_14_Hdr,0),FALSE),\"\")","v":0},{"$f":"IFERROR(I315*$R315,\"\")","v":0},null,null,null,null,null,null,{"$f":"IFERROR(IF(ISBLANK($B315),\"\",VLOOKUP($B315,PO_Enrgy_1_Table,MATCH($K$16,PO_Enrgy_1_Hdr,0),FALSE)),\"\")","v":3.4120000000000001E-3},{"$f":"IFERROR(IF(ISBLANK($B315),\"\",VLOOKUP($B315,PO_Enrgy_1_Table,MATCH($M$16,PO_Enrgy_1_Hdr,0),FALSE)),\"\")","v":1.0713680000000001E-2}]
["G",{"$f":"IFERROR(IF(ISBLANK(B18),\"\",B18),\"\")","v":"Natural Gas"},{"$f":"IFERROR(IF(ISBLANK($B316),\"\",VLOOKUP($B316,PO_Enrgy_1_Table,MATCH($C$16,PO_Enrgy_1_Hdr,0),FALSE) ),\"\")","v":"therm"},{"$f":"IF(C316=\"\",\"\",VLOOKUP(C316,ProjectEnergyTypeTable,3,FALSE))","v":{"$error":"#NAME?"}},{"$f":"IFERROR(IF(Datacenter_Avg=TRUE,VLOOKUP($B316,PO_Enrgy_11_Table,MATCH($H$273,PO_Enrgy_11_Hdr,0),FALSE)-VLOOKUP($B316,PO_Enrgy_14_Table,MATCH(#REF!,PO_Enrgy_14_Hdr,0),FALSE),\"\"),\"\")","v":""},{"$f":"IFERROR(E316*$R316,\"\")","v":""},null,null,{"$f":"IFERROR(VLOOKUP($B316,PO_Enrgy_12_Table,MATCH($H$282,PO_Enrgy_12_Hdr,0),FALSE)-VLOOKUP($B316,PO_Enrgy_14_Table,MATCH($E$302,PO_Enrgy_14_Hdr,0),FALSE),\"\")","v":0},{"$f":"IFERROR(I316*$R316,\"\")","v":0},null,null,null,null,null,null,{"$f":"IFERROR(IF(ISBLANK($B316),\"\",VLOOKUP($B316,PO_Enrgy_1_Table,MATCH($K$16,PO_Enrgy_1_Hdr,0),FALSE)),\"\")","v":0.1},{"$f":"IFERROR(IF(ISBLANK($B316),\"\",VLOOKUP($B316,PO_Enrgy_1_Table,MATCH($M$16,PO_Enrgy_1_Hdr,0),FALSE)),\"\")","v":0.10500000000000001}]
["G",{"$f":"IFERROR(IF(ISBLANK(B19),\"\",B19),\"\")","v":"District Cooling"},{"$f":"IFERROR(IF(ISBLANK($B317),\"\",VLOOKUP($B317,PO_Enrgy_1_Table,MATCH($C$16,PO_Enrgy_1_Hdr,0),FALSE) ),\"\")","v":"MWh"},{"$f":"IF(C317=\"\",\"\",VLOOKUP(C317,ProjectEnergyTypeTable,3,FALSE))","v":{"$error":"#NAME?"}},{"$f":"IFERROR(IF(Datacenter_Avg=TRUE,VLOOKUP($B317,PO_Enrgy_11_Table,MATCH($H$273,PO_Enrgy_11_Hdr,0),FALSE)-VLOOKUP($B317,PO_Enrgy_14_Table,MATCH(#REF!,PO_Enrgy_14_Hdr,0),FALSE),\"\"),\"\")","v":""},{"$f":"IFERROR(E317*$R317,\"\")","v":""},null,null,{"$f":"IFERROR(VLOOKUP($B317,PO_Enrgy_12_Table,MATCH($H$282,PO_Enrgy_12_Hdr,0),FALSE)-VLOOKUP($B317,PO_Enrgy_14_Table,MATCH($E$302,PO_Enrgy_14_Hdr,0),FALSE),\"\")","v":0},{"$f":"IFERROR(I317*$R317,\"\")","v":0},null,null,null,null,null,null,{"$f":"IFERROR(IF(ISBLANK($B317),\"\",VLOOKUP($B317,PO_Enrgy_1_Table,MATCH($K$16,PO_Enrgy_1_Hdr,0),FALSE)),\"\")","v":3.4119999999999999},{"$f":"IFERROR(IF(ISBLANK($B317),\"\",VLOOKUP($B317,PO_Enrgy_1_Table,MATCH($M$16,PO_Enrgy_1_Hdr,0),FALSE)),\"\")","v":3.4119999999999999}]
["G",{"$f":"\"Energy model subtotal (\" & PO_SiteUnits & \")\"","v":"Energy model subtotal (Btu x 10^6)"},null,null,{"$f":"IFERROR(SUMPRODUCT(INDEX(PO_Enrgy_15_Table,0,MATCH(E$312,PO_Enrgy_15_Hdr,0)),INDEX(PO_Enrgy_15_Table,0,MATCH($Q$312,PO_Enrgy_15_Hdr,0))),\"\")","v":0},{"$f":"IFERROR(SUM(INDEX(PO_Enrgy_15_Table,0,MATCH(F$312,PO_Enrgy_15_Hdr,0))),\"\")","v":0},{"$f":"IFERROR(F318/F313,\"\")","v":""},null,{"$f":"IFERROR(SUMPRODUCT(INDEX(PO_Enrgy_15_Table,0,MATCH(I$312,PO_Enrgy_15_Hdr,0)),INDEX(PO_Enrgy_15_Table,0,MATCH($Q$312,PO_Enrgy_15_Hdr,0))),\"\")","v":0},{"$f":"IFERROR(SUM(INDEX(PO_Enrgy_15_Table,0,MATCH(J$312,PO_Enrgy_15_Hdr,0))),\"\")","v":0},{"$f":"IFERROR(J318/J313,\"\")","v":""}]
["G"]
["G","Table: Total energy usage"]
["G","Energy Type","Site Energy Units",null,"Baseline",null,null,"Proposed",null,null,"Percent Savings"]
["G",null,null,null,"Site Energy Use (Units shown per energy type)",{"$f":"\"Source Energy Use \n(\"  & PO_SourceUnits & \")\"","v":"Source Energy Use \n(Btu x 10^6)"},"Cost","Site Energy Use (Units shown per energy type)",{"$f":"\"Source Energy Use \n(\"  & PO_SourceUnits & \")\"","v":"Source Energy Use \n(Btu x 10^6)"},"Cost","Site Energy Use",null,"Cost"]
["G","Energy_Type","Energy_Units",null,"Base_Site_Energy","Base_Source_Energy","Base_Cost","Design_Site_Energy","Design_Source_Energy","Design_Cost","Percent_Savings_Site",null,"Percent_Savings_Cost",null,null,null,"Site_Unit_Conversion","Source_Unit_Conversion"]
["G",{"$f":"IFERROR(IF(ISBLANK(B17),\"\",B17),\"\")","v":"Electricity"},{"$f":"IFERROR(IF(ISBLANK($B324),\"\",VLOOKUP($B324,PO_Enrgy_1_Table,MATCH($C$16,PO_Enrgy_1_Hdr,0),FALSE) ),\"\")","v":"kWh"},{"$f":"IF(C324=\"\",\"\",VLOOKUP(C324,ProjectEnergyTypeTable,3,FALSE))","v":{"$error":"#NAME?"}},{"$f":"IFERROR(VLOOKUP($B324,PO_Enrgy_13_Table,MATCH($E$291,PO_Enrgy_13_Hdr,0),FALSE),\"\")","v":0},{"$f":"IFERROR(E324*$R324,\"\")","v":0},{"$f":"IFERROR(VLOOKUP($B324,PO_Enrgy_13_Table,MATCH($G$291,PO_Enrgy_13_Hdr,0),FALSE),\"\")","v":0},{"$f":"IFERROR(VLOOKUP($B324,PO_Enrgy_14_Table,MATCH($H$291,PO_Enrgy_14_Hdr,0),FALSE),\"\")","v":0},{"$f":"IFERROR(H324*$R324,\"\")","v":0},{"$f":"IFERROR(VLOOKUP($B324,PO_Enrgy_14_Table,MATCH($J$291,PO_Enrgy_14_Hdr,0),FALSE),\"\")","v":0},{"$f":"IFERROR(1-H324/E324,\"\")","v":""},null,{"$f":"IFERROR(1-J324/G324,\"\")","v":""},null,null,null,{"$f":"IFERROR(IF(ISBLANK($B324),\"\",VLOOKUP($B324,PO_Enrgy_1_Table,MATCH($K$16,PO_Enrgy_1_Hdr,0),FALSE)),\"\")","v":3.4120000000000001E-3},{"$f":"IFERROR(IF(ISBLANK($B324),\"\",VLOOKUP($B324,PO_Enrgy_1_Table,MATCH($M$16,PO_Enrgy_1_Hdr,0),FALSE)),\"\")","v":1.0713680000000001E-2}]
["G",{"$f":"IFERROR(IF(ISBLANK(B18),\"\",B18),\"\")","v":"Natural Gas"},{"$f":"IFERROR(IF(ISBLANK($B325),\"\",VLOOKUP($B325,PO_Enrgy_1_Table,MATCH($C$16,PO_Enrgy_1_Hdr,0),FALSE) ),\"\")","v":"therm"},{"$f":"IF(C325=\"\",\"\",VLOOKUP(C325,ProjectEnergyTypeTable,3,FALSE))","v":{"$error":"#NAME?"}},{"$f":"IFERROR(VLOOKUP($B325,PO_Enrgy_13_Table,MATCH($E$291,PO_Enrgy_13_Hdr,0),FALSE),\"\")","v":0},{"$f":"IFERROR(E325*$R325,\"\")","v":0},{"$f":"IFERROR(VLOOKUP($B325,PO_Enrgy_13_Table,MATCH($G$291,PO_Enrgy_13_Hdr,0),FALSE),\"\")","v":0},{"$f":"IFERROR(VLOOKUP($B325,PO_Enrgy_14_Table,MATCH($H$291,PO_Enrgy_14_Hdr,0),FALSE),\"\")","v":0},{"$f":"IFERROR(H325*$R325,\"\")","v":0},{"$f":"IFERROR(VLOOKUP($B325,PO_Enrgy_14_Table,MATCH($J$291,PO_Enrgy_14_Hdr,0),FALSE),\"\")","v":0},{"$f":"IFERROR(1-H325/E325,\"\")","v":""},null,{"$f":"IFERROR(1-J325/G325,\"\")","v":""},null,null,null,{"$f":"IFERROR(IF(ISBLANK($B325),\"\",VLOOKUP($B325,PO_Enrgy_1_Table,MATCH($K$16,PO_Enrgy_1_Hdr,0),FALSE)),\"\")","v":0.1},{"$f":"IFERROR(IF(ISBLANK($B325),\"\",VLOOKUP($B325,PO_Enrgy_1_Table,MATCH($M$16,PO_Enrgy_1_Hdr,0),FALSE)),\"\")","v":0.10500000000000001}]
["G",{"$f":"IFERROR(IF(ISBLANK(B19),\"\",B19),\"\")","v":"District Cooling"},{"$f":"IFERROR(IF(ISBLANK($B326),\"\",VLOOKUP($B326,PO_Enrgy_1_Table,MATCH($C$16,PO_Enrgy_1_Hdr,0),FALSE) ),\"\")","v":"MWh"},{"$f":"IF(C326=\"\",\"\",VLOOKUP(C326,ProjectEnergyTypeTable,3,FALSE))","v":{"$error":"#NAME?"}},{"$f":"IFERROR(VLOOKUP($B326,PO_Enrgy_13_Table,MATCH($E$291,PO_Enrgy_13_Hdr,0),FALSE),\"\")","v":0},{"$f":"IFERROR(E326*$R326,\"\")","v":0},{"$f":"IFERROR(VLOOKUP($B326,PO_Enrgy_13_Table,MATCH($G$291,PO_Enrgy_13_Hdr,0),FALSE),\"\")","v":0},{"$f":"IFERROR(VLOOKUP($B326,PO_Enrgy_14_Table,MATCH($H$291,PO_Enrgy_14_Hdr,0),FALSE),\"\")","v":0},{"$f":"IFERROR(H326*$R326,\"\")","v":0},{"$f":"IFERROR(VLOOKUP($B326,PO_Enrgy_14_Table,MATCH($J$291,PO_Enrgy_14_Hdr,0),FALSE),\"\")","v":0},{"$f":"IFERROR(1-H326/E326,\"\")","v":""},null,{"$f":"IFERROR(1-J326/G326,\"\")","v":""},null,null,null,{"$f":"IFERROR(IF(ISBLANK($B326),\"\",VLOOKUP($B326,PO_Enrgy_1_Table,MATCH($K$16,PO_Enrgy_1_Hdr,0),FALSE)),\"\")","v":3.4119999999999999},{"$f":"IFERROR(IF(ISBLANK($B326),\"\",VLOOKUP($B326,PO_Enrgy_1_Table,MATCH($M$16,PO_Enrgy_1_Hdr,0),FALSE)),\"\")","v":3.4119999999999999}]
["G","Totals",null,null,{"$f":"IFERROR(SUMPRODUCT(INDEX(PO_Enrgy_16_Table,0,MATCH(E$323,PO_Enrgy_16_Hdr,0)),INDEX(PO_Enrgy_16_Table,0,MATCH($Q$323,PO_Enrgy_16_Hdr,0))),\"\")","v":0},{"$f":"IFERROR(SUM(INDEX(PO_Enrgy_16_Table,0,MATCH(F$323,PO_Enrgy_16_Hdr,0))),\"\")","v":0},{"$f":"IFERROR(SUM(INDEX(PO_Enrgy_16_Table,0,MATCH(G$323,PO_Enrgy_16_Hdr,0))),\"\")","v":0},{"$f":"IFERROR(SUMPRODUCT(INDEX(PO_Enrgy_16_Table,0,MATCH(H$323,PO_Enrgy_16_Hdr,0)),INDEX(PO_Enrgy_16_Table,0,MATCH($Q$323,PO_Enrgy_16_Hdr,0))),\"\")","v":0},{"$f":"IFERROR(SUM(INDEX(PO_Enrgy_16_Table,0,MATCH(I$323,PO_Enrgy_16_Hdr,0))),\"\")","v":0},{"$f":"IFERROR(SUM(INDEX(PO_Enrgy_16_Table,0,MATCH(J$323,PO_Enrgy_16_Hdr,0))),\"\")","v":0},{"$f":"IFERROR(1-H327/E327,\"\")","v":""},null,{"$f":"IFERROR(1-J327/G327,\"\")","v":""}]
["G","Total energy cost savings (including site-generated renewable energy) (%)",null,null,null,null,null,null,null,null,null,null,{"$f":"$M$327","v":""}]
["G"]
["G","Unmet Loads"]
[null,"Enter the non-coincident unmet load hours, consistent with the energy simulation output reports."]
["G","Unmet Loads",null,null,null,"Baseline",null,null,"Proposed"]
["G","Number of hours heating loads not met"]
["G","Number of hours cooling loads not met"]
["G","Totals",null,null,null,{"$f":"IF(ISERROR(F333+F334),0,F333+F334)","v":0},null,null,{"$f":"IF(ISERROR(I333+I334),0,I333+I334)","v":0}]
["G","Compliance",null,null,null,{"$f":"IF(ISERROR(OR(F333+F334,I333+I334)),\"Enter numbers only\",\n     IF(OR(F335>300,I335>300),\"No\",\"Yes\"))","v":"Yes"}]
[null,null,{"$f":"IF(ISERROR(F335+I335),\"\",IF(OR(I335>300,F335>300),\"Revise the model so that the unmet load hours for both the baseline and proposed case are 300 hours or less\",\"\"))","v":""}]
[null,"Quality Assurance Checks"]
[null,{"$f":"IF(MultipleBuildingsExist=\"No\",\"General information\",\"Multiple Building Details\")","v":"General information"},{"$f":"\"Total Area \"&IF(SI_IP_Units=\"IP\",\"(sq ft)\",\"(sq m)\")","v":"Total Area (sq ft)"}]
[null,null,{"$f":"IFERROR(IF(MultipleBuildingsExist=\"No\",\nGI_BldgArea,\nSUMIF(MBD_BS_Index,$H$5,OFFSET(MBD_BS_Index,0,MATCH('Multiple Buildings Details'!$G$22,MBD_BS_Hdr,0)-1,1,1))+SUMIF(MBD_BS_Index,$H$5,OFFSET(MBD_BS_Index,0,MATCH('Multiple Buildings Details'!$H$22,MBD_BS_Hdr,0)-1,1,1))),\"\")","v":0}]
[null,"Lighting",{"$f":"\"Total Area \"&IF(SI_IP_Units=\"IP\",\"(sq ft)\",\"(sq m)\")","v":"Total Area (sq ft)"},"Base Lighting Demand",null,"Design Lighting Demand","Base Exterior Lighting Demand","Design Exterior Lighting Demand","Base Non Tradeable Exterior Lighting Maximum","Design Non Tradeable Exterior Lighting Maximum"]
[null,null,{"$f":"IFERROR(IF(L_LPDmethod=1,SUMIF(L_BAMInput_Index,$H$5,OFFSET(L_BAMInput_Index,0,MATCH(Lighting!$D$31,Lighting_Residential_Hdr,0)-1)),SUMIF(L_SxSInput_Index,$H$5,OFFSET(L_SxSInput_Index,0,MATCH(Lighting!$D$56,Lighting_SxS_Residential_Hdr,0)-1))),\"\")","v":0},{"$f":"IFERROR(OFFSET(L_IL_SumTable,MATCH($H$5,L_IL_SumIndex,0)-1,MATCH(Lighting!$L$97,L_IL_SumHdr,0)-1,1,1),\"\")","v":0},null,{"$f":"IFERROR(OFFSET(L_IL_SumTable,MATCH($H$5,L_IL_SumIndex,0)-1,MATCH(Lighting!$O$97,L_IL_SumHdr,0)-1,1,1),\"\")","v":0},{"$f":"IFERROR(OFFSET(L_ExtSum_Table,1,MATCH(Lighting!$J$147,L_ExtSum_Hdr,0)-1,1,1),\"\")","v":0},{"$f":"IFERROR(OFFSET(L_ExtSum_Table,1,MATCH(Lighting!$M$147,L_ExtSum_Hdr,0)-1,1,1),\"\")","v":0},{"$f":"IFERROR(OFFSET(L_LtgZone_Table,1,MATCH(Lighting!$M$115,L_LtgZone_Hdr,0)-1,1,1)+OFFSET(L_NTSurface_Table,MATCH(Lighting!$B$143,L_NTSurface_Index,0)-1,MATCH(Lighting!$J$136,L_NTSurface_Hdr,0)-1,1,1),\"\")","v":""},{"$f":"IFERROR(OFFSET(L_NTSurface_Table,MATCH(Lighting!$B$143,L_NTSurface_Index,0)-1,MATCH(Lighting!$M$136,L_NTSurface_Hdr,0)-1,1,1),\"\")","v":0}]
[null,"Shading and Fenestration","Glazing Differential","Baseline Above 40%",null,"Zones Modeled"]
[null,null,{"$f":"IFERROR(SUMIF('Shading and Fenestration'!O:O,$H$5,'Shading and Fenestration'!P:P),\"\")","v":0},{"$f":"IF(IFERROR(COUNTIFS('Shading and Fenestration'!O:O,$H$5,'Shading and Fenestration'!Q:Q,TRUE),\"\")>0,TRUE,FALSE)","v":false},null,{"$f":"IFERROR(OFFSET('Shading and Fenestration'!O:Q,MATCH(CONCATENATE($H$5, \" zones\"),'Shading and Fenestration'!O:O,0)-1,1,1,1),\"\")","v":""}]
[null,"Performance Outputs","Baseline Lighting EFLHs","Design Lighting EFLHs",null,"Base Lighting Demand","Design Lighting Demand","Base Exterior Lighitng Consumption","Design Exterior Lighting Consumption","Base Exterior EFLH","Design Ext EFLH"]
[null,null,{"$f":"IFERROR(MAX(OFFSET(PO_design_table,MATCH($B$171,PO_design_index,0)-2,MATCH($S$170,PO_design_hdr,0)-1,1,1)),\"\")","v":0},{"$f":"IFERROR(MAX(OFFSET(PO_design_table,MATCH($B$171,PO_design_index,0)-2,MATCH($T$170,PO_design_hdr,0)-1,1,1)),\"\")","v":0},null,{"$f":"IFERROR(MAX(OFFSET(PO_design_table,MATCH($B$171,PO_design_index,0)-1,MATCH($G$170,PO_design_hdr,0)-1,1,1)),\"\")","v":0},{"$f":"IFERROR(MAX(OFFSET(PO_design_table,MATCH($B$171,PO_design_index,0)-1,MATCH($H$170,PO_design_hdr,0)-1,1,1)),\"\")","v":0},{"$f":"IFERROR(MAX(OFFSET(PO_design_table,MATCH($B$173,PO_design_index,0)-2,MATCH($G$170,PO_design_hdr,0)-1,1,1)),\"\")","v":0},{"$f":"IFERROR(MAX(OFFSET(PO_design_table,MATCH($B$173,PO_design_index,0)-2,MATCH($H$170,PO_design_hdr,0)-1,1,1)),\"\")","v":0},{"$f":"IFERROR(MAX(OFFSET(PO_design_table,MATCH($B$173,PO_design_index,0)-2,MATCH($S$170,PO_design_hdr,0)-1,1,1)),\"\")","v":0},{"$f":"IFERROR(MAX(OFFSET(PO_design_table,MATCH($B$173,PO_design_index,0)-2,MATCH($T$170,PO_design_hdr,0)-1,1,1)),\"\")","v":0}]
[null,null,"Base Exterior Lighting Demand","Design Exterior Lighting Demand",null,"Base Miscellaneous % of Total","Design Miscellaneous % of Total","Unregulated Load Difference","Base Service Hot Waters % of Total","Design Service Hot Water % of Total","Base Pump Consumption",null,"Base Fan EFLH"]
[null,null,{"$f":"IFERROR(MAX(OFFSET(PO_design_table,MATCH($B$173,PO_design_index,0)-1,MATCH($G$170,PO_design_hdr,0)-1,1,1)),\"\")","v":0},{"$f":"IFERROR(MAX(OFFSET(PO_design_table,MATCH($B$173,PO_design_index,0)-1,MATCH($H$170,PO_design_hdr,0)-1,1,1)),\"\")","v":0},null,{"$f":"IFERROR((OFFSET(PO_design_table,MATCH($B$189,PO_design_index,0)-2,MATCH($G$170,PO_design_hdr,0)-1,1,1)*OFFSET(PO_design_table,MATCH($B$189,PO_design_index,0)-2,MATCH($Q$170,PO_design_hdr,0)-1,1,1))/OFFSET(PO_ModelSubtotal,0,4,1,1),\"\")","v":""},{"$f":"IFERROR((OFFSET(PO_design_table,MATCH($B$189,PO_design_index,0)-2,MATCH($H$170,PO_design_hdr,0)-1,1,1)*OFFSET(PO_design_table,MATCH($B$189,PO_design_index,0)-2,MATCH($Q$170,PO_design_hdr,0)-1,1,1))/OFFSET(PO_ModelSubtotal,0,7,1,1),\"\")","v":""},null,{"$f":"IFERROR((OFFSET(PO_design_table,MATCH($B$187,PO_design_index,0)-2,MATCH($G$170,PO_design_hdr,0)-1,1,1)*OFFSET(PO_design_table,MATCH($B$187,PO_design_index,0)-2,MATCH($Q$170,PO_design_hdr,0)-1,1,1))/OFFSET(PO_ModelSubtotal,0,4,1,1),\"\")","v":""},{"$f":"IFERROR((OFFSET(PO_design_table,MATCH($B$187,PO_design_index,0)-2,MATCH($H$170,PO_design_hdr,0)-1,1,1)*OFFSET(PO_design_table,MATCH($B$187,PO_design_index,0)-2,MATCH($Q$170,PO_design_hdr,0)-1,1,1))/OFFSET(PO_ModelSubtotal,0,7,1,1),\"\")","v":""},{"$f":"IFERROR(MAX(OFFSET(PO_design_table,MATCH($B$179,PO_design_index,0)-2,MATCH($G$170,PO_design_hdr,0)-1,1,1)),\"\")","v":0},null,{"$f":"IFERROR(MAX(OFFSET(PO_design_table,MATCH($B$183,PO_design_index,0)-2,MATCH($S$170,PO_design_hdr,0)-1,1,1)),\"\")","v":0}]
[null,null,"Design Fan EFLH","Base Fan Demand",null,"Design Fan Demand","PV EFLH","Renewable Rate Difference","Proposed Electric Rate","Proposed Gas Rate","Total Baseline Exterior Lighting Demand",null,"Total Design Exterior Lighting Demand"]
[null,null,{"$f":"IFERROR(IFERROR(MAX(OFFSET(PO_design_table,MATCH($B$183,PO_design_index,0)-2,MATCH($T$170,PO_design_hdr,0)-1,1,1)),\"\"),\"\")","v":0},{"$f":"IFERROR(IFERROR(MAX(OFFSET(PO_design_table,MATCH($B$183,PO_design_index,0)-1,MATCH($G$170,PO_design_hdr,0)-1,1,1)),\"\"),\"\")","v":0},null,{"$f":"IFERROR(IFERROR(MAX(OFFSET(PO_design_table,MATCH($B$183,PO_design_index,0)-1,MATCH($H$170,PO_design_hdr,0)-1,1,1)),\"\"),\"\")","v":0},{"$f":"IFERROR(MAX(IFERROR(OFFSET(PO_renewable_table,MATCH(\"Photovoltaic system\",PO_renewable_Index,0)-2,MATCH($S$32,PO_renewable_hdr,0)-1,1,1),0),\nIFERROR(OFFSET(PO_renewable_table,MATCH(\"Solar thermal system\",PO_renewable_Index,0)-2,MATCH($S$32,PO_renewable_hdr,0)-1,1,1),0)),\"\")","v":""},null,{"$f":"IFERROR(OFFSET(PO_Enrgy_8_Table,MATCH(\"Electricity\",PO_Enrgy_8_Index,0)-2,MATCH($H$232,PO_Enrgy_8_Hdr,0)-1,1,1),\"\")","v":""},{"$f":"IFERROR(OFFSET(PO_Enrgy_8_Table,MATCH(\"Natural Gas\",PO_Enrgy_8_Index,0)-2,MATCH($H$232,PO_Enrgy_8_Hdr,0)-1,1,1),\"\")","v":""},{"$f":"IFERROR(GetPerformanceOutputRangeSums(\"PO_QA_BaseExtLtgDem\"),\"\")","v":0},null,{"$f":"IFERROR(GetPerformanceOutputRangeSums(\"PO_QA_DesignExtLtgDem\"),\"\")","v":0}]
[null,"General HVAC","Base non-water systems","Base water systems"]
[null,null,{"$f":"COUNTIFS(OFFSET(GHVAC_BHVACST_Index,0,MATCH('General HVAC'!$D$28,GHVAC_BSysType_Hdr,0)-1),\"System 2 - PTHP\",\nOFFSET(GHVAC_BHVACST_Index,0,MATCH('General HVAC'!$B$28,GHVAC_BSysType_Hdr,0)-1),$H$5)+\nCOUNTIFS(OFFSET(GHVAC_BHVACST_Index,0,MATCH('General HVAC'!$D$28,GHVAC_BSysType_Hdr,0)-1),\"System 3 - PSZ-AC\",\nOFFSET(GHVAC_BHVACST_Index,0,MATCH('General HVAC'!$B$28,GHVAC_BSysType_Hdr,0)-1),$H$5)+\nCOUNTIFS(OFFSET(GHVAC_BHVACST_Index,0,MATCH('General HVAC'!$D$28,GHVAC_BSysType_Hdr,0)-1),\"System 4 - PSZ-HP\",\nOFFSET(GHVAC_BHVACST_Index,0,MATCH('General HVAC'!$B$28,GHVAC_BSysType_Hdr,0)-1),$H$5)+\nCOUNTIFS(OFFSET(GHVAC_BHVACST_Index,0,MATCH('General HVAC'!$D$28,GHVAC_BSysType_Hdr,0)-1),\"System 6 - Packaged VAV with PFP Boxes\",\nOFFSET(GHVAC_BHVACST_Index,0,MATCH('General HVAC'!$B$28,GHVAC_BSysType_Hdr,0)-1),$H$5)+\nCOUNTIFS(OFFSET(GHVAC_BHVACST_Index,0,MATCH('General HVAC'!$D$28,GHVAC_BSysType_Hdr,0)-1),\"System 8 - VAV with PFP Boxes\",\nOFFSET(GHVAC_BHVACST_Index,0,MATCH('General HVAC'!$B$28,GHVAC_BSysType_Hdr,0)-1),$H$5)+\nCOUNTIFS(OFFSET(GHVAC_BHVACST_Index,0,MATCH('General HVAC'!$D$28,GHVAC_BSysType_Hdr,0)-1),\"System 9 - Heating and Ventilation\",\nOFFSET(GHVAC_BHVACST_Index,0,MATCH('General HVAC'!$B$28,GHVAC_BSysType_Hdr,0)-1),$H$5)+\nCOUNTIFS(OFFSET(GHVAC_BHVACST_Index,0,MATCH('General HVAC'!$D$28,GHVAC_BSysType_Hdr,0)-1),\"System 10 - Heating and Ventilation\",\nOFFSET(GHVAC_BHVACST_Index,0,MATCH('General HVAC'!$B$28,GHVAC_BSysType_Hdr,0)-1),$H$5)","v":0},{"$f":"COUNTIFS(OFFSET(GHVAC_BHVACST_Index,0,MATCH('General HVAC'!$D$28,GHVAC_BSysType_Hdr,0)-1),\"System 1 - PTAC\",\nOFFSET(GHVAC_BHVACST_Index,0,MATCH('General HVAC'!$B$28,GHVAC_BSysType_Hdr,0)-1),$H$5)+\nCOUNTIFS(OFFSET(GHVAC_BHVACST_Index,0,MATCH('General HVAC'!$D$28,GHVAC_BSysType_Hdr,0)-1),\"System 5 - Packaged VAV with Reheat\",\nOFFSET(GHVAC_BHVACST_Index,0,MATCH('General HVAC'!$B$28,GHVAC_BSysType_Hdr,0)-1),$H$5)+\nCOUNTIFS(OFFSET(GHVAC_BHVACST_Index,0,MATCH('General HVAC'!$D$28,GHVAC_BSysType_Hdr,0)-1),\"System 7 - VAV with Reheat\",\nOFFSET(GHVAC_BHVACST_Index,0,MATCH('General HVAC'!$B$28,GHVAC_BSysType_Hdr,0)-1),$H$5)","v":0}]
[null,"Air-Side HVAC","Base Fan Flow","Design Fan Flow",null,"Base Fan Power","Design Fan Power","Base Cooling Capacity","Design Cooling Capacity","Base Heating Capacity","Design Heating Capacity"]
[null,null,{"$f":"IFERROR(SUMIFS(AHVAC_Base_FanFlow,AHVAC_Base_ID,$H$5),\"\")","v":0},{"$f":"IFERROR(SUMIFS(AHVAC_Design_FanFlow,AHVAC_Design_ID,$H$5),\"\")","v":0},null,{"$f":"IFERROR(SUMIFS(AHVAC_Base_FanPower,AHVAC_Base_ID,$H$5),\"\")","v":0},{"$f":"IFERROR(SUMIFS(AHVAC_Design_FanPower,AHVAC_Design_ID,$H$5),\"\")","v":0},{"$f":"IFERROR(SUMIFS(AHVAC_Base_CoolingCap,AHVAC_Base_ID,$H$5),\"\")","v":0},{"$f":"IFERROR(SUMIFS(AHVAC_Design_CoolingCap,AHVAC_Design_ID,$H$5),\"\")","v":0},{"$f":"IFERROR(SUMIFS(AHVAC_Base_HeatingCap,AHVAC_Base_ID,$H$5),\"\")","v":0},{"$f":"IFERROR(SUMIFS(AHVAC_Design_HeatingCap,AHVAC_Design_ID,$H$5),\"\")","v":0}]
[null,null,"Base OA","Design OA"]
[null,null,{"$f":"IFERROR(SUMIFS(AHVAC_Base_OAFlow,AHVAC_Base_ID,$H$5),\"\")","v":0},{"$f":"IFERROR(SUMIFS(AHVAC_Design_OAFlow,AHVAC_Design_ID,$H$5),\"\")","v":0}]
[]
[null,"Issue",null,null,null,null,null,null,"Project Team Respone",null,null,null,null,null,null,null,"Trigger","Issue Applicable"]
[null,{"$f":"\"The total building area reported in the \"&IF(MultipleBuildingsExist=\"No\",\"General Information\", \"Multiple Building Details\")& \" tab differs from the total building area reported in the Lighting tab (Interior Lighting section) by more than 10%. Please check for consistency and verify that the building areas reported are accurate.\"","v":"The total building area reported in the General Information tab differs from the total building area reported in the Lighting tab (Interior Lighting section) by more than 10%. Please check for consistency and verify that the building areas reported are accurate."},null,null,null,null,null,null,null,null,null,null,null,null,null,null,null,{"$f":"IFERROR(IF(ABS(C340-C342)/MIN(C340,C342)>0.1,TRUE,FALSE),TRUE)","v":true}]
[null,"The vertical glazing areas in the proposed and baseline differ from one another (as reported on the Shading and Fenestration tab, Shading section), which is inconsistent with the requirement of Table G3.1.5(c) (baseline).  Please correct or provide justification.",null,null,null,null,null,null,null,null,null,null,null,null,null,null,null,{"$f":"IFERROR(IF(C344>0.01,TRUE,FALSE),TRUE)","v":false}]
[null,"The baseline vertical glazing area is greater than 40% (as reported in the Shading and Fenestration tab, Shading section), which is inconsistent with the requirement of Table G3.1.5(c) (baseline).  Please correct or provide justification.",null,null,null,null,null,null,null,null,null,null,null,null,null,null,null,{"$f":"IFERROR(IF(D344=TRUE,TRUE,FALSE),TRUE)","v":false}]
[null,"The baseline and/or proposed interior lighting equivalent full load hours (determined by dividing the total annual lighting consumption by the total lighting power as reported in the Performance Outputs tab) is greater than 4,000 hours/year, which is unexpectedly high. Ensure that the lighting models reflect all mandatory controls from Section 9 and reflect the anticipated schedule of operation for the building.",null,null,null,null,null,null,null,null,null,null,null,null,null,null,null,{"$f":"IFERROR(IF(OR(C346>4000,D346>4000),TRUE,FALSE),TRUE)","v":false}]
[null,"The baseline and/or proposed interior lighting equivalent full load hours (determined by dividing the total annual lighting consumption by the total lighting power as reported in the Performance Outputs tab) differs by more than 10%, which is unexpected.",null,null,null,null,null,null,null,null,null,null,null,null,null,null,null,{"$f":"IFERROR(IF(OR(ABS(C346-D346)/MIN(C346,D346)>0.1,MIN(C346,D346)=0),TRUE,FALSE),TRUE)","v":true}]
[null,"The interior lighting demand (as reported in the Performance Outputs tab for the baseline and/or proposed) exceeds the lighting power as reported in the Lighting sheet (Summary section) by more than 5%. Ensure that the values reflected in the Lighting sheet are accurate and appropriately reflect the modeled interior lighting power density.",null,null,null,null,null,null,null,null,null,null,null,null,null,null,null,{"$f":"IFERROR(IF(OR(((F346-D342)/MIN(F346,D342))>0.05,((G346-F342)/MIN(G346,F342))>0.05),TRUE,FALSE),TRUE)","v":true}]
[null,"The Performance Outputs tab shows zero consumption for exterior lighting power in the baseline and/or proposed model.  Confirm that no exterior lighting is included in the building site. Verify that the proposed exterior lighting reflects the actual building design, and the baseline reflects the allowed lighting power from Section 9.4.3. Ensure that no credit is taken in the proposed for lighting reductions on non‐tradable surfaces.  (Note that additional lighting power allowance cannot be claimed in the baseline for surfaces that are not provided with lighting in the actual design, and that lighting fixtures cannot be double counted for different exterior surfaces).",null,null,null,null,null,null,null,null,null,null,null,null,null,null,null,{"$f":"IFERROR(IF(OR(H346=0,I346=0),TRUE,FALSE),TRUE)","v":true}]
[null,"The baseline and/or proposed exterior lighting equivalent full load hours (determined by dividing the total annual lighting consumption by the total lighting power as reported in the Performance Outputs tab) is greater than 5,110 hours/year (approximately 14 hours per day) or less than 3,650 hours/year (approximately 10 hours per day). Ensure that the lighting models reflect all mandatory controls from Section 9.4.1.7.",null,null,null,null,null,null,null,null,null,null,null,null,null,null,null,{"$f":"IFERROR(IF(OR(J346>5110,K346>5110),TRUE,FALSE),TRUE)","v":false}]
[null,"The baseline and/or proposed exterior lighting equivalent full load hours (determined by dividing the total annual lighting consumption by the total lighting power as reported in the Performance Outputs tab) differs by more than 5%, which is unexpected. Please correct or provide justification.",null,null,null,null,null,null,null,null,null,null,null,null,null,null,null,{"$f":"IFERROR(IF(ABS(J346-K346)/MIN(J346,K346)>0.05,TRUE,FALSE),TRUE)","v":true}]
[null,"The baseline and proposed exterior lighting consumption values are within 1% of each other, as reported in the Performance Outputs tab, indicating that the lighting has been modeled nearly identically. Verify that the proposed exterior lighting reflects the actual building design, and the baseline reflects the allowed lighting power from Section 9.4.3. Ensure that no credit is taken in the proposed for lighting reductions on non‐tradable surfaces. (Note that additional lighting power allowance cannot be claimed in the baseline for surfaces that are not provided with lighting in the actual design, and  that lighting fixtures cannot be double counted for different exterior surfaces.)",null,null,null,null,null,null,null,null,null,null,null,null,null,null,null,{"$f":"IFERROR(IF(ABS(H346-I346)/MIN(H346,I346)<0.01,TRUE,FALSE),TRUE)","v":true}]
[null,"The receptacle equipment consumption for the baseline and/or proposed building (as reported in the Performance Outputs tab) is greater than 40% (less than 10%) of the total building site energy usage, which is unexpectedly high (low). This check was made using the Performance rating energy consumption and cost by fuel type table (i.e. before adjustments were made for renewable energy production or an exceptional calculation method). Verify that the receptacle equipment has been modeled as accurately as possible.",null,null,null,null,null,null,null,null,null,null,null,null,null,null,null,{"$f":"IFERROR(IF(OR(F348>0.4,G348>0.4,F348<0.1,G348<0.1),TRUE,FALSE),TRUE)","v":true}]
[null,"One (or more) of the unregulated end uses differs by more than 3% between the baseline and proposed as reported in the Performance Outputs tab. If savings are being attempted for an unregulated end use, the Exceptional Calculation Method must be followed.",null,null,null,null,null,null,null,null,null,null,null,null,null,null,null,{"$f":"IFERROR(IF(COUNTIFS(INDEX(PO_design_table,,MATCH($D$170,PO_design_hdr,0)),\"x\",INDEX(PO_design_table,,MATCH($I$170,PO_design_hdr,0)),\">0.03\")+COUNTIFS(INDEX(PO_design_table,,MATCH($D$170,PO_design_hdr,0)),\"x\",INDEX(PO_design_table,,MATCH($I$170,PO_design_hdr,0)),\"<-0.03\")>0,TRUE,FALSE),TRUE)","v":false}]
[null,"The service water heating consumption for the baseline and/or proposed building constitutes more than 15% of the total building site energy usage (as reported in the Performance Outputs tab), which is unexpected. This check was made using the Performance Rating - Energy Consumption and Cost by Fuel Type table (i.e. before any adjustments were made for renewable energy production or an exceptional calculation method). Verify that the service water heating has been modeled as designed, in accordance with Table G3.1.11 (b) (proposed) and that the schedule is typical of the building type in accordance with Table G3.1.4 (proposed).",null,null,null,null,null,null,null,null,null,null,null,null,null,null,null,{"$f":"IFERROR(IF(OR(I348>0.15,J348>0.15),TRUE,FALSE),TRUE)","v":true}]
[null,"Pump consumption is reflected in the baseline outputs (as reported in the Performance Outputs tab), even though the baseline HVAC system type is 2, 3, 4, 6, 8, 9, or 10, none of which include an HVAC circulation loop.",null,null,null,null,null,null,null,null,null,null,null,null,null,null,null,{"$f":"IFERROR(IF(AND(C352>0,D352<1),TRUE,FALSE),TRUE)","v":false}]
[null,"The total baseline and proposed air flow rates differ by more than 35% (as reported in the Air-Side HVAC sheet), making it unclear whether the baseline fan air flow rate was sized based on a 20 deg. F supply-air-to-room-air temperature difference, as required by G3.1.2.9.1 for each baseline system. Verify that the proposed has been modeled as designed in accordance with Table G3.1.10(b) (proposed) and that the baseline has been correctly sized in accordance with Appendix G requirements.",null,null,null,null,null,null,null,null,null,null,null,null,null,null,null,{"$f":"IFERROR(IF(ABS(C354-D354)/MIN(C354,D354),TRUE,FALSE),TRUE)","v":true}]
[null,"The baseline and/or proposed fans equivalent full load hours (determined by dividing the total annual fan consumption by the total fan power as reported in the Performance Outputs tab) is greater than 4,000 hours/year, which is unexpectedly high. Ensure that the HVAC system models reflect all mandatory controls from Section 6, and reflect the anticipated schedule of operation for the building. ",null,null,null,null,null,null,null,null,null,null,null,null,null,null,null,{"$f":"IFERROR(IF(OR(M348>4000,C350>4000),TRUE,FALSE),TRUE)","v":false}]
[null,"The baseline and/or proposed fan equivalent full load hours (determined by dividing the total annual fan consumption by the total fan power as reported in the Performance Outputs tab) differs by more than 25%, which is unexpected. Ensure that the HVAC system models reflect all mandatory controls from Section 6, and reflect the anticipated schedule of operation for the building. ",null,null,null,null,null,null,null,null,null,null,null,null,null,null,null,{"$f":"IFERROR(IF(ABS(M348-C350)/MIN(M348,C350)>0.25,TRUE,FALSE),TRUE)","v":true}]
[null,"The fan demand (as reported in the Performance Outputs tab) for the baseline and/or proposed exceeds the fan power as reported in the Air-Side HVAC tab (total system fan power) by more than 5%. Ensure that the values reflected in the Air-Side HVAC sheet are accurate and appropriately reflect the modeled fans.",null,null,null,null,null,null,null,null,null,null,null,null,null,null,null,{"$f":"IFERROR(IF(OR(((D350-F354)/MIN(D350,F354))>0.05,((F350-G354)/MIN(F350,G354))>0.05),TRUE,FALSE),TRUE)","v":true}]
[null,"The fan demand (as reported in the Performance Outputs tab) for the baseline and/or proposed is 60% less than the fan power as reported in the Air-Side HVAC tab, which is unexpected. Ensure that the values reflected in the Air-Side HVAC tab are accurate and appropriately reflect the modeled fans.",null,null,null,null,null,null,null,null,null,null,null,null,null,null,null,{"$f":"IFERROR(IF(OR(1-(D350/F354)>0.6,1-(F350/G354)>0.6),TRUE,FALSE),TRUE)","v":true}]
[null,"The total baseline and proposed capacities for the cooling and/or heating (as reported in the Air-Side HVAC tab) differ by more than 35%, making it unclear whether the baseline cooling and heating capacities have been met the G3.1.2.2 requirement for oversizing by 15% for cooling and 25% for heating. Verify that the proposed has been modeled as designed in accordance with Table G3.1.10(b) (proposed) and that the baseline has been sized in accordance with Appendix G requirements. Additionally, verify that the baseline capacities were oversized either at the system level or plant level, but not both, and that any other safety factors have been excluded from the baseline.",null,null,null,null,null,null,null,null,null,null,null,null,null,null,null,{"$f":"IFERROR(IF(OR(ABS(H354-I354)/MIN(H354,I354)>0.35,ABS(J354-K354)/MIN(J354,K354)>0.35),TRUE,FALSE),TRUE)","v":true}]
[null,"The outdoor airflow rate is higher in the baseline model compared to the proposed (as reported in the Air-Side HVAC tab). Section G3.1.2.6 exception (c) requires that if the proposed design has more outdoor air than required by the rating authority (in this case USGBC/GBCI), then the baseline must be modeled with the amount required per EQ Prerequisite Minimum Indoor Air Quality Performance, and will be less than the rate modeled in the proposed. Ensure that the baseline outdoor airflow rate is consistent with that required by EQ Prerequisite Minimum Indoor Air Quality Performance. If applying G3.1.2.6 exception (b), and using an Ez value of 1.0 for the Baseline Case, upload baseline design ventilation rate procedure calculations as described in Standard 62.1 and as required by ASHRAE 90.1 in order to claim credit for this exception.",null,null,null,null,null,null,null,null,null,null,null,null,null,null,null,{"$f":"IFERROR(IF(C356>D356,TRUE,FALSE),TRUE)","v":false}]
[null,"The equivalent full load hours (determined by dividing the total annual consumption by the total rated capacity/power as reported in the Performance Outputs tab) for the photovoltaic system is greater than 1,500 hours/year, which is unexpectedly high. Provide documentation explaining the calculation method used to estimate the annual energy generated, and indicate all factors influencing the performance, such as derate factor, tilt, orientation, etc.",null,null,null,null,null,null,null,null,null,null,null,null,null,null,null,{"$f":"IFERROR(IF(G350>1500,TRUE,FALSE),TRUE)","v":true}]
[null,"The virtual energy rate for one or more of the energy types varies by more than 10% (as reported in the Performance Outputs tab). Ensure that the energy rates have been determined using either actual rates or state average energy prices published by DOE's Energy Information Administration. Provide information regarding the utility rate structure including all demand and energy charges and the seasonal and time-of-use structure of the utility tariff.",null,null,null,null,null,null,null,null,null,null,null,null,null,null,null,{"$f":"IFERROR(IF(COUNTIF(INDEX(PO_Enrgy_8_Table,,MATCH($K$232,PO_Enrgy_8_Hdr,0)),\">0.1\")+COUNTIF(INDEX(PO_Enrgy_8_Table,,MATCH($K$232,PO_Enrgy_8_Hdr,0)),\"<-0.1\")>0,TRUE,FALSE),TRUE)","v":false}]
[null,"The virtual energy rate for the renewable energy varies from the virtual energy rate for the proposed by more than 5% (as reported in the Performance Outputs tab), which is unexpected.  Please correct or provide justification.",null,null,null,null,null,null,null,null,null,null,null,null,null,null,null,{"$f":"IFERROR(IF(PO_SiteRenewable=TRUE,IF(COUNTIF(INDEX(PO_renewable_table,,MATCH($U$32,PO_renewable_hdr,0)),\">0.05\")+COUNTIF(INDEX(PO_renewable_table,,MATCH($U$32,PO_renewable_hdr,0)),\"<-0.05\")>0,TRUE,FALSE),FALSE),TRUE)","v":false}]
[null,"The virtual energy rate for one or more exceptional calculation measures varies from the virtual energy rate for the proposed by more than 10% (as reported in the Performance Outputs tab), which is unexpected.  Please correct or provide justification.",null,null,null,null,null,null,null,null,null,null,null,null,null,null,null,{"$f":"IFERROR(IF(PO_ShowExCalc=TRUE,IF(COUNTIF(INDEX(PO_ExCalc_Table,,MATCH($U$56,PO_ExCalc_Hdr,0)),\">0.05\")+COUNTIF(INDEX(PO_ExCalc_Table,,MATCH($U$56,PO_ExCalc_Hdr,0)),\"<-0.05\")>0,TRUE,FALSE),FALSE),TRUE)","v":false}]
[null,"The proposed virtual energy rate for electricity is less than $0.06 per kWh or greater than $0.25 per kWh (as reported in the Performance Outputs tab), which is unexpected. Please correct or provide justification.",null,null,null,null,null,null,null,null,null,null,null,null,null,null,null,{"$f":"IFERROR(IF(OR(I350<0.06,I350>0.25),TRUE,FALSE),TRUE)","v":true}]
[null,"The proposed virtual energy rate for natural gas is less than $0.50 per therm or greater than $2.00 per therm (as reported in the Performance Outputs tab), which is unexpected.  Please correct or provide justification.",null,null,null,null,null,null,null,null,null,null,null,null,null,null,null,{"$f":"IFERROR(IF(OR(J350<0.5,J350>2),TRUE,FALSE),TRUE)","v":true}]
[null,"The Energy Modeling Output Reporting Method (as reported in the Performance Outputs tab) indicates that the baseline has not been rotated because the building orientation is dictated by site considerations, as allowed by Table G3.1.5 (a) (baseline) Exception 1. Provide a detailed narrative (and additional documentation as necessary) describing why this exception has been applied.",null,null,null,null,null,null,null,null,null,null,null,null,null,null,null,{"$f":"IFERROR(IF(PO_EnergyReportingMethod>2,TRUE,FALSE),FALSE)","v":false}]
[null,"Two different types of heating consumption (e.g. electricity and natural gas) are reported in the baseline results in the Performance Outputs tab, which is unexpected. If modeling system type 3, note that there should be no crankcase heating or electric space heaters modeled in the baseline. If modeling system type 1, 5, or 7, note that the hot water boiler must be modeled as a natural draft boiler and there should be no electric space heaters modeled in the baseline. Please note that there are some exceptions (e.g. G3.1.1 (a)) which allow this situation; therefore, please be cautious before changing the model as a result of this comment.",null,null,null,null,null,null,null,null,null,null,null,null,null,null,null,{"$f":"IFERROR(IF(AND(COUNTIFS(INDEX(PO_design_table,,MATCH($E$170,PO_design_hdr,0)),\"Electricity\",INDEX(PO_design_table,,MATCH($B$170,PO_design_hdr,0)),\"Space Heating\",INDEX(PO_design_table,,MATCH($G$170,PO_design_hdr,0)),\">0\")>0,COUNTIFS(INDEX(PO_design_table,,MATCH($E$170,PO_design_hdr,0)),\"<>Electricity\",INDEX(PO_design_table,,MATCH($B$170,PO_design_hdr,0)),\"Space Heating\",INDEX(PO_design_table,,MATCH($G$170,PO_design_hdr,0)),\">0\")>0),TRUE,FALSE),TRUE)","v":false}]
[null,"The unmet load hours exceed 300 hours for the baseline and/or proposed (as reported in the Performance Outputs tab), which is not in compliance with G3.1.2.3.  Please correct.",null,null,null,null,null,null,null,null,null,null,null,null,null,null,null,{"$f":"IFERROR(IF(MAX(F335:M335)>300,TRUE,FALSE),TRUE)","v":false}]
[null,{"$f":"\"The three largest end use contributors to the cost savings are \"&CONCATENATE(VLOOKUP(1,QCEnSaveRank,2,FALSE),\", \", VLOOKUP(2,QCEnSaveRank,2,FALSE), \", \",VLOOKUP(3,QCEnSaveRank,2,FALSE))&\" (as reported in the Performance Outputs tab). Please provide a narrative to justify the savings of these end uses, such as the energy conservation measures which contribute to the savings claimed.\"","v":"The three largest end use contributors to the cost savings are Interior lighting, Exterior lighting, Space heating (as reported in the Performance Outputs tab). Please provide a narrative to justify the savings of these end uses, such as the energy conservation measures which contribute to the savings claimed."},null,null,null,null,null,null,null,null,null,null,null,null,null,null,null,{"$f":"TRUE","v":true}]
[null,"The rating system requires that a minimum of 2% of the energy savings must come from building power and cooling infrastructure. Provide a narrative describing how this requirement has been met. If necessary, include additional modeling output reports.",null,null,null,null,null,null,null,null,null,null,null,null,null,null,null,{"$f":"IF(RatingSystemSelection=\"LEED v4 BD+C: Data Centers\",TRUE,FALSE)","v":false}]
[null,"Inputs for the Shading and Fenestration tab indicate that less than 10 zones were modeled for the building.  This is unusually low for a standard submission.  Revise the quantity of zones input or provide a narrative justifying the number of zones used.",null,null,null,null,null,null,null,null,null,null,null,null,null,null,null,{"$f":"IFERROR(IF(F344<10,TRUE,FALSE),TRUE)","v":false}]
[null,"The exterior lighting demand as reported in the Performance Outputs tab for the baseline and/or proposed exceeds the lighting power reported on the Lighting sheet (Summary section) by more than 5%. Ensure that the values reflected in the Lighting sheet are accurate and appropriately reflect the modeled exterior lighting power density.",null,null,null,null,null,null,null,null,null,null,null,null,null,null,null,{"$f":"TRUE","v":true}]
[null,"The total exterior lighting power allowance, including the base site allowance, is less than the designed lighting power as reported in the Lighting tab, violating mandatory Section 9.4.3. Verify that the inputs are accurate and modify the exterior lighting design as necessary to show compliance.",null,null,null,null,null,null,null,null,null,null,null,null,null,null,null,{"$f":"TRUE","v":true}]
[null,"The value for nontradable exterior lighting power (building facades, ATMs and night depositories, entrances and gatehouse inspection stations at guarded facilities, loading areas for law enforcement, fire, ambulance, and other emergency service vehicles, drive-through windows at fast food restaurants, and/or parking near 24-hour retail entrances) is less than the designed lighting power after adding in the unrestricted lighting power allowance as reported in the Lighting sheet, violating mandatory Section 9.4.3. Verify that the inputs are accurate and modify the exterior lighting design as necessary to show compliance.",null,null,null,null,null,null,null,null,null,null,null,null,null,null,null,{"$f":"TRUE","v":true}]

{"sheet":"Performance_Outputs_0","index":18,"n_rows":394,"n_cols":39,"rows_kept":394,"cut":false,"hidden":true,"merged":[[242,2,242,3],[242,10,242,11],[264,2,264,3],[264,10,264,11],[275,2,275,3],[275,10,275,11],[284,2,284,3],[284,10,284,11],[293,2,293,3],[293,10,293,11],[250,1,250,3],[251,2,251,3],[252,2,252,3],[254,1,254,3],[255,2,255,3],[256,2,256,3],[243,1,243,3],[243,10,243,11],[245,1,245,11],[246,1,246,12],[247,1,248,1],[247,2,248,3],[247,4,247,6],[247,7,247,9],[389,8,389,12],[388,8,388,12],[391,8,391,12],[392,8,392,12],[393,8,393,12],[387,8,387,12],[372,8,372,12],[373,8,373,12],[374,8,374,12],[375,8,375,12],[376,8,376,12],[377,8,377,12],[378,8,378,12],[379,8,379,12],[382,8,382,12],[390,8,390,12],[365,8,365,12],[366,8,366,12],[367,8,367,12],[368,8,368,12],[370,8,370,12],[371,8,371,12],[383,8,383,12],[384,8,384,12],[386,8,386,12],[369,8,369,12],[380,8,380,12],[381,8,381,12],[385,8,385,12],[350,1,351,1],[352,1,355,1],[358,8,358,12],[359,8,359,12],[360,8,360,12],[361,8,361,12],[362,8,362,12],[363,8,363,12],[364,8,364,12],[358,1,358,7],[359,1,359,7],[360,1,360,7],[361,1,361,7],[362,1,362,7],[363,1,363,7],[364,1,364,7],[4,7,4,12],[6,1,6,12],[7,1,7,12],[8,1,8,12],[9,1,9,12],[10,1,10,12],[11,1,11,12],[12,1,12,12],[13,1,14,1],[13,2,14,3],[13,4,14,4],[13,5,14,6],[13,7,14,9],[13,10,13,12],[14,10,14,11],[19,1,19,10],[19,11,19,12],[20,1,20,10],[20,11,20,12],[27,1,27,12],[28,1,28,12],[15,2,15,3],[16,2,16,3],[16,5,16,6],[16,7,16,9],[16,10,16,11],[17,2,17,3],[17,5,17,6],[17,7,17,9],[17,10,17,11],[18,2,18,3],[18,5,18,6],[18,7,18,9],[18,10,18,11],[33,1,33,3],[33,9,33,12],[34,1,34,12],[35,1,36,3],[35,4,35,6],[35,7,36,8],[35,9,36,12],[36,4,36,5],[30,1,30,3],[30,5,30,6],[30,7,30,8],[30,9,30,12],[32,1,32,3],[32,9,32,12],[41,1,41,5],[41,7,41,8],[41,9,41,12],[42,1,42,8],[42,9,42,12],[43,1,43,11],[38,1,38,3],[38,7,38,8],[38,9,38,12],[39,1,39,3],[39,7,39,8],[39,9,39,12],[40,1,40,3],[40,7,40,8],[40,9,40,12],[55,3,55,4],[56,3,56,4],[56,9,56,10],[56,11,56,12],[58,3,58,4],[58,9,58,10],[58,11,58,12],[48,1,48,12],[51,1,51,12],[53,1,54,1],[53,2,54,2],[53,3,54,4],[53,6,53,10],[53,11,54,12],[54,6,54,7],[54,9,54,10],[53,5,54,5],[57,3,57,4],[57,9,57,10],[57,11,57,12],[63,1,63,5],[63,9,63,10],[63,11,63,12],[65,1,65,4],[67,1,67,5],[67,9,67,10],[67,11,67,12],[59,3,59,4],[59,9,59,10],[59,11,59,12],[60,1,60,4],[62,1,62,5],[62,9,62,10],[62,11,62,12],[64,1,64,5],[64,9,64,10],[64,11,64,12],[72,1,72,12],[75,1,75,12],[76,1,76,12],[78,1,78,12],[80,1,80,12],[82,1,82,12],[68,1,68,5],[68,9,68,10],[68,11,68,12],[70,1,70,5],[70,9,70,10],[70,11,70,12],[69,1,69,5],[69,9,69,10],[69,11,69,12],[92,1,92,12],[94,1,94,2],[94,10,94,12],[96,1,97,2],[96,3,97,3],[96,4,97,4],[96,10,96,12],[97,10,97,12],[83,1,83,12],[87,1,87,12],[88,1,88,12],[89,1,89,12],[90,1,90,12],[91,1,91,12],[98,1,99,2],[98,3,99,3],[98,4,99,4],[98,10,98,12],[99,10,99,12],[100,1,101,2],[100,3,101,3],[100,4,101,4],[100,10,100,12],[101,10,101,12],[102,1,103,2],[102,3,103,3],[102,4,103,4],[102,10,102,12],[103,10,103,12],[104,1,105,2],[104,3,105,3],[104,4,105,4],[104,10,104,12],[105,10,105,12],[106,1,107,2],[106,3,107,3],[106,4,107,4],[106,10,106,12],[107,10,107,12],[108,1,109,2],[108,3,109,3],[108,4,109,4],[108,10,108,12],[109,10,109,12],[110,1,111,2],[110,3,111,3],[110,4,111,4],[110,10,110,12],[111,10,111,12],[112,1,113,2],[112,3,113,3],[112,4,113,4],[112,10,112,12],[113,10,113,12],[114,1,115,2],[114,3,115,3],[114,4,115,4],[114,10,114,12],[115,10,115,12],[116,1,117,2],[116,3,117,3],[116,4,117,4],[116,10,116,12],[117,10,117,12],[118,1,119,2],[118,3,119,3],[118,4,119,4],[118,10,118,12],[119,10,119,12],[120,1,121,2],[120,3,121,3],[120,4,121,4],[120,10,120,12],[121,10,121,12],[122,1,123,2],[122,3,123,3],[122,4,123,4],[122,10,122,12],[123,10,123,12],[124,1,125,2],[124,3,125,3],[124,4,125,4],[124,10,124,12],[125,10,125,12],[126,1,127,2],[126,3,127,3],[126,4,127,4],[126,10,126,12],[127,10,127,12],[128,1,129,2],[128,3,129,3],[128,4,129,4],[128,10,128,12],[129,10,129,12],[130,1,131,2],[130,3,131,3],[130,4,131,4],[130,10,130,12],[131,10,131,12],[132,1,133,2],[132,3,133,3],[132,4,133,4],[132,10,132,12],[133,10,133,12],[134,1,135,2],[134,3,135,3],[134,4,135,4],[134,10,134,12],[135,10,135,12],[136,1,137,2],[136,3,137,3],[136,4,137,4],[136,10,136,12],[137,10,137,12],[138,1,139,2],[138,3,139,3],[138,4,139,4],[138,10,138,12],[139,10,139,12],[140,1,141,2],[140,3,141,3],[140,4,141,4],[140,10,140,12],[141,10,141,12],[146,1,146,3],[146,10,146,12],[148,1,148,5],[148,10,148,12],[149,1,149,5],[149,10,149,12],[142,1,143,2],[142,3,143,3],[142,4,143,4],[142,10,142,12],[143,10,143,12],[145,1,145,3],[145,10,145,12],[147,1,147,3],[147,10,147,12],[157,1,157,5],[157,10,157,12],[161,1,161,12],[162,1,162,12],[163,1,163,12],[164,1,164,12],[152,1,152,5],[152,10,152,12],[154,1,154,4],[154,10,154,12],[155,1,155,4],[155,10,155,12],[156,1,156,4],[156,10,156,12],[170,31,171,32],[172,1,173,2],[172,3,173,3],[172,4,173,4],[172,9,173,9],[172,10,173,11],[172,12,173,12],[172,31,173,32],[165,1,165,12],[166,1,166,12],[168,1,168,2],[168,10,168,11],[170,1,171,2],[170,3,171,3],[170,4,171,4],[170,9,171,9],[170,10,171,11],[170,12,171,12],[174,31,175,32],[176,1,177,2],[176,3,177,3],[176,4,177,4],[176,9,177,9],[176,10,177,11],[176,12,177,12],[176,31,177,32],[174,1,175,2],[174,3,175,3],[174,4,175,4],[174,9,175,9],[174,10,175,11],[174,12,175,12],[178,31,179,32],[180,1,181,2],[180,3,181,3],[180,4,181,4],[180,9,181,9],[180,10,181,11],[180,12,181,12],[180,31,181,32],[178,1,179,2],[178,3,179,3],[178,4,179,4],[178,9,179,9],[178,10,179,11],[178,12,179,12],[182,31,183,32],[184,1,185,2],[184,3,185,3],[184,4,185,4],[184,9,185,9],[184,10,185,11],[184,12,185,12],[184,31,185,32],[182,1,183,2],[182,3,183,3],[182,4,183,4],[182,9,183,9],[182,10,183,11],[182,12,183,12],[186,31,187,32],[188,1,189,2],[188,3,189,3],[188,4,189,4],[188,9,189,9],[188,10,189,11],[188,12,189,12],[188,31,189,32],[186,1,187,2],[186,3,187,3],[186,4,187,4],[186,9,187,9],[186,10,187,11],[186,12,187,12],[190,31,191,32],[192,1,193,2],[192,3,193,3],[192,4,193,4],[192,9,193,9],[192,10,193,11],[192,12,193,12],[192,31,193,32],[190,1,191,2],[190,3,191,3],[190,4,191,4],[190,9,191,9],[190,10,191,11],[190,12,191,12],[194,31,195,32],[196,1,197,2],[196,3,197,3],[196,4,197,4],[196,9,197,9],[196,10,197,11],[196,12,197,12],[196,31,197,32],[194,1,195,2],[194,3,195,3],[194,4,195,4],[194,9,195,9],[194,10,195,11],[194,12,195,12],[198,31,199,32],[200,1,201,2],[200,3,201,3],[200,4,201,4],[200,9,201,9],[200,10,201,11],[200,12,201,12],[200,31,201,32],[198,1,199,2],[198,3,199,3],[198,4,199,4],[198,9,199,9],[198,10,199,11],[198,12,199,12],[202,31,203,32],[204,1,205,2],[204,3,205,3],[204,4,205,4],[204,9,205,9],[204,10,205,11],[204,12,205,12],[204,31,205,32],[202,1,203,2],[202,3,203,3],[202,4,203,4],[202,9,203,9],[202,10,203,11],[202,12,203,12],[206,31,207,32],[208,1,209,2],[208,3,209,3],[208,4,209,4],[208,9,209,9],[208,10,209,11],[208,12,209,12],[208,31,209,32],[206,1,207,2],[206,3,207,3],[206,4,207,4],[206,9,207,9],[206,10,207,11],[206,12,207,12],[210,31,211,32],[212,1,213,2],[212,3,213,3],[212,4,213,4],[212,9,213,9],[212,10,213,11],[212,12,213,12],[212,31,213,32],[210,1,211,2],[210,3,211,3],[210,4,211,4],[210,9,211,9],[210,10,211,11],[210,12,211,12],[214,31,215,32],[216,1,217,2],[216,3,217,3],[216,4,217,4],[216,9,217,9],[216,10,217,11],[216,12,217,12],[216,31,217,32],[214,1,215,2],[214,3,215,3],[214,4,215,4],[214,9,215,9],[214,10,215,11],[214,12,215,12],[223,2,223,3],[223,10,223,11],[224,2,224,3],[224,10,224,11],[226,1,226,3],[226,10,226,11],[220,1,221,1],[220,2,221,3],[220,4,220,6],[220,7,220,9],[220,10,220,12],[221,10,221,11],[225,2,225,3],[225,10,225,11],[229,1,229,11],[230,1,230,3],[230,4,230,6],[230,7,230,9],[230,10,230,12],[232,2,232,3],[232,4,232,6],[232,7,232,9],[232,10,232,12],[237,13,237,15],[238,10,238,11],[240,2,240,3],[240,10,240,11],[241,2,241,3],[241,10,241,11],[233,2,233,3],[233,4,233,6],[233,7,233,9],[233,10,233,12],[236,1,236,11],[237,1,238,1],[237,2,238,3],[237,4,237,6],[237,7,237,9],[237,10,237,12],[234,2,234,3],[234,4,234,6],[234,7,234,9],[234,10,234,12],[259,13,259,15],[260,10,260,11],[262,2,262,3],[262,10,262,11],[263,2,263,3],[263,10,263,11],[258,1,258,3],[259,1,260,1],[259,2,260,3],[259,4,259,6],[259,7,259,9],[259,10,259,12],[270,13,270,15],[271,10,271,11],[273,2,273,3],[273,10,273,11],[274,2,274,3],[274,10,274,11],[265,1,265,3],[265,10,265,11],[266,1,266,3],[268,1,268,12],[270,1,271,1],[270,2,271,3],[270,4,270,6],[270,7,270,9],[270,10,270,12],[279,13,279,15],[280,10,280,11],[282,2,282,3],[282,10,282,11],[283,2,283,3],[283,10,283,11],[276,1,276,3],[276,10,276,11],[277,1,277,11],[279,1,280,1],[279,2,280,3],[279,4,279,6],[279,7,279,9],[279,10,279,12],[288,13,288,15],[289,10,289,11],[291,2,291,3],[291,10,291,11],[292,2,292,3],[292,10,292,11],[285,1,285,3],[285,10,285,11],[286,1,286,11],[288,1,289,1],[288,2,289,3],[288,4,288,6],[288,7,288,9],[288,10,288,12],[294,1,294,3],[294,10,294,11],[295,1,295,11],[296,1,296,9],[296,10,296,12],[299,1,300,1],[299,2,300,3],[299,4,299,6],[299,7,299,9],[299,10,299,12],[305,1,305,3],[305,10,305,11],[308,1,308,12],[309,1,310,1],[309,2,310,3],[309,4,309,7],[309,8,309,12],[299,13,299,15],[300,10,300,11],[302,2,302,3],[302,10,302,11],[303,2,303,3],[303,10,303,11],[304,2,304,3],[304,10,304,11],[313,1,313,3],[313,6,313,7],[313,10,313,12],[314,2,314,3],[314,6,314,7],[314,10,314,12],[309,13,309,15],[310,6,310,7],[310,10,310,12],[312,2,312,3],[312,6,312,7],[312,10,312,12],[320,1,321,1],[320,2,321,3],[320,4,320,6],[320,7,320,9],[320,10,320,12],[321,10,321,11],[315,2,315,3],[315,6,315,7],[315,10,315,12],[317,1,317,3],[317,6,317,7],[317,10,317,12],[316,2,316,3],[316,6,316,7],[316,10,316,12],[331,5,331,7],[331,8,331,12],[332,1,332,4],[332,5,332,7],[332,8,332,12],[323,2,323,3],[323,10,323,11],[324,2,324,3],[324,10,324,11],[326,1,326,3],[326,10,326,11],[325,2,325,3],[325,10,325,11],[247,10,247,11],[365,1,365,7],[366,1,366,7],[367,1,367,7],[368,1,368,7],[369,1,369,7],[370,1,370,7],[371,1,371,7],[372,1,372,7],[338,1,339,1],[340,1,341,1],[342,1,343,1],[344,1,349,1],[335,1,335,4],[335,5,335,12],[336,2,336,6],[333,1,333,4],[333,5,333,7],[333,8,333,12],[334,1,334,4],[334,5,334,7],[334,8,334,12],[327,1,327,11],[331,1,331,4],[373,1,373,7],[374,1,374,7],[375,1,375,7],[376,1,376,7],[377,1,377,7],[378,1,378,7],[379,1,379,7],[380,1,380,7],[381,1,381,7],[382,1,382,7],[392,1,392,7],[393,1,393,7],[383,1,383,7],[384,1,384,7],[385,1,385,7],[386,1,386,7],[387,1,387,7],[388,1,388,7],[389,1,389,7],[390,1,390,7],[391,1,391,7]]}
["G"]
["G","Performance Rating Method Outputs"]
["G"]
["G",null,null,null,null,null,null,null,null,null,null,null,null,null,null,null,"Multiplier"]
["G","Energy Model ID",null,null,null,null,null,null,null,null,null,null,null,null,null,null,{"$f":"IFERROR(INDEX(MBD_EMI_Table,MATCH($H$5,MBD_EMI_Index,0),MATCH('Multiple Buildings Details'!$J$16,MBD_EMI_Hdr,0)),\"ERROR\")","v":"ERROR"}]
["G"]
["G","Energy Sources"]
["G"]
["G","Enter each energy source serving the project, the units for the energy consumption and demand, and the associated utility rate name and tariff structure. Default EIA Rates may be used in lieu of local utility rates at the discretion of the energy modeler.  All project energy types and the demand and consumption units must be entered before entering energy simulation output data. Also enter the units used to report energy consumption totals (the sum of all energy types) for site energy consumption and source energy consumption (generally, the IP units are Btu x 10^6, the SI site energy units are kWh, and the SI source energy units are MJ).\n\n\n"]
["G","DES Path 1: If the project is using campus or district thermal energy using ASHRAE 90.1-2010 without Addenda (District Energy Modeling Path 1), select District Cooling, District Hot Water, or District Steam as applicable and all other energy sources serving the building "]
["G","DES Path 2: If the project is modeling campus or district thermal energy using the Full DES Performance Accounting method (District Energy Modeling Path 2) include each energy source serving the building except District Energy, AND include each energy source in the district or campus plant (e.g. electricity, natural gas, etc.) if different from the energy sources serving the building. Do not select District Cooling, District Hot Water, or District Steam. "]
["G","DES Path 3: If the project is modeling campus or district thermal energy using the Streamlined DES Accounting Method (District Energy Modeling Path 3), select District Cooling, District Hot Water, or District Steam as applicable, AND each energy source serving the building, AND each energy source in the district or campus plant if different from the energy sources serving the building (e.g. electricity, natural gas, etc.).\n"]
["G"]
["G","Energy Type","Energy Consumption Units",null,"Demand Units","Utility Rate Name",null,"Utility Rate Structure",null,null,"Unit Conversion Factors"]
["G",null,null,null,null,null,null,null,null,null,{"$f":"CONCATENATE(\"Energy Type Consumption Units to Site Energy Consumption (\",PO_SiteUnits,\")\")","v":"Energy Type Consumption Units to Site Energy Consumption (Btu x 10^6)"},null,{"$f":"CONCATENATE(\"Energy Type Consumption Units to Source Energy Consumption (\",PO_SourceUnits,\")\")","v":"Energy Type Consumption Units to Source Energy Consumption (Btu x 10^6)"}]
["G","Energy_Type","Energy_Consumption_Units",null,"Demand_Units","Utility_Rate_Name",null,"Utility_Rate_Structure",null,null,"Site_Energy_Conversion_Factor",null,"Source_Energy_Conversion_Factor"]
["G",{"$f":"IFERROR(IF(Performance_Outputs_1!B17<>\"\",Performance_Outputs_1!B17,\"\"),\"\")","v":"Electricity"},{"$f":"IFERROR(IF(Performance_Outputs_1!C17<>\"\",Performance_Outputs_1!C17,\"\"),\"\")","v":"kWh"},"",{"$f":"IFERROR(IF(Performance_Outputs_1!E17<>\"\",Performance_Outputs_1!E17,\"\"),\"\")","v":"kW"},{"$f":"IFERROR(IF(Performance_Outputs_1!F17<>\"\",Performance_Outputs_1!F17,\"\"),\"\")","v":""},"",{"$f":"IFERROR(IF(Performance_Outputs_1!H17<>\"\",Performance_Outputs_1!H17,\"\"),\"\")","v":""},"","",{"$f":"IFERROR(VLOOKUP(\"kBtu\",EnergyUnitsTable,3,FALSE)/VLOOKUP(PO_SiteUnits,EnergyUnitsTable,3,FALSE)*VLOOKUP($C17,EnergyUnitsTable,3,FALSE),\"\")","v":3.4120000000000001E-3},null,{"$f":"IFERROR(VLOOKUP(\"kBtu\",EnergyUnitsTable,3,FALSE)/VLOOKUP(PO_SourceUnits,EnergyUnitsTable,3,FALSE)*VLOOKUP($C17,EnergyUnitsTable,3,FALSE)*VLOOKUP($B17,FuelTypesTable,2,FALSE),\"\")","v":1.0713680000000001E-2}]
["G",{"$f":"IFERROR(IF(Performance_Outputs_1!B18<>\"\",Performance_Outputs_1!B18,\"\"),\"\")","v":"Natural Gas"},{"$f":"IFERROR(IF(Performance_Outputs_1!C18<>\"\",Performance_Outputs_1!C18,\"\"),\"\")","v":"therm"},"",{"$f":"IFERROR(IF(Performance_Outputs_1!E18<>\"\",Performance_Outputs_1!E18,\"\"),\"\")","v":"Btuh x 10^6"},{"$f":"IFERROR(IF(Performance_Outputs_1!F18<>\"\",Performance_Outputs_1!F18,\"\"),\"\")","v":""},"",{"$f":"IFERROR(IF(Performance_Outputs_1!H18<>\"\",Performance_Outputs_1!H18,\"\"),\"\")","v":""},"","",{"$f":"IFERROR(VLOOKUP(\"kBtu\",EnergyUnitsTable,3,FALSE)/VLOOKUP(PO_SiteUnits,EnergyUnitsTable,3,FALSE)*VLOOKUP($C18,EnergyUnitsTable,3,FALSE),\"\")","v":0.1},null,{"$f":"IFERROR(VLOOKUP(\"kBtu\",EnergyUnitsTable,3,FALSE)/VLOOKUP(PO_SourceUnits,EnergyUnitsTable,3,FALSE)*VLOOKUP($C18,EnergyUnitsTable,3,FALSE)*VLOOKUP($B18,FuelTypesTable,2,FALSE),\"\")","v":0.10500000000000001}]
["G",{"$f":"IFERROR(IF(Performance_Outputs_1!B19<>\"\",Performance_Outputs_1!B19,\"\"),\"\")","v":"District Cooling"},{"$f":"IFERROR(IF(Performance_Outputs_1!C19<>\"\",Performance_Outputs_1!C19,\"\"),\"\")","v":"MWh"},"",{"$f":"IFERROR(IF(Performance_Outputs_1!E19<>\"\",Performance_Outputs_1!E19,\"\"),\"\")","v":"MW"},{"$f":"IFERROR(IF(Performance_Outputs_1!F19<>\"\",Performance_Outputs_1!F19,\"\"),\"\")","v":""},"",{"$f":"IFERROR(IF(Performance_Outputs_1!H19<>\"\",Performance_Outputs_1!H19,\"\"),\"\")","v":""},"","",{"$f":"IFERROR(VLOOKUP(\"kBtu\",EnergyUnitsTable,3,FALSE)/VLOOKUP(PO_SiteUnits,EnergyUnitsTable,3,FALSE)*VLOOKUP($C19,EnergyUnitsTable,3,FALSE),\"\")","v":3.4119999999999999},null,{"$f":"IFERROR(VLOOKUP(\"kBtu\",EnergyUnitsTable,3,FALSE)/VLOOKUP(PO_SourceUnits,EnergyUnitsTable,3,FALSE)*VLOOKUP($C19,EnergyUnitsTable,3,FALSE)*VLOOKUP($B19,FuelTypesTable,2,FALSE),\"\")","v":3.4119999999999999}]
["G","Site energy consumption units used to report energy consumption totals (sum of energy types)",null,null,null,null,null,null,null,null,null,{"$f":"IF(SI_IP_Units=\"SI\",\"MWh\",\"Btu x 10^6\")","v":"Btu x 10^6"}]
["G","Source energy consumption units used to report energy consumption totals (sum of energy types)",null,null,null,null,null,null,null,null,null,{"$f":"IF(SI_IP_Units=\"SI\",\"MWh\",\"Btu x 10^6\")","v":"Btu x 10^6"}]
["G"]
["G"]
["G","On-Site Renewable Energy Production"]
["G",null,null,null,null,null,null,null,null,null,null,null,null,null,null,null,null,null,null,null,null,null,null,null,null,null,null,null,null,"Site-generated renewable energy?"]
["G","The project building uses on-site renewable energy systems. (Optional)",null,null,null,null,null,null,null,null,null,null,null,null,null,null,null,null,null,null,null,null,null,null,null,null,null,null,null,true]
["G"]
["G","Table: On-Site Renewable energy source summary"]
["G","Renewable energy production should be reported in the table below. Note: This calculator will automatically reduce the proposed energy consumption and cost to accurately reflect the revised results. Therefore, any site-generated renewable energy production should NOT be included in the Performance Rating Method tables below.\n\nSelect the site-generated renewable energy source. Enter the rated capacity of the site-generated renewable source including the units (e.g. for photovoltaics 10 kW). Include all relevant capacities (i.e for solar thermal, both the storage tank capacity and the solar thermal panel capacity).\n\nThe cost of the Site-generated renewable cost will be automatically determined using the virtual rate once the output data (consumption and cost) is entered below. The cost may be overridden by the user, however this may generate an issue on the Quality Checks and the user should be prepared to justify the entered cost value."]
["G"]
["G","On-Site Renewable Source",null,null,"Offset \nEnergy Type","Rated Capacity ",null,"Annual Site Energy Generated",null,"Annual Energy Cost Offset with \nSite-Generated Renewables \n($/year)",null,null,null,null,null,null,null,null,null,"Default_Cost","Rate_Variance"]
["G","Renewable_Source",null,null,"Offset_Energy_Type","Rated_Capacity",null,"Annual_Site_Energy",null,"Cost",null,null,null,null,null,null,"Site_Unit_Conversion","Source_Unit_Conversion","EFLH","Default_Cost","Rate_Variance"]
["A","Photovoltaic system",null,null,"Electricity",null,{"$f":"IFERROR(IF(ISBLANK($E33),\"\",VLOOKUP($E33,PO_Enrgy_1_Table,MATCH($E$16,PO_Enrgy_1_Hdr,0),FALSE)),\"\")","v":"kW"},null,{"$f":"IFERROR(IF(ISBLANK($E33),\"\",VLOOKUP($E33,PO_Enrgy_1_Table,MATCH($C$16,PO_Enrgy_1_Hdr,0),FALSE)),\"\")","v":"kWh"},{"$f":"IFERROR($H33*VLOOKUP($E33,PO_Enrgy_8_Table,MATCH($H$232,PO_Enrgy_8_Hdr,0),FALSE),\"\")","v":""},"","","",null,null,null,{"$f":"IFERROR(IF(ISBLANK($E33),\"\",VLOOKUP($E33,PO_Enrgy_1_Table,MATCH($K$16,PO_Enrgy_1_Hdr,0),FALSE)),\"\")","v":3.4120000000000001E-3},{"$f":"IFERROR(IF(ISBLANK($E33),\"\",VLOOKUP($E33,PO_Enrgy_1_Table,MATCH($M$16,PO_Enrgy_1_Hdr,0),FALSE)),\"\")","v":1.0713680000000001E-2},{"$f":"IFERROR((H33*VLOOKUP(I33,EnergyUnitsTable,3,FALSE))/(F33*VLOOKUP(G33,DemandTable,3,FALSE)),\"\")","v":""},{"$f":"IFERROR($H33*VLOOKUP($E33,PO_Enrgy_8_Table,MATCH($H$232,PO_Enrgy_8_Hdr,0),FALSE),\"\")","v":""},{"$f":"IFERROR(1-$J33/$T33,0)","v":0}]
[null,"Solar thermal system",null,null,"Natural Gas",null,{"$f":"IFERROR(IF(ISBLANK($E34),\"\",VLOOKUP($E34,PO_Enrgy_1_Table,MATCH($E$16,PO_Enrgy_1_Hdr,0),FALSE)),\"\")","v":"Btuh x 10^6"},null,{"$f":"IFERROR(IF(ISBLANK($E34),\"\",VLOOKUP($E34,PO_Enrgy_1_Table,MATCH($C$16,PO_Enrgy_1_Hdr,0),FALSE)),\"\")","v":"therm"},"","","","",null,null,null,{"$f":"IFERROR(IF(ISBLANK($E34),\"\",VLOOKUP($E34,PO_Enrgy_1_Table,MATCH($K$16,PO_Enrgy_1_Hdr,0),FALSE)),\"\")","v":0.1},{"$f":"IFERROR(IF(ISBLANK($E34),\"\",VLOOKUP($E34,PO_Enrgy_1_Table,MATCH($M$16,PO_Enrgy_1_Hdr,0),FALSE)),\"\")","v":0.10500000000000001},{"$f":"IFERROR((H34*VLOOKUP(I34,EnergyUnitsTable,3,FALSE))/(F34*VLOOKUP(G34,DemandTable,3,FALSE)),\"\")","v":""},{"$f":"IFERROR($H34*VLOOKUP($E34,PO_Enrgy_8_Table,MATCH($H$232,PO_Enrgy_8_Hdr,0),FALSE),\"\")","v":""},{"$f":"IFERROR(1-$J34/$T34,0)","v":0}]
[null,"Renewable Summary"]
[null,"Offset Energy Type",null,null,"Annual Site Energy Generated",null,null,{"$f":"CONCATENATE(\"Annual Source Energy Generated\n (\", PO_SourceUnits, \")\")","v":"Annual Source Energy Generated\n (Btu x 10^6)"},null,"Annual Energy Cost Offset with \nSite-Generated Renewables \n($/year)"]
[null,null,null,null,"Units per Energy Type",null,{"$f":"CONCATENATE(\"Units = \", PO_SiteUnits,\")\")","v":"Units = Btu x 10^6)"}]
[null,"Energy_Type",null,null,"Site_Energy_Ind_Units","Site_Ind_Units","Site_Energy_Same_Units","Source_Energy",null,"Cost",null,null,null,null,null,null,"Site_Unit_Conversion","Source_Unit_Conversion"]
[null,{"$f":"IFERROR(IF(ISBLANK(B17),\"\",B17),\"\")","v":"Electricity"},null,null,{"$f":"IFERROR(IF(PO_SiteRenewable=TRUE,SUMIF(INDEX(PO_renewable_table,0,MATCH($E$32,PO_renewable_hdr,0)),$B39,INDEX(PO_renewable_table,0,MATCH($H$32,PO_renewable_hdr,0))),\"\"),\"\")","v":0},{"$f":"IFERROR(IF(ISBLANK($B39),\"\",VLOOKUP($B39,PO_Enrgy_1_Table,MATCH($C$16,PO_Enrgy_1_Hdr,0),FALSE)),\"\")","v":"kWh"},{"$f":"IFERROR($E39*$Q39,\"\")","v":0},{"$f":"IFERROR($E39*$R39,\"\")","v":0},null,{"$f":"IFERROR(IF(PO_SiteRenewable=TRUE,SUMIF($E$33:$E$34,$B39,$J$33:$J$34),0),\"\")","v":0},null,null,null,null,null,null,{"$f":"IFERROR(IF(ISBLANK($B39),\"\",VLOOKUP($B39,PO_Enrgy_1_Table,MATCH($K$16,PO_Enrgy_1_Hdr,0),FALSE)),\"\")","v":3.4120000000000001E-3},{"$f":"IFERROR(IF(ISBLANK($B39),\"\",VLOOKUP($B39,PO_Enrgy_1_Table,MATCH($M$16,PO_Enrgy_1_Hdr,0),FALSE)),\"\")","v":1.0713680000000001E-2}]
[null,{"$f":"IFERROR(IF(ISBLANK(B18),\"\",B18),\"\")","v":"Natural Gas"},null,null,{"$f":"IFERROR(IF(PO_SiteRenewable=TRUE,SUMIF(INDEX(PO_renewable_table,0,MATCH($E$32,PO_renewable_hdr,0)),$B40,INDEX(PO_renewable_table,0,MATCH($H$32,PO_renewable_hdr,0))),\"\"),\"\")","v":0},{"$f":"IFERROR(IF(ISBLANK($B40),\"\",VLOOKUP($B40,PO_Enrgy_1_Table,MATCH($C$16,PO_Enrgy_1_Hdr,0),FALSE)),\"\")","v":"therm"},{"$f":"IFERROR($E40*$Q40,\"\")","v":0},{"$f":"IFERROR($E40*$R40,\"\")","v":0},null,{"$f":"IFERROR(IF(PO_SiteRenewable=TRUE,SUMIF($E$33:$E$34,$B40,$J$33:$J$34),0),\"\")","v":0},null,null,null,null,null,null,{"$f":"IFERROR(IF(ISBLANK($B40),\"\",VLOOKUP($B40,PO_Enrgy_1_Table,MATCH($K$16,PO_Enrgy_1_Hdr,0),FALSE)),\"\")","v":0.1},{"$f":"IFERROR(IF(ISBLANK($B40),\"\",VLOOKUP($B40,PO_Enrgy_1_Table,MATCH($M$16,PO_Enrgy_1_Hdr,0),FALSE)),\"\")","v":0.10500000000000001}]
[null,{"$f":"IFERROR(IF(ISBLANK(B19),\"\",B19),\"\")","v":"District Cooling"},null,null,{"$f":"IFERROR(IF(PO_SiteRenewable=TRUE,SUMIF(INDEX(PO_renewable_table,0,MATCH($E$32,PO_renewable_hdr,0)),$B41,INDEX(PO_renewable_table,0,MATCH($H$32,PO_renewable_hdr,0))),\"\"),\"\")","v":0},{"$f":"IFERROR(IF(ISBLANK($B41),\"\",VLOOKUP($B41,PO_Enrgy_1_Table,MATCH($C$16,PO_Enrgy_1_Hdr,0),FALSE)),\"\")","v":"MWh"},{"$f":"IFERROR($E41*$Q41,\"\")","v":0},{"$f":"IFERROR($E41*$R41,\"\")","v":0},null,{"$f":"IFERROR(IF(PO_SiteRenewable=TRUE,SUMIF($E$33:$E$34,$B41,$J$33:$J$34),0),\"\")","v":0},null,null,null,null,null,null,{"$f":"IFERROR(IF(ISBLANK($B41),\"\",VLOOKUP($B41,PO_Enrgy_1_Table,MATCH($K$16,PO_Enrgy_1_Hdr,0),FALSE)),\"\")","v":3.4119999999999999},{"$f":"IFERROR(IF(ISBLANK($B41),\"\",VLOOKUP($B41,PO_Enrgy_1_Table,MATCH($M$16,PO_Enrgy_1_Hdr,0),FALSE)),\"\")","v":3.4119999999999999}]
[null,"Total",null,null,null,null,{"$f":"IFERROR(SUM(INDEX(PO_Enrgy_2_Table,0,MATCH($G$38,PO_Enrgy_2_Hdr,0))),\"\")","v":0},{"$f":"IFERROR(SUM(INDEX(PO_Enrgy_2_Table,0,MATCH($H$38,PO_Enrgy_2_Hdr,0))),\"\")","v":0},{"$f":"SUM(I38:I40)","v":0},{"$f":"IFERROR(SUM(J32:J34),\"\")","v":0}]
[null,"Percent renewable energy (by cost)",null,null,null,null,null,null,null,{"$f":"IF(Datacenter_Avg=TRUE,IFERROR($J42/$J$295,\"\"),IFERROR($J42/$J$266,\"\"))","v":""}]
["G"]
["G"]
["G","Exceptional Calculation Methods",null,null,null,null,null,null,null,null,null,null,null,null,null,null,null,null,null,"Exceptional Calculations?"]
["G",null,null,null,null,null,null,null,null,null,null,null,null,null,null,null,null,null,null,true]
["G","The building energy analysis includes exceptional calculation methods. (Optional)"]
["G","Data Centers:  If using the Data Center Calculator to document energy improvements in IT loads, the checkbox stating that the building energy analysis includes exceptional calculation methods must be checked.  In the table below, select the checkbox “Apply to Baseline?” for each end-use impacted, and provide:\n•  The completed Data Center Calculator (found under the prerequisite's \"Resources\" tab in the Credit Library), as well as copies of any other spreadsheets used to perform the calculations\n•  If energy efficiency credit is applied for any future IT equipment, electrical infrastructure, and/or for future server room cooling equipment that will serve unfinished spaces (meaning that the IT equipment, electrical infrastructure, and/or unfinished space cooling equipment will not be installed during Startup Occupancy), provide a binding Owner commitment letter and (for any tenants) sample lease agreements with binding tenant requirements that confirms that the future installed IT equipment will be at least as efficient as the equipment modeled in the Data Center Calculator. Note that the future equipment may not be modeled as being more efficient than the equipment installed for Startup occupancy.\n•  If taking credit for the impact of IT equipment load reductions on HVAC energy consumption, upload the simulation input summary and simulation output reports, and Performance Rating summary with the baseline model revised to include the baseline IT and electrical infrastructure from the Data Center Calculator.\n"]
["G"]
["G","Table: Exceptional calculation methods energy summary"]
["G","Report Exceptional calculation methods in the table below.\n\nSelect \"Add to Baseline\" if the exceptional calculation adjusts the Baseline building energy consumption and cost up, or \"Subtract from Proposed\" if the exceptional calculation adjusts the Proposed building energy consumption and cost down.\n\nThis calculator will automatically reduce the proposed energy consumption and cost, or increase the baseline energy consumption and cost to accurately reflect the revised results. Therefore, any exceptional calculation methods should NOT be included in the Performance Rating Method Compliance report below.  If any single Exceptional Calculation Method results in energy penalties for a given energy type (i.e. increased proposed case electricity energy usage, or decreased baseline case fossil fuel energy usage), that penalty should be entered as a negative number. If any single Exceptional Calculation Method affects more than one energy type, please add additional rows to capture the method's impact to that energy type. If taking credit for Data Center Equipment or Retail Process Loads, those savings must be recorded here and the supplemental spreadsheets associated with that equipment must be uploaded as part of the submittal documents.\n\nThe cost of the Exceptional Calculation Method will be automatically determined using the virtual rate once the output data (consumption and cost) is entered below. The cost may be overridden by the user, however this may generate an issue on the Quality Checks and the user should be prepared to justify the entered cost value."]
["G"]
["G","Exceptional \nCalculation \nNumber","Exceptional \nCalculation \nMethod ID","Energy Type(s)",null,"Add to Baseline?\nSubtract from Proposed?","Annual Energy Difference by Energy Type",null,null,null,null,"Annual Energy Cost Difference"]
["G",null,null,null,null,null,"Site Energy \n(Units per Energy Type)",null,{"$f":"CONCATENATE(\"Site Energy \n(Units = \", PO_SiteUnits,\")\")","v":"Site Energy \n(Units = Btu x 10^6)"},{"$f":"\"Source Energy Consumption \n(\"  & PO_SourceUnits & \")\"","v":"Source Energy Consumption \n(Btu x 10^6)"}]
["G","Ex_Calc_Number","Ex_Calc_ID","Energy_Type",null,"Add_Baseline_Subtract_Proposed","Site_Energy_Ind_Units","Site_Ind_Units","Site_Energy_Same_Units","Source_Energy",null,"Cost",null,null,null,null,"Site_Unit_Conversion","Source_Unit_Conversion",null,"Default_Cost","Rate_Variance"]
["B",null,null,null,null,null,null,{"$f":"IFERROR(IF(ISBLANK($D57),\"\",VLOOKUP($D57,PO_Enrgy_1_Table,MATCH($C$16,PO_Enrgy_1_Hdr,0),FALSE)),\"\")","v":""},{"$f":"IFERROR(VLOOKUP($D57,PO_Enrgy_1_Table,MATCH($K$16,PO_Enrgy_1_Hdr,0),FALSE)*$G57,\"\")","v":""},{"$f":"IFERROR(VLOOKUP($D57,PO_Enrgy_1_Table,MATCH($M$16,PO_Enrgy_1_Hdr,0),FALSE)*$G57,\"\")","v":""},null,{"$f":"IFERROR($G57*IF($F57=\"Subtract from Proposed\",VLOOKUP($D57,PO_Enrgy_8_Table,MATCH($H$232,PO_Enrgy_8_Hdr,0),FALSE),VLOOKUP($D57,PO_Enrgy_8_Table,MATCH($E$232,PO_Enrgy_8_Hdr,0),FALSE)),\"\")","v":""},null,null,null,null,{"$f":"IFERROR(IF(ISBLANK($D57),\"\",VLOOKUP($D57,PO_Enrgy_1_Table,MATCH($K$16,PO_Enrgy_1_Hdr,0),FALSE)),\"\")","v":""},{"$f":"IFERROR(IF(ISBLANK($D57),\"\",VLOOKUP($D57,PO_Enrgy_1_Table,MATCH($M$16,PO_Enrgy_1_Hdr,0),FALSE)),\"\")","v":""},null,{"$f":"IFERROR($G57*IF($F57=\"Subtract from Proposed\",VLOOKUP($D57,PO_Enrgy_8_Table,MATCH($H$232,PO_Enrgy_8_Hdr,0),FALSE),VLOOKUP($D57,PO_Enrgy_8_Table,MATCH($E$232,PO_Enrgy_8_Hdr,0),FALSE)),\"\")","v":""},{"$f":"IFERROR(1-$J57/$T57,0)","v":0},null,null,null,null,null,null,""]
[null,1,null,null,null,null,null,{"$f":"IFERROR(IF(ISBLANK($D58),\"\",VLOOKUP($D58,PO_Enrgy_1_Table,MATCH($C$16,PO_Enrgy_1_Hdr,0),FALSE)),\"\")","v":""},{"$f":"IFERROR(VLOOKUP($D58,PO_Enrgy_1_Table,MATCH($K$16,PO_Enrgy_1_Hdr,0),FALSE)*$G58,\"\")","v":""},{"$f":"IFERROR(VLOOKUP($D58,PO_Enrgy_1_Table,MATCH($M$16,PO_Enrgy_1_Hdr,0),FALSE)*$G58,\"\")","v":""},null,{"$f":"IFERROR($G58*IF($F58=\"Subtract from Proposed\",VLOOKUP($D58,PO_Enrgy_8_Table,MATCH($H$232,PO_Enrgy_8_Hdr,0),FALSE),VLOOKUP($D58,PO_Enrgy_8_Table,MATCH($E$232,PO_Enrgy_8_Hdr,0),FALSE)),\"\")","v":""},null,null,null,null,{"$f":"IFERROR(IF(ISBLANK($D58),\"\",VLOOKUP($D58,PO_Enrgy_1_Table,MATCH($K$16,PO_Enrgy_1_Hdr,0),FALSE)),\"\")","v":""},{"$f":"IFERROR(IF(ISBLANK($D58),\"\",VLOOKUP($D58,PO_Enrgy_1_Table,MATCH($M$16,PO_Enrgy_1_Hdr,0),FALSE)),\"\")","v":""},null,{"$f":"IFERROR($G58*IF($F58=\"Subtract from Proposed\",VLOOKUP($D58,PO_Enrgy_8_Table,MATCH($H$232,PO_Enrgy_8_Hdr,0),FALSE),VLOOKUP($D58,PO_Enrgy_8_Table,MATCH($E$232,PO_Enrgy_8_Hdr,0),FALSE)),\"\")","v":""},{"$f":"IFERROR(1-$J58/$T58,0)","v":0}]
[null,2,null,null,null,null,null,{"$f":"IFERROR(IF(ISBLANK($D59),\"\",VLOOKUP($D59,PO_Enrgy_1_Table,MATCH($C$16,PO_Enrgy_1_Hdr,0),FALSE)),\"\")","v":""},{"$f":"IFERROR(VLOOKUP($D59,PO_Enrgy_1_Table,MATCH($K$16,PO_Enrgy_1_Hdr,0),FALSE)*$G59,\"\")","v":""},{"$f":"IFERROR(VLOOKUP($D59,PO_Enrgy_1_Table,MATCH($M$16,PO_Enrgy_1_Hdr,0),FALSE)*$G59,\"\")","v":""},null,{"$f":"IFERROR($G59*IF($F59=\"Subtract from Proposed\",VLOOKUP($D59,PO_Enrgy_8_Table,MATCH($H$232,PO_Enrgy_8_Hdr,0),FALSE),VLOOKUP($D59,PO_Enrgy_8_Table,MATCH($E$232,PO_Enrgy_8_Hdr,0),FALSE)),\"\")","v":""},null,null,null,null,{"$f":"IFERROR(IF(ISBLANK($D59),\"\",VLOOKUP($D59,PO_Enrgy_1_Table,MATCH($K$16,PO_Enrgy_1_Hdr,0),FALSE)),\"\")","v":""},{"$f":"IFERROR(IF(ISBLANK($D59),\"\",VLOOKUP($D59,PO_Enrgy_1_Table,MATCH($M$16,PO_Enrgy_1_Hdr,0),FALSE)),\"\")","v":""},null,{"$f":"IFERROR($G59*IF($F59=\"Subtract from Proposed\",VLOOKUP($D59,PO_Enrgy_8_Table,MATCH($H$232,PO_Enrgy_8_Hdr,0),FALSE),VLOOKUP($D59,PO_Enrgy_8_Table,MATCH($E$232,PO_Enrgy_8_Hdr,0),FALSE)),\"\")","v":""},{"$f":"IFERROR(1-$J59/$T59,0)","v":0},null,null,null,null,null,null,""]
[null,3,null,null,null,null,null,{"$f":"IFERROR(IF(ISBLANK($D60),\"\",VLOOKUP($D60,PO_Enrgy_1_Table,MATCH($C$16,PO_Enrgy_1_Hdr,0),FALSE)),\"\")","v":""},{"$f":"IFERROR(VLOOKUP($D60,PO_Enrgy_1_Table,MATCH($K$16,PO_Enrgy_1_Hdr,0),FALSE)*$G60,\"\")","v":""},{"$f":"IFERROR(VLOOKUP($D60,PO_Enrgy_1_Table,MATCH($M$16,PO_Enrgy_1_Hdr,0),FALSE)*$G60,\"\")","v":""},null,{"$f":"IFERROR($G60*IF($F60=\"Subtract from Proposed\",VLOOKUP($D60,PO_Enrgy_8_Table,MATCH($H$232,PO_Enrgy_8_Hdr,0),FALSE),VLOOKUP($D60,PO_Enrgy_8_Table,MATCH($E$232,PO_Enrgy_8_Hdr,0),FALSE)),\"\")","v":""},null,null,null,null,{"$f":"IFERROR(IF(ISBLANK($D60),\"\",VLOOKUP($D60,PO_Enrgy_1_Table,MATCH($K$16,PO_Enrgy_1_Hdr,0),FALSE)),\"\")","v":""},{"$f":"IFERROR(IF(ISBLANK($D60),\"\",VLOOKUP($D60,PO_Enrgy_1_Table,MATCH($M$16,PO_Enrgy_1_Hdr,0),FALSE)),\"\")","v":""},null,{"$f":"IFERROR($G60*IF($F60=\"Subtract from Proposed\",VLOOKUP($D60,PO_Enrgy_8_Table,MATCH($H$232,PO_Enrgy_8_Hdr,0),FALSE),VLOOKUP($D60,PO_Enrgy_8_Table,MATCH($E$232,PO_Enrgy_8_Hdr,0),FALSE)),\"\")","v":""},{"$f":"IFERROR(1-$J60/$T60,0)","v":0},null,null,null,null,null,null,""]
[null,"Subtotals added to baseline"]
[null,"Energy_Type",null,null,null,null,"Site_Energy_Ind_Units","Site_Ind_Units","Site_Energy_Same_Units","Source_Energy",null,"Cost",null,null,null,null,"Site_Unit_Conversion","Source_Unit_Conversion"]
[null,{"$f":"IFERROR(IF(ISBLANK(B17),\"\",B17),\"\")","v":"Electricity"},null,null,null,null,{"$f":"IFERROR(IF(PO_ShowExCalc=TRUE,SUMIFS(INDEX(PO_ExCalc_Table,0,MATCH($G$56,PO_ExCalc_Hdr,0)),INDEX(PO_ExCalc_Table,0,MATCH($D$56,PO_ExCalc_Hdr,0)),$B63,INDEX(PO_ExCalc_Table,0,MATCH($F$56,PO_ExCalc_Hdr,0)),\"Add to Baseline\"),\"\"),\"\")","v":0},{"$f":"IFERROR(IF(ISBLANK($B63),\"\",VLOOKUP($B63,PO_Enrgy_1_Table,MATCH($C$16,PO_Enrgy_1_Hdr,0),FALSE)),\"\")","v":"kWh"},{"$f":"IFERROR($G63*$Q63,\"\")","v":0},{"$f":"IFERROR($G63*$R63,\"\")","v":0},{"$f":"IFERROR($G63*$Q63,\"\")","v":0},{"$f":"IFERROR(IF(PO_ShowExCalc=TRUE,SUMIFS(INDEX(PO_ExCalc_Table,0,MATCH($L$56,PO_ExCalc_Hdr,0)),INDEX(PO_ExCalc_Table,0,MATCH($D$56,PO_ExCalc_Hdr,0)),$B63,INDEX(PO_ExCalc_Table,0,MATCH($F$56,PO_ExCalc_Hdr,0)),\"Add to Baseline\"),\"\"),\"\")","v":0},{"$f":"IFERROR(IF(PO_ShowExCalc=TRUE,SUMIFS(M$57:M$60,$D$57:$D$60,$B63,$F$57:$F$60,\"Add to Baseline\"),\"\"),\"\")","v":0},null,null,null,{"$f":"IFERROR(IF(ISBLANK($B63),\"\",VLOOKUP($B63,PO_Enrgy_1_Table,MATCH($K$16,PO_Enrgy_1_Hdr,0),FALSE)),\"\")","v":3.4120000000000001E-3},{"$f":"IFERROR(IF(ISBLANK($B63),\"\",VLOOKUP($B63,PO_Enrgy_1_Table,MATCH($M$16,PO_Enrgy_1_Hdr,0),FALSE)),\"\")","v":1.0713680000000001E-2}]
[null,{"$f":"IFERROR(IF(ISBLANK(B18),\"\",B18),\"\")","v":"Natural Gas"},null,null,null,null,{"$f":"IFERROR(IF(PO_ShowExCalc=TRUE,SUMIFS(INDEX(PO_ExCalc_Table,0,MATCH($G$56,PO_ExCalc_Hdr,0)),INDEX(PO_ExCalc_Table,0,MATCH($D$56,PO_ExCalc_Hdr,0)),$B64,INDEX(PO_ExCalc_Table,0,MATCH($F$56,PO_ExCalc_Hdr,0)),\"Add to Baseline\"),\"\"),\"\")","v":0},{"$f":"IFERROR(IF(ISBLANK($B64),\"\",VLOOKUP($B64,PO_Enrgy_1_Table,MATCH($C$16,PO_Enrgy_1_Hdr,0),FALSE)),\"\")","v":"therm"},{"$f":"IFERROR($G64*$Q64,\"\")","v":0},{"$f":"IFERROR($G64*$R64,\"\")","v":0},0,{"$f":"IFERROR(IF(PO_ShowExCalc=TRUE,SUMIFS(INDEX(PO_ExCalc_Table,0,MATCH($L$56,PO_ExCalc_Hdr,0)),INDEX(PO_ExCalc_Table,0,MATCH($D$56,PO_ExCalc_Hdr,0)),$B64,INDEX(PO_ExCalc_Table,0,MATCH($F$56,PO_ExCalc_Hdr,0)),\"Add to Baseline\"),\"\"),\"\")","v":0},{"$f":"IFERROR(IF(PO_ShowExCalc=TRUE,SUMIFS(M$57:M$60,$D$57:$D$60,$B64,$F$57:$F$60,\"Add to Baseline\"),\"\"),\"\")","v":0},null,null,null,{"$f":"IFERROR(IF(ISBLANK($B64),\"\",VLOOKUP($B64,PO_Enrgy_1_Table,MATCH($K$16,PO_Enrgy_1_Hdr,0),FALSE)),\"\")","v":0.1},{"$f":"IFERROR(IF(ISBLANK($B64),\"\",VLOOKUP($B64,PO_Enrgy_1_Table,MATCH($M$16,PO_Enrgy_1_Hdr,0),FALSE)),\"\")","v":0.10500000000000001}]
[null,{"$f":"IFERROR(IF(ISBLANK(B19),\"\",B19),\"\")","v":"District Cooling"},null,null,null,null,{"$f":"IFERROR(IF(PO_ShowExCalc=TRUE,SUMIFS(INDEX(PO_ExCalc_Table,0,MATCH($G$56,PO_ExCalc_Hdr,0)),INDEX(PO_ExCalc_Table,0,MATCH($D$56,PO_ExCalc_Hdr,0)),$B65,INDEX(PO_ExCalc_Table,0,MATCH($F$56,PO_ExCalc_Hdr,0)),\"Add to Baseline\"),\"\"),\"\")","v":0},{"$f":"IFERROR(IF(ISBLANK($B65),\"\",VLOOKUP($B65,PO_Enrgy_1_Table,MATCH($C$16,PO_Enrgy_1_Hdr,0),FALSE)),\"\")","v":"MWh"},{"$f":"IFERROR($G65*$Q65,\"\")","v":0},{"$f":"IFERROR($G65*$R65,\"\")","v":0},0,{"$f":"IFERROR(IF(PO_ShowExCalc=TRUE,SUMIFS(INDEX(PO_ExCalc_Table,0,MATCH($L$56,PO_ExCalc_Hdr,0)),INDEX(PO_ExCalc_Table,0,MATCH($D$56,PO_ExCalc_Hdr,0)),$B65,INDEX(PO_ExCalc_Table,0,MATCH($F$56,PO_ExCalc_Hdr,0)),\"Add to Baseline\"),\"\"),\"\")","v":0},{"$f":"IFERROR(IF(PO_ShowExCalc=TRUE,SUMIFS(M$57:M$60,$D$57:$D$60,$B65,$F$57:$F$60,\"Add to Baseline\"),\"\"),\"\")","v":0},null,null,null,{"$f":"IFERROR(IF(ISBLANK($B65),\"\",VLOOKUP($B65,PO_Enrgy_1_Table,MATCH($K$16,PO_Enrgy_1_Hdr,0),FALSE)),\"\")","v":3.4119999999999999},{"$f":"IFERROR(IF(ISBLANK($B65),\"\",VLOOKUP($B65,PO_Enrgy_1_Table,MATCH($M$16,PO_Enrgy_1_Hdr,0),FALSE)),\"\")","v":3.4119999999999999}]
[null,"Subtotals subtracted from proposed"]
[null,"Energy_Type",null,null,null,null,"Site_Energy_Ind_Units","Site_Ind_Units","Site_Energy_Same_Units","Source_Energy",null,"Cost",null,null,null,null,"Site_Unit_Conversion","Source_Unit_Conversion"]
[null,{"$f":"IFERROR(IF(ISBLANK(B17),\"\",B17),\"\")","v":"Electricity"},null,null,null,null,{"$f":"IFERROR(IF(PO_ShowExCalc=TRUE,SUMIFS(INDEX(PO_ExCalc_Table,0,MATCH($G$56,PO_ExCalc_Hdr,0)),INDEX(PO_ExCalc_Table,0,MATCH($D$56,PO_ExCalc_Hdr,0)),$B68,INDEX(PO_ExCalc_Table,0,MATCH($F$56,PO_ExCalc_Hdr,0)),\"Subtract from Proposed\"),\"\"),\"\")","v":0},{"$f":"IFERROR(IF(ISBLANK($B68),\"\",VLOOKUP($B68,PO_Enrgy_1_Table,MATCH($C$16,PO_Enrgy_1_Hdr,0),FALSE)),\"\")","v":"kWh"},{"$f":"IFERROR($G68*$Q68,\"\")","v":0},{"$f":"IFERROR($G68*$R68,\"\")","v":0},{"$f":"IFERROR($G68*$Q68,\"\")","v":0},{"$f":"IFERROR(IF(PO_ShowExCalc=TRUE,SUMIFS(INDEX(PO_ExCalc_Table,0,MATCH($L$56,PO_ExCalc_Hdr,0)),INDEX(PO_ExCalc_Table,0,MATCH($D$56,PO_ExCalc_Hdr,0)),$B68,INDEX(PO_ExCalc_Table,0,MATCH($F$56,PO_ExCalc_Hdr,0)),\"Subtract from Proposed\"),\"\"),\"\")","v":0},{"$f":"IFERROR(IF(PO_ShowExCalc=TRUE,SUMIFS(M$57:M$60,$D$57:$D$60,$B68,$F$57:$F$60,\"Add to Baseline\"),\"\"),\"\")","v":0},null,null,null,{"$f":"IFERROR(IF(ISBLANK($B68),\"\",VLOOKUP($B68,PO_Enrgy_1_Table,MATCH($K$16,PO_Enrgy_1_Hdr,0),FALSE)),\"\")","v":3.4120000000000001E-3},{"$f":"IFERROR(IF(ISBLANK($B68),\"\",VLOOKUP($B68,PO_Enrgy_1_Table,MATCH($M$16,PO_Enrgy_1_Hdr,0),FALSE)),\"\")","v":1.0713680000000001E-2}]
[null,{"$f":"IFERROR(IF(ISBLANK(B18),\"\",B18),\"\")","v":"Natural Gas"},null,null,null,null,{"$f":"IFERROR(IF(PO_ShowExCalc=TRUE,SUMIFS(INDEX(PO_ExCalc_Table,0,MATCH($G$56,PO_ExCalc_Hdr,0)),INDEX(PO_ExCalc_Table,0,MATCH($D$56,PO_ExCalc_Hdr,0)),$B69,INDEX(PO_ExCalc_Table,0,MATCH($F$56,PO_ExCalc_Hdr,0)),\"Subtract from Proposed\"),\"\"),\"\")","v":0},{"$f":"IFERROR(IF(ISBLANK($B69),\"\",VLOOKUP($B69,PO_Enrgy_1_Table,MATCH($C$16,PO_Enrgy_1_Hdr,0),FALSE)),\"\")","v":"therm"},{"$f":"IFERROR($G69*$Q69,\"\")","v":0},{"$f":"IFERROR($G69*$R69,\"\")","v":0},0,{"$f":"IFERROR(IF(PO_ShowExCalc=TRUE,SUMIFS(INDEX(PO_ExCalc_Table,0,MATCH($L$56,PO_ExCalc_Hdr,0)),INDEX(PO_ExCalc_Table,0,MATCH($D$56,PO_ExCalc_Hdr,0)),$B69,INDEX(PO_ExCalc_Table,0,MATCH($F$56,PO_ExCalc_Hdr,0)),\"Subtract from Proposed\"),\"\"),\"\")","v":0},{"$f":"IFERROR(IF(PO_ShowExCalc=TRUE,SUMIFS(M$57:M$60,$D$57:$D$60,$B69,$F$57:$F$60,\"Add to Baseline\"),\"\"),\"\")","v":0},null,null,null,{"$f":"IFERROR(IF(ISBLANK($B69),\"\",VLOOKUP($B69,PO_Enrgy_1_Table,MATCH($K$16,PO_Enrgy_1_Hdr,0),FALSE)),\"\")","v":0.1},{"$f":"IFERROR(IF(ISBLANK($B69),\"\",VLOOKUP($B69,PO_Enrgy_1_Table,MATCH($M$16,PO_Enrgy_1_Hdr,0),FALSE)),\"\")","v":0.10500000000000001}]
[null,{"$f":"IFERROR(IF(ISBLANK(B19),\"\",B19),\"\")","v":"District Cooling"},null,null,null,null,{"$f":"IFERROR(IF(PO_ShowExCalc=TRUE,SUMIFS(INDEX(PO_ExCalc_Table,0,MATCH($G$56,PO_ExCalc_Hdr,0)),INDEX(PO_ExCalc_Table,0,MATCH($D$56,PO_ExCalc_Hdr,0)),$B70,INDEX(PO_ExCalc_Table,0,MATCH($F$56,PO_ExCalc_Hdr,0)),\"Subtract from Proposed\"),\"\"),\"\")","v":0},{"$f":"IFERROR(IF(ISBLANK($B70),\"\",VLOOKUP($B70,PO_Enrgy_1_Table,MATCH($C$16,PO_Enrgy_1_Hdr,0),FALSE)),\"\")","v":"MWh"},{"$f":"IFERROR($G70*$Q70,\"\")","v":0},{"$f":"IFERROR($G70*$R70,\"\")","v":0},0,{"$f":"IFERROR(IF(PO_ShowExCalc=TRUE,SUMIFS(INDEX(PO_ExCalc_Table,0,MATCH($L$56,PO_ExCalc_Hdr,0)),INDEX(PO_ExCalc_Table,0,MATCH($D$56,PO_ExCalc_Hdr,0)),$B70,INDEX(PO_ExCalc_Table,0,MATCH($F$56,PO_ExCalc_Hdr,0)),\"Subtract from Proposed\"),\"\"),\"\")","v":0},{"$f":"IFERROR(IF(PO_ShowExCalc=TRUE,SUMIFS(M$57:M$60,$D$57:$D$60,$B70,$F$57:$F$60,\"Add to Baseline\"),\"\"),\"\")","v":0},null,null,null,{"$f":"IFERROR(IF(ISBLANK($B70),\"\",VLOOKUP($B70,PO_Enrgy_1_Table,MATCH($K$16,PO_Enrgy_1_Hdr,0),FALSE)),\"\")","v":3.4119999999999999},{"$f":"IFERROR(IF(ISBLANK($B70),\"\",VLOOKUP($B70,PO_Enrgy_1_Table,MATCH($M$16,PO_Enrgy_1_Hdr,0),FALSE)),\"\")","v":3.4119999999999999}]
[null,"Total Exceptional Calculation Method Adjustment",null,null,null,null,null,null,{"$f":"IFERROR(SUM(INDEX(PO_Enrgy_3_Table,0,MATCH($I62,PO_Enrgy_3_Hdr,0)),INDEX(PO_Enrgy_4_Table,0,MATCH($I67,PO_Enrgy_4_Hdr,0))),\"\")","v":0},{"$f":"IFERROR(SUM(INDEX(PO_Enrgy_3_Table,0,MATCH($J62,PO_Enrgy_3_Hdr,0)),INDEX(PO_Enrgy_4_Table,0,MATCH($J67,PO_Enrgy_4_Hdr,0))),\"\")","v":0},{"$f":"IFERROR(SUM(K$35:K$69),0)","v":0},{"$f":"IFERROR(SUM(INDEX(PO_Enrgy_3_Table,0,MATCH($L62,PO_Enrgy_3_Hdr,0)),INDEX(PO_Enrgy_4_Table,0,MATCH($L67,PO_Enrgy_4_Hdr,0))),\"\")","v":0},{"$f":"IFERROR(SUM(M$35:M$69),0)","v":0}]
["G"]
["G","Upload: Exceptional calculation \nProvide a detailed narrative explaining the exceptional calculation method(s) performed, including all end-uses affected by the exceptional calculation method. If more than one exceptional calculation method is used, the exceptional calculation ID in the narrative must match the values listed in the table above.  The exceptional calculation method must include:\n•  Step-by-step documentation of the exceptional calculation method(s) performed detailed enough to reproduce the results\n•  Copies of all spreadsheets used to perform the calculations, or simulation energy model input and output summaries documenting the calculations performed\n•  For methods that significantly impact HVAC or refrigeration energy, the calculations shall be performed on a time step basis consistent with the simulation program used\n•  The Performance Rating calculated with and without the exceptional calculation method\n•  Documentation of the baseline and proposed assumptions. Documentation of baseline assumptions verify that the efficiency measure is not conventional practice by including, but not limited to:\n    ○  a recently published study (published within five years of the project registration date) with researched tabulations or monitored data establishing standard practice for the given application in similar newly constructed facilities\n    ○  a new construction utility or government program that incentivizes the measure\n    ○  a document showing the systems used to perform the same function in other newly constructed facilities (for example, three similar facilities built within the past five years). These systems would be treated as the baseline system in the analysis, and evidence must be provided to demonstrate how the energy for the baseline and proposed buildings are determined \n    ○  use any of the prescriptive requirements from 90.1-2010 as the baseline requirement without further justification to substantiate conventional practice, but only for the specific component addressed by the prescriptive requirement"]
["G"]
["G","Energy Modeling Output Reporting Method"]
["G","Select one of the following before entering any simulation output data:"]
["G","Complete the baseline results for each of the four building orientations, in addition to the proposed results.",null,null,null,null,null,null,null,null,null,null,null,null,null,null,null,5]
["G"]
["G","Report the averaged baseline results, in addition to the proposed results. In the EAp2 form uploads, provide simulation output summaries from the simulation output software that include the energy consumption by end-use, total energy consumption by energy type, and total energy cost by energy type, reported separately  for each of the four baseline rotations, and the average baseline energy consumption by end-use, energy consumption by energy type, and energy cost by energy type. (The simulation software must report this average as a standard report in order to use this option)."]
["G"]
["G","The project is not required to simulate four baseline orientations because (a) the vertical fenestration area on each orientation varies by less than 5%, (b) the energy code used does not require simulation of four baseline orientations, or (c) the building is more than 50% existing based on conditioned floor area. Report the non-rotated baseline results, in addition to the proposed results.\n"]
["G"]
["G","The project is not required to simulate four baseline orientations because the building orientation is dictated by site consideration, as allowed by Table G3.1.5 (a) (baseline) Exception 1. Report the non-rotated baseline results, in addition to the proposed results."]
["G"]
["G"]
["G","Performance Rating Method Compliance Report"]
["G","Table: Baseline energy summary by end use"]
["G","Complete the table below for the proposed, providing information on baseline energy consumption and peak demand by end-use. This data will be used to autopopulate the Performance tables below. If an end-use has two energy types (e.g. proposed space heating includes both fossil fuel and electric), enter the end-use twice in the table, and list the two different energy types."]
["G","ASHRAE 90.1-2010 without Addenda (District Energy Modeling Path 1): Report the district energy type (District Cooling, District Hot Water, or District Steam) for the cooling and heating end-uses as applicable for both the baseline and proposed.  "]
["G","Full DES Performance Accounting method (District Energy Modeling Path 2): Report the baseline energy as if the thermal energy is produced in the building.  Report the proposed energy used to generate and distribute the district thermal energy serving the building based on calculated average district thermal efficiencies (e.g. report the electricity used to generate and distribute chilled water to the building).\n"]
["G","Streamlined DES Accounting Method (District Energy Modeling Path 3): Report the energy type (District Cooling, District Hot Water, or District Steam for the cooling and heating end-uses as applicable for both the baseline and proposed. "]
["G","Data Centers: The energy consumption for IT equipment must be metered and reported separately from other end-uses in the energy model, and in the tables below to allow the proper determination of the PUE. Complete the table below for the baseline using the full build-out IT loads for the proposed design.\n"]
["G","Retail: The energy consumption for cooking, refrigeration, and kitchen ventilation fans must be metered and reported separately from other end-uses in the energy model and in the tables below. Energy savings or consumption attributable to unregulated equipment, other than Commercial Kitchen Equipment, Supermarket Refrigeration, Walk-in Coolers and Freezers, or Commercial Kitchen Ventilation listed in Tables 1 – 4 of the LEED v4 BD+C:Retail and ID+C: Retail Rating System Appendix 3 must be claimed via Exceptional Calculation Methodology."]
["G"]
["G","End Use",null,"Unregulated?","Energy Type","Units of \nAnnual Energy and Peak Demand","Baseline 0° rotation","Baseline 90° rotation","Baseline 180° rotation","Baseline 270° rotation","Baseline Design Total\n (Average of 4 rotations)"]
["G","End_Use",null,"Unregulated","Energy_Type","Energy_Units","Baseline_0_Rotation","Baseline_90_Rotation","Baseline_180_Rotation","Baseline_270_Rotation","Base_Consumption_Demand",null,null,null,null,null,"Site_Unit_Conversion","Source_Unit_Conversion","EFLH"]
["G","Interior lighting",null,null,"Electricity",{"$f":"IFERROR(IF(ISBLANK(E97),\"\",\"Consumption (\" & VLOOKUP($E97,PO_Enrgy_1_Table,MATCH($C$16,PO_Enrgy_1_Hdr,0),FALSE) & \")\"),\"\")","v":"Consumption (kWh)"},null,null,null,null,{"$f":"IFERROR(AVERAGE(G97,H97,I97,J97),\"\")","v":""},null,null,null,null,null,{"$f":"IFERROR(IF(ISBLANK($E97),\"\",VLOOKUP($E97,PO_Enrgy_1_Table,MATCH($K$16,PO_Enrgy_1_Hdr,0),FALSE)),\"\")","v":3.4120000000000001E-3},{"$f":"IFERROR(IF(ISBLANK($E97),\"\",VLOOKUP($E97,PO_Enrgy_1_Table,MATCH($M$16,PO_Enrgy_1_Hdr,0),FALSE)),\"\")","v":1.0713680000000001E-2},{"$f":"IFERROR(IF(FIND(\"Consumption\",F97),(K97*VLOOKUP(MID(F97,FIND(\"(\",F97)+1,LEN(F97)-FIND(\"(\",F97)-1),EnergyUnitsTable,3,FALSE))/(K98*VLOOKUP(MID(F98,FIND(\"(\",F98)+1,LEN(F98)-FIND(\"(\",F98)-1),DemandTable,3,FALSE)),1),\"\")","v":""}]
["G",null,null,null,null,{"$f":"IFERROR(IF(ISBLANK(E97),\"\",\"Demand (\" & VLOOKUP($E97,PO_Enrgy_1_Table,MATCH($E$16,PO_Enrgy_1_Hdr,0),FALSE) & \")\"),\"\")","v":"Demand (kW)"},null,null,null,null,"",null,null,null,null,null,"","",""]
["G","Exterior lighting",null,null,"Electricity",{"$f":"IFERROR(IF(ISBLANK(E99),\"\",\"Consumption (\" & VLOOKUP($E99,PO_Enrgy_1_Table,MATCH($C$16,PO_Enrgy_1_Hdr,0),FALSE) & \")\"),\"\")","v":"Consumption (kWh)"},null,null,null,null,"",null,null,null,null,null,3.4120000000000001E-3,1.0713680000000001E-2,""]
["G",null,null,null,null,{"$f":"IFERROR(IF(ISBLANK(E99),\"\",\"Demand (\" & VLOOKUP($E99,PO_Enrgy_1_Table,MATCH($E$16,PO_Enrgy_1_Hdr,0),FALSE) & \")\"),\"\")","v":"Demand (kW)"},null,null,null,null,"",null,null,null,null,null,"","",""]
["G","Space heating",null,null,"Natural Gas",{"$f":"IFERROR(IF(ISBLANK(E101),\"\",\"Consumption (\" & VLOOKUP($E101,PO_Enrgy_1_Table,MATCH($C$16,PO_Enrgy_1_Hdr,0),FALSE) & \")\"),\"\")","v":"Consumption (therm)"},null,null,null,null,"",null,null,null,null,null,0.1,0.10500000000000001,""]
["G",null,null,null,null,{"$f":"IFERROR(IF(ISBLANK(E101),\"\",\"Demand (\" & VLOOKUP($E101,PO_Enrgy_1_Table,MATCH($E$16,PO_Enrgy_1_Hdr,0),FALSE) & \")\"),\"\")","v":"Demand (Btuh x 10^6)"},null,null,null,null,"",null,null,null,null,null,"","",""]
["G","Space cooling",null,null,"Electricity",{"$f":"IFERROR(IF(ISBLANK(E103),\"\",\"Consumption (\" & VLOOKUP($E103,PO_Enrgy_1_Table,MATCH($C$16,PO_Enrgy_1_Hdr,0),FALSE) & \")\"),\"\")","v":"Consumption (kWh)"},null,null,null,null,"",null,null,null,null,null,3.4120000000000001E-3,1.0713680000000001E-2,""]
["G",null,null,null,null,{"$f":"IFERROR(IF(ISBLANK(E103),\"\",\"Demand (\" & VLOOKUP($E103,PO_Enrgy_1_Table,MATCH($E$16,PO_Enrgy_1_Hdr,0),FALSE) & \")\"),\"\")","v":"Demand (kW)"},null,null,null,null,"",null,null,null,null,null,"","",""]
["G","Pumps",null,null,"Electricity",{"$f":"IFERROR(IF(ISBLANK(E105),\"\",\"Consumption (\" & VLOOKUP($E105,PO_Enrgy_1_Table,MATCH($C$16,PO_Enrgy_1_Hdr,0),FALSE) & \")\"),\"\")","v":"Consumption (kWh)"},null,null,null,null,"",null,null,null,null,null,3.4120000000000001E-3,1.0713680000000001E-2,""]
["G",null,null,null,null,{"$f":"IFERROR(IF(ISBLANK(E105),\"\",\"Demand (\" & VLOOKUP($E105,PO_Enrgy_1_Table,MATCH($E$16,PO_Enrgy_1_Hdr,0),FALSE) & \")\"),\"\")","v":"Demand (kW)"},null,null,null,null,"",null,null,null,null,null,"","",""]
["G","Heat rejection",null,null,"Electricity",{"$f":"IFERROR(IF(ISBLANK(E107),\"\",\"Consumption (\" & VLOOKUP($E107,PO_Enrgy_1_Table,MATCH($C$16,PO_Enrgy_1_Hdr,0),FALSE) & \")\"),\"\")","v":"Consumption (kWh)"},null,null,null,null,"",null,null,null,null,null,3.4120000000000001E-3,1.0713680000000001E-2,""]
["G",null,null,null,null,{"$f":"IFERROR(IF(ISBLANK(E107),\"\",\"Demand (\" & VLOOKUP($E107,PO_Enrgy_1_Table,MATCH($E$16,PO_Enrgy_1_Hdr,0),FALSE) & \")\"),\"\")","v":"Demand (kW)"},null,null,null,null,"",null,null,null,null,null,"","",""]
["G","Fans - interior ventilation",null,null,"Electricity",{"$f":"IFERROR(IF(ISBLANK(E109),\"\",\"Consumption (\" & VLOOKUP($E109,PO_Enrgy_1_Table,MATCH($C$16,PO_Enrgy_1_Hdr,0),FALSE) & \")\"),\"\")","v":"Consumption (kWh)"},null,null,null,null,"",null,null,null,null,null,3.4120000000000001E-3,1.0713680000000001E-2,""]
["G",null,null,null,null,{"$f":"IFERROR(IF(ISBLANK(E109),\"\",\"Demand (\" & VLOOKUP($E109,PO_Enrgy_1_Table,MATCH($E$16,PO_Enrgy_1_Hdr,0),FALSE) & \")\"),\"\")","v":"Demand (kW)"},null,null,null,null,"",null,null,null,null,null,"","",""]
["G","Fans - parking garage",null,"x","Electricity",{"$f":"IFERROR(IF(ISBLANK(E111),\"\",\"Consumption (\" & VLOOKUP($E111,PO_Enrgy_1_Table,MATCH($C$16,PO_Enrgy_1_Hdr,0),FALSE) & \")\"),\"\")","v":"Consumption (kWh)"},null,null,null,null,"",null,null,null,null,null,3.4120000000000001E-3,1.0713680000000001E-2,""]
["G",null,null,null,null,{"$f":"IFERROR(IF(ISBLANK(E111),\"\",\"Demand (\" & VLOOKUP($E111,PO_Enrgy_1_Table,MATCH($E$16,PO_Enrgy_1_Hdr,0),FALSE) & \")\"),\"\")","v":"Demand (kW)"},null,null,null,null,"",null,null,null,null,null,"","",""]
["G","Service water heating",null,null,"Natural Gas",{"$f":"IFERROR(IF(ISBLANK(E113),\"\",\"Consumption (\" & VLOOKUP($E113,PO_Enrgy_1_Table,MATCH($C$16,PO_Enrgy_1_Hdr,0),FALSE) & \")\"),\"\")","v":"Consumption (therm)"},null,null,null,null,"",null,null,null,null,null,0.1,0.10500000000000001,""]
["G",null,null,null,null,{"$f":"IFERROR(IF(ISBLANK(E113),\"\",\"Demand (\" & VLOOKUP($E113,PO_Enrgy_1_Table,MATCH($E$16,PO_Enrgy_1_Hdr,0),FALSE) & \")\"),\"\")","v":"Demand (Btuh x 10^6)"},null,null,null,null,"",null,null,null,null,null,"","",""]
["G","Receptacle equipment",null,"x","Electricity",{"$f":"IFERROR(IF(ISBLANK(E115),\"\",\"Consumption (\" & VLOOKUP($E115,PO_Enrgy_1_Table,MATCH($C$16,PO_Enrgy_1_Hdr,0),FALSE) & \")\"),\"\")","v":"Consumption (kWh)"},null,null,null,null,"",null,null,null,null,null,3.4120000000000001E-3,1.0713680000000001E-2,""]
["G",null,null,null,null,{"$f":"IFERROR(IF(ISBLANK(E115),\"\",\"Demand (\" & VLOOKUP($E115,PO_Enrgy_1_Table,MATCH($E$16,PO_Enrgy_1_Hdr,0),FALSE) & \")\"),\"\")","v":"Demand (kW)"},null,null,null,null,"",null,null,null,null,null,"","",""]
["G","IT equipment",null,"x","Electricity",{"$f":"IFERROR(IF(ISBLANK(E117),\"\",\"Consumption (\" & VLOOKUP($E117,PO_Enrgy_1_Table,MATCH($C$16,PO_Enrgy_1_Hdr,0),FALSE) & \")\"),\"\")","v":"Consumption (kWh)"},null,null,null,null,"",null,null,null,null,null,3.4120000000000001E-3,1.0713680000000001E-2,""]
["G",null,null,null,null,{"$f":"IFERROR(IF(ISBLANK(E117),\"\",\"Demand (\" & VLOOKUP($E117,PO_Enrgy_1_Table,MATCH($E$16,PO_Enrgy_1_Hdr,0),FALSE) & \")\"),\"\")","v":"Demand (kW)"},null,null,null,null,"",null,null,null,null,null,"","",""]
["G","Interior lighting - process",null,"x","Electricity",{"$f":"IFERROR(IF(ISBLANK(E119),\"\",\"Consumption (\" & VLOOKUP($E119,PO_Enrgy_1_Table,MATCH($C$16,PO_Enrgy_1_Hdr,0),FALSE) & \")\"),\"\")","v":"Consumption (kWh)"},null,null,null,null,"",null,null,null,null,null,3.4120000000000001E-3,1.0713680000000001E-2,""]
["G",null,null,null,null,{"$f":"IFERROR(IF(ISBLANK(E119),\"\",\"Demand (\" & VLOOKUP($E119,PO_Enrgy_1_Table,MATCH($E$16,PO_Enrgy_1_Hdr,0),FALSE) & \")\"),\"\")","v":"Demand (kW)"},null,null,null,null,"",null,null,null,null,null,"","",""]
["G","Refrigeration equipment",null,"x","Electricity",{"$f":"IFERROR(IF(ISBLANK(E121),\"\",\"Consumption (\" & VLOOKUP($E121,PO_Enrgy_1_Table,MATCH($C$16,PO_Enrgy_1_Hdr,0),FALSE) & \")\"),\"\")","v":"Consumption (kWh)"},null,null,null,null,"",null,null,null,null,null,3.4120000000000001E-3,1.0713680000000001E-2,""]
["G",null,null,null,null,{"$f":"IFERROR(IF(ISBLANK(E121),\"\",\"Demand (\" & VLOOKUP($E121,PO_Enrgy_1_Table,MATCH($E$16,PO_Enrgy_1_Hdr,0),FALSE) & \")\"),\"\")","v":"Demand (kW)"},null,null,null,null,"",null,null,null,null,null,"","",""]
["G","Fans - Kitchen Ventilation",null,"x","Electricity",{"$f":"IFERROR(IF(ISBLANK(E123),\"\",\"Consumption (\" & VLOOKUP($E123,PO_Enrgy_1_Table,MATCH($C$16,PO_Enrgy_1_Hdr,0),FALSE) & \")\"),\"\")","v":"Consumption (kWh)"},null,null,null,null,"",null,null,null,null,null,3.4120000000000001E-3,1.0713680000000001E-2,""]
["G",null,null,null,null,{"$f":"IFERROR(IF(ISBLANK(E123),\"\",\"Demand (\" & VLOOKUP($E123,PO_Enrgy_1_Table,MATCH($E$16,PO_Enrgy_1_Hdr,0),FALSE) & \")\"),\"\")","v":"Demand (kW)"},null,null,null,null,"",null,null,null,null,null,"","",""]
["G","Cooking",null,"x","Electricity",{"$f":"IFERROR(IF(ISBLANK(E125),\"\",\"Consumption (\" & VLOOKUP($E125,PO_Enrgy_1_Table,MATCH($C$16,PO_Enrgy_1_Hdr,0),FALSE) & \")\"),\"\")","v":"Consumption (kWh)"},null,null,null,null,"",null,null,null,null,null,3.4120000000000001E-3,1.0713680000000001E-2,""]
["G",null,null,null,null,{"$f":"IFERROR(IF(ISBLANK(E125),\"\",\"Demand (\" & VLOOKUP($E125,PO_Enrgy_1_Table,MATCH($E$16,PO_Enrgy_1_Hdr,0),FALSE) & \")\"),\"\")","v":"Demand (kW)"},null,null,null,null,"",null,null,null,null,null,"","",""]
["G","Industrial Process",null,"x","Electricity",{"$f":"IFERROR(IF(ISBLANK(E127),\"\",\"Consumption (\" & VLOOKUP($E127,PO_Enrgy_1_Table,MATCH($C$16,PO_Enrgy_1_Hdr,0),FALSE) & \")\"),\"\")","v":"Consumption (kWh)"},null,null,null,null,"",null,null,null,null,null,3.4120000000000001E-3,1.0713680000000001E-2,""]
["G",null,null,null,null,{"$f":"IFERROR(IF(ISBLANK(E127),\"\",\"Demand (\" & VLOOKUP($E127,PO_Enrgy_1_Table,MATCH($E$16,PO_Enrgy_1_Hdr,0),FALSE) & \")\"),\"\")","v":"Demand (kW)"},null,null,null,null,"",null,null,null,null,null,"","",""]
["G","Elevators and escalators",null,"x","Electricity",{"$f":"IFERROR(IF(ISBLANK(E129),\"\",\"Consumption (\" & VLOOKUP($E129,PO_Enrgy_1_Table,MATCH($C$16,PO_Enrgy_1_Hdr,0),FALSE) & \")\"),\"\")","v":"Consumption (kWh)"},null,null,null,null,"",null,null,null,null,null,3.4120000000000001E-3,1.0713680000000001E-2,""]
["G",null,null,null,null,{"$f":"IFERROR(IF(ISBLANK(E129),\"\",\"Demand (\" & VLOOKUP($E129,PO_Enrgy_1_Table,MATCH($E$16,PO_Enrgy_1_Hdr,0),FALSE) & \")\"),\"\")","v":"Demand (kW)"},null,null,null,null,"",null,null,null,null,null,"","",""]
["G","Heat Pump Supplementary",null,null,"Electricity",{"$f":"IFERROR(IF(ISBLANK(E131),\"\",\"Consumption (\" & VLOOKUP($E131,PO_Enrgy_1_Table,MATCH($C$16,PO_Enrgy_1_Hdr,0),FALSE) & \")\"),\"\")","v":"Consumption (kWh)"},null,null,null,null,"",null,null,null,null,null,3.4120000000000001E-3,1.0713680000000001E-2,""]
["G",null,null,null,null,{"$f":"IFERROR(IF(ISBLANK(E131),\"\",\"Demand (\" & VLOOKUP($E131,PO_Enrgy_1_Table,MATCH($E$16,PO_Enrgy_1_Hdr,0),FALSE) & \")\"),\"\")","v":"Demand (kW)"},null,null,null,null,"",null,null,null,null,null,"","",""]
["G",null,null,null,null,{"$f":"IFERROR(IF(ISBLANK(E133),\"\",\"Consumption (\" & VLOOKUP($E133,PO_Enrgy_1_Table,MATCH($C$16,PO_Enrgy_1_Hdr,0),FALSE) & \")\"),\"\")","v":""},null,null,null,null,"",null,null,null,null,null,"","",""]
["G",null,null,null,null,{"$f":"IFERROR(IF(ISBLANK(E133),\"\",\"Demand (\" & VLOOKUP($E133,PO_Enrgy_1_Table,MATCH($E$16,PO_Enrgy_1_Hdr,0),FALSE) & \")\"),\"\")","v":""},null,null,null,null,"",null,null,null,null,null,"","",""]
["G",null,null,null,null,{"$f":"IFERROR(IF(ISBLANK(E135),\"\",\"Consumption (\" & VLOOKUP($E135,PO_Enrgy_1_Table,MATCH($C$16,PO_Enrgy_1_Hdr,0),FALSE) & \")\"),\"\")","v":""},null,null,null,null,"",null,null,null,null,null,"","",""]
["G",null,null,null,null,{"$f":"IFERROR(IF(ISBLANK(E135),\"\",\"Demand (\" & VLOOKUP($E135,PO_Enrgy_1_Table,MATCH($E$16,PO_Enrgy_1_Hdr,0),FALSE) & \")\"),\"\")","v":""},null,null,null,null,"",null,null,null,null,null,"","",""]
["G",null,null,null,null,{"$f":"IFERROR(IF(ISBLANK(E137),\"\",\"Consumption (\" & VLOOKUP($E137,PO_Enrgy_1_Table,MATCH($C$16,PO_Enrgy_1_Hdr,0),FALSE) & \")\"),\"\")","v":""},null,null,null,null,"",null,null,null,null,null,"","",""]
["G",null,null,null,null,{"$f":"IFERROR(IF(ISBLANK(E137),\"\",\"Demand (\" & VLOOKUP($E137,PO_Enrgy_1_Table,MATCH($E$16,PO_Enrgy_1_Hdr,0),FALSE) & \")\"),\"\")","v":""},null,null,null,null,"",null,null,null,null,null,"","",""]
["G",null,null,null,null,{"$f":"IFERROR(IF(ISBLANK(E139),\"\",\"Consumption (\" & VLOOKUP($E139,PO_Enrgy_1_Table,MATCH($C$16,PO_Enrgy_1_Hdr,0),FALSE) & \")\"),\"\")","v":""},null,null,null,null,"",null,null,null,null,null,"","",""]
["G",null,null,null,null,{"$f":"IFERROR(IF(ISBLANK(E139),\"\",\"Demand (\" & VLOOKUP($E139,PO_Enrgy_1_Table,MATCH($E$16,PO_Enrgy_1_Hdr,0),FALSE) & \")\"),\"\")","v":""},null,null,null,null,"",null,null,null,null,null,"","",""]
["G",null,null,null,null,{"$f":"IFERROR(IF(ISBLANK(E141),\"\",\"Consumption (\" & VLOOKUP($E141,PO_Enrgy_1_Table,MATCH($C$16,PO_Enrgy_1_Hdr,0),FALSE) & \")\"),\"\")","v":""},null,null,null,null,"",null,null,null,null,null,"","",""]
["G",null,null,null,null,{"$f":"IFERROR(IF(ISBLANK(E141),\"\",\"Demand (\" & VLOOKUP($E141,PO_Enrgy_1_Table,MATCH($E$16,PO_Enrgy_1_Hdr,0),FALSE) & \")\"),\"\")","v":""},null,null,null,null,"",null,null,null,null,null,"","",""]
["G",null,null,null,null,{"$f":"IFERROR(IF(ISBLANK(E143),\"\",\"Consumption (\" & VLOOKUP($E143,PO_Enrgy_1_Table,MATCH($C$16,PO_Enrgy_1_Hdr,0),FALSE) & \")\"),\"\")","v":""},null,null,null,null,"",null,null,null,null,null,"","",""]
["G",null,null,null,null,{"$f":"IFERROR(IF(ISBLANK(E143),\"\",\"Demand (\" & VLOOKUP($E143,PO_Enrgy_1_Table,MATCH($E$16,PO_Enrgy_1_Hdr,0),FALSE) & \")\"),\"\")","v":""},null,null,null,null,"",null,null,null,null,null,"","",""]
["G",null,null,null,"Energy_Type","Energy_Units","Baseline_0_Rotation","Baseline_90_Rotation","Baseline_180_Rotation","Baseline_270_Rotation","Baseline_Total",null,null,null,null,null,"Site_Unit_Conversion","Source_Unit_Conversion",""]
["G","Total energy consumption by energy type ",null,null,{"$f":"IFERROR(IF(ISBLANK(B17),\"\",B17),\"\")","v":"Electricity"},{"$f":"IFERROR(IF(ISBLANK(E146),\"\",VLOOKUP($E146,PO_Enrgy_1_Table,MATCH($C$16,PO_Enrgy_1_Hdr,0),FALSE) ),\"\")","v":"kWh"},{"$f":"IFERROR(SUMIFS(INDEX(PO_baseline_table,0,MATCH(G$96,PO_baseline_hdr,0)),INDEX(PO_baseline_table,0,MATCH($E$96,PO_baseline_hdr,0)),$E146,INDEX(PO_baseline_table,0,MATCH($F$96,PO_baseline_hdr,0)),\"=Con*\"),\"\")","v":0},0,0,0,0,"","",null,null,null,{"$f":"IFERROR(IF(ISBLANK($E146),\"\",VLOOKUP($E146,PO_Enrgy_1_Table,MATCH($K$16,PO_Enrgy_1_Hdr,0),FALSE)),\"\")","v":3.4120000000000001E-3},{"$f":"IFERROR(IF(ISBLANK($E146),\"\",VLOOKUP($E146,PO_Enrgy_1_Table,MATCH($M$16,PO_Enrgy_1_Hdr,0),FALSE)),\"\")","v":1.0713680000000001E-2}]
["G",null,null,null,{"$f":"IFERROR(IF(ISBLANK(B18),\"\",B18),\"\")","v":"Natural Gas"},{"$f":"IFERROR(IF(ISBLANK(E147),\"\",VLOOKUP($E147,PO_Enrgy_1_Table,MATCH($C$16,PO_Enrgy_1_Hdr,0),FALSE) ),\"\")","v":"therm"},0,0,0,0,0,"","",null,null,null,{"$f":"IFERROR(IF(ISBLANK($E147),\"\",VLOOKUP($E147,PO_Enrgy_1_Table,MATCH($K$16,PO_Enrgy_1_Hdr,0),FALSE)),\"\")","v":0.1},{"$f":"IFERROR(IF(ISBLANK($E147),\"\",VLOOKUP($E147,PO_Enrgy_1_Table,MATCH($M$16,PO_Enrgy_1_Hdr,0),FALSE)),\"\")","v":0.10500000000000001}]
["G",null,null,null,{"$f":"IFERROR(IF(ISBLANK(B19),\"\",B19),\"\")","v":"District Cooling"},{"$f":"IFERROR(IF(ISBLANK(E148),\"\",VLOOKUP($E148,PO_Enrgy_1_Table,MATCH($C$16,PO_Enrgy_1_Hdr,0),FALSE) ),\"\")","v":"MWh"},0,0,0,0,0,"","",null,null,null,{"$f":"IFERROR(IF(ISBLANK($E148),\"\",VLOOKUP($E148,PO_Enrgy_1_Table,MATCH($K$16,PO_Enrgy_1_Hdr,0),FALSE)),\"\")","v":3.4119999999999999},{"$f":"IFERROR(IF(ISBLANK($E148),\"\",VLOOKUP($E148,PO_Enrgy_1_Table,MATCH($M$16,PO_Enrgy_1_Hdr,0),FALSE)),\"\")","v":3.4119999999999999}]
["G",{"$f":"\"Total site energy (\" & PO_SiteUnits & \")\"","v":"Total site energy (Btu x 10^6)"},null,null,null,null,{"$f":"IFERROR(SUMPRODUCT(INDEX(PO_Enrgy_5_Table,0,MATCH(G$145,PO_Enrgy_5_Hdr,0)),INDEX(PO_Enrgy_5_Table,0,MATCH($Q145,PO_Enrgy_5_Hdr,0))),\"\")","v":0},0,0,0,0,"",""]
["G",{"$f":"\"Total source energy (\" & PO_SourceUnits & \")\"","v":"Total source energy (Btu x 10^6)"},null,null,null,null,{"$f":"IFERROR(SUMPRODUCT(G$146:G$147,$R$146:$R$147),0)","v":0},{"$f":"IFERROR(SUMPRODUCT(H$146:H$147,$R$146:$R$147),0)","v":0},{"$f":"IFERROR(SUMPRODUCT(I$146:I$147,$R$146:$R$147),0)","v":0},{"$f":"IFERROR(SUMPRODUCT(J$146:J$147,$R$146:$R$147),0)","v":0},{"$f":"IFERROR(SUMPRODUCT(K$146:K$147,$R$146:$R$147),0)","v":0},0,0]
["G"]
["G","Table: Baseline building annual energy cost by energy type "]
["G","Energy Type",null,null,null,null,"Baseline 0° rotation","Baseline 90° rotation","Baseline 180° rotation","Baseline 270° rotation","Baseline Design Total"]
["G","Energy_Type",null,null,null,null,"Baseline_0_Rotation","Baseline_90_Rotation","Baseline_180_Rotation","Baseline_270_Rotation","Base_Cost",null,null,null,null,null,"Site_Unit_Conversion","Source_Unit_Conversion"]
["G",{"$f":"IFERROR(IF(ISBLANK(B17),\"\",B17),\"\")","v":"Electricity"},null,null,null,{"$f":"IFERROR(IF(ISBLANK($B155),\"\",VLOOKUP($B155,PO_Enrgy_1_Table,MATCH($C$16,PO_Enrgy_1_Hdr,0),FALSE) ),\"\")","v":"kWh"},null,null,null,null,{"$f":"IFERROR((AVERAGE(G155:J155)),\"\")","v":""},null,null,null,null,null,{"$f":"IFERROR(IF(ISBLANK($B155),\"\",VLOOKUP($B155,PO_Enrgy_1_Table,MATCH($K$16,PO_Enrgy_1_Hdr,0),FALSE)),\"\")","v":3.4120000000000001E-3},{"$f":"IFERROR(IF(ISBLANK($B155),\"\",VLOOKUP($B155,PO_Enrgy_1_Table,MATCH($M$16,PO_Enrgy_1_Hdr,0),FALSE)),\"\")","v":1.0713680000000001E-2}]
["G",{"$f":"IFERROR(IF(ISBLANK(B18),\"\",B18),\"\")","v":"Natural Gas"},null,null,null,{"$f":"IFERROR(IF(ISBLANK($B156),\"\",VLOOKUP($B156,PO_Enrgy_1_Table,MATCH($C$16,PO_Enrgy_1_Hdr,0),FALSE) ),\"\")","v":"therm"},null,null,null,null,{"$f":"IFERROR((AVERAGE(G156:J156)),\"\")","v":""},null,null,null,null,null,{"$f":"IFERROR(IF(ISBLANK($B156),\"\",VLOOKUP($B156,PO_Enrgy_1_Table,MATCH($K$16,PO_Enrgy_1_Hdr,0),FALSE)),\"\")","v":0.1},{"$f":"IFERROR(IF(ISBLANK($B156),\"\",VLOOKUP($B156,PO_Enrgy_1_Table,MATCH($M$16,PO_Enrgy_1_Hdr,0),FALSE)),\"\")","v":0.10500000000000001}]
["G",{"$f":"IFERROR(IF(ISBLANK(B19),\"\",B19),\"\")","v":"District Cooling"},null,null,null,{"$f":"IFERROR(IF(ISBLANK($B157),\"\",VLOOKUP($B157,PO_Enrgy_1_Table,MATCH($C$16,PO_Enrgy_1_Hdr,0),FALSE) ),\"\")","v":"MWh"},null,null,null,null,{"$f":"IFERROR((AVERAGE(G157:J157)),\"\")","v":""},null,null,null,null,null,{"$f":"IFERROR(IF(ISBLANK($B157),\"\",VLOOKUP($B157,PO_Enrgy_1_Table,MATCH($K$16,PO_Enrgy_1_Hdr,0),FALSE)),\"\")","v":3.4119999999999999},{"$f":"IFERROR(IF(ISBLANK($B157),\"\",VLOOKUP($B157,PO_Enrgy_1_Table,MATCH($M$16,PO_Enrgy_1_Hdr,0),FALSE)),\"\")","v":3.4119999999999999}]
["G","Baseline annual energy cost",null,null,null,null,{"$f":"IFERROR(SUM(INDEX(PO_Enrgy_6_Table,0,MATCH(G$154,PO_Enrgy_6_Hdr,0))),\"\")","v":0},0,0,0,0,"",""]
["G"]
["G"]
["G","Table: Proposed energy summary by end use"]
["G","Complete the table below, providing information on energy consumption and demand by end-use. If an end-use has two energy types (e.g. proposed case space heating includes both fossil fuel and electric), enter the end-use twice in the table, and list the two different energy types."]
["G","ASHRAE 90.1-2010 without Addenda (District Energy Modeling Path 1): Report the district energy type (District Cooling, District Hot Water, or District Steam) for the cooling and heating end-uses as applicable for both the baseline and proposed."]
["G","Full DES Performance Accounting method (District Energy Modeling Path 2): Report the baseline energy as if the thermal energy is produced in the building.  Report the proposed energy used to generate and distribute the district thermal energy serving the building based on calculated average district thermal efficiencies (e.g. report the electricity used to generate and distribute chilled water to the building).\n"]
["G","Streamlined DES Accounting Method (District Energy Modeling Path 3): Report the energy type (District Cooling, District Hot Water, or District Steam for the cooling and heating end-uses as applicable for both the baseline and proposed. "]
["G","Data Centers: The energy consumption for IT equipment must be metered and reported separately from other end-uses in the energy model, and in the tables below to allow the proper determination of the PUE. Complete the table below for the baseline using the full build-out IT loads for the proposed design.\n"]
["G","Retail: The energy consumption for cooking, refrigeration, and kitchen ventilation fans must be metered and reported separately from other end-uses in the energy model and in the tables below. Energy savings or consumption attributable to unregulated equipment, other than Commercial Kitchen Equipment, Supermarket Refrigeration, Walk-in Coolers and Freezers, or Commercial Kitchen Ventilation listed in Tables 1 – 4 of the LEED v4 BD+C: Retail and ID+C: Retail Rating System Appendix 3 must be claimed via Exceptional Calculation Methodology."]
["G"]
["G","End Use",null,"Unregulated?","Energy Type","Units of \nAnnual Energy and Peak Demand","Baseline","Proposed","Energy / Demand Savings \nper End-Use","End Use \nPercent Contribution to Total Energy Savings","End Use \nPercent \nContribution to \nTotal Cost Savings",null,"Percent of Total Proposed  \nSite Energy Consumption",null,null,null,null,null,null,null,null,null,"contribution rank",null,"Rank with ties","rank no ties",null,null,null,null,null,null,"QC_EFLH"]
["G","End_Use",null,"Unregulated","Energy_Type","Energy_Units","Base_Consumption_Demand","Design_Consumption_Demand","End_Use_Savings","End_Use_Contribution_to_Energy_Savings","End_Use_Contribution_to_Cost_Savings",null,"Percent_Design_Site_Consumption",null,null,null,"Site_Unit_Conversion","Source_Unit_Conversion","Base_EFLH","Design_EFLH",null,null,"contribution rank",null,"Rank with ties","rank no ties"]
["G","Interior lighting",null,{"$f":"INDEX(PO_baseline_table,1, 3)","v":0},{"$f":"INDEX(PO_baseline_table,1, 4)","v":"Electricity"},{"$f":"IFERROR(IF(ISBLANK(E171),\"\",\"Consumption (\" & VLOOKUP($E171,PO_Enrgy_1_Table,MATCH($C$16,PO_Enrgy_1_Hdr,0),FALSE) & \")\"),\"\")","v":"Consumption (kWh)"},{"$f":"INDEX(PO_baseline_table,1, 10)","v":""},null,{"$f":"IFERROR(1-H171/G171,\"\")","v":""},{"$f":"IFERROR(IF($E$327-$H$327<0,\"\",($G171-$H171)*VLOOKUP($E171,PO_Enrgy_1_Table,MATCH($K$16,PO_Enrgy_1_Hdr,0),FALSE)/($E$327-$H$327)),\"\")","v":""},{"$f":"IFERROR(IF($G$327-$J$327<0,\"\",($G171*VLOOKUP($E171,PO_Enrgy_8_Table,MATCH($E$232,PO_Enrgy_8_Hdr,0),FALSE)-($H171*VLOOKUP($E171,PO_Enrgy_8_Table,MATCH($H$232,PO_Enrgy_8_Hdr,0),FALSE)))/($G$327-$J$327)),\"\")","v":""},null,{"$f":"IFERROR(H171*VLOOKUP($E171,PO_Enrgy_1_Table,MATCH($K$16,PO_Enrgy_1_Hdr,0))/$H$227,\"\")","v":""},null,null,null,{"$f":"IFERROR(IF(ISBLANK($E171),\"\",VLOOKUP($E171,PO_Enrgy_1_Table,MATCH($K$16,PO_Enrgy_1_Hdr,0),FALSE)),\"\")","v":3.4120000000000001E-3},{"$f":"IFERROR(IF(ISBLANK($E171),\"\",VLOOKUP($E171,PO_Enrgy_1_Table,MATCH($M$16,PO_Enrgy_1_Hdr,0),FALSE)),\"\")","v":1.0713680000000001E-2},{"$f":"IFERROR(IF(FIND(\"Consumption\",F171),(G171*VLOOKUP(MID(F171,FIND(\"(\",F171)+1,LEN(F171)-FIND(\"(\",F171)-1),EnergyUnitsTable,3,FALSE))/(G172*VLOOKUP(MID(F172,FIND(\"(\",F172)+1,LEN(F172)-FIND(\"(\",F172)-1),DemandTable,3,FALSE)),1),\"\")","v":""},{"$f":"IFERROR(IF(FIND(\"Consumption\",$F171),(H171*VLOOKUP(MID($F171,FIND(\"(\",$F171)+1,LEN($F171)-FIND(\"(\",$F171)-1),EnergyUnitsTable,3,FALSE))/(H172*VLOOKUP(MID($F172,FIND(\"(\",$F172)+1,LEN($F172)-FIND(\"(\",$F172)-1),DemandTable,3,FALSE)),1),\"\")","v":""},null,{"$f":"IFERROR($AN171*H171,0)","v":0},{"$f":"IFERROR(G171*VLOOKUP($AE171,PO_Enrgy_8_Table,4,FALSE),0)","v":0},{"$f":"IFERROR(H171*VLOOKUP($AE171,PO_Enrgy_8_Table,7,FALSE),0)","v":0},{"$f":"IFERROR(IF(D171=\"x\",IF(OR(G171/H171>1.03,G171/H171<0.97),TRUE,FALSE),FALSE),FALSE)","v":false},{"$f":"IFERROR(J171*100,)","v":0},null,{"$f":"RANK(Z171,$Z$171:$Z$218,0)","v":1},{"$f":"AB171","v":1},{"$f":"B171","v":"Interior lighting"},null,{"$f":"IFERROR(G171/Lighting!$L$43,\"\")","v":""}]
["G",null,null,null,null,{"$f":"IFERROR(IF(ISBLANK(E171),\"\",\"Demand (\" & VLOOKUP($E171,PO_Enrgy_1_Table,MATCH($E$16,PO_Enrgy_1_Hdr,0),FALSE) & \")\"),\"\")","v":"Demand (kW)"},{"$f":"INDEX(PO_baseline_table,2, 10)","v":""},null,{"$f":"IFERROR(1-H172/G172,\"\")","v":""},null,null,null,null,null,null,null,"","","","",null,0,0,0]
["G","Exterior lighting",null,{"$f":"INDEX(PO_baseline_table,3, 3)","v":0},{"$f":"INDEX(PO_baseline_table,3, 4)","v":"Electricity"},{"$f":"IFERROR(IF(ISBLANK(E173),\"\",\"Consumption (\" & VLOOKUP($E173,PO_Enrgy_1_Table,MATCH($C$16,PO_Enrgy_1_Hdr,0),FALSE) & \")\"),\"\")","v":"Consumption (kWh)"},{"$f":"INDEX(PO_baseline_table,3, 10)","v":""},null,"",{"$f":"IFERROR(IF($E$327-$H$327<0,\"\",($G173-$H173)*VLOOKUP($E173,PO_Enrgy_1_Table,MATCH($K$16,PO_Enrgy_1_Hdr,0),FALSE)/($E$327-$H$327)),\"\")","v":""},{"$f":"IFERROR(IF($G$327-$J$327<0,\"\",($G173*VLOOKUP($E173,PO_Enrgy_8_Table,MATCH($E$232,PO_Enrgy_8_Hdr,0),FALSE)-($H173*VLOOKUP($E173,PO_Enrgy_8_Table,MATCH($H$232,PO_Enrgy_8_Hdr,0),FALSE)))/($G$327-$J$327)),\"\")","v":""},null,{"$f":"IFERROR(H173*VLOOKUP($E173,PO_Enrgy_1_Table,MATCH($K$16,PO_Enrgy_1_Hdr,0))/$H$227,\"\")","v":""},null,null,null,3.4120000000000001E-3,1.0713680000000001E-2,"","",null,0,0,0,{"$f":"IFERROR(IF(D173=\"x\",IF(OR(G173/H173>1.03,G173/H173<0.97),TRUE,FALSE),FALSE),FALSE)","v":false},{"$f":"IFERROR(J173*100,)","v":0},null,{"$f":"RANK(Z173,$Z$171:$Z$218,0)","v":1},{"$f":"AB173+COUNTIF($AB$171:$AB172,AB173)","v":2},{"$f":"B173","v":"Exterior lighting"}]
["G",null,null,null,null,{"$f":"IFERROR(IF(ISBLANK(E173),\"\",\"Demand (\" & VLOOKUP($E173,PO_Enrgy_1_Table,MATCH($E$16,PO_Enrgy_1_Hdr,0),FALSE) & \")\"),\"\")","v":"Demand (kW)"},{"$f":"INDEX(PO_baseline_table,4, 10)","v":""},null,"",null,null,null,null,null,null,null,"","","","",null,0,0,0]
["G","Space heating",null,{"$f":"INDEX(PO_baseline_table,5, 3)","v":0},{"$f":"INDEX(PO_baseline_table,5, 4)","v":"Natural Gas"},{"$f":"IFERROR(IF(ISBLANK(E175),\"\",\"Consumption (\" & VLOOKUP($E175,PO_Enrgy_1_Table,MATCH($C$16,PO_Enrgy_1_Hdr,0),FALSE) & \")\"),\"\")","v":"Consumption (therm)"},{"$f":"INDEX(PO_baseline_table,5, 10)","v":""},null,"",{"$f":"IFERROR(IF($E$327-$H$327<0,\"\",($G175-$H175)*VLOOKUP($E175,PO_Enrgy_1_Table,MATCH($K$16,PO_Enrgy_1_Hdr,0),FALSE)/($E$327-$H$327)),\"\")","v":""},{"$f":"IFERROR(IF($G$327-$J$327<0,\"\",($G175*VLOOKUP($E175,PO_Enrgy_8_Table,MATCH($E$232,PO_Enrgy_8_Hdr,0),FALSE)-($H175*VLOOKUP($E175,PO_Enrgy_8_Table,MATCH($H$232,PO_Enrgy_8_Hdr,0),FALSE)))/($G$327-$J$327)),\"\")","v":""},null,{"$f":"IFERROR(H175*VLOOKUP($E175,PO_Enrgy_1_Table,MATCH($K$16,PO_Enrgy_1_Hdr,0))/$H$227,\"\")","v":""},null,null,null,0.1,0.10500000000000001,"","",null,0,0,0,{"$f":"IFERROR(IF(D175=\"x\",IF(OR(G175/H175>1.03,G175/H175<0.97),TRUE,FALSE),FALSE),FALSE)","v":false},{"$f":"IFERROR(J175*100,)","v":0},null,{"$f":"RANK(Z175,$Z$171:$Z$218,0)","v":1},{"$f":"AB175+COUNTIF($AB$171:$AB174,AB175)","v":3},{"$f":"B175","v":"Space heating"}]
["G",null,null,null,null,{"$f":"IFERROR(IF(ISBLANK(E175),\"\",\"Demand (\" & VLOOKUP($E175,PO_Enrgy_1_Table,MATCH($E$16,PO_Enrgy_1_Hdr,0),FALSE) & \")\"),\"\")","v":"Demand (Btuh x 10^6)"},{"$f":"INDEX(PO_baseline_table,6, 10)","v":""},null,"",null,null,null,null,null,null,null,"","","","",null,0,0,0]
["G","Space cooling",null,{"$f":"INDEX(PO_baseline_table,7, 3)","v":0},{"$f":"INDEX(PO_baseline_table,7, 4)","v":"Electricity"},{"$f":"IFERROR(IF(ISBLANK(E177),\"\",\"Consumption (\" & VLOOKUP($E177,PO_Enrgy_1_Table,MATCH($C$16,PO_Enrgy_1_Hdr,0),FALSE) & \")\"),\"\")","v":"Consumption (kWh)"},{"$f":"INDEX(PO_baseline_table,7, 10)","v":""},null,"",{"$f":"IFERROR(IF($E$327-$H$327<0,\"\",($G177-$H177)*VLOOKUP($E177,PO_Enrgy_1_Table,MATCH($K$16,PO_Enrgy_1_Hdr,0),FALSE)/($E$327-$H$327)),\"\")","v":""},{"$f":"IFERROR(IF($G$327-$J$327<0,\"\",($G177*VLOOKUP($E177,PO_Enrgy_8_Table,MATCH($E$232,PO_Enrgy_8_Hdr,0),FALSE)-($H177*VLOOKUP($E177,PO_Enrgy_8_Table,MATCH($H$232,PO_Enrgy_8_Hdr,0),FALSE)))/($G$327-$J$327)),\"\")","v":""},null,{"$f":"IFERROR(H177*VLOOKUP($E177,PO_Enrgy_1_Table,MATCH($K$16,PO_Enrgy_1_Hdr,0))/$H$227,\"\")","v":""},null,null,null,3.4120000000000001E-3,1.0713680000000001E-2,"","",null,0,0,0,{"$f":"IFERROR(IF(D177=\"x\",IF(OR(G177/H177>1.03,G177/H177<0.97),TRUE,FALSE),FALSE),FALSE)","v":false},{"$f":"IFERROR(J177*100,)","v":0},null,{"$f":"RANK(Z177,$Z$171:$Z$218,0)","v":1},{"$f":"AB177+COUNTIF($AB$171:$AB176,AB177)","v":4},{"$f":"B177","v":"Space cooling"}]
["G",null,null,null,null,{"$f":"IFERROR(IF(ISBLANK(E177),\"\",\"Demand (\" & VLOOKUP($E177,PO_Enrgy_1_Table,MATCH($E$16,PO_Enrgy_1_Hdr,0),FALSE) & \")\"),\"\")","v":"Demand (kW)"},{"$f":"INDEX(PO_baseline_table,8, 10)","v":""},null,"",null,null,null,null,null,null,null,"","","","",null,0,0,0]
["G","Pumps",null,{"$f":"INDEX(PO_baseline_table,9, 3)","v":0},{"$f":"INDEX(PO_baseline_table,9, 4)","v":"Electricity"},{"$f":"IFERROR(IF(ISBLANK(E179),\"\",\"Consumption (\" & VLOOKUP($E179,PO_Enrgy_1_Table,MATCH($C$16,PO_Enrgy_1_Hdr,0),FALSE) & \")\"),\"\")","v":"Consumption (kWh)"},{"$f":"INDEX(PO_baseline_table,9, 10)","v":""},null,"",{"$f":"IFERROR(IF($E$327-$H$327<0,\"\",($G179-$H179)*VLOOKUP($E179,PO_Enrgy_1_Table,MATCH($K$16,PO_Enrgy_1_Hdr,0),FALSE)/($E$327-$H$327)),\"\")","v":""},{"$f":"IFERROR(IF($G$327-$J$327<0,\"\",($G179*VLOOKUP($E179,PO_Enrgy_8_Table,MATCH($E$232,PO_Enrgy_8_Hdr,0),FALSE)-($H179*VLOOKUP($E179,PO_Enrgy_8_Table,MATCH($H$232,PO_Enrgy_8_Hdr,0),FALSE)))/($G$327-$J$327)),\"\")","v":""},null,{"$f":"IFERROR(H179*VLOOKUP($E179,PO_Enrgy_1_Table,MATCH($K$16,PO_Enrgy_1_Hdr,0))/$H$227,\"\")","v":""},null,null,null,3.4120000000000001E-3,1.0713680000000001E-2,"","",null,0,0,0,{"$f":"IFERROR(IF(D179=\"x\",IF(OR(G179/H179>1.03,G179/H179<0.97),TRUE,FALSE),FALSE),FALSE)","v":false},{"$f":"IFERROR(J179*100,)","v":0},null,{"$f":"RANK(Z179,$Z$171:$Z$218,0)","v":1},{"$f":"AB179+COUNTIF($AB$171:$AB178,AB179)","v":5},{"$f":"B179","v":"Pumps"}]
["G",null,null,null,null,{"$f":"IFERROR(IF(ISBLANK(E179),\"\",\"Demand (\" & VLOOKUP($E179,PO_Enrgy_1_Table,MATCH($E$16,PO_Enrgy_1_Hdr,0),FALSE) & \")\"),\"\")","v":"Demand (kW)"},{"$f":"INDEX(PO_baseline_table,10, 10)","v":""},null,"",null,null,null,null,null,null,null,"","","","",null,0,0,0]
["G","Heat rejection",null,{"$f":"INDEX(PO_baseline_table,11, 3)","v":0},{"$f":"INDEX(PO_baseline_table,11, 4)","v":"Electricity"},{"$f":"IFERROR(IF(ISBLANK(E181),\"\",\"Consumption (\" & VLOOKUP($E181,PO_Enrgy_1_Table,MATCH($C$16,PO_Enrgy_1_Hdr,0),FALSE) & \")\"),\"\")","v":"Consumption (kWh)"},{"$f":"INDEX(PO_baseline_table,11, 10)","v":""},null,"",{"$f":"IFERROR(IF($E$327-$H$327<0,\"\",($G181-$H181)*VLOOKUP($E181,PO_Enrgy_1_Table,MATCH($K$16,PO_Enrgy_1_Hdr,0),FALSE)/($E$327-$H$327)),\"\")","v":""},{"$f":"IFERROR(IF($G$327-$J$327<0,\"\",($G181*VLOOKUP($E181,PO_Enrgy_8_Table,MATCH($E$232,PO_Enrgy_8_Hdr,0),FALSE)-($H181*VLOOKUP($E181,PO_Enrgy_8_Table,MATCH($H$232,PO_Enrgy_8_Hdr,0),FALSE)))/($G$327-$J$327)),\"\")","v":""},null,{"$f":"IFERROR(H181*VLOOKUP($E181,PO_Enrgy_1_Table,MATCH($K$16,PO_Enrgy_1_Hdr,0))/$H$227,\"\")","v":""},null,null,null,3.4120000000000001E-3,1.0713680000000001E-2,"","",null,0,0,0,{"$f":"IFERROR(IF(D181=\"x\",IF(OR(G181/H181>1.03,G181/H181<0.97),TRUE,FALSE),FALSE),FALSE)","v":false},{"$f":"IFERROR(J181*100,)","v":0},null,{"$f":"RANK(Z181,$Z$171:$Z$218,0)","v":1},{"$f":"AB181+COUNTIF($AB$171:$AB180,AB181)","v":6},{"$f":"B181","v":"Heat rejection"}]
["G",null,null,null,null,{"$f":"IFERROR(IF(ISBLANK(E181),\"\",\"Demand (\" & VLOOKUP($E181,PO_Enrgy_1_Table,MATCH($E$16,PO_Enrgy_1_Hdr,0),FALSE) & \")\"),\"\")","v":"Demand (kW)"},{"$f":"INDEX(PO_baseline_table,12, 10)","v":""},null,"",null,null,null,null,null,null,null,"","","","",null,0,0,0]
["G","Fans - interior ventilation",null,{"$f":"INDEX(PO_baseline_table,13, 3)","v":0},{"$f":"INDEX(PO_baseline_table,13, 4)","v":"Electricity"},{"$f":"IFERROR(IF(ISBLANK(E183),\"\",\"Consumption (\" & VLOOKUP($E183,PO_Enrgy_1_Table,MATCH($C$16,PO_Enrgy_1_Hdr,0),FALSE) & \")\"),\"\")","v":"Consumption (kWh)"},{"$f":"INDEX(PO_baseline_table,13, 10)","v":""},null,"",{"$f":"IFERROR(IF($E$327-$H$327<0,\"\",($G183-$H183)*VLOOKUP($E183,PO_Enrgy_1_Table,MATCH($K$16,PO_Enrgy_1_Hdr,0),FALSE)/($E$327-$H$327)),\"\")","v":""},{"$f":"IFERROR(IF($G$327-$J$327<0,\"\",($G183*VLOOKUP($E183,PO_Enrgy_8_Table,MATCH($E$232,PO_Enrgy_8_Hdr,0),FALSE)-($H183*VLOOKUP($E183,PO_Enrgy_8_Table,MATCH($H$232,PO_Enrgy_8_Hdr,0),FALSE)))/($G$327-$J$327)),\"\")","v":""},null,{"$f":"IFERROR(H183*VLOOKUP($E183,PO_Enrgy_1_Table,MATCH($K$16,PO_Enrgy_1_Hdr,0))/$H$227,\"\")","v":""},null,null,null,3.4120000000000001E-3,1.0713680000000001E-2,"","",null,0,0,0,{"$f":"IFERROR(IF(D183=\"x\",IF(OR(G183/H183>1.03,G183/H183<0.97),TRUE,FALSE),FALSE),FALSE)","v":false},{"$f":"IFERROR(J183*100,)","v":0},null,{"$f":"RANK(Z183,$Z$171:$Z$218,0)","v":1},{"$f":"AB183+COUNTIF($AB$171:$AB182,AB183)","v":7},{"$f":"B183","v":"Fans - interior ventilation"}]
["G",null,null,null,null,{"$f":"IFERROR(IF(ISBLANK(E183),\"\",\"Demand (\" & VLOOKUP($E183,PO_Enrgy_1_Table,MATCH($E$16,PO_Enrgy_1_Hdr,0),FALSE) & \")\"),\"\")","v":"Demand (kW)"},{"$f":"INDEX(PO_baseline_table,14, 10)","v":""},null,"",null,null,null,null,null,null,null,"","","","",null,0,0,0]
["G","Fans - parking garage",null,{"$f":"INDEX(PO_baseline_table,15, 3)","v":"x"},{"$f":"INDEX(PO_baseline_table,15, 4)","v":"Electricity"},{"$f":"IFERROR(IF(ISBLANK(E185),\"\",\"Consumption (\" & VLOOKUP($E185,PO_Enrgy_1_Table,MATCH($C$16,PO_Enrgy_1_Hdr,0),FALSE) & \")\"),\"\")","v":"Consumption (kWh)"},{"$f":"INDEX(PO_baseline_table,15, 10)","v":""},null,"",{"$f":"IFERROR(IF($E$327-$H$327<0,\"\",($G185-$H185)*VLOOKUP($E185,PO_Enrgy_1_Table,MATCH($K$16,PO_Enrgy_1_Hdr,0),FALSE)/($E$327-$H$327)),\"\")","v":""},{"$f":"IFERROR(IF($G$327-$J$327<0,\"\",($G185*VLOOKUP($E185,PO_Enrgy_8_Table,MATCH($E$232,PO_Enrgy_8_Hdr,0),FALSE)-($H185*VLOOKUP($E185,PO_Enrgy_8_Table,MATCH($H$232,PO_Enrgy_8_Hdr,0),FALSE)))/($G$327-$J$327)),\"\")","v":""},null,{"$f":"IFERROR(H185*VLOOKUP($E185,PO_Enrgy_1_Table,MATCH($K$16,PO_Enrgy_1_Hdr,0))/$H$227,\"\")","v":""},null,null,null,3.4120000000000001E-3,1.0713680000000001E-2,"","",null,0,0,0,{"$f":"IFERROR(IF(D185=\"x\",IF(OR(G185/H185>1.03,G185/H185<0.97),TRUE,FALSE),FALSE),FALSE)","v":false},{"$f":"IFERROR(J185*100,)","v":0},null,{"$f":"RANK(Z185,$Z$171:$Z$218,0)","v":1},{"$f":"AB185+COUNTIF($AB$171:$AB184,AB185)","v":8},{"$f":"B185","v":"Fans - parking garage"}]
["G",null,null,null,null,{"$f":"IFERROR(IF(ISBLANK(E185),\"\",\"Demand (\" & VLOOKUP($E185,PO_Enrgy_1_Table,MATCH($E$16,PO_Enrgy_1_Hdr,0),FALSE) & \")\"),\"\")","v":"Demand (kW)"},{"$f":"INDEX(PO_baseline_table,16, 10)","v":""},null,"",null,null,null,null,null,null,null,"","","","",null,0,0,0]
["G","Service water heating",null,{"$f":"INDEX(PO_baseline_table,17, 3)","v":0},{"$f":"INDEX(PO_baseline_table,17, 4)","v":"Natural Gas"},{"$f":"IFERROR(IF(ISBLANK(E187),\"\",\"Consumption (\" & VLOOKUP($E187,PO_Enrgy_1_Table,MATCH($C$16,PO_Enrgy_1_Hdr,0),FALSE) & \")\"),\"\")","v":"Consumption (therm)"},{"$f":"INDEX(PO_baseline_table,17, 10)","v":""},null,"",{"$f":"IFERROR(IF($E$327-$H$327<0,\"\",($G187-$H187)*VLOOKUP($E187,PO_Enrgy_1_Table,MATCH($K$16,PO_Enrgy_1_Hdr,0),FALSE)/($E$327-$H$327)),\"\")","v":""},{"$f":"IFERROR(IF($G$327-$J$327<0,\"\",($G187*VLOOKUP($E187,PO_Enrgy_8_Table,MATCH($E$232,PO_Enrgy_8_Hdr,0),FALSE)-($H187*VLOOKUP($E187,PO_Enrgy_8_Table,MATCH($H$232,PO_Enrgy_8_Hdr,0),FALSE)))/($G$327-$J$327)),\"\")","v":""},null,{"$f":"IFERROR(H187*VLOOKUP($E187,PO_Enrgy_1_Table,MATCH($K$16,PO_Enrgy_1_Hdr,0))/$H$227,\"\")","v":""},null,null,null,0.1,0.10500000000000001,"","",null,0,0,0,{"$f":"IFERROR(IF(D187=\"x\",IF(OR(G187/H187>1.03,G187/H187<0.97),TRUE,FALSE),FALSE),FALSE)","v":false},{"$f":"IFERROR(J187*100,)","v":0},null,{"$f":"RANK(Z187,$Z$171:$Z$218,0)","v":1},{"$f":"AB187+COUNTIF($AB$171:$AB186,AB187)","v":9},{"$f":"B187","v":"Service water heating"}]
["G",null,null,null,null,{"$f":"IFERROR(IF(ISBLANK(E187),\"\",\"Demand (\" & VLOOKUP($E187,PO_Enrgy_1_Table,MATCH($E$16,PO_Enrgy_1_Hdr,0),FALSE) & \")\"),\"\")","v":"Demand (Btuh x 10^6)"},{"$f":"INDEX(PO_baseline_table,18, 10)","v":""},null,"",null,null,null,null,null,null,null,"","","","",null,0,0,0]
["G","Receptacle equipment",null,{"$f":"INDEX(PO_baseline_table,19, 3)","v":"x"},{"$f":"INDEX(PO_baseline_table,19, 4)","v":"Electricity"},{"$f":"IFERROR(IF(ISBLANK(E189),\"\",\"Consumption (\" & VLOOKUP($E189,PO_Enrgy_1_Table,MATCH($C$16,PO_Enrgy_1_Hdr,0),FALSE) & \")\"),\"\")","v":"Consumption (kWh)"},{"$f":"INDEX(PO_baseline_table,19, 10)","v":""},null,"",{"$f":"IFERROR(IF($E$327-$H$327<0,\"\",($G189-$H189)*VLOOKUP($E189,PO_Enrgy_1_Table,MATCH($K$16,PO_Enrgy_1_Hdr,0),FALSE)/($E$327-$H$327)),\"\")","v":""},{"$f":"IFERROR(IF($G$327-$J$327<0,\"\",($G189*VLOOKUP($E189,PO_Enrgy_8_Table,MATCH($E$232,PO_Enrgy_8_Hdr,0),FALSE)-($H189*VLOOKUP($E189,PO_Enrgy_8_Table,MATCH($H$232,PO_Enrgy_8_Hdr,0),FALSE)))/($G$327-$J$327)),\"\")","v":""},null,{"$f":"IFERROR(H189*VLOOKUP($E189,PO_Enrgy_1_Table,MATCH($K$16,PO_Enrgy_1_Hdr,0))/$H$227,\"\")","v":""},null,null,null,3.4120000000000001E-3,1.0713680000000001E-2,"","",null,0,0,0,{"$f":"IFERROR(IF(D189=\"x\",IF(OR(G189/H189>1.03,G189/H189<0.97),TRUE,FALSE),FALSE),FALSE)","v":false},{"$f":"IFERROR(J189*100,)","v":0},null,{"$f":"RANK(Z189,$Z$171:$Z$218,0)","v":1},{"$f":"AB189+COUNTIF($AB$171:$AB188,AB189)","v":10},{"$f":"B189","v":"Receptacle equipment"}]
["G",null,null,null,null,{"$f":"IFERROR(IF(ISBLANK(E189),\"\",\"Demand (\" & VLOOKUP($E189,PO_Enrgy_1_Table,MATCH($E$16,PO_Enrgy_1_Hdr,0),FALSE) & \")\"),\"\")","v":"Demand (kW)"},{"$f":"INDEX(PO_baseline_table,20, 10)","v":""},null,"",null,null,null,null,null,null,null,"","","","",null,0,0,0]
["G","IT equipment",null,{"$f":"INDEX(PO_baseline_table,21, 3)","v":"x"},{"$f":"INDEX(PO_baseline_table,21, 4)","v":"Electricity"},{"$f":"IFERROR(IF(ISBLANK(E191),\"\",\"Consumption (\" & VLOOKUP($E191,PO_Enrgy_1_Table,MATCH($C$16,PO_Enrgy_1_Hdr,0),FALSE) & \")\"),\"\")","v":"Consumption (kWh)"},{"$f":"INDEX(PO_baseline_table,21, 10)","v":""},null,"",{"$f":"IFERROR(IF($E$327-$H$327<0,\"\",($G191-$H191)*VLOOKUP($E191,PO_Enrgy_1_Table,MATCH($K$16,PO_Enrgy_1_Hdr,0),FALSE)/($E$327-$H$327)),\"\")","v":""},{"$f":"IFERROR(IF($G$327-$J$327<0,\"\",($G191*VLOOKUP($E191,PO_Enrgy_8_Table,MATCH($E$232,PO_Enrgy_8_Hdr,0),FALSE)-($H191*VLOOKUP($E191,PO_Enrgy_8_Table,MATCH($H$232,PO_Enrgy_8_Hdr,0),FALSE)))/($G$327-$J$327)),\"\")","v":""},null,{"$f":"IFERROR(H191*VLOOKUP($E191,PO_Enrgy_1_Table,MATCH($K$16,PO_Enrgy_1_Hdr,0))/$H$227,\"\")","v":""},null,null,null,3.4120000000000001E-3,1.0713680000000001E-2,"","",null,0,0,0,{"$f":"IFERROR(IF(D191=\"x\",IF(OR(G191/H191>1.03,G191/H191<0.97),TRUE,FALSE),FALSE),FALSE)","v":false},{"$f":"IFERROR(J191*100,)","v":0},null,{"$f":"RANK(Z191,$Z$171:$Z$218,0)","v":1},{"$f":"AB191+COUNTIF($AB$171:$AB190,AB191)","v":11},{"$f":"B191","v":"IT equipment"}]
["G",null,null,null,null,{"$f":"IFERROR(IF(ISBLANK(E191),\"\",\"Demand (\" & VLOOKUP($E191,PO_Enrgy_1_Table,MATCH($E$16,PO_Enrgy_1_Hdr,0),FALSE) & \")\"),\"\")","v":"Demand (kW)"},{"$f":"INDEX(PO_baseline_table,22, 10)","v":""},null,"",null,null,null,null,null,null,null,"","","","",null,0,0,0]
["G","Interior lighting - process",null,{"$f":"INDEX(PO_baseline_table,23, 3)","v":"x"},{"$f":"INDEX(PO_baseline_table,23, 4)","v":"Electricity"},{"$f":"IFERROR(IF(ISBLANK(E193),\"\",\"Consumption (\" & VLOOKUP($E193,PO_Enrgy_1_Table,MATCH($C$16,PO_Enrgy_1_Hdr,0),FALSE) & \")\"),\"\")","v":"Consumption (kWh)"},{"$f":"INDEX(PO_baseline_table,23, 10)","v":""},null,"",{"$f":"IFERROR(IF($E$327-$H$327<0,\"\",($G193-$H193)*VLOOKUP($E193,PO_Enrgy_1_Table,MATCH($K$16,PO_Enrgy_1_Hdr,0),FALSE)/($E$327-$H$327)),\"\")","v":""},{"$f":"IFERROR(IF($G$327-$J$327<0,\"\",($G193*VLOOKUP($E193,PO_Enrgy_8_Table,MATCH($E$232,PO_Enrgy_8_Hdr,0),FALSE)-($H193*VLOOKUP($E193,PO_Enrgy_8_Table,MATCH($H$232,PO_Enrgy_8_Hdr,0),FALSE)))/($G$327-$J$327)),\"\")","v":""},null,{"$f":"IFERROR(H193*VLOOKUP($E193,PO_Enrgy_1_Table,MATCH($K$16,PO_Enrgy_1_Hdr,0))/$H$227,\"\")","v":""},null,null,null,3.4120000000000001E-3,1.0713680000000001E-2,"","",null,0,0,0,{"$f":"IFERROR(IF(D193=\"x\",IF(OR(G193/H193>1.03,G193/H193<0.97),TRUE,FALSE),FALSE),FALSE)","v":false},{"$f":"IFERROR(J193*100,)","v":0},null,{"$f":"RANK(Z193,$Z$171:$Z$218,0)","v":1},{"$f":"AB193+COUNTIF($AB$171:$AB192,AB193)","v":12},{"$f":"B193","v":"Interior lighting - process"}]
["G",null,null,null,null,{"$f":"IFERROR(IF(ISBLANK(E193),\"\",\"Demand (\" & VLOOKUP($E193,PO_Enrgy_1_Table,MATCH($E$16,PO_Enrgy_1_Hdr,0),FALSE) & \")\"),\"\")","v":"Demand (kW)"},{"$f":"INDEX(PO_baseline_table,24, 10)","v":""},null,"",null,null,null,null,null,null,null,"","","","",null,0,0,0]
["G","Refrigeration equipment",null,{"$f":"INDEX(PO_baseline_table,25, 3)","v":"x"},{"$f":"INDEX(PO_baseline_table,25, 4)","v":"Electricity"},{"$f":"IFERROR(IF(ISBLANK(E195),\"\",\"Consumption (\" & VLOOKUP($E195,PO_Enrgy_1_Table,MATCH($C$16,PO_Enrgy_1_Hdr,0),FALSE) & \")\"),\"\")","v":"Consumption (kWh)"},{"$f":"INDEX(PO_baseline_table,25, 10)","v":""},null,"",{"$f":"IFERROR(IF($E$327-$H$327<0,\"\",($G195-$H195)*VLOOKUP($E195,PO_Enrgy_1_Table,MATCH($K$16,PO_Enrgy_1_Hdr,0),FALSE)/($E$327-$H$327)),\"\")","v":""},{"$f":"IFERROR(IF($G$327-$J$327<0,\"\",($G195*VLOOKUP($E195,PO_Enrgy_8_Table,MATCH($E$232,PO_Enrgy_8_Hdr,0),FALSE)-($H195*VLOOKUP($E195,PO_Enrgy_8_Table,MATCH($H$232,PO_Enrgy_8_Hdr,0),FALSE)))/($G$327-$J$327)),\"\")","v":""},null,{"$f":"IFERROR(H195*VLOOKUP($E195,PO_Enrgy_1_Table,MATCH($K$16,PO_Enrgy_1_Hdr,0))/$H$227,\"\")","v":""},null,null,null,3.4120000000000001E-3,1.0713680000000001E-2,"","",null,0,0,0,{"$f":"IFERROR(IF(D195=\"x\",IF(OR(G195/H195>1.03,G195/H195<0.97),TRUE,FALSE),FALSE),FALSE)","v":false},{"$f":"IFERROR(J195*100,)","v":0},null,{"$f":"RANK(Z195,$Z$171:$Z$218,0)","v":1},{"$f":"AB195+COUNTIF($AB$171:$AB194,AB195)","v":13},{"$f":"B195","v":"Refrigeration equipment"}]
["G",null,null,null,null,{"$f":"IFERROR(IF(ISBLANK(E195),\"\",\"Demand (\" & VLOOKUP($E195,PO_Enrgy_1_Table,MATCH($E$16,PO_Enrgy_1_Hdr,0),FALSE) & \")\"),\"\")","v":"Demand (kW)"},{"$f":"INDEX(PO_baseline_table,26, 10)","v":""},null,"",null,null,null,null,null,null,null,"","","","",null,0,0,0]
["G","Fans - Kitchen Ventilation",null,{"$f":"INDEX(PO_baseline_table,27, 3)","v":"x"},{"$f":"INDEX(PO_baseline_table,27, 4)","v":"Electricity"},{"$f":"IFERROR(IF(ISBLANK(E197),\"\",\"Consumption (\" & VLOOKUP($E197,PO_Enrgy_1_Table,MATCH($C$16,PO_Enrgy_1_Hdr,0),FALSE) & \")\"),\"\")","v":"Consumption (kWh)"},{"$f":"INDEX(PO_baseline_table,27, 10)","v":""},null,"",{"$f":"IFERROR(IF($E$327-$H$327<0,\"\",($G197-$H197)*VLOOKUP($E197,PO_Enrgy_1_Table,MATCH($K$16,PO_Enrgy_1_Hdr,0),FALSE)/($E$327-$H$327)),\"\")","v":""},{"$f":"IFERROR(IF($G$327-$J$327<0,\"\",($G197*VLOOKUP($E197,PO_Enrgy_8_Table,MATCH($E$232,PO_Enrgy_8_Hdr,0),FALSE)-($H197*VLOOKUP($E197,PO_Enrgy_8_Table,MATCH($H$232,PO_Enrgy_8_Hdr,0),FALSE)))/($G$327-$J$327)),\"\")","v":""},null,{"$f":"IFERROR(H197*VLOOKUP($E197,PO_Enrgy_1_Table,MATCH($K$16,PO_Enrgy_1_Hdr,0))/$H$227,\"\")","v":""},null,null,null,3.4120000000000001E-3,1.0713680000000001E-2,"","",null,0,0,0,{"$f":"IFERROR(IF(D197=\"x\",IF(OR(G197/H197>1.03,G197/H197<0.97),TRUE,FALSE),FALSE),FALSE)","v":false},{"$f":"IFERROR(J197*100,)","v":0},null,{"$f":"RANK(Z197,$Z$171:$Z$218,0)","v":1},{"$f":"AB197+COUNTIF($AB$171:$AB196,AB197)","v":14},{"$f":"B197","v":"Fans - Kitchen Ventilation"}]
["G",null,null,null,null,{"$f":"IFERROR(IF(ISBLANK(E197),\"\",\"Demand (\" & VLOOKUP($E197,PO_Enrgy_1_Table,MATCH($E$16,PO_Enrgy_1_Hdr,0),FALSE) & \")\"),\"\")","v":"Demand (kW)"},{"$f":"INDEX(PO_baseline_table,28, 10)","v":""},null,"",null,null,null,null,null,null,null,"","","","",null,0,0,0]
["G","Cooking",null,{"$f":"INDEX(PO_baseline_table,29, 3)","v":"x"},{"$f":"INDEX(PO_baseline_table,29, 4)","v":"Electricity"},{"$f":"IFERROR(IF(ISBLANK(E199),\"\",\"Consumption (\" & VLOOKUP($E199,PO_Enrgy_1_Table,MATCH($C$16,PO_Enrgy_1_Hdr,0),FALSE) & \")\"),\"\")","v":"Consumption (kWh)"},{"$f":"INDEX(PO_baseline_table,29, 10)","v":""},null,"",{"$f":"IFERROR(IF($E$327-$H$327<0,\"\",($G199-$H199)*VLOOKUP($E199,PO_Enrgy_1_Table,MATCH($K$16,PO_Enrgy_1_Hdr,0),FALSE)/($E$327-$H$327)),\"\")","v":""},{"$f":"IFERROR(IF($G$327-$J$327<0,\"\",($G199*VLOOKUP($E199,PO_Enrgy_8_Table,MATCH($E$232,PO_Enrgy_8_Hdr,0),FALSE)-($H199*VLOOKUP($E199,PO_Enrgy_8_Table,MATCH($H$232,PO_Enrgy_8_Hdr,0),FALSE)))/($G$327-$J$327)),\"\")","v":""},null,{"$f":"IFERROR(H199*VLOOKUP($E199,PO_Enrgy_1_Table,MATCH($K$16,PO_Enrgy_1_Hdr,0))/$H$227,\"\")","v":""},null,null,null,3.4120000000000001E-3,1.0713680000000001E-2,"","",null,0,0,0,{"$f":"IFERROR(IF(D199=\"x\",IF(OR(G199/H199>1.03,G199/H199<0.97),TRUE,FALSE),FALSE),FALSE)","v":false},{"$f":"IFERROR(J199*100,)","v":0},null,{"$f":"RANK(Z199,$Z$171:$Z$218,0)","v":1},{"$f":"AB199+COUNTIF($AB$171:$AB198,AB199)","v":15},{"$f":"B199","v":"Cooking"}]
["G",null,null,null,null,{"$f":"IFERROR(IF(ISBLANK(E199),\"\",\"Demand (\" & VLOOKUP($E199,PO_Enrgy_1_Table,MATCH($E$16,PO_Enrgy_1_Hdr,0),FALSE) & \")\"),\"\")","v":"Demand (kW)"},{"$f":"INDEX(PO_baseline_table,30, 10)","v":""},null,"",null,null,null,null,null,null,null,"","","","",null,0,0,0]
["G","Industrial Process",null,{"$f":"INDEX(PO_baseline_table,31, 3)","v":"x"},{"$f":"INDEX(PO_baseline_table,31, 4)","v":"Electricity"},{"$f":"IFERROR(IF(ISBLANK(E201),\"\",\"Consumption (\" & VLOOKUP($E201,PO_Enrgy_1_Table,MATCH($C$16,PO_Enrgy_1_Hdr,0),FALSE) & \")\"),\"\")","v":"Consumption (kWh)"},{"$f":"INDEX(PO_baseline_table,31, 10)","v":""},null,"",{"$f":"IFERROR(IF($E$327-$H$327<0,\"\",($G201-$H201)*VLOOKUP($E201,PO_Enrgy_1_Table,MATCH($K$16,PO_Enrgy_1_Hdr,0),FALSE)/($E$327-$H$327)),\"\")","v":""},{"$f":"IFERROR(IF($G$327-$J$327<0,\"\",($G201*VLOOKUP($E201,PO_Enrgy_8_Table,MATCH($E$232,PO_Enrgy_8_Hdr,0),FALSE)-($H201*VLOOKUP($E201,PO_Enrgy_8_Table,MATCH($H$232,PO_Enrgy_8_Hdr,0),FALSE)))/($G$327-$J$327)),\"\")","v":""},null,{"$f":"IFERROR(H201*VLOOKUP($E201,PO_Enrgy_1_Table,MATCH($K$16,PO_Enrgy_1_Hdr,0))/$H$227,\"\")","v":""},null,null,null,3.4120000000000001E-3,1.0713680000000001E-2,"","",null,0,0,0,{"$f":"IFERROR(IF(D201=\"x\",IF(OR(G201/H201>1.03,G201/H201<0.97),TRUE,FALSE),FALSE),FALSE)","v":false},{"$f":"IFERROR(J201*100,)","v":0},null,{"$f":"RANK(Z201,$Z$171:$Z$218,0)","v":1},{"$f":"AB201+COUNTIF($AB$171:$AB200,AB201)","v":16},{"$f":"B201","v":"Industrial Process"}]
["G",null,null,null,null,{"$f":"IFERROR(IF(ISBLANK(E201),\"\",\"Demand (\" & VLOOKUP($E201,PO_Enrgy_1_Table,MATCH($E$16,PO_Enrgy_1_Hdr,0),FALSE) & \")\"),\"\")","v":"Demand (kW)"},{"$f":"INDEX(PO_baseline_table,32, 10)","v":""},null,"",null,null,null,null,null,null,null,"","","","",null,0,0,0]
["G","Elevators and escalators",null,{"$f":"INDEX(PO_baseline_table,33, 3)","v":"x"},{"$f":"INDEX(PO_baseline_table,33, 4)","v":"Electricity"},{"$f":"IFERROR(IF(ISBLANK(E203),\"\",\"Consumption (\" & VLOOKUP($E203,PO_Enrgy_1_Table,MATCH($C$16,PO_Enrgy_1_Hdr,0),FALSE) & \")\"),\"\")","v":"Consumption (kWh)"},{"$f":"INDEX(PO_baseline_table,33, 10)","v":""},null,"",{"$f":"IFERROR(IF($E$327-$H$327<0,\"\",($G203-$H203)*VLOOKUP($E203,PO_Enrgy_1_Table,MATCH($K$16,PO_Enrgy_1_Hdr,0),FALSE)/($E$327-$H$327)),\"\")","v":""},{"$f":"IFERROR(IF($G$327-$J$327<0,\"\",($G203*VLOOKUP($E203,PO_Enrgy_8_Table,MATCH($E$232,PO_Enrgy_8_Hdr,0),FALSE)-($H203*VLOOKUP($E203,PO_Enrgy_8_Table,MATCH($H$232,PO_Enrgy_8_Hdr,0),FALSE)))/($G$327-$J$327)),\"\")","v":""},null,{"$f":"IFERROR(H203*VLOOKUP($E203,PO_Enrgy_1_Table,MATCH($K$16,PO_Enrgy_1_Hdr,0))/$H$227,\"\")","v":""},null,null,null,3.4120000000000001E-3,1.0713680000000001E-2,"","",null,0,0,0,{"$f":"IFERROR(IF(D203=\"x\",IF(OR(G203/H203>1.03,G203/H203<0.97),TRUE,FALSE),FALSE),FALSE)","v":false},{"$f":"IFERROR(J203*100,)","v":0},null,{"$f":"RANK(Z203,$Z$171:$Z$218,0)","v":1},{"$f":"AB203+COUNTIF($AB$171:$AB202,AB203)","v":17},{"$f":"B203","v":"Elevators and escalators"}]
["G",null,null,null,null,{"$f":"IFERROR(IF(ISBLANK(E203),\"\",\"Demand (\" & VLOOKUP($E203,PO_Enrgy_1_Table,MATCH($E$16,PO_Enrgy_1_Hdr,0),FALSE) & \")\"),\"\")","v":"Demand (kW)"},{"$f":"INDEX(PO_baseline_table,34, 10)","v":""},null,"",null,null,null,null,null,null,null,"","","","",null,0,0,0]
["G","Heat Pump Supplementary",null,{"$f":"INDEX(PO_baseline_table,35, 3)","v":0},{"$f":"INDEX(PO_baseline_table,35, 4)","v":"Electricity"},{"$f":"IFERROR(IF(ISBLANK(E205),\"\",\"Consumption (\" & VLOOKUP($E205,PO_Enrgy_1_Table,MATCH($C$16,PO_Enrgy_1_Hdr,0),FALSE) & \")\"),\"\")","v":"Consumption (kWh)"},{"$f":"INDEX(PO_baseline_table,35, 10)","v":""},null,"",{"$f":"IFERROR(IF($E$327-$H$327<0,\"\",($G205-$H205)*VLOOKUP($E205,PO_Enrgy_1_Table,MATCH($K$16,PO_Enrgy_1_Hdr,0),FALSE)/($E$327-$H$327)),\"\")","v":""},{"$f":"IFERROR(IF($G$327-$J$327<0,\"\",($G205*VLOOKUP($E205,PO_Enrgy_8_Table,MATCH($E$232,PO_Enrgy_8_Hdr,0),FALSE)-($H205*VLOOKUP($E205,PO_Enrgy_8_Table,MATCH($H$232,PO_Enrgy_8_Hdr,0),FALSE)))/($G$327-$J$327)),\"\")","v":""},null,{"$f":"IFERROR(H205*VLOOKUP($E205,PO_Enrgy_1_Table,MATCH($K$16,PO_Enrgy_1_Hdr,0))/$H$227,\"\")","v":""},null,null,null,3.4120000000000001E-3,1.0713680000000001E-2,"","",null,0,0,0,{"$f":"IFERROR(IF(D205=\"x\",IF(OR(G205/H205>1.03,G205/H205<0.97),TRUE,FALSE),FALSE),FALSE)","v":false},{"$f":"IFERROR(J205*100,)","v":0},null,{"$f":"RANK(Z205,$Z$171:$Z$218,0)","v":1},{"$f":"AB205+COUNTIF($AB$171:$AB204,AB205)","v":18},{"$f":"B205","v":"Heat Pump Supplementary"}]
["G",null,null,null,null,{"$f":"IFERROR(IF(ISBLANK(E205),\"\",\"Demand (\" & VLOOKUP($E205,PO_Enrgy_1_Table,MATCH($E$16,PO_Enrgy_1_Hdr,0),FALSE) & \")\"),\"\")","v":"Demand (kW)"},{"$f":"INDEX(PO_baseline_table,36, 10)","v":""},null,"",null,null,null,null,null,null,null,"","","","",null,0,0,0]
["G",{"$f":"INDEX(PO_base_Add_EndUses,1, 1)","v":0},null,{"$f":"INDEX(PO_baseline_table,37, 3)","v":0},{"$f":"INDEX(PO_baseline_table,37, 4)","v":0},{"$f":"IFERROR(IF(ISBLANK(E207),\"\",\"Consumption (\" & VLOOKUP($E207,PO_Enrgy_1_Table,MATCH($C$16,PO_Enrgy_1_Hdr,0),FALSE) & \")\"),\"\")","v":""},{"$f":"INDEX(PO_baseline_table,37, 10)","v":""},null,"",{"$f":"IFERROR(IF($E$327-$H$327<0,\"\",($G207-$H207)*VLOOKUP($E207,PO_Enrgy_1_Table,MATCH($K$16,PO_Enrgy_1_Hdr,0),FALSE)/($E$327-$H$327)),\"\")","v":""},{"$f":"IFERROR(IF($G$327-$J$327<0,\"\",($G207*VLOOKUP($E207,PO_Enrgy_8_Table,MATCH($E$232,PO_Enrgy_8_Hdr,0),FALSE)-($H207*VLOOKUP($E207,PO_Enrgy_8_Table,MATCH($H$232,PO_Enrgy_8_Hdr,0),FALSE)))/($G$327-$J$327)),\"\")","v":""},null,{"$f":"IFERROR(H207*VLOOKUP($E207,PO_Enrgy_1_Table,MATCH($K$16,PO_Enrgy_1_Hdr,0))/$H$227,\"\")","v":""},null,null,null,"","","","",null,0,0,0,{"$f":"IFERROR(IF(D207=\"x\",IF(OR(G207/H207>1.03,G207/H207<0.97),TRUE,FALSE),FALSE),FALSE)","v":false},{"$f":"IFERROR(J207*100,)","v":0},null,{"$f":"RANK(Z207,$Z$171:$Z$218,0)","v":1},{"$f":"AB207+COUNTIF($AB$171:$AB206,AB207)","v":19},{"$f":"B207","v":0}]
["G",null,null,null,null,{"$f":"IFERROR(IF(ISBLANK(E207),\"\",\"Demand (\" & VLOOKUP($E207,PO_Enrgy_1_Table,MATCH($E$16,PO_Enrgy_1_Hdr,0),FALSE) & \")\"),\"\")","v":""},{"$f":"INDEX(PO_baseline_table,38, 10)","v":""},null,"",null,null,null,null,null,null,null,"","","","",null,0,0,0]
["G",{"$f":"INDEX(PO_base_Add_EndUses,3, 1)","v":0},null,{"$f":"INDEX(PO_baseline_table,39, 3)","v":0},{"$f":"INDEX(PO_baseline_table,39, 4)","v":0},{"$f":"IFERROR(IF(ISBLANK(E209),\"\",\"Consumption (\" & VLOOKUP($E209,PO_Enrgy_1_Table,MATCH($C$16,PO_Enrgy_1_Hdr,0),FALSE) & \")\"),\"\")","v":""},{"$f":"INDEX(PO_baseline_table,39, 10)","v":""},null,"",{"$f":"IFERROR(IF($E$327-$H$327<0,\"\",($G209-$H209)*VLOOKUP($E209,PO_Enrgy_1_Table,MATCH($K$16,PO_Enrgy_1_Hdr,0),FALSE)/($E$327-$H$327)),\"\")","v":""},{"$f":"IFERROR(IF($G$327-$J$327<0,\"\",($G209*VLOOKUP($E209,PO_Enrgy_8_Table,MATCH($E$232,PO_Enrgy_8_Hdr,0),FALSE)-($H209*VLOOKUP($E209,PO_Enrgy_8_Table,MATCH($H$232,PO_Enrgy_8_Hdr,0),FALSE)))/($G$327-$J$327)),\"\")","v":""},null,{"$f":"IFERROR(H209*VLOOKUP($E209,PO_Enrgy_1_Table,MATCH($K$16,PO_Enrgy_1_Hdr,0))/$H$227,\"\")","v":""},null,null,null,"","","","",null,0,0,0,{"$f":"IFERROR(IF(D209=\"x\",IF(OR(G209/H209>1.03,G209/H209<0.97),TRUE,FALSE),FALSE),FALSE)","v":false},{"$f":"IFERROR(J209*100,)","v":0},null,{"$f":"RANK(Z209,$Z$171:$Z$218,0)","v":1},{"$f":"AB209+COUNTIF($AB$171:$AB208,AB209)","v":20},{"$f":"B209","v":0}]
["G",null,null,null,null,{"$f":"IFERROR(IF(ISBLANK(E209),\"\",\"Demand (\" & VLOOKUP($E209,PO_Enrgy_1_Table,MATCH($E$16,PO_Enrgy_1_Hdr,0),FALSE) & \")\"),\"\")","v":""},{"$f":"INDEX(PO_baseline_table,40, 10)","v":""},null,"",null,null,null,null,null,null,null,"","","","",null,0,0,0]
["G",{"$f":"INDEX(PO_base_Add_EndUses,5, 1)","v":0},null,{"$f":"INDEX(PO_baseline_table,41, 3)","v":0},{"$f":"INDEX(PO_baseline_table,41, 4)","v":0},{"$f":"IFERROR(IF(ISBLANK(E211),\"\",\"Consumption (\" & VLOOKUP($E211,PO_Enrgy_1_Table,MATCH($C$16,PO_Enrgy_1_Hdr,0),FALSE) & \")\"),\"\")","v":""},{"$f":"INDEX(PO_baseline_table,41, 10)","v":""},null,"",{"$f":"IFERROR(IF($E$327-$H$327<0,\"\",($G211-$H211)*VLOOKUP($E211,PO_Enrgy_1_Table,MATCH($K$16,PO_Enrgy_1_Hdr,0),FALSE)/($E$327-$H$327)),\"\")","v":""},{"$f":"IFERROR(IF($G$327-$J$327<0,\"\",($G211*VLOOKUP($E211,PO_Enrgy_8_Table,MATCH($E$232,PO_Enrgy_8_Hdr,0),FALSE)-($H211*VLOOKUP($E211,PO_Enrgy_8_Table,MATCH($H$232,PO_Enrgy_8_Hdr,0),FALSE)))/($G$327-$J$327)),\"\")","v":""},null,{"$f":"IFERROR(H211*VLOOKUP($E211,PO_Enrgy_1_Table,MATCH($K$16,PO_Enrgy_1_Hdr,0))/$H$227,\"\")","v":""},null,null,null,"","","","",null,0,0,0,{"$f":"IFERROR(IF(D211=\"x\",IF(OR(G211/H211>1.03,G211/H211<0.97),TRUE,FALSE),FALSE),FALSE)","v":false},{"$f":"IFERROR(J211*100,)","v":0},null,{"$f":"RANK(Z211,$Z$171:$Z$218,0)","v":1},{"$f":"AB211+COUNTIF($AB$171:$AB210,AB211)","v":21},{"$f":"B211","v":0}]
["G",null,null,null,null,{"$f":"IFERROR(IF(ISBLANK(E211),\"\",\"Demand (\" & VLOOKUP($E211,PO_Enrgy_1_Table,MATCH($E$16,PO_Enrgy_1_Hdr,0),FALSE) & \")\"),\"\")","v":""},{"$f":"INDEX(PO_baseline_table,42, 10)","v":""},null,"",null,null,null,null,null,null,null,"","","","",null,0,0,0]
["G",{"$f":"INDEX(PO_base_Add_EndUses,7, 1)","v":0},null,{"$f":"INDEX(PO_baseline_table,43, 3)","v":0},{"$f":"INDEX(PO_baseline_table,43, 4)","v":0},{"$f":"IFERROR(IF(ISBLANK(E213),\"\",\"Consumption (\" & VLOOKUP($E213,PO_Enrgy_1_Table,MATCH($C$16,PO_Enrgy_1_Hdr,0),FALSE) & \")\"),\"\")","v":""},{"$f":"INDEX(PO_baseline_table,43, 10)","v":""},null,"",{"$f":"IFERROR(IF($E$327-$H$327<0,\"\",($G213-$H213)*VLOOKUP($E213,PO_Enrgy_1_Table,MATCH($K$16,PO_Enrgy_1_Hdr,0),FALSE)/($E$327-$H$327)),\"\")","v":""},{"$f":"IFERROR(IF($G$327-$J$327<0,\"\",($G213*VLOOKUP($E213,PO_Enrgy_8_Table,MATCH($E$232,PO_Enrgy_8_Hdr,0),FALSE)-($H213*VLOOKUP($E213,PO_Enrgy_8_Table,MATCH($H$232,PO_Enrgy_8_Hdr,0),FALSE)))/($G$327-$J$327)),\"\")","v":""},null,{"$f":"IFERROR(H213*VLOOKUP($E213,PO_Enrgy_1_Table,MATCH($K$16,PO_Enrgy_1_Hdr,0))/$H$227,\"\")","v":""},null,null,null,"","","","",null,0,0,0,{"$f":"IFERROR(IF(D213=\"x\",IF(OR(G213/H213>1.03,G213/H213<0.97),TRUE,FALSE),FALSE),FALSE)","v":false},{"$f":"IFERROR(J213*100,)","v":0},null,{"$f":"RANK(Z213,$Z$171:$Z$218,0)","v":1},{"$f":"AB213+COUNTIF($AB$171:$AB212,AB213)","v":22},{"$f":"B213","v":0}]
["G",null,null,null,null,{"$f":"IFERROR(IF(ISBLANK(E213),\"\",\"Demand (\" & VLOOKUP($E213,PO_Enrgy_1_Table,MATCH($E$16,PO_Enrgy_1_Hdr,0),FALSE) & \")\"),\"\")","v":""},{"$f":"INDEX(PO_baseline_table,44, 10)","v":""},null,"",null,null,null,null,null,null,null,"","","","",null,0,0,0]
["G",{"$f":"INDEX(PO_base_Add_EndUses,9, 1)","v":0},null,{"$f":"INDEX(PO_baseline_table,45, 3)","v":0},{"$f":"INDEX(PO_baseline_table,45, 4)","v":0},{"$f":"IFERROR(IF(ISBLANK(E215),\"\",\"Consumption (\" & VLOOKUP($E215,PO_Enrgy_1_Table,MATCH($C$16,PO_Enrgy_1_Hdr,0),FALSE) & \")\"),\"\")","v":""},{"$f":"INDEX(PO_baseline_table,45, 10)","v":""},null,"",{"$f":"IFERROR(IF($E$327-$H$327<0,\"\",($G215-$H215)*VLOOKUP($E215,PO_Enrgy_1_Table,MATCH($K$16,PO_Enrgy_1_Hdr,0),FALSE)/($E$327-$H$327)),\"\")","v":""},{"$f":"IFERROR(IF($G$327-$J$327<0,\"\",($G215*VLOOKUP($E215,PO_Enrgy_8_Table,MATCH($E$232,PO_Enrgy_8_Hdr,0),FALSE)-($H215*VLOOKUP($E215,PO_Enrgy_8_Table,MATCH($H$232,PO_Enrgy_8_Hdr,0),FALSE)))/($G$327-$J$327)),\"\")","v":""},null,{"$f":"IFERROR(H215*VLOOKUP($E215,PO_Enrgy_1_Table,MATCH($K$16,PO_Enrgy_1_Hdr,0))/$H$227,\"\")","v":""},null,null,null,"","","","",null,0,0,0,{"$f":"IFERROR(IF(D215=\"x\",IF(OR(G215/H215>1.03,G215/H215<0.97),TRUE,FALSE),FALSE),FALSE)","v":false},{"$f":"IFERROR(J215*100,)","v":0},null,{"$f":"RANK(Z215,$Z$171:$Z$218,0)","v":1},{"$f":"AB215+COUNTIF($AB$171:$AB214,AB215)","v":23},{"$f":"B215","v":0}]
["G",null,null,null,null,{"$f":"IFERROR(IF(ISBLANK(E215),\"\",\"Demand (\" & VLOOKUP($E215,PO_Enrgy_1_Table,MATCH($E$16,PO_Enrgy_1_Hdr,0),FALSE) & \")\"),\"\")","v":""},{"$f":"INDEX(PO_baseline_table,46, 10)","v":""},null,"",null,null,null,null,null,null,null,"","","","",null,0,0,0]
["G",{"$f":"INDEX(PO_base_Add_EndUses,11, 1)","v":0},null,{"$f":"INDEX(PO_baseline_table,47, 3)","v":0},{"$f":"INDEX(PO_baseline_table,47, 4)","v":0},{"$f":"IFERROR(IF(ISBLANK(E217),\"\",\"Consumption (\" & VLOOKUP($E217,PO_Enrgy_1_Table,MATCH($C$16,PO_Enrgy_1_Hdr,0),FALSE) & \")\"),\"\")","v":""},{"$f":"INDEX(PO_baseline_table,47, 10)","v":""},null,"",{"$f":"IFERROR(IF($E$327-$H$327<0,\"\",($G217-$H217)*VLOOKUP($E217,PO_Enrgy_1_Table,MATCH($K$16,PO_Enrgy_1_Hdr,0),FALSE)/($E$327-$H$327)),\"\")","v":""},{"$f":"IFERROR(IF($G$327-$J$327<0,\"\",($G217*VLOOKUP($E217,PO_Enrgy_8_Table,MATCH($E$232,PO_Enrgy_8_Hdr,0),FALSE)-($H217*VLOOKUP($E217,PO_Enrgy_8_Table,MATCH($H$232,PO_Enrgy_8_Hdr,0),FALSE)))/($G$327-$J$327)),\"\")","v":""},null,{"$f":"IFERROR(H217*VLOOKUP($E217,PO_Enrgy_1_Table,MATCH($K$16,PO_Enrgy_1_Hdr,0))/$H$227,\"\")","v":""},null,null,null,"","","","",null,0,0,0,{"$f":"IFERROR(IF(D217=\"x\",IF(OR(G217/H217>1.03,G217/H217<0.97),TRUE,FALSE),FALSE),FALSE)","v":false},{"$f":"IFERROR(J217*100,)","v":0},null,{"$f":"RANK(Z217,$Z$171:$Z$218,0)","v":1},{"$f":"AB217+COUNTIF($AB$171:$AB216,AB217)","v":24},{"$f":"B217","v":0}]
["G",null,null,null,null,{"$f":"IFERROR(IF(ISBLANK(E217),\"\",\"Demand (\" & VLOOKUP($E217,PO_Enrgy_1_Table,MATCH($E$16,PO_Enrgy_1_Hdr,0),FALSE) & \")\"),\"\")","v":""},{"$f":"INDEX(PO_baseline_table,48, 10)","v":""},null,"",null,null,null,null,null,null,null,"","","","",null,0,0,0]
["G"]
["G","Table: Performance rating energy consumption and cost by fuel type"]
["G","Energy Type","Site Energy Units",null,"Baseline",null,null,"Proposed",null,null,"Percent Savings"]
["G",null,null,null,"Site Energy Use (Units shown per energy type)",{"$f":"\"Source Energy Use \n(\"  & PO_SourceUnits & \")\"","v":"Source Energy Use \n(Btu x 10^6)"},"Cost","Site Energy Use (Units shown per energy type)",{"$f":"\"Source Energy Use \n(\"  & PO_SourceUnits & \")\"","v":"Source Energy Use \n(Btu x 10^6)"},"Cost","Site Energy Use",null,"Cost"]
["G","Energy_Type","Energy_Units",null,"Base_Site_Energy","Base_Source_Energy","Base_Cost","Design_Site_Energy","Design_Source_Energy","Design_Cost","Percent_Savings_Site_Energy",null,"Percent_Savings_Cost",null,null,null,"Site_Unit_Conversion","Source_Unit_Conversion"]
["G",{"$f":"IFERROR(IF(ISBLANK(B17),\"\",B17),\"\")","v":"Electricity"},{"$f":"IFERROR(IF(ISBLANK($B224),\"\",VLOOKUP($B224,PO_Enrgy_1_Table,MATCH($C$16,PO_Enrgy_1_Hdr,0),FALSE) ),\"\")","v":"kWh"},{"$f":"IF(C224=\"\",\"\",VLOOKUP(C224,ProjectEnergyTypeTable,3,FALSE))","v":{"$error":"#NAME?"}},{"$f":"IFERROR(SUMIFS(G$171:G$218,$F$171:$F$218,\"=Con*\",$E$171:$E$218,$B224), 0)","v":0},{"$f":"IFERROR(SUMIFS(G$171:G$218,$F$171:$F$218,\"=Con*\",$E$171:$E$218,$B224)*VLOOKUP($B224,PO_Enrgy_1_Table,MATCH($M$16,PO_Enrgy_1_Hdr,0),FALSE), 0)","v":0},{"$f":"INDEX(PO_Enrgy_6_Table,1, 10)","v":""},{"$f":"IFERROR(SUMIFS(H$171:H$218,$F$171:$F$218,\"=Con*\",$E$171:$E$218,$B224), 0)","v":0},{"$f":"IFERROR(SUMIFS(H$171:H$218,$F$171:$F$218,\"=Con*\",$E$171:$E$218,$B224)*VLOOKUP($B224,PO_Enrgy_1_Table,MATCH($M$16,PO_Enrgy_1_Hdr,0),FALSE), 0)","v":0},null,{"$f":"IFERROR(1-H224/E224,\"\")","v":""},null,{"$f":"IFERROR(1-J224/G224,\"\")","v":""},null,null,null,{"$f":"IFERROR(IF(ISBLANK($B224),\"\",VLOOKUP($B224,PO_Enrgy_1_Table,MATCH($K$16,PO_Enrgy_1_Hdr,0),FALSE)),\"\")","v":3.4120000000000001E-3},{"$f":"IFERROR(IF(ISBLANK($B224),\"\",VLOOKUP($B224,PO_Enrgy_1_Table,MATCH($M$16,PO_Enrgy_1_Hdr,0),FALSE)),\"\")","v":1.0713680000000001E-2}]
["G",{"$f":"IFERROR(IF(ISBLANK(B18),\"\",B18),\"\")","v":"Natural Gas"},{"$f":"IFERROR(IF(ISBLANK($B225),\"\",VLOOKUP($B225,PO_Enrgy_1_Table,MATCH($C$16,PO_Enrgy_1_Hdr,0),FALSE) ),\"\")","v":"therm"},{"$f":"IF(C225=\"\",\"\",VLOOKUP(C225,ProjectEnergyTypeTable,3,FALSE))","v":{"$error":"#NAME?"}},{"$f":"IFERROR(SUMIFS(G$171:G$218,$F$171:$F$218,\"=Con*\",$E$171:$E$218,$B225), 0)","v":0},{"$f":"IFERROR(SUMIFS(G$171:G$218,$F$171:$F$218,\"=Con*\",$E$171:$E$218,$B225)*VLOOKUP($B225,PO_Enrgy_1_Table,MATCH($M$16,PO_Enrgy_1_Hdr,0),FALSE), 0)","v":0},{"$f":"INDEX(PO_Enrgy_6_Table,2, 10)","v":""},{"$f":"IFERROR(SUMIFS(H$171:H$218,$F$171:$F$218,\"=Con*\",$E$171:$E$218,$B225), 0)","v":0},{"$f":"IFERROR(SUMIFS(H$171:H$218,$F$171:$F$218,\"=Con*\",$E$171:$E$218,$B225)*VLOOKUP($B225,PO_Enrgy_1_Table,MATCH($M$16,PO_Enrgy_1_Hdr,0),FALSE), 0)","v":0},null,{"$f":"IFERROR(1-H225/E225,\"\")","v":""},null,{"$f":"IFERROR(1-J225/G225,\"\")","v":""},null,null,null,{"$f":"IFERROR(IF(ISBLANK($B225),\"\",VLOOKUP($B225,PO_Enrgy_1_Table,MATCH($K$16,PO_Enrgy_1_Hdr,0),FALSE)),\"\")","v":0.1},{"$f":"IFERROR(IF(ISBLANK($B225),\"\",VLOOKUP($B225,PO_Enrgy_1_Table,MATCH($M$16,PO_Enrgy_1_Hdr,0),FALSE)),\"\")","v":0.10500000000000001}]
["G",{"$f":"IFERROR(IF(ISBLANK(B19),\"\",B19),\"\")","v":"District Cooling"},{"$f":"IFERROR(IF(ISBLANK($B226),\"\",VLOOKUP($B226,PO_Enrgy_1_Table,MATCH($C$16,PO_Enrgy_1_Hdr,0),FALSE) ),\"\")","v":"MWh"},{"$f":"IF(C226=\"\",\"\",VLOOKUP(C226,ProjectEnergyTypeTable,3,FALSE))","v":{"$error":"#NAME?"}},{"$f":"IFERROR(SUMIFS(G$171:G$218,$F$171:$F$218,\"=Con*\",$E$171:$E$218,$B226), 0)","v":0},{"$f":"IFERROR(SUMIFS(G$171:G$218,$F$171:$F$218,\"=Con*\",$E$171:$E$218,$B226)*VLOOKUP($B226,PO_Enrgy_1_Table,MATCH($M$16,PO_Enrgy_1_Hdr,0),FALSE), 0)","v":0},{"$f":"INDEX(PO_Enrgy_6_Table,2, 10)","v":""},{"$f":"IFERROR(SUMIFS(H$171:H$218,$F$171:$F$218,\"=Con*\",$E$171:$E$218,$B226), 0)","v":0},{"$f":"IFERROR(SUMIFS(H$171:H$218,$F$171:$F$218,\"=Con*\",$E$171:$E$218,$B226)*VLOOKUP($B226,PO_Enrgy_1_Table,MATCH($M$16,PO_Enrgy_1_Hdr,0),FALSE), 0)","v":0},null,{"$f":"IFERROR(1-H226/E226,\"\")","v":""},null,{"$f":"IFERROR(1-J226/G226,\"\")","v":""},null,null,null,{"$f":"IFERROR(IF(ISBLANK($B226),\"\",VLOOKUP($B226,PO_Enrgy_1_Table,MATCH($K$16,PO_Enrgy_1_Hdr,0),FALSE)),\"\")","v":3.4119999999999999},{"$f":"IFERROR(IF(ISBLANK($B226),\"\",VLOOKUP($B226,PO_Enrgy_1_Table,MATCH($M$16,PO_Enrgy_1_Hdr,0),FALSE)),\"\")","v":3.4119999999999999}]
["G",{"$f":"\"Energy model subtotal (\" & PO_SiteUnits & \")\"","v":"Energy model subtotal (Btu x 10^6)"},null,null,{"$f":"IFERROR(SUMPRODUCT(INDEX(PO_Enrgy_7_Table,0,MATCH(E$223,PO_Enrgy_7_Hdr,0)),INDEX(PO_Enrgy_7_Table,0,MATCH($Q$223,PO_Enrgy_7_Hdr,0))),\"\")","v":0},{"$f":"IFERROR(SUM(INDEX(PO_Enrgy_7_Table,0,MATCH(F$223,PO_Enrgy_7_Hdr,0))),\"\")","v":0},{"$f":"IFERROR(SUM(INDEX(PO_Enrgy_7_Table,0,MATCH(G$223,PO_Enrgy_7_Hdr,0))),\"\")","v":0},{"$f":"IFERROR(SUMPRODUCT(INDEX(PO_Enrgy_7_Table,0,MATCH(H$223,PO_Enrgy_7_Hdr,0)),INDEX(PO_Enrgy_7_Table,0,MATCH($Q$223,PO_Enrgy_7_Hdr,0))),\"\")","v":0},{"$f":"IFERROR(SUM(INDEX(PO_Enrgy_7_Table,0,MATCH(I$223,PO_Enrgy_7_Hdr,0))),\"\")","v":0},{"$f":"IFERROR(SUM(INDEX(PO_Enrgy_7_Table,0,MATCH(J$223,PO_Enrgy_7_Hdr,0))),\"\")","v":0},{"$f":"IFERROR(1-H227/E227,\"\")","v":""},null,{"$f":"IFERROR(1-J227/G227,\"\")","v":""}]
["G"]
["G"]
["G","Table: Virtual rate (average energy cost per unit energy)"]
["G","Energy Type",null,null,"Baseline",null,null,"Proposed",null,null,"Percent Variance"]
["G","Energy_Type","Units",null,"Base_Virtual_Rate",null,null,"Design_Virtual_Rate",null,null,"Percent_Variance",null,null,null,null,null,"Site_Unit_Conversion","Source_Unit_Conversion",null,"Default_Base","Default_Proposed"]
["G",{"$f":"IFERROR(IF(ISBLANK(B17),\"\",B17),\"\")","v":"Electricity"},{"$f":"IFERROR(CONCATENATE(\"$ / \",VLOOKUP($B233,PO_Enrgy_1_Table,MATCH($C$16,PO_Enrgy_1_Hdr,0),FALSE)),\"\")","v":"$ / kWh"},{"$f":"IF(C233=\"\",\"\",VLOOKUP(C233,ProjectEnergyTypeTable,3,FALSE))","v":{"$error":"#NAME?"}},{"$f":"IFERROR(IF(AND(DESPath=3,OR($B233=\"District Cooling\",$B233=\"District Steam\",$B233=\"District Hot Water\")),IF($B233=\"District Cooling\",$V$251,$W$251),VLOOKUP($B233,PO_Enrgy_7_Table,MATCH($G$223,PO_Enrgy_7_Hdr,0),FALSE)/VLOOKUP($B233,PO_Enrgy_7_Table,MATCH($E$223,PO_Enrgy_7_Hdr,0),FALSE)),\"\")","v":""},"","",{"$f":"IFERROR(IF(AND(DESPath=3,OR($B233=\"District Cooling\",$B233=\"District Steam\",$B233=\"District Hot Water\")),IF($B233=\"District Cooling\",$V$255,$W$255),VLOOKUP($B233,PO_Enrgy_7_Table,MATCH($J$223,PO_Enrgy_7_Hdr,0),FALSE)/VLOOKUP($B233,PO_Enrgy_7_Table,MATCH($H$223,PO_Enrgy_7_Hdr,0),FALSE)),\"\")","v":""},"","",{"$f":"IFERROR(ABS(1-H233/E233),\"\")","v":""},null,null,null,null,null,{"$f":"IFERROR(IF(ISBLANK($B233),\"\",VLOOKUP($B233,PO_Enrgy_1_Table,MATCH($K$16,PO_Enrgy_1_Hdr,0),FALSE)),\"\")","v":3.4120000000000001E-3},{"$f":"IFERROR(IF(ISBLANK($B233),\"\",VLOOKUP($B233,PO_Enrgy_1_Table,MATCH($M$16,PO_Enrgy_1_Hdr,0),FALSE)),\"\")","v":1.0713680000000001E-2},null,{"$f":"IFERROR(IF(AND(DESPath=3,OR($B233=\"District Cooling\",$B233=\"District Steam\",$B233=\"District Hot Water\")),IF($B233=\"District Cooling\",$V$251,$W$251),VLOOKUP($B233,PO_Enrgy_7_Table,MATCH($G$223,PO_Enrgy_7_Hdr,0),FALSE)/VLOOKUP($B233,PO_Enrgy_7_Table,MATCH($E$223,PO_Enrgy_7_Hdr,0),FALSE)),\"\")","v":""},{"$f":"IFERROR(IF(AND(DESPath=3,OR($B233=\"District Cooling\",$B233=\"District Steam\",$B233=\"District Hot Water\")),IF($B233=\"District Cooling\",$V$255,$W$255),VLOOKUP($B233,PO_Enrgy_7_Table,MATCH($J$223,PO_Enrgy_7_Hdr,0),FALSE)/VLOOKUP($B233,PO_Enrgy_7_Table,MATCH($H$223,PO_Enrgy_7_Hdr,0),FALSE)),\"\")","v":""}]
["G",{"$f":"IFERROR(IF(ISBLANK(B18),\"\",B18),\"\")","v":"Natural Gas"},{"$f":"IFERROR(CONCATENATE(\"$ / \",VLOOKUP($B234,PO_Enrgy_1_Table,MATCH($C$16,PO_Enrgy_1_Hdr,0),FALSE)),\"\")","v":"$ / therm"},{"$f":"IF(C234=\"\",\"\",VLOOKUP(C234,ProjectEnergyTypeTable,3,FALSE))","v":{"$error":"#NAME?"}},"","","","","","",{"$f":"IFERROR(ABS(1-H234/E234),\"\")","v":""},null,null,null,null,null,{"$f":"IFERROR(IF(ISBLANK($B234),\"\",VLOOKUP($B234,PO_Enrgy_1_Table,MATCH($K$16,PO_Enrgy_1_Hdr,0),FALSE)),\"\")","v":0.1},{"$f":"IFERROR(IF(ISBLANK($B234),\"\",VLOOKUP($B234,PO_Enrgy_1_Table,MATCH($M$16,PO_Enrgy_1_Hdr,0),FALSE)),\"\")","v":0.10500000000000001},null,{"$f":"IFERROR(IF(AND(DESPath=3,OR($B234=\"District Cooling\",$B234=\"District Steam\",$B234=\"District Hot Water\")),IF($B234=\"District Cooling\",$V$251,$W$251),VLOOKUP($B234,PO_Enrgy_7_Table,MATCH($G$223,PO_Enrgy_7_Hdr,0),FALSE)/VLOOKUP($B234,PO_Enrgy_7_Table,MATCH($E$223,PO_Enrgy_7_Hdr,0),FALSE)),\"\")","v":""},{"$f":"IFERROR(IF(AND(DESPath=3,OR($B234=\"District Cooling\",$B234=\"District Steam\",$B234=\"District Hot Water\")),IF($B234=\"District Cooling\",$V$255,$W$255),VLOOKUP($B234,PO_Enrgy_7_Table,MATCH($J$223,PO_Enrgy_7_Hdr,0),FALSE)/VLOOKUP($B234,PO_Enrgy_7_Table,MATCH($H$223,PO_Enrgy_7_Hdr,0),FALSE)),\"\")","v":""}]
["G",{"$f":"IFERROR(IF(ISBLANK(B19),\"\",B19),\"\")","v":"District Cooling"},{"$f":"IFERROR(CONCATENATE(\"$ / \",VLOOKUP($B235,PO_Enrgy_1_Table,MATCH($C$16,PO_Enrgy_1_Hdr,0),FALSE)),\"\")","v":"$ / MWh"},{"$f":"IF(C235=\"\",\"\",VLOOKUP(C235,ProjectEnergyTypeTable,3,FALSE))","v":{"$error":"#NAME?"}},"","","","","","",{"$f":"IFERROR(ABS(1-H235/E235),\"\")","v":""},null,null,null,null,null,{"$f":"IFERROR(IF(ISBLANK($B235),\"\",VLOOKUP($B235,PO_Enrgy_1_Table,MATCH($K$16,PO_Enrgy_1_Hdr,0),FALSE)),\"\")","v":3.4119999999999999},{"$f":"IFERROR(IF(ISBLANK($B235),\"\",VLOOKUP($B235,PO_Enrgy_1_Table,MATCH($M$16,PO_Enrgy_1_Hdr,0),FALSE)),\"\")","v":3.4119999999999999},null,{"$f":"IFERROR(IF(AND(DESPath=3,OR($B235=\"District Cooling\",$B235=\"District Steam\",$B235=\"District Hot Water\")),IF($B235=\"District Cooling\",$V$251,$W$251),VLOOKUP($B235,PO_Enrgy_7_Table,MATCH($G$223,PO_Enrgy_7_Hdr,0),FALSE)/VLOOKUP($B235,PO_Enrgy_7_Table,MATCH($E$223,PO_Enrgy_7_Hdr,0),FALSE)),\"\")","v":""},{"$f":"IFERROR(IF(AND(DESPath=3,OR($B235=\"District Cooling\",$B235=\"District Steam\",$B235=\"District Hot Water\")),IF($B235=\"District Cooling\",$V$255,$W$255),VLOOKUP($B235,PO_Enrgy_7_Table,MATCH($J$223,PO_Enrgy_7_Hdr,0),FALSE)/VLOOKUP($B235,PO_Enrgy_7_Table,MATCH($H$223,PO_Enrgy_7_Hdr,0),FALSE)),\"\")","v":""}]
["G"]
["G","Table: Exceptional calculation methods"]
["G","Energy Type","Site Energy Units",null,"Baseline Energy Consumption \nwith Exceptional Calculation Methods",null,null,"Proposed Energy Consumption \nwith Exceptional Calculation Methods",null,null,"Percent Savings"]
["G",null,null,null,"Site Energy Use (Units shown per energy type)",{"$f":"\"Source Energy Use \n(\"  & PO_SourceUnits & \")\"","v":"Source Energy Use \n(Btu x 10^6)"},"Cost","Site Energy Use (Units shown per energy type)",{"$f":"\"Source Energy Use \n(\"  & PO_SourceUnits & \")\"","v":"Source Energy Use \n(Btu x 10^6)"},"Cost","Site Energy Use",null,"Cost"]
["G","Energy_Type","Energy_Units",null,"Base_Site_Energy","Base_Source_Energy","Base_Cost","Design_Site_Energy","Design_Source_Energy","Design_Cost","Percent_Savings_Site_Energy",null,"Percent_Savings_Cost",null,null,null,"Site_Unit_Conversion","Source_Unit_Conversion"]
["G",{"$f":"IFERROR(IF(ISBLANK(B17),\"\",B17),\"\")","v":"Electricity"},{"$f":"IFERROR(IF(ISBLANK($B241),\"\",VLOOKUP($B241,PO_Enrgy_1_Table,MATCH($C$16,PO_Enrgy_1_Hdr,0),FALSE) ),\"\")","v":"kWh"},{"$f":"IF(C241=\"\",\"\",VLOOKUP(C241,ProjectEnergyTypeTable,3,FALSE))","v":{"$error":"#NAME?"}},{"$f":"IFERROR(VLOOKUP($B241,PO_Enrgy_7_Table,MATCH($E$223,PO_Enrgy_7_Hdr,0),FALSE)+IF(PO_ShowExCalc=TRUE,VLOOKUP($B241,PO_Enrgy_3_Table,MATCH($G$62,PO_Enrgy_3_Hdr,0),FALSE),0),0)","v":0},{"$f":"IFERROR(VLOOKUP($B241,PO_Enrgy_7_Table,MATCH($F$223,PO_Enrgy_7_Hdr,0),FALSE)+IF(PO_ShowExCalc=TRUE,VLOOKUP($B241,PO_Enrgy_3_Table,MATCH($J$62,PO_Enrgy_3_Hdr,0),FALSE),0),0)","v":0},{"$f":"IFERROR(VLOOKUP($B241,PO_Enrgy_7_Table,MATCH($G$223,PO_Enrgy_7_Hdr,0),FALSE)+IF(PO_ShowExCalc=TRUE,VLOOKUP($B241,PO_Enrgy_3_Table,MATCH($L$62,PO_Enrgy_3_Hdr,0),FALSE),0),0)","v":0},{"$f":"IFERROR(VLOOKUP($B241,PO_Enrgy_7_Table,MATCH($H$223,PO_Enrgy_7_Hdr,0),FALSE)-IF(PO_ShowExCalc=TRUE,VLOOKUP($B241,PO_Enrgy_4_Table,MATCH($G$62,PO_Enrgy_3_Hdr,0),FALSE),0),0)","v":0},{"$f":"IFERROR(VLOOKUP($B241,PO_Enrgy_7_Table,MATCH($I$223,PO_Enrgy_7_Hdr,0),FALSE)-IF(PO_ShowExCalc=TRUE,VLOOKUP($B241,PO_Enrgy_4_Table,MATCH($J$62,PO_Enrgy_3_Hdr,0),FALSE),0),0)","v":0},{"$f":"IFERROR(VLOOKUP($B241,PO_Enrgy_7_Table,MATCH($J$223,PO_Enrgy_7_Hdr,0),FALSE)-IF(PO_ShowExCalc=TRUE,VLOOKUP($B241,PO_Enrgy_4_Table,MATCH($L$62,PO_Enrgy_3_Hdr,0),FALSE),0),0)","v":0},{"$f":"IFERROR(1-H241/E241,\"\")","v":""},null,{"$f":"IFERROR(1-J241/G241,\"\")","v":""},null,null,null,{"$f":"IFERROR(IF(ISBLANK($B241),\"\",VLOOKUP($B241,PO_Enrgy_1_Table,MATCH($K$16,PO_Enrgy_1_Hdr,0),FALSE)),\"\")","v":3.4120000000000001E-3},{"$f":"IFERROR(IF(ISBLANK($B241),\"\",VLOOKUP($B241,PO_Enrgy_1_Table,MATCH($M$16,PO_Enrgy_1_Hdr,0),FALSE)),\"\")","v":1.0713680000000001E-2}]
["G",{"$f":"IFERROR(IF(ISBLANK(B18),\"\",B18),\"\")","v":"Natural Gas"},{"$f":"IFERROR(IF(ISBLANK($B242),\"\",VLOOKUP($B242,PO_Enrgy_1_Table,MATCH($C$16,PO_Enrgy_1_Hdr,0),FALSE) ),\"\")","v":"therm"},{"$f":"IF(C242=\"\",\"\",VLOOKUP(C242,ProjectEnergyTypeTable,3,FALSE))","v":{"$error":"#NAME?"}},{"$f":"IFERROR(VLOOKUP($B242,PO_Enrgy_7_Table,MATCH($E$223,PO_Enrgy_7_Hdr,0),FALSE)+IF(PO_ShowExCalc=TRUE,VLOOKUP($B242,PO_Enrgy_3_Table,MATCH($G$62,PO_Enrgy_3_Hdr,0),FALSE),0),0)","v":0},{"$f":"IFERROR(VLOOKUP($B242,PO_Enrgy_7_Table,MATCH($F$223,PO_Enrgy_7_Hdr,0),FALSE)+IF(PO_ShowExCalc=TRUE,VLOOKUP($B242,PO_Enrgy_3_Table,MATCH($J$62,PO_Enrgy_3_Hdr,0),FALSE),0),0)","v":0},{"$f":"IFERROR(VLOOKUP($B242,PO_Enrgy_7_Table,MATCH($G$223,PO_Enrgy_7_Hdr,0),FALSE)+IF(PO_ShowExCalc=TRUE,VLOOKUP($B242,PO_Enrgy_3_Table,MATCH($L$62,PO_Enrgy_3_Hdr,0),FALSE),0),0)","v":0},{"$f":"IFERROR(VLOOKUP($B242,PO_Enrgy_7_Table,MATCH($H$223,PO_Enrgy_7_Hdr,0),FALSE)-IF(PO_ShowExCalc=TRUE,VLOOKUP($B242,PO_Enrgy_4_Table,MATCH($G$62,PO_Enrgy_3_Hdr,0),FALSE),0),0)","v":0},{"$f":"IFERROR(VLOOKUP($B242,PO_Enrgy_7_Table,MATCH($I$223,PO_Enrgy_7_Hdr,0),FALSE)-IF(PO_ShowExCalc=TRUE,VLOOKUP($B242,PO_Enrgy_4_Table,MATCH($J$62,PO_Enrgy_3_Hdr,0),FALSE),0),0)","v":0},{"$f":"IFERROR(VLOOKUP($B242,PO_Enrgy_7_Table,MATCH($J$223,PO_Enrgy_7_Hdr,0),FALSE)+IF(PO_ShowExCalc=TRUE,VLOOKUP($B242,PO_Enrgy_4_Table,MATCH($L$62,PO_Enrgy_3_Hdr,0),FALSE),0),0)","v":0},{"$f":"IFERROR(1-H242/E242,\"\")","v":""},null,{"$f":"IFERROR(1-J242/G242,\"\")","v":""},null,null,null,{"$f":"IFERROR(IF(ISBLANK($B242),\"\",VLOOKUP($B242,PO_Enrgy_1_Table,MATCH($K$16,PO_Enrgy_1_Hdr,0),FALSE)),\"\")","v":0.1},{"$f":"IFERROR(IF(ISBLANK($B242),\"\",VLOOKUP($B242,PO_Enrgy_1_Table,MATCH($M$16,PO_Enrgy_1_Hdr,0),FALSE)),\"\")","v":0.10500000000000001}]
["G",{"$f":"IFERROR(IF(ISBLANK(B19),\"\",B19),\"\")","v":"District Cooling"},{"$f":"IFERROR(IF(ISBLANK($B243),\"\",VLOOKUP($B243,PO_Enrgy_1_Table,MATCH($C$16,PO_Enrgy_1_Hdr,0),FALSE) ),\"\")","v":"MWh"},{"$f":"IF(C243=\"\",\"\",VLOOKUP(C243,ProjectEnergyTypeTable,3,FALSE))","v":{"$error":"#NAME?"}},{"$f":"IFERROR(VLOOKUP($B243,PO_Enrgy_7_Table,MATCH($E$223,PO_Enrgy_7_Hdr,0),FALSE)+IF(PO_ShowExCalc=TRUE,VLOOKUP($B243,PO_Enrgy_3_Table,MATCH($G$62,PO_Enrgy_3_Hdr,0),FALSE),0),0)","v":0},{"$f":"IFERROR(VLOOKUP($B243,PO_Enrgy_7_Table,MATCH($F$223,PO_Enrgy_7_Hdr,0),FALSE)+IF(PO_ShowExCalc=TRUE,VLOOKUP($B243,PO_Enrgy_3_Table,MATCH($J$62,PO_Enrgy_3_Hdr,0),FALSE),0),0)","v":0},{"$f":"IFERROR(VLOOKUP($B243,PO_Enrgy_7_Table,MATCH($G$223,PO_Enrgy_7_Hdr,0),FALSE)+IF(PO_ShowExCalc=TRUE,VLOOKUP($B243,PO_Enrgy_3_Table,MATCH($L$62,PO_Enrgy_3_Hdr,0),FALSE),0),0)","v":0},{"$f":"IFERROR(VLOOKUP($B243,PO_Enrgy_7_Table,MATCH($H$223,PO_Enrgy_7_Hdr,0),FALSE)-IF(PO_ShowExCalc=TRUE,VLOOKUP($B243,PO_Enrgy_4_Table,MATCH($G$62,PO_Enrgy_3_Hdr,0),FALSE),0),0)","v":0},{"$f":"IFERROR(VLOOKUP($B243,PO_Enrgy_7_Table,MATCH($I$223,PO_Enrgy_7_Hdr,0),FALSE)-IF(PO_ShowExCalc=TRUE,VLOOKUP($B243,PO_Enrgy_4_Table,MATCH($J$62,PO_Enrgy_3_Hdr,0),FALSE),0),0)","v":0},{"$f":"IFERROR(VLOOKUP($B243,PO_Enrgy_7_Table,MATCH($J$223,PO_Enrgy_7_Hdr,0),FALSE)+IF(PO_ShowExCalc=TRUE,VLOOKUP($B243,PO_Enrgy_4_Table,MATCH($L$62,PO_Enrgy_3_Hdr,0),FALSE),0),0)","v":0},{"$f":"IFERROR(1-H243/E243,\"\")","v":""},null,{"$f":"IFERROR(1-J243/G243,\"\")","v":""},null,null,null,{"$f":"IFERROR(IF(ISBLANK($B243),\"\",VLOOKUP($B243,PO_Enrgy_1_Table,MATCH($K$16,PO_Enrgy_1_Hdr,0),FALSE)),\"\")","v":3.4119999999999999},{"$f":"IFERROR(IF(ISBLANK($B243),\"\",VLOOKUP($B243,PO_Enrgy_1_Table,MATCH($M$16,PO_Enrgy_1_Hdr,0),FALSE)),\"\")","v":3.4119999999999999}]
["G",{"$f":"\"Energy model subtotal (\" & PO_SiteUnits & \")\"","v":"Energy model subtotal (Btu x 10^6)"},null,null,{"$f":"IFERROR(SUMPRODUCT(INDEX(PO_Enrgy_9_Table,0,MATCH(E$240,PO_Enrgy_9_Hdr,0)),INDEX(PO_Enrgy_9_Table,0,MATCH($Q$240,PO_Enrgy_9_Hdr,0))),\"\")","v":0},{"$f":"IFERROR(SUM(INDEX(PO_Enrgy_9_Table,0,MATCH(F$240,PO_Enrgy_9_Hdr,0))),\"\")","v":0},{"$f":"IFERROR(SUM(INDEX(PO_Enrgy_9_Table,0,MATCH(G$240,PO_Enrgy_9_Hdr,0))),\"\")","v":0},{"$f":"IFERROR(SUMPRODUCT(INDEX(PO_Enrgy_9_Table,0,MATCH(H$240,PO_Enrgy_9_Hdr,0)),INDEX(PO_Enrgy_9_Table,0,MATCH($Q$240,PO_Enrgy_9_Hdr,0))),\"\")","v":0},{"$f":"IFERROR(SUM(INDEX(PO_Enrgy_9_Table,0,MATCH(I$240,PO_Enrgy_9_Hdr,0))),\"\")","v":0},{"$f":"IFERROR(SUM(INDEX(PO_Enrgy_9_Table,0,MATCH(J$240,PO_Enrgy_9_Hdr,0))),\"\")","v":0},{"$f":"IFERROR(1-H244/E244,\"\")","v":""},null,{"$f":"IFERROR(1-J244/G244,\"\")","v":""}]
["G"]
["G","Table: Streamlined DES Accounting Method (DES Path 3) - District Energy Allocation to Project Based on Average Efficiencies"]
["G","Select the fossil fuel energy type used to generate any district heating or cooling.  Enter the proposed average District Cooling and District Heating efficiencies as applicable. For District Cooling, include chillers, cooling towers, chilled water and condenser water pumps, thermal distribution losses, and any other end-uses contributing towards the energy used to generate and distribute chilled water to the building. For District Heating, include boilers, pumps, thermal distribution losses, and any other end-uses contributing towards the energy used to generate and distribute heating to the building. In the Uploads section of the form, provide details regarding the calculations and or monitoring used to determine the proposed District Energy average efficiency, including any energy simulation outputs for the district plant if using the modeling method.\n\n* Average DES efficiency (COP) per energy source is equal to one unit of thermal energy divided by the input energy for the energy source associated with generating one unit of thermal energy and delivering it to the building. Baseline average efficiency is determined based on chilled water or hot water capacity and ASHRAE 90.1 Appendix G Baseline requirements for on-site CHW and HHW generation equipment (see District Energy Path 3 tab for details)."]
["G","Fuel Source for District Cooling and/or Heating","Site Energy Units",null,"District Cooling ",null,null,"District Heating"]
["G",null,null,null,"Average \nEfficiency \n(COP)*","Site Energy Use \n(Units shown per energy type)","Cost","Average \nEfficiency \n(COP)*","Site Energy Use (Units shown per energy type)","Cost"]
["G","Energy_Type","Energy_Units",null,"Cooling_Avg_Efficiency","Cooling_Site_Energy","Cooling_Cost","Heating_Avg_Effiicency","Heating_Site_Energy","Heating_Cost",null,null,null,null,null,null,null,null,null,null,"Total Baseline","Cost/Unit District Cooling","Cost/Unit District Heating"]
["G","Baseline",null,null,null,null,null,null,null,null,null,null,null,null,null,null,"Site_Unit_Conversion","Source_Unit_Conversion",null,null,null,{"$f":"IFERROR(V253+V252,\"\")","v":""},{"$f":"IFERROR(W253+W252,\"\")","v":""}]
["G",{"$f":"IFERROR(IF(DESPath=3,\"Electricity\",\"\"),\"\")","v":""},{"$f":"IFERROR(IF(ISBLANK($B252),\"\",VLOOKUP($B252,PO_Enrgy_1_Table,MATCH($C$16,PO_Enrgy_1_Hdr,0),FALSE) ),\"\")","v":""},{"$f":"IF(C252=\"\",\"\",VLOOKUP(C252,ProjectEnergyTypeTable,3,FALSE))","v":""},{"$f":"IFERROR(IF(AND(DESPath=3,DistrictCooling,$B$252=\"Electricity\"),DESPath3_Cooling_COP,\"\"),\"\")","v":""},{"$f":"IFERROR(IF(DESPath=3,VLOOKUP(\"District Cooling\",PO_Enrgy_9_Table,MATCH($E$240,PO_Enrgy_9_Hdr,0),FALSE)/$E252*VLOOKUP(VLOOKUP(\"District Cooling\",PO_Enrgy_9_Table,MATCH($C$240,PO_Enrgy_9_Hdr,0),FALSE),EnergyUnitsTable,3,FALSE)/VLOOKUP($C252,EnergyUnitsTable,3,FALSE),\"\"),\"\")","v":""},{"$f":"IFERROR(F252*VLOOKUP($B252,PO_Enrgy_8_Table,MATCH($E$232,PO_Enrgy_8_Hdr,0),FALSE),\"\")","v":""},{"$f":"IFERROR(IF(AND(DESPath=3,DistrictHeating,$B$252=\"Electricity\"),DESPath3_Heating_eCOP,\"\"),\"\")","v":""},{"$f":"IF(DESPath = 3,IFERROR(VLOOKUP(\"District Hot Water\",PO_Enrgy_9_Table,MATCH($E$240,PO_Enrgy_9_Hdr,0),FALSE)/$H252*VLOOKUP(VLOOKUP(\"District Hot Water\",PO_Enrgy_9_Table,MATCH($C$240,PO_Enrgy_9_Hdr,0),FALSE),EnergyUnitsTable,3,FALSE)/VLOOKUP($C252,EnergyUnitsTable,3,FALSE),0)+IFERROR(VLOOKUP(\"District Steam\",PO_Enrgy_9_Table,MATCH($E$240,PO_Enrgy_9_Hdr,0),FALSE)/$E252*VLOOKUP(VLOOKUP(\"District Steam\",PO_Enrgy_9_Table,MATCH($C$240,PO_Enrgy_9_Hdr,0),FALSE),EnergyUnitsTable,3,FALSE)/VLOOKUP($H252,EnergyUnitsTable,3,FALSE),0),0)","v":0},{"$f":"IFERROR(I252*VLOOKUP($B252,PO_Enrgy_8_Table,MATCH($E$232,PO_Enrgy_8_Hdr,0),FALSE),\"\")","v":""},null,null,null,null,null,null,{"$f":"IFERROR(IF(ISBLANK($B252),\"\",VLOOKUP($B252,PO_Enrgy_1_Table,MATCH($K$16,PO_Enrgy_1_Hdr,0),FALSE)),\"\")","v":""},{"$f":"IFERROR(IF(ISBLANK($B252),\"\",VLOOKUP($B252,PO_Enrgy_1_Table,MATCH($M$16,PO_Enrgy_1_Hdr,0),FALSE)),\"\")","v":""},null,null,"Elec",{"$f":"IFERROR(VLOOKUP($B252,PO_Enrgy_8_Table,MATCH($E$232,PO_Enrgy_8_Hdr,0),FALSE)/$E$252*VLOOKUP(VLOOKUP(\"District Cooling\",PO_Enrgy_9_Table,MATCH($C$240,PO_Enrgy_9_Hdr,0),FALSE),EnergyUnitsTable,3,FALSE)/VLOOKUP($C252,EnergyUnitsTable,3,FALSE),\"\")","v":""},{"$f":"IFERROR(VLOOKUP($B252,PO_Enrgy_8_Table,MATCH($E$232,PO_Enrgy_8_Hdr,0),FALSE)/$H$252*(IFERROR(VLOOKUP(VLOOKUP(\"District Hot Water\",PO_Enrgy_9_Table,MATCH($C$240,PO_Enrgy_9_Hdr,0),FALSE),EnergyUnitsTable,3,FALSE),1)+IFERROR(VLOOKUP(VLOOKUP(\"District Steam\",PO_Enrgy_9_Table,MATCH($C$240,PO_Enrgy_9_Hdr,0),FALSE),EnergyUnitsTable,3,FALSE),1))/VLOOKUP($C252,EnergyUnitsTable,3,FALSE),\"\")","v":""}]
["G",{"$f":"IFERROR(IF(DESPath=3,IF(MATCH(\"Natural Gas\",PO_Enrgy_1_Index,0)>0,\"Natural Gas\",IF(MATCH(\"Fuel Oil / Diesel\",PO_Enrgy_1_Table,0)>1,\"Fuel Oil / Diesel\",\"\")),\"\"),\"\")","v":""},{"$f":"IFERROR(IF(ISBLANK($B253),\"\",VLOOKUP($B253,PO_Enrgy_1_Table,MATCH($C$16,PO_Enrgy_1_Hdr,0),FALSE) ),\"\")","v":""},{"$f":"IF(C253=\"\",\"\",VLOOKUP(C253,ProjectEnergyTypeTable,3,FALSE))","v":""},null,null,null,{"$f":"IFERROR(IF(AND(DESPath=3,DistrictHeating,$B$252=\"Electricity\"),DESPath3_Heating_fCOP,\"\"),\"\")","v":""},{"$f":"IF(DESPath = 3,IFERROR(VLOOKUP(\"District Hot Water\",PO_Enrgy_9_Table,MATCH($E$240,PO_Enrgy_9_Hdr,0),FALSE)/$H253*VLOOKUP(VLOOKUP(\"District Hot Water\",PO_Enrgy_9_Table,MATCH($C$240,PO_Enrgy_9_Hdr,0),FALSE),EnergyUnitsTable,3,FALSE)/VLOOKUP($C253,EnergyUnitsTable,3,FALSE),0)+IFERROR(VLOOKUP(\"District Steam\",PO_Enrgy_9_Table,MATCH($E$240,PO_Enrgy_9_Hdr,0),FALSE)/$E253*VLOOKUP(VLOOKUP(\"District Steam\",PO_Enrgy_9_Table,MATCH($C$240,PO_Enrgy_9_Hdr,0),FALSE),EnergyUnitsTable,3,FALSE)/VLOOKUP($H253,EnergyUnitsTable,3,FALSE),0),0)","v":0},{"$f":"IFERROR(I253*VLOOKUP($B253,PO_Enrgy_8_Table,MATCH($E$232,PO_Enrgy_8_Hdr,0),FALSE),\"\")","v":""},null,null,null,null,null,null,{"$f":"IFERROR(IF(ISBLANK($B253),\"\",VLOOKUP($B253,PO_Enrgy_1_Table,MATCH($K$16,PO_Enrgy_1_Hdr,0),FALSE)),\"\")","v":""},{"$f":"IFERROR(IF(ISBLANK($B253),\"\",VLOOKUP($B253,PO_Enrgy_1_Table,MATCH($M$16,PO_Enrgy_1_Hdr,0),FALSE)),\"\")","v":""},null,null,"Fuel",{"$f":"IFERROR(VLOOKUP($B253,PO_Enrgy_8_Table,MATCH($E$232,PO_Enrgy_8_Hdr,0),FALSE)/$E$252*VLOOKUP(VLOOKUP(\"District Cooling\",PO_Enrgy_9_Table,MATCH($C$240,PO_Enrgy_9_Hdr,0),FALSE),EnergyUnitsTable,3,FALSE)/VLOOKUP($C253,EnergyUnitsTable,3,FALSE),\"\")","v":""},{"$f":"IFERROR(VLOOKUP($B253,PO_Enrgy_8_Table,MATCH($E$232,PO_Enrgy_8_Hdr,0),FALSE)/$H$252*(IFERROR(VLOOKUP(VLOOKUP(\"District Hot Water\",PO_Enrgy_9_Table,MATCH($C$240,PO_Enrgy_9_Hdr,0),FALSE),EnergyUnitsTable,3,FALSE),1)+IFERROR(VLOOKUP(VLOOKUP(\"District Steam\",PO_Enrgy_9_Table,MATCH($C$240,PO_Enrgy_9_Hdr,0),FALSE),EnergyUnitsTable,3,FALSE),1))/VLOOKUP($C253,EnergyUnitsTable,3,FALSE),\"\")","v":""}]
["G","Energy_Type","Energy_Units",null,"Cooling_Avg_Efficiency","Cooling_Site_Energy","Cooling_Cost","Heating_Avg_Effiicency","Heating_Site_Energy","Heating_Cost",null,null,null,null,null,null,"Site_Unit_Conversion","Source_Unit_Conversion",null,null,null,"Cost/Unit District Cooling","Cost/Unit District Heating"]
["G","Proposed",null,null,null,null,null,null,null,null,null,null,null,null,null,null,null,null,null,null,"Total Proposed",{"$f":"IFERROR(V256+V257,\"\")","v":""},{"$f":"IFERROR(W256+W257,\"\")","v":""}]
["G",{"$f":"IFERROR(IF(ISBLANK(B17),\"\",B17),\"\")","v":"Electricity"},{"$f":"IFERROR(IF(ISBLANK($B256),\"\",VLOOKUP($B256,PO_Enrgy_1_Table,MATCH($C$16,PO_Enrgy_1_Hdr,0),FALSE) ),\"\")","v":"kWh"},{"$f":"IF(C256=\"\",\"\",VLOOKUP(C256,ProjectEnergyTypeTable,3,FALSE))","v":{"$error":"#NAME?"}},null,{"$f":"IFERROR(VLOOKUP($B256,PO_Enrgy_9_Table,MATCH($E$240,PO_Enrgy_9_Hdr,0),FALSE)/$E$256*VLOOKUP(VLOOKUP(\"District Cooling\",PO_Enrgy_9_Table,MATCH($C$240,PO_Enrgy_9_Hdr,0),FALSE),EnergyUnitsTable,3,FALSE)/VLOOKUP($C256,EnergyUnitsTable,3,FALSE),\"\")","v":""},{"$f":"IFERROR(F256*VLOOKUP($B256,PO_Enrgy_8_Table,MATCH($H$232,PO_Enrgy_8_Hdr,0),FALSE),\"\")","v":""},null,{"$f":"IF(DESPath = 3,IFERROR(VLOOKUP(\"District Hot Water\",PO_Enrgy_9_Table,MATCH($H$240,PO_Enrgy_9_Hdr,0),FALSE)/$H256*VLOOKUP(VLOOKUP(\"District Hot Water\",PO_Enrgy_9_Table,MATCH($C$240,PO_Enrgy_9_Hdr,0),FALSE),EnergyUnitsTable,3,FALSE)/VLOOKUP($C256,EnergyUnitsTable,3,FALSE),0)+IFERROR(VLOOKUP(\"District Steam\",PO_Enrgy_9_Table,MATCH($H$240,PO_Enrgy_9_Hdr,0),FALSE)/$E256*VLOOKUP(VLOOKUP(\"District Steam\",PO_Enrgy_9_Table,MATCH($C$240,PO_Enrgy_9_Hdr,0),FALSE),EnergyUnitsTable,3,FALSE)/VLOOKUP($H256,EnergyUnitsTable,3,FALSE),0),0)","v":0},{"$f":"IFERROR(I256*VLOOKUP($B256,PO_Enrgy_8_Table,MATCH($H$232,PO_Enrgy_8_Hdr,0),FALSE),\"\")","v":""},null,null,null,null,null,null,{"$f":"IFERROR(IF(ISBLANK($B256),\"\",VLOOKUP($B256,PO_Enrgy_1_Table,MATCH($K$16,PO_Enrgy_1_Hdr,0),FALSE)),\"\")","v":3.4120000000000001E-3},{"$f":"IFERROR(IF(ISBLANK($B256),\"\",VLOOKUP($B256,PO_Enrgy_1_Table,MATCH($M$16,PO_Enrgy_1_Hdr,0),FALSE)),\"\")","v":1.0713680000000001E-2},null,null,"Elec",{"$f":"IFERROR(VLOOKUP($B256,PO_Enrgy_8_Table,MATCH($H$232,PO_Enrgy_8_Hdr,0),FALSE)/$E$256*VLOOKUP(VLOOKUP(\"District Cooling\",PO_Enrgy_9_Table,MATCH($C$240,PO_Enrgy_9_Hdr,0),FALSE),EnergyUnitsTable,3,FALSE)/VLOOKUP($C256,EnergyUnitsTable,3,FALSE),\"\")","v":""},{"$f":"IFERROR(VLOOKUP($B256,PO_Enrgy_8_Table,MATCH($H$232,PO_Enrgy_8_Hdr,0),FALSE)/$H$256*(IFERROR(VLOOKUP(VLOOKUP(\"District Hot Water\",PO_Enrgy_9_Table,MATCH($C$240,PO_Enrgy_9_Hdr,0),FALSE),EnergyUnitsTable,3,FALSE),1)+IFERROR(VLOOKUP(VLOOKUP(\"District Steam\",PO_Enrgy_9_Table,MATCH($C$240,PO_Enrgy_9_Hdr,0),FALSE),EnergyUnitsTable,3,FALSE),1))/VLOOKUP($C256,EnergyUnitsTable,3,FALSE),\"\")","v":""}]
["G",{"$f":"IFERROR(IF(ISBLANK($B$253),\"\",$B$253),\"\")","v":""},{"$f":"IFERROR(IF(ISBLANK($B257),\"\",VLOOKUP($B257,PO_Enrgy_1_Table,MATCH($C$16,PO_Enrgy_1_Hdr,0),FALSE) ),\"\")","v":""},{"$f":"IF(C257=\"\",\"\",VLOOKUP(C257,ProjectEnergyTypeTable,3,FALSE))","v":""},null,{"$f":"IFERROR(VLOOKUP($B257,PO_Enrgy_9_Table,MATCH($E$240,PO_Enrgy_9_Hdr,0),FALSE)/$E$256*VLOOKUP(VLOOKUP(\"District Cooling\",PO_Enrgy_9_Table,MATCH($C$240,PO_Enrgy_9_Hdr,0),FALSE),EnergyUnitsTable,3,FALSE)/VLOOKUP($C257,EnergyUnitsTable,3,FALSE),\"\")","v":""},{"$f":"IFERROR(F257*VLOOKUP($B257,PO_Enrgy_8_Table,MATCH($H$232,PO_Enrgy_8_Hdr,0),FALSE),\"\")","v":""},null,{"$f":"IF(DESPath = 3,IFERROR(VLOOKUP(\"District Hot Water\",PO_Enrgy_9_Table,MATCH($H$240,PO_Enrgy_9_Hdr,0),FALSE)/$H257*VLOOKUP(VLOOKUP(\"District Hot Water\",PO_Enrgy_9_Table,MATCH($C$240,PO_Enrgy_9_Hdr,0),FALSE),EnergyUnitsTable,3,FALSE)/VLOOKUP($C257,EnergyUnitsTable,3,FALSE),0)+IFERROR(VLOOKUP(\"District Steam\",PO_Enrgy_9_Table,MATCH($H$240,PO_Enrgy_9_Hdr,0),FALSE)/$E257*VLOOKUP(VLOOKUP(\"District Steam\",PO_Enrgy_9_Table,MATCH($C$240,PO_Enrgy_9_Hdr,0),FALSE),EnergyUnitsTable,3,FALSE)/VLOOKUP($H257,EnergyUnitsTable,3,FALSE),0),0)","v":0},{"$f":"IFERROR(I257*VLOOKUP($B257,PO_Enrgy_8_Table,MATCH($H$232,PO_Enrgy_8_Hdr,0),FALSE),\"\")","v":""},null,null,null,null,null,null,{"$f":"IFERROR(IF(ISBLANK($B257),\"\",VLOOKUP($B257,PO_Enrgy_1_Table,MATCH($K$16,PO_Enrgy_1_Hdr,0),FALSE)),\"\")","v":""},{"$f":"IFERROR(IF(ISBLANK($B257),\"\",VLOOKUP($B257,PO_Enrgy_1_Table,MATCH($M$16,PO_Enrgy_1_Hdr,0),FALSE)),\"\")","v":""},null,null,"Fuel",{"$f":"IFERROR(VLOOKUP($B257,PO_Enrgy_8_Table,MATCH($H$232,PO_Enrgy_8_Hdr,0),FALSE)/$E$256*VLOOKUP(VLOOKUP(\"District Cooling\",PO_Enrgy_9_Table,MATCH($C$240,PO_Enrgy_9_Hdr,0),FALSE),EnergyUnitsTable,3,FALSE)/VLOOKUP($C257,EnergyUnitsTable,3,FALSE),\"\")","v":""},{"$f":"IFERROR(VLOOKUP($B257,PO_Enrgy_8_Table,MATCH($H$232,PO_Enrgy_8_Hdr,0),FALSE)/$H$256*(IFERROR(VLOOKUP(VLOOKUP(\"District Hot Water\",PO_Enrgy_9_Table,MATCH($C$240,PO_Enrgy_9_Hdr,0),FALSE),EnergyUnitsTable,3,FALSE),1)+IFERROR(VLOOKUP(VLOOKUP(\"District Steam\",PO_Enrgy_9_Table,MATCH($C$240,PO_Enrgy_9_Hdr,0),FALSE),EnergyUnitsTable,3,FALSE),1))/VLOOKUP($C257,EnergyUnitsTable,3,FALSE),\"\")","v":""},null,null,null,null,null,null,null,null,null,null,null,null,null,null,{"$f":"IFERROR(G257/E257,\"\")","v":""},{"$f":"IFERROR(J257/H257,\"\")","v":""}]
["G",null,null,null,null,null,null,null,"("]
["G"]
["G","Energy Type","Site Energy Units",null,"Baseline Energy Consumption \nwith District Energy Average Efficiencies \n(if DES Path 3 is used)",null,null,"Proposed Energy Consumption \nwith District Energy Average Efficiencies \n(if DES Path 3 is used)",null,null,"Percent Savings"]
["G",null,null,null,"Site Energy Use (Units shown per energy type)",{"$f":"\"Source Energy Use (\"  & PO_SourceUnits & \")\"","v":"Source Energy Use (Btu x 10^6)"},"Cost","Site Energy Use (Units shown per energy type)",{"$f":"\"Source Energy Use (\"  & PO_SourceUnits & \")\"","v":"Source Energy Use (Btu x 10^6)"},"Cost","Site Energy Use",null,"Cost"]
["G","Energy_Type","Energy_Units",null,"Base_Site_Energy","Base_Source_Energy","Base_Cost","Design_Site_Energy","Design_Source_Energy","Design_Cost","Percent_Savings_Site",null,"Percent_Savings_Cost",null,null,null,"Site_Unit_Conversion","Source_Unit_Conversion"]
["G",{"$f":"IFERROR(IF(ISBLANK(B17),\"\",B17),\"\")","v":"Electricity"},{"$f":"IFERROR(IF(ISBLANK($B263),\"\",VLOOKUP($B263,PO_Enrgy_1_Table,MATCH($C$16,PO_Enrgy_1_Hdr,0),FALSE) ),\"\")","v":"kWh"},{"$f":"IF(C263=\"\",\"\",VLOOKUP(C263,ProjectEnergyTypeTable,3,FALSE))","v":{"$error":"#NAME?"}},{"$f":"IFERROR(IFERROR(IFERROR(VLOOKUP($B263,PO_DESbase_Enrgy_Table,MATCH($F$250,PO_DESbase_Enrgy_Hdr,0),FALSE),0)+IFERROR(VLOOKUP($B263,PO_DESbase_Enrgy_Table,MATCH($I$250,PO_DESbase_Enrgy_Hdr,0),FALSE),0),0)+IF(OR(DESPath<>3,AND(B263<>\"District Cooling\",B263<>\"District Hot Water\",B263<>\"District Steam\")),VLOOKUP($B263,PO_Enrgy_9_Table,MATCH($E$240,PO_Enrgy_9_Hdr,0),FALSE),0),\"\")","v":0},{"$f":"IFERROR(E263*$R263,\"\")","v":0},{"$f":"IFERROR(IFERROR(IFERROR(VLOOKUP($B263,PO_DESbase_Enrgy_Table,MATCH($G$250,PO_DESbase_Enrgy_Hdr,0),FALSE),0)+IFERROR(VLOOKUP($B263,PO_DESbase_Enrgy_Table,MATCH($J$250,PO_DESbase_Enrgy_Hdr,0),FALSE),0),0)+IF(OR(DESPath<>3,AND(B263<>\"District Cooling\",B263<>\"District Hot Water\",B263<>\"District Steam\")),VLOOKUP($B263,PO_Enrgy_9_Table,MATCH($G$240,PO_Enrgy_9_Hdr,0),FALSE),0),\"\")","v":0},{"$f":"IFERROR(IFERROR(IFERROR(VLOOKUP($B263,PO_DESdesign_Enrgy_Table,MATCH($F$254,PO_DESdesign_Enrgy_Hdr,0),FALSE),0)+IFERROR(VLOOKUP($B263,PO_DESdesign_Enrgy_Table,MATCH($I$254,PO_DESdesign_Enrgy_Hdr,0),FALSE),0),0)+IF(OR(DESPath<>3,AND(B263<>\"District Cooling\",B263<>\"District Hot Water\",B263<>\"District Steam\")),VLOOKUP($B263,PO_Enrgy_9_Table,MATCH($H$240,PO_Enrgy_9_Hdr,0),FALSE),0),\"\")","v":0},{"$f":"IFERROR(H263*$R263,\"\")","v":0},{"$f":"IFERROR(IFERROR(IFERROR(VLOOKUP($B263,PO_DESdesign_Enrgy_Table,MATCH($G$254,PO_DESdesign_Enrgy_Hdr,0),FALSE),0)+IFERROR(VLOOKUP($B263,PO_DESdesign_Enrgy_Table,MATCH($J$254,PO_DESdesign_Enrgy_Hdr,0),FALSE),0),0)+IF(OR(DESPath<>3,AND(B263<>\"District Cooling\",B263<>\"District Hot Water\",B263<>\"District Steam\")),VLOOKUP($B263,PO_Enrgy_9_Table,MATCH($J$240,PO_Enrgy_9_Hdr,0),FALSE),0),\"\")","v":0},{"$f":"IFERROR(1-H263/E263,\"\")","v":""},null,{"$f":"IFERROR(1-J263/G263,\"\")","v":""},null,null,null,{"$f":"IFERROR(IF(ISBLANK($B263),\"\",VLOOKUP($B263,PO_Enrgy_1_Table,MATCH($K$16,PO_Enrgy_1_Hdr,0),FALSE)),\"\")","v":3.4120000000000001E-3},{"$f":"IFERROR(IF(ISBLANK($B263),\"\",VLOOKUP($B263,PO_Enrgy_1_Table,MATCH($M$16,PO_Enrgy_1_Hdr,0),FALSE)),\"\")","v":1.0713680000000001E-2}]
["G",{"$f":"IFERROR(IF(ISBLANK(B18),\"\",B18),\"\")","v":"Natural Gas"},{"$f":"IFERROR(IF(ISBLANK($B264),\"\",VLOOKUP($B264,PO_Enrgy_1_Table,MATCH($C$16,PO_Enrgy_1_Hdr,0),FALSE) ),\"\")","v":"therm"},{"$f":"IF(C264=\"\",\"\",VLOOKUP(C264,ProjectEnergyTypeTable,3,FALSE))","v":{"$error":"#NAME?"}},{"$f":"IFERROR(IFERROR(IFERROR(VLOOKUP($B264,PO_DESbase_Enrgy_Table,MATCH($F$250,PO_DESbase_Enrgy_Hdr,0),FALSE),0)+IFERROR(VLOOKUP($B264,PO_DESbase_Enrgy_Table,MATCH($I$250,PO_DESbase_Enrgy_Hdr,0),FALSE),0),0)+IF(OR(DESPath<>3,AND(B264<>\"District Cooling\",B264<>\"District Hot Water\",B264<>\"District Steam\")),VLOOKUP($B264,PO_Enrgy_9_Table,MATCH($E$240,PO_Enrgy_9_Hdr,0),FALSE),0),\"\")","v":0},{"$f":"IFERROR(E264*$R264,\"\")","v":0},{"$f":"IFERROR(IFERROR(IFERROR(VLOOKUP($B264,PO_DESbase_Enrgy_Table,MATCH($G$250,PO_DESbase_Enrgy_Hdr,0),FALSE),0)+IFERROR(VLOOKUP($B264,PO_DESbase_Enrgy_Table,MATCH($J$250,PO_DESbase_Enrgy_Hdr,0),FALSE),0),0)+IF(OR(DESPath<>3,AND(B264<>\"District Cooling\",B264<>\"District Hot Water\",B264<>\"District Steam\")),VLOOKUP($B264,PO_Enrgy_9_Table,MATCH($G$240,PO_Enrgy_9_Hdr,0),FALSE),0),\"\")","v":0},{"$f":"IFERROR(IFERROR(IFERROR(VLOOKUP($B264,PO_DESdesign_Enrgy_Table,MATCH($F$254,PO_DESdesign_Enrgy_Hdr,0),FALSE),0)+IFERROR(VLOOKUP($B264,PO_DESdesign_Enrgy_Table,MATCH($I$254,PO_DESdesign_Enrgy_Hdr,0),FALSE),0),0)+IF(OR(DESPath<>3,AND(B264<>\"District Cooling\",B264<>\"District Hot Water\",B264<>\"District Steam\")),VLOOKUP($B264,PO_Enrgy_9_Table,MATCH($H$240,PO_Enrgy_9_Hdr,0),FALSE),0),\"\")","v":0},{"$f":"IFERROR(H264*$R264,\"\")","v":0},{"$f":"IFERROR(IFERROR(IFERROR(VLOOKUP($B264,PO_DESdesign_Enrgy_Table,MATCH($G$254,PO_DESdesign_Enrgy_Hdr,0),FALSE),0)+IFERROR(VLOOKUP($B264,PO_DESdesign_Enrgy_Table,MATCH($J$254,PO_DESdesign_Enrgy_Hdr,0),FALSE),0),0)+IF(OR(DESPath<>3,AND(B264<>\"District Cooling\",B264<>\"District Hot Water\",B264<>\"District Steam\")),VLOOKUP($B264,PO_Enrgy_9_Table,MATCH($J$240,PO_Enrgy_9_Hdr,0),FALSE),0),\"\")","v":0},{"$f":"IFERROR(1-H264/E264,\"\")","v":""},null,{"$f":"IFERROR(1-J264/G264,\"\")","v":""},null,null,null,{"$f":"IFERROR(IF(ISBLANK($B264),\"\",VLOOKUP($B264,PO_Enrgy_1_Table,MATCH($K$16,PO_Enrgy_1_Hdr,0),FALSE)),\"\")","v":0.1},{"$f":"IFERROR(IF(ISBLANK($B264),\"\",VLOOKUP($B264,PO_Enrgy_1_Table,MATCH($M$16,PO_Enrgy_1_Hdr,0),FALSE)),\"\")","v":0.10500000000000001}]
["G",{"$f":"IFERROR(IF(ISBLANK(B19),\"\",B19),\"\")","v":"District Cooling"},{"$f":"IFERROR(IF(ISBLANK($B265),\"\",VLOOKUP($B265,PO_Enrgy_1_Table,MATCH($C$16,PO_Enrgy_1_Hdr,0),FALSE) ),\"\")","v":"MWh"},{"$f":"IF(C265=\"\",\"\",VLOOKUP(C265,ProjectEnergyTypeTable,3,FALSE))","v":{"$error":"#NAME?"}},{"$f":"IFERROR(IFERROR(IFERROR(VLOOKUP($B265,PO_DESbase_Enrgy_Table,MATCH($F$250,PO_DESbase_Enrgy_Hdr,0),FALSE),0)+IFERROR(VLOOKUP($B265,PO_DESbase_Enrgy_Table,MATCH($I$250,PO_DESbase_Enrgy_Hdr,0),FALSE),0),0)+IF(OR(DESPath<>3,AND(B265<>\"District Cooling\",B265<>\"District Hot Water\",B265<>\"District Steam\")),VLOOKUP($B265,PO_Enrgy_9_Table,MATCH($E$240,PO_Enrgy_9_Hdr,0),FALSE),0),\"\")","v":0},{"$f":"IFERROR(E265*$R265,\"\")","v":0},{"$f":"IFERROR(IFERROR(IFERROR(VLOOKUP($B265,PO_DESbase_Enrgy_Table,MATCH($G$250,PO_DESbase_Enrgy_Hdr,0),FALSE),0)+IFERROR(VLOOKUP($B265,PO_DESbase_Enrgy_Table,MATCH($J$250,PO_DESbase_Enrgy_Hdr,0),FALSE),0),0)+IF(OR(DESPath<>3,AND(B265<>\"District Cooling\",B265<>\"District Hot Water\",B265<>\"District Steam\")),VLOOKUP($B265,PO_Enrgy_9_Table,MATCH($G$240,PO_Enrgy_9_Hdr,0),FALSE),0),\"\")","v":0},{"$f":"IFERROR(IFERROR(IFERROR(VLOOKUP($B265,PO_DESdesign_Enrgy_Table,MATCH($F$254,PO_DESdesign_Enrgy_Hdr,0),FALSE),0)+IFERROR(VLOOKUP($B265,PO_DESdesign_Enrgy_Table,MATCH($I$254,PO_DESdesign_Enrgy_Hdr,0),FALSE),0),0)+IF(OR(DESPath<>3,AND(B265<>\"District Cooling\",B265<>\"District Hot Water\",B265<>\"District Steam\")),VLOOKUP($B265,PO_Enrgy_9_Table,MATCH($H$240,PO_Enrgy_9_Hdr,0),FALSE),0),\"\")","v":0},{"$f":"IFERROR(H265*$R265,\"\")","v":0},{"$f":"IFERROR(IFERROR(IFERROR(VLOOKUP($B265,PO_DESdesign_Enrgy_Table,MATCH($G$254,PO_DESdesign_Enrgy_Hdr,0),FALSE),0)+IFERROR(VLOOKUP($B265,PO_DESdesign_Enrgy_Table,MATCH($J$254,PO_DESdesign_Enrgy_Hdr,0),FALSE),0),0)+IF(OR(DESPath<>3,AND(B265<>\"District Cooling\",B265<>\"District Hot Water\",B265<>\"District Steam\")),VLOOKUP($B265,PO_Enrgy_9_Table,MATCH($J$240,PO_Enrgy_9_Hdr,0),FALSE),0),\"\")","v":0},{"$f":"IFERROR(1-H265/E265,\"\")","v":""},null,{"$f":"IFERROR(1-J265/G265,\"\")","v":""},null,null,null,{"$f":"IFERROR(IF(ISBLANK($B265),\"\",VLOOKUP($B265,PO_Enrgy_1_Table,MATCH($K$16,PO_Enrgy_1_Hdr,0),FALSE)),\"\")","v":3.4119999999999999},{"$f":"IFERROR(IF(ISBLANK($B265),\"\",VLOOKUP($B265,PO_Enrgy_1_Table,MATCH($M$16,PO_Enrgy_1_Hdr,0),FALSE)),\"\")","v":3.4119999999999999}]
["G",{"$f":"\"Energy Model Subtotal (\" & PO_SiteUnits & \")\"","v":"Energy Model Subtotal (Btu x 10^6)"},null,null,{"$f":"IFERROR(SUMPRODUCT(INDEX(PO_Enrgy_10_Table,0,MATCH(E$262,PO_Enrgy_10_Hdr,0)),INDEX(PO_Enrgy_10_Table,0,MATCH($Q$262,PO_Enrgy_10_Hdr,0))),\"\")","v":0},{"$f":"IFERROR(SUM(INDEX(PO_Enrgy_10_Table,0,MATCH(F$262,PO_Enrgy_10_Hdr,0))),\"\")","v":0},{"$f":"IFERROR(SUM(INDEX(PO_Enrgy_10_Table,0,MATCH(G$262,PO_Enrgy_10_Hdr,0))),\"\")","v":0},{"$f":"IFERROR(SUMPRODUCT(INDEX(PO_Enrgy_10_Table,0,MATCH(H$262,PO_Enrgy_10_Hdr,0)),INDEX(PO_Enrgy_10_Table,0,MATCH($Q$262,PO_Enrgy_10_Hdr,0))),\"\")","v":0},{"$f":"IFERROR(SUM(INDEX(PO_Enrgy_10_Table,0,MATCH(I$262,PO_Enrgy_10_Hdr,0))),\"\")","v":0},{"$f":"IFERROR(SUM(INDEX(PO_Enrgy_10_Table,0,MATCH(J$262,PO_Enrgy_10_Hdr,0))),\"\")","v":0},{"$f":"IFERROR(1-H266/E266,\"\")","v":""},null,{"$f":"IFERROR(1-J266/G266,\"\")","v":""}]
["G"]
["G","Data Center - Performance Rating Method Results"]
["G",{"$f":"CONCATENATE(\"Startup IT Loads: Enter the simulated energy consumption and cost for the Data Center based on Startup IT Loads as defined in the LEED Reference Guide.\",\" Report exceptional calculations and results from the Data Center calculator in the startup load results below,\",\" but do not include renewable energy in these reported results. Provide separate exceptional calculation method uploads as applicable for Startup Loads and for Full build-out.\", \" Also upload simulation outputs and performance rating method calculations with and without the exceptional calculation methods for both Startup IT Loads, and the full buildout IT loads.\",\"\n\n\",IF(DESPath=3,\" Note: The calculations using DES Path 3 must be performed manually for the Startup IT Load method, and supplemental documentation uploaded for the project must show these calculations.\",\"\"))","v":"Startup IT Loads: Enter the simulated energy consumption and cost for the Data Center based on Startup IT Loads as defined in the LEED Reference Guide. Report exceptional calculations and results from the Data Center calculator in the startup load results below, but do not include renewable energy in these reported results. Provide separate exceptional calculation method uploads as applicable for Startup Loads and for Full build-out. Also upload simulation outputs and performance rating method calculations with and without the exceptional calculation methods for both Startup IT Loads, and the full buildout IT loads.\n\n"}]
["G","Table: Performance rating data center - Startup IT loads"]
["G","Energy Type","Site Energy Units",null,"Baseline Energy Consumption \nwith Exceptional Calculation Methods",null,null,"Proposed Energy Consumption \nwith Exceptional Calculation Methods",null,null,"Percent Savings"]
["G",null,null,null,"Site Energy Use (Units shown per energy type)",{"$f":"\"Source Energy Use (\"  & PO_SourceUnits & \")\"","v":"Source Energy Use (Btu x 10^6)"},"Cost","Site Energy Use (Units shown per energy type)",{"$f":"\"Source Energy Use (\"  & PO_SourceUnits & \")\"","v":"Source Energy Use (Btu x 10^6)"},"Cost","Site Energy Use",null,"Cost"]
["G","Energy_Type","Energy_Units",null,"Base_Site_Energy","Base_Source_Energy","Base_Cost","Design_Site_Energy","Design_Source_Energy","Design_Cost","Percent_Savings_Site",null,"Percent_Savings_Cost",null,null,null,"Site_Unit_Conversion","Source_Unit_Conversion"]
["G",{"$f":"IFERROR(IF(ISBLANK(B17),\"\",B17),\"\")","v":"Electricity"},{"$f":"IFERROR(IF(ISBLANK($B274),\"\",VLOOKUP($B274,PO_Enrgy_1_Table,MATCH($C$16,PO_Enrgy_1_Hdr,0),FALSE) ),\"\")","v":"kWh"},{"$f":"IF(C274=\"\",\"\",VLOOKUP(C274,ProjectEnergyTypeTable,3,FALSE))","v":{"$error":"#NAME?"}},null,{"$f":"IFERROR(E274*$Q274,\"\")","v":0},null,null,{"$f":"IFERROR(H274*$Q274,\"\")","v":0},null,{"$f":"IFERROR(1-H274/E274,\"\")","v":""},null,{"$f":"IFERROR(1-J274/G274,\"\")","v":""},null,null,null,{"$f":"IFERROR(IF(ISBLANK($B274),\"\",VLOOKUP($B274,PO_Enrgy_1_Table,MATCH($K$16,PO_Enrgy_1_Hdr,0),FALSE)),\"\")","v":3.4120000000000001E-3},{"$f":"IFERROR(IF(ISBLANK($B274),\"\",VLOOKUP($B274,PO_Enrgy_1_Table,MATCH($M$16,PO_Enrgy_1_Hdr,0),FALSE)),\"\")","v":1.0713680000000001E-2}]
["G",{"$f":"IFERROR(IF(ISBLANK(B18),\"\",B18),\"\")","v":"Natural Gas"},{"$f":"IFERROR(IF(ISBLANK($B275),\"\",VLOOKUP($B275,PO_Enrgy_1_Table,MATCH($C$16,PO_Enrgy_1_Hdr,0),FALSE) ),\"\")","v":"therm"},{"$f":"IF(C275=\"\",\"\",VLOOKUP(C275,ProjectEnergyTypeTable,3,FALSE))","v":{"$error":"#NAME?"}},null,{"$f":"IFERROR(E275*$Q275,\"\")","v":0},null,null,{"$f":"IFERROR(H275*$Q275,\"\")","v":0},null,{"$f":"IFERROR(1-H275/E275,\"\")","v":""},null,{"$f":"IFERROR(1-J275/G275,\"\")","v":""},null,null,null,{"$f":"IFERROR(IF(ISBLANK($B275),\"\",VLOOKUP($B275,PO_Enrgy_1_Table,MATCH($K$16,PO_Enrgy_1_Hdr,0),FALSE)),\"\")","v":0.1},{"$f":"IFERROR(IF(ISBLANK($B275),\"\",VLOOKUP($B275,PO_Enrgy_1_Table,MATCH($M$16,PO_Enrgy_1_Hdr,0),FALSE)),\"\")","v":0.10500000000000001}]
["G",{"$f":"IFERROR(IF(ISBLANK(B19),\"\",B19),\"\")","v":"District Cooling"},{"$f":"IFERROR(IF(ISBLANK($B276),\"\",VLOOKUP($B276,PO_Enrgy_1_Table,MATCH($C$16,PO_Enrgy_1_Hdr,0),FALSE) ),\"\")","v":"MWh"},{"$f":"IF(C276=\"\",\"\",VLOOKUP(C276,ProjectEnergyTypeTable,3,FALSE))","v":{"$error":"#NAME?"}},null,{"$f":"IFERROR(E276*$Q276,\"\")","v":0},null,null,{"$f":"IFERROR(H276*$Q276,\"\")","v":0},null,{"$f":"IFERROR(1-H276/E276,\"\")","v":""},null,{"$f":"IFERROR(1-J276/G276,\"\")","v":""},null,null,null,{"$f":"IFERROR(IF(ISBLANK($B276),\"\",VLOOKUP($B276,PO_Enrgy_1_Table,MATCH($K$16,PO_Enrgy_1_Hdr,0),FALSE)),\"\")","v":3.4119999999999999},{"$f":"IFERROR(IF(ISBLANK($B276),\"\",VLOOKUP($B276,PO_Enrgy_1_Table,MATCH($M$16,PO_Enrgy_1_Hdr,0),FALSE)),\"\")","v":3.4119999999999999}]
["G",{"$f":"\"Energy model subtotal (\" & PO_SiteUnits & \")\"","v":"Energy model subtotal (Btu x 10^6)"},null,null,{"$f":"IFERROR(SUMPRODUCT(INDEX(PO_Enrgy_11_Table,0,MATCH(E$273,PO_Enrgy_11_Hdr,0)),INDEX(PO_Enrgy_11_Table,0,MATCH($Q$273,PO_Enrgy_11_Hdr,0))),\"\")","v":0},{"$f":"IFERROR(SUM(INDEX(PO_Enrgy_11_Table,0,MATCH(F$273,PO_Enrgy_11_Hdr,0))),\"\")","v":0},{"$f":"IFERROR(SUM(INDEX(PO_Enrgy_11_Table,0,MATCH(G$273,PO_Enrgy_11_Hdr,0))),\"\")","v":0},{"$f":"IFERROR(SUMPRODUCT(INDEX(PO_Enrgy_11_Table,0,MATCH(H$273,PO_Enrgy_11_Hdr,0)),INDEX(PO_Enrgy_11_Table,0,MATCH($Q$273,PO_Enrgy_11_Hdr,0))),\"\")","v":0},{"$f":"IFERROR(SUM(INDEX(PO_Enrgy_11_Table,0,MATCH(I$273,PO_Enrgy_11_Hdr,0))),\"\")","v":0},{"$f":"IFERROR(SUM(INDEX(PO_Enrgy_11_Table,0,MATCH(J$273,PO_Enrgy_11_Hdr,0))),\"\")","v":0},{"$f":"IFERROR(1-H277/E277,\"\")","v":""},null,{"$f":"IFERROR(1-J277/G277,\"\")","v":""}]
["G"]
["G","Table: Performance rating data center - Full load IT loads (tabulated from spreadsheet data entered above)"]
["G","Energy Type","Site Energy Units",null,"Baseline Energy Consumption \nwith Exceptional Calculation Methods",null,null,"Proposed Energy Consumption \nwith Exceptional Calculation Methods",null,null,"Percent Savings"]
["G",null,null,null,"Site Energy Use (Units shown per energy type)",{"$f":"\"Source Energy Use (\"  & PO_SourceUnits & \")\"","v":"Source Energy Use (Btu x 10^6)"},"Cost","Site Energy Use (Units shown per energy type)",{"$f":"\"Source Energy Use (\"  & PO_SourceUnits & \")\"","v":"Source Energy Use (Btu x 10^6)"},"Cost","Site Energy Use",null,"Cost"]
["G","Energy_Type","Energy_Units",null,"Base_Site_Energy","Base_Source_Energy","Base_Cost","Design_Site_Energy","Design_Source_Energy","Design_Cost","Percent_Savings_Site",null,"Percent_Savings_Cost",null,null,null,"Site_Unit_Conversion","Source_Unit_Conversion"]
["G",{"$f":"IFERROR(IF(ISBLANK(B17),\"\",B17),\"\")","v":"Electricity"},{"$f":"IFERROR(IF(ISBLANK($B283),\"\",VLOOKUP($B283,PO_Enrgy_1_Table,MATCH($C$16,PO_Enrgy_1_Hdr,0),FALSE) ),\"\")","v":"kWh"},{"$f":"IF(C283=\"\",\"\",VLOOKUP(C283,ProjectEnergyTypeTable,3,FALSE))","v":{"$error":"#NAME?"}},{"$f":"IFERROR(VLOOKUP($B283,PO_Enrgy_10_Table,MATCH($E$262,PO_Enrgy_10_Hdr,0),FALSE),\"\")","v":0},{"$f":"IFERROR(E283*$R283,\"\")","v":0},{"$f":"IFERROR(VLOOKUP($B283,PO_Enrgy_10_Table,MATCH($G$262,PO_Enrgy_10_Hdr,0),FALSE),\"\")","v":0},{"$f":"IFERROR(VLOOKUP($B283,PO_Enrgy_10_Table,MATCH($H$262,PO_Enrgy_10_Hdr,0),FALSE),\"\")","v":0},{"$f":"IFERROR(H283*$R283,\"\")","v":0},{"$f":"IFERROR(VLOOKUP($B283,PO_Enrgy_10_Table,MATCH($J$262,PO_Enrgy_10_Hdr,0),FALSE),\"\")","v":0},{"$f":"IFERROR(1-H283/E283,\"\")","v":""},null,{"$f":"IFERROR(1-J283/G283,\"\")","v":""},null,null,null,{"$f":"IFERROR(IF(ISBLANK($B283),\"\",VLOOKUP($B283,PO_Enrgy_1_Table,MATCH($K$16,PO_Enrgy_1_Hdr,0),FALSE)),\"\")","v":3.4120000000000001E-3},{"$f":"IFERROR(IF(ISBLANK($B283),\"\",VLOOKUP($B283,PO_Enrgy_1_Table,MATCH($M$16,PO_Enrgy_1_Hdr,0),FALSE)),\"\")","v":1.0713680000000001E-2}]
["G",{"$f":"IFERROR(IF(ISBLANK(B18),\"\",B18),\"\")","v":"Natural Gas"},{"$f":"IFERROR(IF(ISBLANK($B284),\"\",VLOOKUP($B284,PO_Enrgy_1_Table,MATCH($C$16,PO_Enrgy_1_Hdr,0),FALSE) ),\"\")","v":"therm"},{"$f":"IF(C284=\"\",\"\",VLOOKUP(C284,ProjectEnergyTypeTable,3,FALSE))","v":{"$error":"#NAME?"}},{"$f":"IFERROR(VLOOKUP($B284,PO_Enrgy_10_Table,MATCH($E$262,PO_Enrgy_10_Hdr,0),FALSE),\"\")","v":0},{"$f":"IFERROR(E284*$R284,\"\")","v":0},{"$f":"IFERROR(VLOOKUP($B284,PO_Enrgy_10_Table,MATCH($G$262,PO_Enrgy_10_Hdr,0),FALSE),\"\")","v":0},{"$f":"IFERROR(VLOOKUP($B284,PO_Enrgy_10_Table,MATCH($H$262,PO_Enrgy_10_Hdr,0),FALSE),\"\")","v":0},{"$f":"IFERROR(H284*$R284,\"\")","v":0},{"$f":"IFERROR(VLOOKUP($B284,PO_Enrgy_10_Table,MATCH($J$262,PO_Enrgy_10_Hdr,0),FALSE),\"\")","v":0},{"$f":"IFERROR(1-H284/E284,\"\")","v":""},null,{"$f":"IFERROR(1-J284/G284,\"\")","v":""},null,null,null,{"$f":"IFERROR(IF(ISBLANK($B284),\"\",VLOOKUP($B284,PO_Enrgy_1_Table,MATCH($K$16,PO_Enrgy_1_Hdr,0),FALSE)),\"\")","v":0.1},{"$f":"IFERROR(IF(ISBLANK($B284),\"\",VLOOKUP($B284,PO_Enrgy_1_Table,MATCH($M$16,PO_Enrgy_1_Hdr,0),FALSE)),\"\")","v":0.10500000000000001}]
["G",{"$f":"IFERROR(IF(ISBLANK(B19),\"\",B19),\"\")","v":"District Cooling"},{"$f":"IFERROR(IF(ISBLANK($B285),\"\",VLOOKUP($B285,PO_Enrgy_1_Table,MATCH($C$16,PO_Enrgy_1_Hdr,0),FALSE) ),\"\")","v":"MWh"},{"$f":"IF(C285=\"\",\"\",VLOOKUP(C285,ProjectEnergyTypeTable,3,FALSE))","v":{"$error":"#NAME?"}},{"$f":"IFERROR(VLOOKUP($B285,PO_Enrgy_10_Table,MATCH($E$262,PO_Enrgy_10_Hdr,0),FALSE),\"\")","v":0},{"$f":"IFERROR(E285*$R285,\"\")","v":0},{"$f":"IFERROR(VLOOKUP($B285,PO_Enrgy_10_Table,MATCH($G$262,PO_Enrgy_10_Hdr,0),FALSE),\"\")","v":0},{"$f":"IFERROR(VLOOKUP($B285,PO_Enrgy_10_Table,MATCH($H$262,PO_Enrgy_10_Hdr,0),FALSE),\"\")","v":0},{"$f":"IFERROR(H285*$R285,\"\")","v":0},{"$f":"IFERROR(VLOOKUP($B285,PO_Enrgy_10_Table,MATCH($J$262,PO_Enrgy_10_Hdr,0),FALSE),\"\")","v":0},{"$f":"IFERROR(1-H285/E285,\"\")","v":""},null,{"$f":"IFERROR(1-J285/G285,\"\")","v":""},null,null,null,{"$f":"IFERROR(IF(ISBLANK($B285),\"\",VLOOKUP($B285,PO_Enrgy_1_Table,MATCH($K$16,PO_Enrgy_1_Hdr,0),FALSE)),\"\")","v":3.4119999999999999},{"$f":"IFERROR(IF(ISBLANK($B285),\"\",VLOOKUP($B285,PO_Enrgy_1_Table,MATCH($M$16,PO_Enrgy_1_Hdr,0),FALSE)),\"\")","v":3.4119999999999999}]
["G",{"$f":"\"Energy model subtotal (\" & PO_SiteUnits & \")\"","v":"Energy model subtotal (Btu x 10^6)"},null,null,{"$f":"IFERROR(SUMPRODUCT(INDEX(PO_Enrgy_12_Table,0,MATCH(E$282,PO_Enrgy_12_Hdr,0)),INDEX(PO_Enrgy_12_Table,0,MATCH($Q$282,PO_Enrgy_12_Hdr,0))),\"\")","v":0},{"$f":"IFERROR(SUM(INDEX(PO_Enrgy_12_Table,0,MATCH(F$282,PO_Enrgy_12_Hdr,0))),\"\")","v":0},{"$f":"IFERROR(SUM(INDEX(PO_Enrgy_12_Table,0,MATCH(G$282,PO_Enrgy_12_Hdr,0))),\"\")","v":0},{"$f":"IFERROR(SUMPRODUCT(INDEX(PO_Enrgy_12_Table,0,MATCH(H$282,PO_Enrgy_12_Hdr,0)),INDEX(PO_Enrgy_12_Table,0,MATCH($Q$282,PO_Enrgy_12_Hdr,0))),\"\")","v":0},{"$f":"IFERROR(SUM(INDEX(PO_Enrgy_12_Table,0,MATCH(I$282,PO_Enrgy_12_Hdr,0))),\"\")","v":0},{"$f":"IFERROR(SUM(INDEX(PO_Enrgy_12_Table,0,MATCH(J$282,PO_Enrgy_12_Hdr,0))),\"\")","v":0},{"$f":"IFERROR(1-H286/E286,\"\")","v":""},null,{"$f":"IFERROR(1-J286/G286,\"\")","v":""}]
["G"]
["G","Table: Performance rating data center - Average between full Load IT loads and startup IT loads"]
["G","Energy Type","Site Energy Units",null,"Baseline Building Energy Consumption \nwith Exceptional Calculation Methods",null,null,"Proposed Building Energy Consumption \nwith Exceptional Calculation Methods",null,null,"Percent Savings"]
["G",null,null,null,"Site Energy Use (Units shown per energy type)",{"$f":"\"Source Energy Use (\"  & PO_SourceUnits & \")\"","v":"Source Energy Use (Btu x 10^6)"},"Cost","Site Energy Use (Units shown per energy type)",{"$f":"\"Source Energy Use (\"  & PO_SourceUnits & \")\"","v":"Source Energy Use (Btu x 10^6)"},"Cost","Site Energy Use",null,"Cost"]
["G","Energy_Type","Energy_Units",null,"Base_Site_Energy","Base_Source_Energy","Base_Cost","Design_Site_Energy","Design_Source_Energy","Design_Cost","Percent_Savings_Site",null,"Percent_Savings_Cost",null,null,null,"Site_Unit_Conversion","Source_Unit_Conversion"]
["G",{"$f":"IFERROR(IF(ISBLANK(B17),\"\",B17),\"\")","v":"Electricity"},{"$f":"IFERROR(IF(ISBLANK($B292),\"\",VLOOKUP($B292,PO_Enrgy_1_Table,MATCH($C$16,PO_Enrgy_1_Hdr,0),FALSE) ),\"\")","v":"kWh"},{"$f":"IF(C292=\"\",\"\",VLOOKUP(C292,ProjectEnergyTypeTable,3,FALSE))","v":{"$error":"#NAME?"}},{"$f":"IFERROR(IF(Datacenter_Avg=TRUE,AVERAGE(VLOOKUP($B292,PO_Enrgy_11_Table,MATCH($E$273,PO_Enrgy_11_Hdr,0),FALSE),VLOOKUP($B292,PO_Enrgy_12_Table,MATCH($E$282,PO_Enrgy_12_Hdr,0),FALSE)),VLOOKUP($B292,PO_Enrgy_12_Table,MATCH($E$282,PO_Enrgy_12_Hdr,0),FALSE)),\"\")","v":0},{"$f":"IFERROR(E292*$R292,\"\")","v":0},{"$f":"IFERROR(IF(Datacenter_Avg=TRUE,AVERAGE(VLOOKUP($B292,PO_Enrgy_11_Table,MATCH($G$273,PO_Enrgy_11_Hdr,0),FALSE),VLOOKUP($B292,PO_Enrgy_12_Table,MATCH($G$282,PO_Enrgy_12_Hdr,0),FALSE)),VLOOKUP($B292,PO_Enrgy_12_Table,MATCH($G$282,PO_Enrgy_12_Hdr,0),FALSE)),\"\")","v":0},{"$f":"IFERROR(IF(Datacenter_Avg=TRUE,AVERAGE(VLOOKUP($B292,PO_Enrgy_11_Table,MATCH($H$273,PO_Enrgy_11_Hdr,0),FALSE),VLOOKUP($B292,PO_Enrgy_12_Table,MATCH($H$282,PO_Enrgy_12_Hdr,0),FALSE)),VLOOKUP($B292,PO_Enrgy_12_Table,MATCH($H$282,PO_Enrgy_12_Hdr,0),FALSE)),\"\")","v":0},{"$f":"IFERROR(H292*$R292,\"\")","v":0},{"$f":"IFERROR(IF(Datacenter_Avg=TRUE,AVERAGE(VLOOKUP($B292,PO_Enrgy_11_Table,MATCH($J$273,PO_Enrgy_11_Hdr,0),FALSE),VLOOKUP($B292,PO_Enrgy_12_Table,MATCH($J$282,PO_Enrgy_12_Hdr,0),FALSE)),VLOOKUP($B292,PO_Enrgy_12_Table,MATCH($J$282,PO_Enrgy_12_Hdr,0),FALSE)),\"\")","v":0},{"$f":"IFERROR(1-H292/E292,\"\")","v":""},null,{"$f":"IFERROR(1-J292/G292,\"\")","v":""},null,null,null,{"$f":"IFERROR(IF(ISBLANK($B292),\"\",VLOOKUP($B292,PO_Enrgy_1_Table,MATCH($K$16,PO_Enrgy_1_Hdr,0),FALSE)),\"\")","v":3.4120000000000001E-3},{"$f":"IFERROR(IF(ISBLANK($B292),\"\",VLOOKUP($B292,PO_Enrgy_1_Table,MATCH($M$16,PO_Enrgy_1_Hdr,0),FALSE)),\"\")","v":1.0713680000000001E-2}]
["G",{"$f":"IFERROR(IF(ISBLANK(B18),\"\",B18),\"\")","v":"Natural Gas"},{"$f":"IFERROR(IF(ISBLANK($B293),\"\",VLOOKUP($B293,PO_Enrgy_1_Table,MATCH($C$16,PO_Enrgy_1_Hdr,0),FALSE) ),\"\")","v":"therm"},{"$f":"IF(C293=\"\",\"\",VLOOKUP(C293,ProjectEnergyTypeTable,3,FALSE))","v":{"$error":"#NAME?"}},{"$f":"IFERROR(IF(Datacenter_Avg=TRUE,AVERAGE(VLOOKUP($B293,PO_Enrgy_11_Table,MATCH($E$273,PO_Enrgy_11_Hdr,0),FALSE),VLOOKUP($B293,PO_Enrgy_12_Table,MATCH($E$282,PO_Enrgy_12_Hdr,0),FALSE)),VLOOKUP($B293,PO_Enrgy_12_Table,MATCH($E$282,PO_Enrgy_12_Hdr,0),FALSE)),\"\")","v":0},{"$f":"IFERROR(E293*$R293,\"\")","v":0},{"$f":"IFERROR(IF(Datacenter_Avg=TRUE,AVERAGE(VLOOKUP($B293,PO_Enrgy_11_Table,MATCH($G$273,PO_Enrgy_11_Hdr,0),FALSE),VLOOKUP($B293,PO_Enrgy_12_Table,MATCH($G$282,PO_Enrgy_12_Hdr,0),FALSE)),VLOOKUP($B293,PO_Enrgy_12_Table,MATCH($G$282,PO_Enrgy_12_Hdr,0),FALSE)),\"\")","v":0},{"$f":"IFERROR(IF(Datacenter_Avg=TRUE,AVERAGE(VLOOKUP($B293,PO_Enrgy_11_Table,MATCH($H$273,PO_Enrgy_11_Hdr,0),FALSE),VLOOKUP($B293,PO_Enrgy_12_Table,MATCH($H$282,PO_Enrgy_12_Hdr,0),FALSE)),VLOOKUP($B293,PO_Enrgy_12_Table,MATCH($H$282,PO_Enrgy_12_Hdr,0),FALSE)),\"\")","v":0},{"$f":"IFERROR(H293*$R293,\"\")","v":0},{"$f":"IFERROR(IF(Datacenter_Avg=TRUE,AVERAGE(VLOOKUP($B293,PO_Enrgy_11_Table,MATCH($J$273,PO_Enrgy_11_Hdr,0),FALSE),VLOOKUP($B293,PO_Enrgy_12_Table,MATCH($J$282,PO_Enrgy_12_Hdr,0),FALSE)),VLOOKUP($B293,PO_Enrgy_12_Table,MATCH($J$282,PO_Enrgy_12_Hdr,0),FALSE)),\"\")","v":0},{"$f":"IFERROR(1-H293/E293,\"\")","v":""},null,{"$f":"IFERROR(1-J293/G293,\"\")","v":""},null,null,null,{"$f":"IFERROR(IF(ISBLANK($B293),\"\",VLOOKUP($B293,PO_Enrgy_1_Table,MATCH($K$16,PO_Enrgy_1_Hdr,0),FALSE)),\"\")","v":0.1},{"$f":"IFERROR(IF(ISBLANK($B293),\"\",VLOOKUP($B293,PO_Enrgy_1_Table,MATCH($M$16,PO_Enrgy_1_Hdr,0),FALSE)),\"\")","v":0.10500000000000001}]
["G",{"$f":"IFERROR(IF(ISBLANK(B19),\"\",B19),\"\")","v":"District Cooling"},{"$f":"IFERROR(IF(ISBLANK($B294),\"\",VLOOKUP($B294,PO_Enrgy_1_Table,MATCH($C$16,PO_Enrgy_1_Hdr,0),FALSE) ),\"\")","v":"MWh"},{"$f":"IF(C294=\"\",\"\",VLOOKUP(C294,ProjectEnergyTypeTable,3,FALSE))","v":{"$error":"#NAME?"}},{"$f":"IFERROR(IF(Datacenter_Avg=TRUE,AVERAGE(VLOOKUP($B294,PO_Enrgy_11_Table,MATCH($E$273,PO_Enrgy_11_Hdr,0),FALSE),VLOOKUP($B294,PO_Enrgy_12_Table,MATCH($E$282,PO_Enrgy_12_Hdr,0),FALSE)),VLOOKUP($B294,PO_Enrgy_12_Table,MATCH($E$282,PO_Enrgy_12_Hdr,0),FALSE)),\"\")","v":0},{"$f":"IFERROR(E294*$R294,\"\")","v":0},{"$f":"IFERROR(IF(Datacenter_Avg=TRUE,AVERAGE(VLOOKUP($B294,PO_Enrgy_11_Table,MATCH($G$273,PO_Enrgy_11_Hdr,0),FALSE),VLOOKUP($B294,PO_Enrgy_12_Table,MATCH($G$282,PO_Enrgy_12_Hdr,0),FALSE)),VLOOKUP($B294,PO_Enrgy_12_Table,MATCH($G$282,PO_Enrgy_12_Hdr,0),FALSE)),\"\")","v":0},{"$f":"IFERROR(IF(Datacenter_Avg=TRUE,AVERAGE(VLOOKUP($B294,PO_Enrgy_11_Table,MATCH($H$273,PO_Enrgy_11_Hdr,0),FALSE),VLOOKUP($B294,PO_Enrgy_12_Table,MATCH($H$282,PO_Enrgy_12_Hdr,0),FALSE)),VLOOKUP($B294,PO_Enrgy_12_Table,MATCH($H$282,PO_Enrgy_12_Hdr,0),FALSE)),\"\")","v":0},{"$f":"IFERROR(H294*$R294,\"\")","v":0},{"$f":"IFERROR(IF(Datacenter_Avg=TRUE,AVERAGE(VLOOKUP($B294,PO_Enrgy_11_Table,MATCH($J$273,PO_Enrgy_11_Hdr,0),FALSE),VLOOKUP($B294,PO_Enrgy_12_Table,MATCH($J$282,PO_Enrgy_12_Hdr,0),FALSE)),VLOOKUP($B294,PO_Enrgy_12_Table,MATCH($J$282,PO_Enrgy_12_Hdr,0),FALSE)),\"\")","v":0},{"$f":"IFERROR(1-H294/E294,\"\")","v":""},null,{"$f":"IFERROR(1-J294/G294,\"\")","v":""},null,null,null,{"$f":"IFERROR(IF(ISBLANK($B294),\"\",VLOOKUP($B294,PO_Enrgy_1_Table,MATCH($K$16,PO_Enrgy_1_Hdr,0),FALSE)),\"\")","v":3.4119999999999999},{"$f":"IFERROR(IF(ISBLANK($B294),\"\",VLOOKUP($B294,PO_Enrgy_1_Table,MATCH($M$16,PO_Enrgy_1_Hdr,0),FALSE)),\"\")","v":3.4119999999999999}]
["G",{"$f":"\"Energy Model Subtotal (\" & PO_SiteUnits & \")\"","v":"Energy Model Subtotal (Btu x 10^6)"},null,null,{"$f":"IFERROR(SUMPRODUCT(INDEX(PO_Enrgy_13_Table,0,MATCH(E$291,PO_Enrgy_13_Hdr,0)),INDEX(PO_Enrgy_13_Table,0,MATCH($Q$291,PO_Enrgy_13_Hdr,0))),\"\")","v":0},{"$f":"IFERROR(SUM(INDEX(PO_Enrgy_13_Table,0,MATCH(F$291,PO_Enrgy_12_Hdr,0))),\"\")","v":0},{"$f":"IFERROR(SUM(INDEX(PO_Enrgy_13_Table,0,MATCH(G$291,PO_Enrgy_12_Hdr,0))),\"\")","v":0},{"$f":"IFERROR(SUMPRODUCT(INDEX(PO_Enrgy_13_Table,0,MATCH(H$291,PO_Enrgy_13_Hdr,0)),INDEX(PO_Enrgy_13_Table,0,MATCH($Q$291,PO_Enrgy_13_Hdr,0))),\"\")","v":0},{"$f":"IFERROR(SUM(INDEX(PO_Enrgy_13_Table,0,MATCH(I$291,PO_Enrgy_12_Hdr,0))),\"\")","v":0},{"$f":"IFERROR(SUM(INDEX(PO_Enrgy_13_Table,0,MATCH(J$291,PO_Enrgy_12_Hdr,0))),\"\")","v":0},{"$f":"IFERROR(1-H295/E295,\"\")","v":""},null,{"$f":"IFERROR(1-J295/G295,\"\")","v":""}]
["G"]
["G","Total energy cost savings (excluding site-generated renewable energy) (%)",null,null,null,null,null,null,null,null,{"$f":"$M$295","v":""}]
["G"]
["G","Table: Renewable energy production"]
["G","Energy Type","Site Energy Units",null,"On-Site Renewable Savings",null,null,"Proposed with On-Site Renewable Energy",null,null,"Percent Cost Savings"]
["G",null,null,null,"Site Energy Use Savings ",{"$f":"\"Source Energy Use Savings \n(\"  & PO_SourceUnits & \")\"","v":"Source Energy Use Savings \n(Btu x 10^6)"},"Cost Savings","Site Energy Use (Units shown per energy type)",{"$f":"\"Source Energy Use \n(\"  & PO_SourceUnits & \")\"","v":"Source Energy Use \n(Btu x 10^6)"},"Cost","Site Energy Use",null,"Cost"]
["G","Energy_Type","Energy_Units",null,"Renewable_Site_Savings","Renewable_Source_Savings","Renewable_Cost_Savings","Design_Site_Energy","Design_Source_Energy","Design_Cost","Percent_Savings_Site",null,"Percent_Savings_Cost",null,null,null,"Site_Unit_Conversion","Source_Unit_Conversion","Virtual Rate"]
["G",{"$f":"IFERROR(IF(ISBLANK(B17),\"\",B17),\"\")","v":"Electricity"},{"$f":"IFERROR(IF(ISBLANK($B303),\"\",VLOOKUP($B303,PO_Enrgy_1_Table,MATCH($C$16,PO_Enrgy_1_Hdr,0),FALSE) ),\"\")","v":"kWh"},{"$f":"IF(C303=\"\",\"\",VLOOKUP(C303,ProjectEnergyTypeTable,3,FALSE))","v":{"$error":"#NAME?"}},{"$f":"IFERROR(IF(PO_SiteRenewable=TRUE,VLOOKUP($B303,PO_Enrgy_2_Table,MATCH($E$38,PO_Enrgy_2_Hdr,0),FALSE),0),\"\")","v":0},{"$f":"IFERROR(E303*$R303,\"\")","v":0},{"$f":"IFERROR(IF(PO_SiteRenewable=TRUE,VLOOKUP($B303,PO_Enrgy_2_Table,MATCH($J$38,PO_Enrgy_2_Hdr,0),FALSE),0),\"\")","v":0},{"$f":"IFERROR(VLOOKUP($B303,PO_Enrgy_13_Table,MATCH($H$291,PO_Enrgy_13_Hdr,0),FALSE)-IF(PO_SiteRenewable=TRUE,VLOOKUP($B303,PO_Enrgy_2_Table,MATCH($E$38,PO_Enrgy_2_Hdr,0),FALSE),0),0)","v":0},{"$f":"IFERROR(H303*$R303,\"\")","v":0},{"$f":"IFERROR(VLOOKUP($B303,PO_Enrgy_13_Table,MATCH($J$291,PO_Enrgy_13_Hdr,0),FALSE)-IF(PO_SiteRenewable=TRUE,VLOOKUP($B303,PO_Enrgy_2_Table,MATCH($J$38,PO_Enrgy_2_Hdr,0),FALSE),0),0)","v":0},{"$f":"IFERROR(1-$H303/VLOOKUP($B303,PO_Enrgy_13_Table,MATCH($E$291,PO_Enrgy_13_Hdr,0),FALSE),\"\")","v":""},null,{"$f":"IFERROR(1-$J303/VLOOKUP($B303,PO_Enrgy_13_Table,MATCH($G$291,PO_Enrgy_13_Hdr,0),FALSE),\"\")","v":""},null,null,null,{"$f":"IFERROR(IF(ISBLANK($B303),\"\",VLOOKUP($B303,PO_Enrgy_1_Table,MATCH($K$16,PO_Enrgy_1_Hdr,0),FALSE)),\"\")","v":3.4120000000000001E-3},{"$f":"IFERROR(IF(ISBLANK($B303),\"\",VLOOKUP($B303,PO_Enrgy_1_Table,MATCH($M$16,PO_Enrgy_1_Hdr,0),FALSE)),\"\")","v":1.0713680000000001E-2},{"$f":"IFERROR(G303/E303,\"\")","v":""}]
["G",{"$f":"IFERROR(IF(ISBLANK(B18),\"\",B18),\"\")","v":"Natural Gas"},{"$f":"IFERROR(IF(ISBLANK($B304),\"\",VLOOKUP($B304,PO_Enrgy_1_Table,MATCH($C$16,PO_Enrgy_1_Hdr,0),FALSE) ),\"\")","v":"therm"},{"$f":"IF(C304=\"\",\"\",VLOOKUP(C304,ProjectEnergyTypeTable,3,FALSE))","v":{"$error":"#NAME?"}},{"$f":"IFERROR(IF(PO_SiteRenewable=TRUE,VLOOKUP($B304,PO_Enrgy_2_Table,MATCH($E$38,PO_Enrgy_2_Hdr,0),FALSE),0),\"\")","v":0},{"$f":"IFERROR(E304*$R304,\"\")","v":0},{"$f":"IFERROR(IF(PO_SiteRenewable=TRUE,VLOOKUP($B304,PO_Enrgy_2_Table,MATCH($J$38,PO_Enrgy_2_Hdr,0),FALSE),0),\"\")","v":0},{"$f":"IFERROR(VLOOKUP($B304,PO_Enrgy_13_Table,MATCH($H$291,PO_Enrgy_13_Hdr,0),FALSE)-IF(PO_SiteRenewable=TRUE,VLOOKUP($B304,PO_Enrgy_2_Table,MATCH($E$38,PO_Enrgy_2_Hdr,0),FALSE),0),0)","v":0},{"$f":"IFERROR(H304*$R304,\"\")","v":0},{"$f":"IFERROR(VLOOKUP($B304,PO_Enrgy_13_Table,MATCH($J$291,PO_Enrgy_13_Hdr,0),FALSE)-IF(PO_SiteRenewable=TRUE,VLOOKUP($B304,PO_Enrgy_2_Table,MATCH($J$38,PO_Enrgy_2_Hdr,0),FALSE),0),0)","v":0},{"$f":"IFERROR(1-$H304/VLOOKUP($B304,PO_Enrgy_13_Table,MATCH($E$291,PO_Enrgy_13_Hdr,0),FALSE),\"\")","v":""},null,{"$f":"IFERROR(1-$J304/VLOOKUP($B304,PO_Enrgy_13_Table,MATCH($G$291,PO_Enrgy_13_Hdr,0),FALSE),\"\")","v":""},null,null,null,{"$f":"IFERROR(IF(ISBLANK($B304),\"\",VLOOKUP($B304,PO_Enrgy_1_Table,MATCH($K$16,PO_Enrgy_1_Hdr,0),FALSE)),\"\")","v":0.1},{"$f":"IFERROR(IF(ISBLANK($B304),\"\",VLOOKUP($B304,PO_Enrgy_1_Table,MATCH($M$16,PO_Enrgy_1_Hdr,0),FALSE)),\"\")","v":0.10500000000000001},{"$f":"IFERROR(G304/E304,\"\")","v":""}]
["G",{"$f":"IFERROR(IF(ISBLANK(B19),\"\",B19),\"\")","v":"District Cooling"},{"$f":"IFERROR(IF(ISBLANK($B305),\"\",VLOOKUP($B305,PO_Enrgy_1_Table,MATCH($C$16,PO_Enrgy_1_Hdr,0),FALSE) ),\"\")","v":"MWh"},{"$f":"IF(C305=\"\",\"\",VLOOKUP(C305,ProjectEnergyTypeTable,3,FALSE))","v":{"$error":"#NAME?"}},{"$f":"IFERROR(IF(PO_SiteRenewable=TRUE,VLOOKUP($B305,PO_Enrgy_2_Table,MATCH($E$38,PO_Enrgy_2_Hdr,0),FALSE),0),\"\")","v":0},{"$f":"IFERROR(E305*$R305,\"\")","v":0},{"$f":"IFERROR(IF(PO_SiteRenewable=TRUE,VLOOKUP($B305,PO_Enrgy_2_Table,MATCH($J$38,PO_Enrgy_2_Hdr,0),FALSE),0),\"\")","v":0},{"$f":"IFERROR(VLOOKUP($B305,PO_Enrgy_13_Table,MATCH($H$291,PO_Enrgy_13_Hdr,0),FALSE)-IF(PO_SiteRenewable=TRUE,VLOOKUP($B305,PO_Enrgy_2_Table,MATCH($E$38,PO_Enrgy_2_Hdr,0),FALSE),0),0)","v":0},{"$f":"IFERROR(H305*$R305,\"\")","v":0},{"$f":"IFERROR(VLOOKUP($B305,PO_Enrgy_13_Table,MATCH($J$291,PO_Enrgy_13_Hdr,0),FALSE)-IF(PO_SiteRenewable=TRUE,VLOOKUP($B305,PO_Enrgy_2_Table,MATCH($J$38,PO_Enrgy_2_Hdr,0),FALSE),0),0)","v":0},{"$f":"IFERROR(1-$H305/VLOOKUP($B305,PO_Enrgy_13_Table,MATCH($E$291,PO_Enrgy_13_Hdr,0),FALSE),\"\")","v":""},null,{"$f":"IFERROR(1-$J305/VLOOKUP($B305,PO_Enrgy_13_Table,MATCH($G$291,PO_Enrgy_13_Hdr,0),FALSE),\"\")","v":""},null,null,null,{"$f":"IFERROR(IF(ISBLANK($B305),\"\",VLOOKUP($B305,PO_Enrgy_1_Table,MATCH($K$16,PO_Enrgy_1_Hdr,0),FALSE)),\"\")","v":3.4119999999999999},{"$f":"IFERROR(IF(ISBLANK($B305),\"\",VLOOKUP($B305,PO_Enrgy_1_Table,MATCH($M$16,PO_Enrgy_1_Hdr,0),FALSE)),\"\")","v":3.4119999999999999},{"$f":"IFERROR(G305/E305,\"\")","v":""}]
["G",{"$f":"\"Energy model subtotal (\" & PO_SiteUnits & \")\"","v":"Energy model subtotal (Btu x 10^6)"},null,null,{"$f":"IFERROR(SUMPRODUCT(INDEX(PO_Enrgy_14_Table,0,MATCH(E$302,PO_Enrgy_14_Hdr,0)),INDEX(PO_Enrgy_14_Table,0,MATCH($Q$302,PO_Enrgy_14_Hdr,0))),\"\")","v":0},{"$f":"IFERROR(SUM(INDEX(PO_Enrgy_14_Table,0,MATCH(F$302,PO_Enrgy_14_Hdr,0))),\"\")","v":0},{"$f":"IFERROR(SUM(INDEX(PO_Enrgy_14_Table,0,MATCH(G$302,PO_Enrgy_14_Hdr,0))),\"\")","v":0},{"$f":"IFERROR(SUMPRODUCT(INDEX(PO_Enrgy_14_Table,0,MATCH(H$302,PO_Enrgy_14_Hdr,0)),INDEX(PO_Enrgy_14_Table,0,MATCH($Q$302,PO_Enrgy_14_Hdr,0))),\"\")","v":0},{"$f":"IFERROR(SUM(INDEX(PO_Enrgy_14_Table,0,MATCH(I$302,PO_Enrgy_14_Hdr,0))),\"\")","v":0},{"$f":"IFERROR(SUM(INDEX(PO_Enrgy_14_Table,0,MATCH(J$302,PO_Enrgy_14_Hdr,0))),\"\")","v":0},{"$f":"IFERROR(1-$H306/$E$295,\"\")","v":""},null,{"$f":"IFERROR(1-$J306/$G$295,\"\")","v":""}]
["G"]
["G","Table: Data center PUE3 of startup and full buildout IT loads "]
["G",{"$f":"\"Enter the IT equipment energy consumption \" & IF(Datacenter_Avg=FALSE, \" and total building consumption by end-use including renewable energy \",\"\") & \"for the Startup IT loads.  The information for the full buildout loads is tabulated from the data above.  PUE3 is calculated based on source energy.\"","v":"Enter the IT equipment energy consumption  and total building consumption by end-use including renewable energy for the Startup IT loads.  The information for the full buildout loads is tabulated from the data above.  PUE3 is calculated based on source energy."}]
["G","Energy Type","Site Energy Units",null,"Startup IT Loads\nBuilding energy consumption with Startup IT loads \nincluding Data Center Calculator and exceptional calculation measures",null,null,null,"Full Buildout IT Loads\nBuilding energy consumption with Full Buildout IT loads \nincluding Data Center Calculator and exceptional calculation measures"]
["G",null,null,null,"Site Energy Use (Units shown per energy type)",{"$f":"\"Source Energy Use \n(\"  & PO_SourceUnits & \")\"","v":"Source Energy Use \n(Btu x 10^6)"},"PUE3",null,"Site Energy Use (Units shown per energy type)",{"$f":"\"Source Energy Use \n(\"  & PO_SourceUnits & \")\"","v":"Source Energy Use \n(Btu x 10^6)"},"PUE3"]
["G","Energy_Type","Energy_Units",null,"Startup_Site_Energy","Startup_Source_Energy","Startup_PUE",null,"Buildout_Site_Energy","Buildout_Source_Energy","Buildoout_PUE",null,null,null,null,null,"Site_Unit_Conversion","Source_Unit_Conversion"]
["G",{"$f":"B191","v":"IT equipment"},"kWh",{"$f":"IF(C313=\"\",\"\",VLOOKUP(C313,ProjectEnergyTypeTable,3,FALSE))","v":{"$error":"#NAME?"}},null,{"$f":"IFERROR(E313*$R313,\"\")","v":0},null,null,{"$f":"IFERROR(VLOOKUP(B313,PO_design_table,MATCH($H$170,PO_design_hdr,0),FALSE),\"\")","v":0},{"$f":"IFERROR(I313*$R313,\"\")","v":0},null,null,null,null,null,null,{"$f":"IFERROR(VLOOKUP(\"Electricity\",PO_Enrgy_1_Table,MATCH($K$16,PO_Enrgy_1_Hdr,0),FALSE),\"\")","v":3.4120000000000001E-3},{"$f":"IFERROR(VLOOKUP(\"electricity\",PO_Enrgy_1_Table,MATCH($M$16,PO_Enrgy_1_Hdr,0),FALSE),\"\")","v":1.0713680000000001E-2}]
["G","Total building consumption by end-use",null,null,null,null,null,null,null,null,null,null,null,null,null,null,"Site_Unit_Conversion","Source_Unit_Conversion"]
["G",{"$f":"IFERROR(IF(ISBLANK(B17),\"\",B17),\"\")","v":"Electricity"},{"$f":"IFERROR(IF(ISBLANK($B315),\"\",VLOOKUP($B315,PO_Enrgy_1_Table,MATCH($C$16,PO_Enrgy_1_Hdr,0),FALSE) ),\"\")","v":"kWh"},{"$f":"IF(C315=\"\",\"\",VLOOKUP(C315,ProjectEnergyTypeTable,3,FALSE))","v":{"$error":"#NAME?"}},{"$f":"IFERROR(IF(Datacenter_Avg=TRUE,VLOOKUP($B315,PO_Enrgy_11_Table,MATCH($H$273,PO_Enrgy_11_Hdr,0),FALSE)-VLOOKUP($B315,PO_Enrgy_14_Table,MATCH($E302,PO_Enrgy_14_Hdr,0),FALSE),\"\"),\"\")","v":""},{"$f":"IFERROR(E315*$R315,\"\")","v":""},null,null,{"$f":"IFERROR(VLOOKUP($B315,PO_Enrgy_12_Table,MATCH($H$282,PO_Enrgy_12_Hdr,0),FALSE)-VLOOKUP($B315,PO_Enrgy_14_Table,MATCH($E$302,PO_Enrgy_14_Hdr,0),FALSE),\"\")","v":0},{"$f":"IFERROR(I315*$R315,\"\")","v":0},null,null,null,null,null,null,{"$f":"IFERROR(IF(ISBLANK($B315),\"\",VLOOKUP($B315,PO_Enrgy_1_Table,MATCH($K$16,PO_Enrgy_1_Hdr,0),FALSE)),\"\")","v":3.4120000000000001E-3},{"$f":"IFERROR(IF(ISBLANK($B315),\"\",VLOOKUP($B315,PO_Enrgy_1_Table,MATCH($M$16,PO_Enrgy_1_Hdr,0),FALSE)),\"\")","v":1.0713680000000001E-2}]
["G",{"$f":"IFERROR(IF(ISBLANK(B18),\"\",B18),\"\")","v":"Natural Gas"},{"$f":"IFERROR(IF(ISBLANK($B316),\"\",VLOOKUP($B316,PO_Enrgy_1_Table,MATCH($C$16,PO_Enrgy_1_Hdr,0),FALSE) ),\"\")","v":"therm"},{"$f":"IF(C316=\"\",\"\",VLOOKUP(C316,ProjectEnergyTypeTable,3,FALSE))","v":{"$error":"#NAME?"}},{"$f":"IFERROR(IF(Datacenter_Avg=TRUE,VLOOKUP($B316,PO_Enrgy_11_Table,MATCH($H$273,PO_Enrgy_11_Hdr,0),FALSE)-VLOOKUP($B316,PO_Enrgy_14_Table,MATCH(#REF!,PO_Enrgy_14_Hdr,0),FALSE),\"\"),\"\")","v":""},{"$f":"IFERROR(E316*$R316,\"\")","v":""},null,null,{"$f":"IFERROR(VLOOKUP($B316,PO_Enrgy_12_Table,MATCH($H$282,PO_Enrgy_12_Hdr,0),FALSE)-VLOOKUP($B316,PO_Enrgy_14_Table,MATCH($E$302,PO_Enrgy_14_Hdr,0),FALSE),\"\")","v":0},{"$f":"IFERROR(I316*$R316,\"\")","v":0},null,null,null,null,null,null,{"$f":"IFERROR(IF(ISBLANK($B316),\"\",VLOOKUP($B316,PO_Enrgy_1_Table,MATCH($K$16,PO_Enrgy_1_Hdr,0),FALSE)),\"\")","v":0.1},{"$f":"IFERROR(IF(ISBLANK($B316),\"\",VLOOKUP($B316,PO_Enrgy_1_Table,MATCH($M$16,PO_Enrgy_1_Hdr,0),FALSE)),\"\")","v":0.10500000000000001}]
["G",{"$f":"IFERROR(IF(ISBLANK(B19),\"\",B19),\"\")","v":"District Cooling"},{"$f":"IFERROR(IF(ISBLANK($B317),\"\",VLOOKUP($B317,PO_Enrgy_1_Table,MATCH($C$16,PO_Enrgy_1_Hdr,0),FALSE) ),\"\")","v":"MWh"},{"$f":"IF(C317=\"\",\"\",VLOOKUP(C317,ProjectEnergyTypeTable,3,FALSE))","v":{"$error":"#NAME?"}},{"$f":"IFERROR(IF(Datacenter_Avg=TRUE,VLOOKUP($B317,PO_Enrgy_11_Table,MATCH($H$273,PO_Enrgy_11_Hdr,0),FALSE)-VLOOKUP($B317,PO_Enrgy_14_Table,MATCH(#REF!,PO_Enrgy_14_Hdr,0),FALSE),\"\"),\"\")","v":""},{"$f":"IFERROR(E317*$R317,\"\")","v":""},null,null,{"$f":"IFERROR(VLOOKUP($B317,PO_Enrgy_12_Table,MATCH($H$282,PO_Enrgy_12_Hdr,0),FALSE)-VLOOKUP($B317,PO_Enrgy_14_Table,MATCH($E$302,PO_Enrgy_14_Hdr,0),FALSE),\"\")","v":0},{"$f":"IFERROR(I317*$R317,\"\")","v":0},null,null,null,null,null,null,{"$f":"IFERROR(IF(ISBLANK($B317),\"\",VLOOKUP($B317,PO_Enrgy_1_Table,MATCH($K$16,PO_Enrgy_1_Hdr,0),FALSE)),\"\")","v":3.4119999999999999},{"$f":"IFERROR(IF(ISBLANK($B317),\"\",VLOOKUP($B317,PO_Enrgy_1_Table,MATCH($M$16,PO_Enrgy_1_Hdr,0),FALSE)),\"\")","v":3.4119999999999999}]
["G",{"$f":"\"Energy model subtotal (\" & PO_SiteUnits & \")\"","v":"Energy model subtotal (Btu x 10^6)"},null,null,{"$f":"IFERROR(SUMPRODUCT(INDEX(PO_Enrgy_15_Table,0,MATCH(E$312,PO_Enrgy_15_Hdr,0)),INDEX(PO_Enrgy_15_Table,0,MATCH($Q$312,PO_Enrgy_15_Hdr,0))),\"\")","v":0},{"$f":"IFERROR(SUM(INDEX(PO_Enrgy_15_Table,0,MATCH(F$312,PO_Enrgy_15_Hdr,0))),\"\")","v":0},{"$f":"IFERROR(F318/F313,\"\")","v":""},null,{"$f":"IFERROR(SUMPRODUCT(INDEX(PO_Enrgy_15_Table,0,MATCH(I$312,PO_Enrgy_15_Hdr,0)),INDEX(PO_Enrgy_15_Table,0,MATCH($Q$312,PO_Enrgy_15_Hdr,0))),\"\")","v":0},{"$f":"IFERROR(SUM(INDEX(PO_Enrgy_15_Table,0,MATCH(J$312,PO_Enrgy_15_Hdr,0))),\"\")","v":0},{"$f":"IFERROR(J318/J313,\"\")","v":""}]
["G"]
["G","Table: Total energy usage"]
["G","Energy Type","Site Energy Units",null,"Baseline",null,null,"Proposed",null,null,"Percent Savings"]
["G",null,null,null,"Site Energy Use (Units shown per energy type)",{"$f":"\"Source Energy Use \n(\"  & PO_SourceUnits & \")\"","v":"Source Energy Use \n(Btu x 10^6)"},"Cost","Site Energy Use (Units shown per energy type)",{"$f":"\"Source Energy Use \n(\"  & PO_SourceUnits & \")\"","v":"Source Energy Use \n(Btu x 10^6)"},"Cost","Site Energy Use",null,"Cost"]
["G","Energy_Type","Energy_Units",null,"Base_Site_Energy","Base_Source_Energy","Base_Cost","Design_Site_Energy","Design_Source_Energy","Design_Cost","Percent_Savings_Site",null,"Percent_Savings_Cost",null,null,null,"Site_Unit_Conversion","Source_Unit_Conversion"]
["G",{"$f":"IFERROR(IF(ISBLANK(B17),\"\",B17),\"\")","v":"Electricity"},{"$f":"IFERROR(IF(ISBLANK($B324),\"\",VLOOKUP($B324,PO_Enrgy_1_Table,MATCH($C$16,PO_Enrgy_1_Hdr,0),FALSE) ),\"\")","v":"kWh"},{"$f":"IF(C324=\"\",\"\",VLOOKUP(C324,ProjectEnergyTypeTable,3,FALSE))","v":{"$error":"#NAME?"}},{"$f":"IFERROR(VLOOKUP($B324,PO_Enrgy_13_Table,MATCH($E$291,PO_Enrgy_13_Hdr,0),FALSE),\"\")","v":0},{"$f":"IFERROR(E324*$R324,\"\")","v":0},{"$f":"IFERROR(VLOOKUP($B324,PO_Enrgy_13_Table,MATCH($G$291,PO_Enrgy_13_Hdr,0),FALSE),\"\")","v":0},{"$f":"IFERROR(VLOOKUP($B324,PO_Enrgy_14_Table,MATCH($H$291,PO_Enrgy_14_Hdr,0),FALSE),\"\")","v":0},{"$f":"IFERROR(H324*$R324,\"\")","v":0},{"$f":"IFERROR(VLOOKUP($B324,PO_Enrgy_14_Table,MATCH($J$291,PO_Enrgy_14_Hdr,0),FALSE),\"\")","v":0},{"$f":"IFERROR(1-H324/E324,\"\")","v":""},null,{"$f":"IFERROR(1-J324/G324,\"\")","v":""},null,null,null,{"$f":"IFERROR(IF(ISBLANK($B324),\"\",VLOOKUP($B324,PO_Enrgy_1_Table,MATCH($K$16,PO_Enrgy_1_Hdr,0),FALSE)),\"\")","v":3.4120000000000001E-3},{"$f":"IFERROR(IF(ISBLANK($B324),\"\",VLOOKUP($B324,PO_Enrgy_1_Table,MATCH($M$16,PO_Enrgy_1_Hdr,0),FALSE)),\"\")","v":1.0713680000000001E-2}]
["G",{"$f":"IFERROR(IF(ISBLANK(B18),\"\",B18),\"\")","v":"Natural Gas"},{"$f":"IFERROR(IF(ISBLANK($B325),\"\",VLOOKUP($B325,PO_Enrgy_1_Table,MATCH($C$16,PO_Enrgy_1_Hdr,0),FALSE) ),\"\")","v":"therm"},{"$f":"IF(C325=\"\",\"\",VLOOKUP(C325,ProjectEnergyTypeTable,3,FALSE))","v":{"$error":"#NAME?"}},{"$f":"IFERROR(VLOOKUP($B325,PO_Enrgy_13_Table,MATCH($E$291,PO_Enrgy_13_Hdr,0),FALSE),\"\")","v":0},{"$f":"IFERROR(E325*$R325,\"\")","v":0},{"$f":"IFERROR(VLOOKUP($B325,PO_Enrgy_13_Table,MATCH($G$291,PO_Enrgy_13_Hdr,0),FALSE),\"\")","v":0},{"$f":"IFERROR(VLOOKUP($B325,PO_Enrgy_14_Table,MATCH($H$291,PO_Enrgy_14_Hdr,0),FALSE),\"\")","v":0},{"$f":"IFERROR(H325*$R325,\"\")","v":0},{"$f":"IFERROR(VLOOKUP($B325,PO_Enrgy_14_Table,MATCH($J$291,PO_Enrgy_14_Hdr,0),FALSE),\"\")","v":0},{"$f":"IFERROR(1-H325/E325,\"\")","v":""},null,{"$f":"IFERROR(1-J325/G325,\"\")","v":""},null,null,null,{"$f":"IFERROR(IF(ISBLANK($B325),\"\",VLOOKUP($B325,PO_Enrgy_1_Table,MATCH($K$16,PO_Enrgy_1_Hdr,0),FALSE)),\"\")","v":0.1},{"$f":"IFERROR(IF(ISBLANK($B325),\"\",VLOOKUP($B325,PO_Enrgy_1_Table,MATCH($M$16,PO_Enrgy_1_Hdr,0),FALSE)),\"\")","v":0.10500000000000001}]
["G",{"$f":"IFERROR(IF(ISBLANK(B19),\"\",B19),\"\")","v":"District Cooling"},{"$f":"IFERROR(IF(ISBLANK($B326),\"\",VLOOKUP($B326,PO_Enrgy_1_Table,MATCH($C$16,PO_Enrgy_1_Hdr,0),FALSE) ),\"\")","v":"MWh"},{"$f":"IF(C326=\"\",\"\",VLOOKUP(C326,ProjectEnergyTypeTable,3,FALSE))","v":{"$error":"#NAME?"}},{"$f":"IFERROR(VLOOKUP($B326,PO_Enrgy_13_Table,MATCH($E$291,PO_Enrgy_13_Hdr,0),FALSE),\"\")","v":0},{"$f":"IFERROR(E326*$R326,\"\")","v":0},{"$f":"IFERROR(VLOOKUP($B326,PO_Enrgy_13_Table,MATCH($G$291,PO_Enrgy_13_Hdr,0),FALSE),\"\")","v":0},{"$f":"IFERROR(VLOOKUP($B326,PO_Enrgy_14_Table,MATCH($H$291,PO_Enrgy_14_Hdr,0),FALSE),\"\")","v":0},{"$f":"IFERROR(H326*$R326,\"\")","v":0},{"$f":"IFERROR(VLOOKUP($B326,PO_Enrgy_14_Table,MATCH($J$291,PO_Enrgy_14_Hdr,0),FALSE),\"\")","v":0},{"$f":"IFERROR(1-H326/E326,\"\")","v":""},null,{"$f":"IFERROR(1-J326/G326,\"\")","v":""},null,null,null,{"$f":"IFERROR(IF(ISBLANK($B326),\"\",VLOOKUP($B326,PO_Enrgy_1_Table,MATCH($K$16,PO_Enrgy_1_Hdr,0),FALSE)),\"\")","v":3.4119999999999999},{"$f":"IFERROR(IF(ISBLANK($B326),\"\",VLOOKUP($B326,PO_Enrgy_1_Table,MATCH($M$16,PO_Enrgy_1_Hdr,0),FALSE)),\"\")","v":3.4119999999999999}]
["G","Totals",null,null,{"$f":"IFERROR(SUMPRODUCT(INDEX(PO_Enrgy_16_Table,0,MATCH(E$323,PO_Enrgy_16_Hdr,0)),INDEX(PO_Enrgy_16_Table,0,MATCH($Q$323,PO_Enrgy_16_Hdr,0))),\"\")","v":0},{"$f":"IFERROR(SUM(INDEX(PO_Enrgy_16_Table,0,MATCH(F$323,PO_Enrgy_16_Hdr,0))),\"\")","v":0},{"$f":"IFERROR(SUM(INDEX(PO_Enrgy_16_Table,0,MATCH(G$323,PO_Enrgy_16_Hdr,0))),\"\")","v":0},{"$f":"IFERROR(SUMPRODUCT(INDEX(PO_Enrgy_16_Table,0,MATCH(H$323,PO_Enrgy_16_Hdr,0)),INDEX(PO_Enrgy_16_Table,0,MATCH($Q$323,PO_Enrgy_16_Hdr,0))),\"\")","v":0},{"$f":"IFERROR(SUM(INDEX(PO_Enrgy_16_Table,0,MATCH(I$323,PO_Enrgy_16_Hdr,0))),\"\")","v":0},{"$f":"IFERROR(SUM(INDEX(PO_Enrgy_16_Table,0,MATCH(J$323,PO_Enrgy_16_Hdr,0))),\"\")","v":0},{"$f":"IFERROR(1-H327/E327,\"\")","v":""},null,{"$f":"IFERROR(1-J327/G327,\"\")","v":""}]
["G","Total energy cost savings (including site-generated renewable energy) (%)",null,null,null,null,null,null,null,null,null,null,{"$f":"$M$327","v":""}]
["G"]
["G","Unmet Loads"]
[null,"Enter the non-coincident unmet load hours, consistent with the energy simulation output reports."]
["G","Unmet Loads",null,null,null,"Baseline",null,null,"Proposed"]
["G","Number of hours heating loads not met"]
["G","Number of hours cooling loads not met"]
["G","Totals",null,null,null,{"$f":"IF(ISERROR(F333+F334),0,F333+F334)","v":0},null,null,{"$f":"IF(ISERROR(I333+I334),0,I333+I334)","v":0}]
["G","Compliance",null,null,null,{"$f":"IF(ISERROR(OR(F333+F334,I333+I334)),\"Enter numbers only\",\n     IF(OR(F335>300,I335>300),\"No\",\"Yes\"))","v":"Yes"}]
[null,null,{"$f":"IF(ISERROR(F335+I335),\"\",IF(OR(I335>300,F335>300),\"Revise the model so that the unmet load hours for both the baseline and proposed case are 300 hours or less\",\"\"))","v":""}]
[null,"Quality Assurance Checks"]
[null,{"$f":"IF(MultipleBuildingsExist=\"No\",\"General information\",\"Multiple Building Details\")","v":"General information"},{"$f":"\"Total Area \"&IF(SI_IP_Units=\"IP\",\"(sq ft)\",\"(sq m)\")","v":"Total Area (sq ft)"}]
[null,null,{"$f":"IFERROR(IF(MultipleBuildingsExist=\"No\",\nGI_BldgArea,\nSUMIF(MBD_BS_Index,$H$5,OFFSET(MBD_BS_Index,0,MATCH('Multiple Buildings Details'!$G$22,MBD_BS_Hdr,0)-1,1,1))+SUMIF(MBD_BS_Index,$H$5,OFFSET(MBD_BS_Index,0,MATCH('Multiple Buildings Details'!$H$22,MBD_BS_Hdr,0)-1,1,1))),\"\")","v":0}]
[null,"Lighting",{"$f":"\"Total Area \"&IF(SI_IP_Units=\"IP\",\"(sq ft)\",\"(sq m)\")","v":"Total Area (sq ft)"},"Base Lighting Demand",null,"Design Lighting Demand","Base Exterior Lighting Demand","Design Exterior Lighting Demand","Base Non Tradeable Exterior Lighting Maximum","Design Non Tradeable Exterior Lighting Maximum"]
[null,null,{"$f":"IFERROR(IF(L_LPDmethod=1,SUMIF(L_BAMInput_Index,$H$5,OFFSET(L_BAMInput_Index,0,MATCH(Lighting!$D$31,Lighting_Residential_Hdr,0)-1)),SUMIF(L_SxSInput_Index,$H$5,OFFSET(L_SxSInput_Index,0,MATCH(Lighting!$D$56,Lighting_SxS_Residential_Hdr,0)-1))),\"\")","v":0},{"$f":"IFERROR(OFFSET(L_IL_SumTable,MATCH($H$5,L_IL_SumIndex,0)-1,MATCH(Lighting!$L$97,L_IL_SumHdr,0)-1,1,1),\"\")","v":""},null,{"$f":"IFERROR(OFFSET(L_IL_SumTable,MATCH($H$5,L_IL_SumIndex,0)-1,MATCH(Lighting!$O$97,L_IL_SumHdr,0)-1,1,1),\"\")","v":""},{"$f":"IFERROR(OFFSET(L_ExtSum_Table,1,MATCH(Lighting!$J$147,L_ExtSum_Hdr,0)-1,1,1),\"\")","v":0},{"$f":"IFERROR(OFFSET(L_ExtSum_Table,1,MATCH(Lighting!$M$147,L_ExtSum_Hdr,0)-1,1,1),\"\")","v":0},{"$f":"IFERROR(OFFSET(L_LtgZone_Table,1,MATCH(Lighting!$M$115,L_LtgZone_Hdr,0)-1,1,1)+OFFSET(L_NTSurface_Table,MATCH(Lighting!$B$143,L_NTSurface_Index,0)-1,MATCH(Lighting!$J$136,L_NTSurface_Hdr,0)-1,1,1),\"\")","v":""},{"$f":"IFERROR(OFFSET(L_NTSurface_Table,MATCH(Lighting!$B$143,L_NTSurface_Index,0)-1,MATCH(Lighting!$M$136,L_NTSurface_Hdr,0)-1,1,1),\"\")","v":0}]
[null,"Shading and Fenestration","Glazing Differential","Baseline Above 40%",null,"Zones Modeled"]
[null,null,{"$f":"IFERROR(SUMIF('Shading and Fenestration'!O:O,$H$5,'Shading and Fenestration'!P:P),\"\")","v":0},{"$f":"IF(IFERROR(COUNTIFS('Shading and Fenestration'!O:O,$H$5,'Shading and Fenestration'!Q:Q,TRUE),\"\")>0,TRUE,FALSE)","v":false},null,{"$f":"IFERROR(OFFSET('Shading and Fenestration'!O:Q,MATCH(CONCATENATE($H$5, \" zones\"),'Shading and Fenestration'!O:O,0)-1,1,1,1),\"\")","v":""}]
[null,"Performance Outputs","Baseline Lighting EFLHs","Design Lighting EFLHs",null,"Base Lighting Demand","Design Lighting Demand","Base Exterior Lighitng Consumption","Design Exterior Lighting Consumption","Base Exterior EFLH","Design Ext EFLH"]
[null,null,{"$f":"IFERROR(MAX(OFFSET(PO_design_table,MATCH($B$171,PO_design_index,0)-2,MATCH($S$170,PO_design_hdr,0)-1,1,1)),\"\")","v":0},{"$f":"IFERROR(MAX(OFFSET(PO_design_table,MATCH($B$171,PO_design_index,0)-2,MATCH($T$170,PO_design_hdr,0)-1,1,1)),\"\")","v":0},null,{"$f":"IFERROR(MAX(OFFSET(PO_design_table,MATCH($B$171,PO_design_index,0)-1,MATCH($G$170,PO_design_hdr,0)-1,1,1)),\"\")","v":0},{"$f":"IFERROR(MAX(OFFSET(PO_design_table,MATCH($B$171,PO_design_index,0)-1,MATCH($H$170,PO_design_hdr,0)-1,1,1)),\"\")","v":0},{"$f":"IFERROR(MAX(OFFSET(PO_design_table,MATCH($B$173,PO_design_index,0)-2,MATCH($G$170,PO_design_hdr,0)-1,1,1)),\"\")","v":0},{"$f":"IFERROR(MAX(OFFSET(PO_design_table,MATCH($B$173,PO_design_index,0)-2,MATCH($H$170,PO_design_hdr,0)-1,1,1)),\"\")","v":0},{"$f":"IFERROR(MAX(OFFSET(PO_design_table,MATCH($B$173,PO_design_index,0)-2,MATCH($S$170,PO_design_hdr,0)-1,1,1)),\"\")","v":0},{"$f":"IFERROR(MAX(OFFSET(PO_design_table,MATCH($B$173,PO_design_index,0)-2,MATCH($T$170,PO_design_hdr,0)-1,1,1)),\"\")","v":0}]
[null,null,"Base Exterior Lighting Demand","Design Exterior Lighting Demand",null,"Base Miscellaneous % of Total","Design Miscellaneous % of Total","Unregulated Load Difference","Base Service Hot Waters % of Total","Design Service Hot Water % of Total","Base Pump Consumption",null,"Base Fan EFLH"]
[null,null,{"$f":"IFERROR(MAX(OFFSET(PO_design_table,MATCH($B$173,PO_design_index,0)-1,MATCH($G$170,PO_design_hdr,0)-1,1,1)),\"\")","v":0},{"$f":"IFERROR(MAX(OFFSET(PO_design_table,MATCH($B$173,PO_design_index,0)-1,MATCH($H$170,PO_design_hdr,0)-1,1,1)),\"\")","v":0},null,{"$f":"IFERROR((OFFSET(PO_design_table,MATCH($B$189,PO_design_index,0)-2,MATCH($G$170,PO_design_hdr,0)-1,1,1)*OFFSET(PO_design_table,MATCH($B$189,PO_design_index,0)-2,MATCH($Q$170,PO_design_hdr,0)-1,1,1))/OFFSET(PO_ModelSubtotal,0,4,1,1),\"\")","v":""},{"$f":"IFERROR((OFFSET(PO_design_table,MATCH($B$189,PO_design_index,0)-2,MATCH($H$170,PO_design_hdr,0)-1,1,1)*OFFSET(PO_design_table,MATCH($B$189,PO_design_index,0)-2,MATCH($Q$170,PO_design_hdr,0)-1,1,1))/OFFSET(PO_ModelSubtotal,0,7,1,1),\"\")","v":""},null,{"$f":"IFERROR((OFFSET(PO_design_table,MATCH($B$187,PO_design_index,0)-2,MATCH($G$170,PO_design_hdr,0)-1,1,1)*OFFSET(PO_design_table,MATCH($B$187,PO_design_index,0)-2,MATCH($Q$170,PO_design_hdr,0)-1,1,1))/OFFSET(PO_ModelSubtotal,0,4,1,1),\"\")","v":""},{"$f":"IFERROR((OFFSET(PO_design_table,MATCH($B$187,PO_design_index,0)-2,MATCH($H$170,PO_design_hdr,0)-1,1,1)*OFFSET(PO_design_table,MATCH($B$187,PO_design_index,0)-2,MATCH($Q$170,PO_design_hdr,0)-1,1,1))/OFFSET(PO_ModelSubtotal,0,7,1,1),\"\")","v":""},{"$f":"IFERROR(MAX(OFFSET(PO_design_table,MATCH($B$179,PO_design_index,0)-2,MATCH($G$170,PO_design_hdr,0)-1,1,1)),\"\")","v":0},null,{"$f":"IFERROR(MAX(OFFSET(PO_design_table,MATCH($B$183,PO_design_index,0)-2,MATCH($S$170,PO_design_hdr,0)-1,1,1)),\"\")","v":0}]
[null,null,"Design Fan EFLH","Base Fan Demand",null,"Design Fan Demand","PV EFLH","Renewable Rate Difference","Proposed Electric Rate","Proposed Gas Rate","Total Baseline Exterior Lighting Demand",null,"Total Design Exterior Lighting Demand"]
[null,null,{"$f":"IFERROR(IFERROR(MAX(OFFSET(PO_design_table,MATCH($B$183,PO_design_index,0)-2,MATCH($T$170,PO_design_hdr,0)-1,1,1)),\"\"),\"\")","v":0},{"$f":"IFERROR(IFERROR(MAX(OFFSET(PO_design_table,MATCH($B$183,PO_design_index,0)-1,MATCH($G$170,PO_design_hdr,0)-1,1,1)),\"\"),\"\")","v":0},null,{"$f":"IFERROR(IFERROR(MAX(OFFSET(PO_design_table,MATCH($B$183,PO_design_index,0)-1,MATCH($H$170,PO_design_hdr,0)-1,1,1)),\"\"),\"\")","v":0},{"$f":"IFERROR(MAX(IFERROR(OFFSET(PO_renewable_table,MATCH(\"Photovoltaic system\",PO_renewable_Index,0)-2,MATCH($S$32,PO_renewable_hdr,0)-1,1,1),0),\nIFERROR(OFFSET(PO_renewable_table,MATCH(\"Solar thermal system\",PO_renewable_Index,0)-2,MATCH($S$32,PO_renewable_hdr,0)-1,1,1),0)),\"\")","v":""},null,{"$f":"IFERROR(OFFSET(PO_Enrgy_8_Table,MATCH(\"Electricity\",PO_Enrgy_8_Index,0)-2,MATCH($H$232,PO_Enrgy_8_Hdr,0)-1,1,1),\"\")","v":""},{"$f":"IFERROR(OFFSET(PO_Enrgy_8_Table,MATCH(\"Natural Gas\",PO_Enrgy_8_Index,0)-2,MATCH($H$232,PO_Enrgy_8_Hdr,0)-1,1,1),\"\")","v":""},{"$f":"IFERROR(GetPerformanceOutputRangeSums(\"PO_QA_BaseExtLtgDem\"),\"\")","v":0},null,{"$f":"IFERROR(GetPerformanceOutputRangeSums(\"PO_QA_DesignExtLtgDem\"),\"\")","v":0}]
[null,"General HVAC","Base non-water systems","Base water systems"]
[null,null,{"$f":"COUNTIFS(OFFSET(GHVAC_BHVACST_Index,0,MATCH('General HVAC'!$D$28,GHVAC_BSysType_Hdr,0)-1),\"System 2 - PTHP\",\nOFFSET(GHVAC_BHVACST_Index,0,MATCH('General HVAC'!$B$28,GHVAC_BSysType_Hdr,0)-1),$H$5)+\nCOUNTIFS(OFFSET(GHVAC_BHVACST_Index,0,MATCH('General HVAC'!$D$28,GHVAC_BSysType_Hdr,0)-1),\"System 3 - PSZ-AC\",\nOFFSET(GHVAC_BHVACST_Index,0,MATCH('General HVAC'!$B$28,GHVAC_BSysType_Hdr,0)-1),$H$5)+\nCOUNTIFS(OFFSET(GHVAC_BHVACST_Index,0,MATCH('General HVAC'!$D$28,GHVAC_BSysType_Hdr,0)-1),\"System 4 - PSZ-HP\",\nOFFSET(GHVAC_BHVACST_Index,0,MATCH('General HVAC'!$B$28,GHVAC_BSysType_Hdr,0)-1),$H$5)+\nCOUNTIFS(OFFSET(GHVAC_BHVACST_Index,0,MATCH('General HVAC'!$D$28,GHVAC_BSysType_Hdr,0)-1),\"System 6 - Packaged VAV with PFP Boxes\",\nOFFSET(GHVAC_BHVACST_Index,0,MATCH('General HVAC'!$B$28,GHVAC_BSysType_Hdr,0)-1),$H$5)+\nCOUNTIFS(OFFSET(GHVAC_BHVACST_Index,0,MATCH('General HVAC'!$D$28,GHVAC_BSysType_Hdr,0)-1),\"System 8 - VAV with PFP Boxes\",\nOFFSET(GHVAC_BHVACST_Index,0,MATCH('General HVAC'!$B$28,GHVAC_BSysType_Hdr,0)-1),$H$5)+\nCOUNTIFS(OFFSET(GHVAC_BHVACST_Index,0,MATCH('General HVAC'!$D$28,GHVAC_BSysType_Hdr,0)-1),\"System 9 - Heating and Ventilation\",\nOFFSET(GHVAC_BHVACST_Index,0,MATCH('General HVAC'!$B$28,GHVAC_BSysType_Hdr,0)-1),$H$5)+\nCOUNTIFS(OFFSET(GHVAC_BHVACST_Index,0,MATCH('General HVAC'!$D$28,GHVAC_BSysType_Hdr,0)-1),\"System 10 - Heating and Ventilation\",\nOFFSET(GHVAC_BHVACST_Index,0,MATCH('General HVAC'!$B$28,GHVAC_BSysType_Hdr,0)-1),$H$5)","v":0},{"$f":"COUNTIFS(OFFSET(GHVAC_BHVACST_Index,0,MATCH('General HVAC'!$D$28,GHVAC_BSysType_Hdr,0)-1),\"System 1 - PTAC\",\nOFFSET(GHVAC_BHVACST_Index,0,MATCH('General HVAC'!$B$28,GHVAC_BSysType_Hdr,0)-1),$H$5)+\nCOUNTIFS(OFFSET(GHVAC_BHVACST_Index,0,MATCH('General HVAC'!$D$28,GHVAC_BSysType_Hdr,0)-1),\"System 5 - Packaged VAV with Reheat\",\nOFFSET(GHVAC_BHVACST_Index,0,MATCH('General HVAC'!$B$28,GHVAC_BSysType_Hdr,0)-1),$H$5)+\nCOUNTIFS(OFFSET(GHVAC_BHVACST_Index,0,MATCH('General HVAC'!$D$28,GHVAC_BSysType_Hdr,0)-1),\"System 7 - VAV with Reheat\",\nOFFSET(GHVAC_BHVACST_Index,0,MATCH('General HVAC'!$B$28,GHVAC_BSysType_Hdr,0)-1),$H$5)","v":0}]
[null,"Air-Side HVAC","Base Fan Flow","Design Fan Flow",null,"Base Fan Power","Design Fan Power","Base Cooling Capacity","Design Cooling Capacity","Base Heating Capacity","Design Heating Capacity"]
[null,null,{"$f":"IFERROR(SUMIFS(AHVAC_Base_FanFlow,AHVAC_Base_ID,$H$5),\"\")","v":0},{"$f":"IFERROR(SUMIFS(AHVAC_Design_FanFlow,AHVAC_Design_ID,$H$5),\"\")","v":0},null,{"$f":"IFERROR(SUMIFS(AHVAC_Base_FanPower,AHVAC_Base_ID,$H$5),\"\")","v":0},{"$f":"IFERROR(SUMIFS(AHVAC_Design_FanPower,AHVAC_Design_ID,$H$5),\"\")","v":0},{"$f":"IFERROR(SUMIFS(AHVAC_Base_CoolingCap,AHVAC_Base_ID,$H$5),\"\")","v":0},{"$f":"IFERROR(SUMIFS(AHVAC_Design_CoolingCap,AHVAC_Design_ID,$H$5),\"\")","v":0},{"$f":"IFERROR(SUMIFS(AHVAC_Base_HeatingCap,AHVAC_Base_ID,$H$5),\"\")","v":0},{"$f":"IFERROR(SUMIFS(AHVAC_Design_HeatingCap,AHVAC_Design_ID,$H$5),\"\")","v":0}]
[null,null,"Base OA","Design OA"]
[null,null,{"$f":"IFERROR(SUMIFS(AHVAC_Base_OAFlow,AHVAC_Base_ID,$H$5),\"\")","v":0},{"$f":"IFERROR(SUMIFS(AHVAC_Design_OAFlow,AHVAC_Design_ID,$H$5),\"\")","v":0}]
[]
[null,"Issue",null,null,null,null,null,null,"Project Team Respone",null,null,null,null,null,null,null,"Trigger","Issue Applicable"]
[null,{"$f":"\"The total building area reported in the \"&IF(MultipleBuildingsExist=\"No\",\"General Information\", \"Multiple Building Details\")& \" tab differs from the total building area reported in the Lighting tab (Interior Lighting section) by more than 10%. Please check for consistency and verify that the building areas reported are accurate.\"","v":"The total building area reported in the General Information tab differs from the total building area reported in the Lighting tab (Interior Lighting section) by more than 10%. Please check for consistency and verify that the building areas reported are accurate."},null,null,null,null,null,null,null,null,null,null,null,null,null,null,null,{"$f":"IFERROR(IF(ABS(C340-C342)/MIN(C340,C342)>0.1,TRUE,FALSE),TRUE)","v":true}]
[null,"The vertical glazing areas in the proposed and baseline differ from one another (as reported on the Shading and Fenestration tab, Shading section), which is inconsistent with the requirement of Table G3.1.5(c) (baseline).  Please correct or provide justification.",null,null,null,null,null,null,null,null,null,null,null,null,null,null,null,{"$f":"IFERROR(IF(C344>0.01,TRUE,FALSE),TRUE)","v":false}]
[null,"The baseline vertical glazing area is greater than 40% (as reported in the Shading and Fenestration tab, Shading section), which is inconsistent with the requirement of Table G3.1.5(c) (baseline).  Please correct or provide justification.",null,null,null,null,null,null,null,null,null,null,null,null,null,null,null,{"$f":"IFERROR(IF(D344=TRUE,TRUE,FALSE),TRUE)","v":false}]
[null,"The baseline and/or proposed interior lighting equivalent full load hours (determined by dividing the total annual lighting consumption by the total lighting power as reported in the Performance Outputs tab) is greater than 4,000 hours/year, which is unexpectedly high. Ensure that the lighting models reflect all mandatory controls from Section 9 and reflect the anticipated schedule of operation for the building.",null,null,null,null,null,null,null,null,null,null,null,null,null,null,null,{"$f":"IFERROR(IF(OR(C346>4000,D346>4000),TRUE,FALSE),TRUE)","v":false}]
[null,"The baseline and/or proposed interior lighting equivalent full load hours (determined by dividing the total annual lighting consumption by the total lighting power as reported in the Performance Outputs tab) differs by more than 10%, which is unexpected.",null,null,null,null,null,null,null,null,null,null,null,null,null,null,null,{"$f":"IFERROR(IF(OR(ABS(C346-D346)/MIN(C346,D346)>0.1,MIN(C346,D346)=0),TRUE,FALSE),TRUE)","v":true}]
[null,"The interior lighting demand (as reported in the Performance Outputs tab for the baseline and/or proposed) exceeds the lighting power as reported in the Lighting sheet (Summary section) by more than 5%. Ensure that the values reflected in the Lighting sheet are accurate and appropriately reflect the modeled interior lighting power density.",null,null,null,null,null,null,null,null,null,null,null,null,null,null,null,{"$f":"IFERROR(IF(OR(((F346-D342)/MIN(F346,D342))>0.05,((G346-F342)/MIN(G346,F342))>0.05),TRUE,FALSE),TRUE)","v":true}]
[null,"The Performance Outputs tab shows zero consumption for exterior lighting power in the baseline and/or proposed model.  Confirm that no exterior lighting is included in the building site. Verify that the proposed exterior lighting reflects the actual building design, and the baseline reflects the allowed lighting power from Section 9.4.3. Ensure that no credit is taken in the proposed for lighting reductions on non‐tradable surfaces.  (Note that additional lighting power allowance cannot be claimed in the baseline for surfaces that are not provided with lighting in the actual design, and that lighting fixtures cannot be double counted for different exterior surfaces).",null,null,null,null,null,null,null,null,null,null,null,null,null,null,null,{"$f":"IFERROR(IF(OR(H346=0,I346=0),TRUE,FALSE),TRUE)","v":true}]
[null,"The baseline and/or proposed exterior lighting equivalent full load hours (determined by dividing the total annual lighting consumption by the total lighting power as reported in the Performance Outputs tab) is greater than 5,110 hours/year (approximately 14 hours per day) or less than 3,650 hours/year (approximately 10 hours per day). Ensure that the lighting models reflect all mandatory controls from Section 9.4.1.7.",null,null,null,null,null,null,null,null,null,null,null,null,null,null,null,{"$f":"IFERROR(IF(OR(J346>5110,K346>5110),TRUE,FALSE),TRUE)","v":false}]
[null,"The baseline and/or proposed exterior lighting equivalent full load hours (determined by dividing the total annual lighting consumption by the total lighting power as reported in the Performance Outputs tab) differs by more than 5%, which is unexpected. Please correct or provide justification.",null,null,null,null,null,null,null,null,null,null,null,null,null,null,null,{"$f":"IFERROR(IF(ABS(J346-K346)/MIN(J346,K346)>0.05,TRUE,FALSE),TRUE)","v":true}]
[null,"The baseline and proposed exterior lighting consumption values are within 1% of each other, as reported in the Performance Outputs tab, indicating that the lighting has been modeled nearly identically. Verify that the proposed exterior lighting reflects the actual building design, and the baseline reflects the allowed lighting power from Section 9.4.3. Ensure that no credit is taken in the proposed for lighting reductions on non‐tradable surfaces. (Note that additional lighting power allowance cannot be claimed in the baseline for surfaces that are not provided with lighting in the actual design, and  that lighting fixtures cannot be double counted for different exterior surfaces.)",null,null,null,null,null,null,null,null,null,null,null,null,null,null,null,{"$f":"IFERROR(IF(ABS(H346-I346)/MIN(H346,I346)<0.01,TRUE,FALSE),TRUE)","v":true}]
[null,"The receptacle equipment consumption for the baseline and/or proposed building (as reported in the Performance Outputs tab) is greater than 40% (less than 10%) of the total building site energy usage, which is unexpectedly high (low). This check was made using the Performance rating energy consumption and cost by fuel type table (i.e. before adjustments were made for renewable energy production or an exceptional calculation method). Verify that the receptacle equipment has been modeled as accurately as possible.",null,null,null,null,null,null,null,null,null,null,null,null,null,null,null,{"$f":"IFERROR(IF(OR(F348>0.4,G348>0.4,F348<0.1,G348<0.1),TRUE,FALSE),TRUE)","v":true}]
[null,"One (or more) of the unregulated end uses differs by more than 3% between the baseline and proposed as reported in the Performance Outputs tab. If savings are being attempted for an unregulated end use, the Exceptional Calculation Method must be followed.",null,null,null,null,null,null,null,null,null,null,null,null,null,null,null,{"$f":"IFERROR(IF(COUNTIFS(INDEX(PO_design_table,,MATCH($D$170,PO_design_hdr,0)),\"x\",INDEX(PO_design_table,,MATCH($I$170,PO_design_hdr,0)),\">0.03\")+COUNTIFS(INDEX(PO_design_table,,MATCH($D$170,PO_design_hdr,0)),\"x\",INDEX(PO_design_table,,MATCH($I$170,PO_design_hdr,0)),\"<-0.03\")>0,TRUE,FALSE),TRUE)","v":false}]
[null,"The service water heating consumption for the baseline and/or proposed building constitutes more than 15% of the total building site energy usage (as reported in the Performance Outputs tab), which is unexpected. This check was made using the Performance Rating - Energy Consumption and Cost by Fuel Type table (i.e. before any adjustments were made for renewable energy production or an exceptional calculation method). Verify that the service water heating has been modeled as designed, in accordance with Table G3.1.11 (b) (proposed) and that the schedule is typical of the building type in accordance with Table G3.1.4 (proposed).",null,null,null,null,null,null,null,null,null,null,null,null,null,null,null,{"$f":"IFERROR(IF(OR(I348>0.15,J348>0.15),TRUE,FALSE),TRUE)","v":true}]
[null,"Pump consumption is reflected in the baseline outputs (as reported in the Performance Outputs tab), even though the baseline HVAC system type is 2, 3, 4, 6, 8, 9, or 10, none of which include an HVAC circulation loop.",null,null,null,null,null,null,null,null,null,null,null,null,null,null,null,{"$f":"IFERROR(IF(AND(C352>0,D352<1),TRUE,FALSE),TRUE)","v":false}]
[null,"The total baseline and proposed air flow rates differ by more than 35% (as reported in the Air-Side HVAC sheet), making it unclear whether the baseline fan air flow rate was sized based on a 20 deg. F supply-air-to-room-air temperature difference, as required by G3.1.2.9.1 for each baseline system. Verify that the proposed has been modeled as designed in accordance with Table G3.1.10(b) (proposed) and that the baseline has been correctly sized in accordance with Appendix G requirements.",null,null,null,null,null,null,null,null,null,null,null,null,null,null,null,{"$f":"IFERROR(IF(ABS(C354-D354)/MIN(C354,D354),TRUE,FALSE),TRUE)","v":true}]
[null,"The baseline and/or proposed fans equivalent full load hours (determined by dividing the total annual fan consumption by the total fan power as reported in the Performance Outputs tab) is greater than 4,000 hours/year, which is unexpectedly high. Ensure that the HVAC system models reflect all mandatory controls from Section 6, and reflect the anticipated schedule of operation for the building. ",null,null,null,null,null,null,null,null,null,null,null,null,null,null,null,{"$f":"IFERROR(IF(OR(M348>4000,C350>4000),TRUE,FALSE),TRUE)","v":false}]
[null,"The baseline and/or proposed fan equivalent full load hours (determined by dividing the total annual fan consumption by the total fan power as reported in the Performance Outputs tab) differs by more than 25%, which is unexpected. Ensure that the HVAC system models reflect all mandatory controls from Section 6, and reflect the anticipated schedule of operation for the building. ",null,null,null,null,null,null,null,null,null,null,null,null,null,null,null,{"$f":"IFERROR(IF(ABS(M348-C350)/MIN(M348,C350)>0.25,TRUE,FALSE),TRUE)","v":true}]
[null,"The fan demand (as reported in the Performance Outputs tab) for the baseline and/or proposed exceeds the fan power as reported in the Air-Side HVAC tab (total system fan power) by more than 5%. Ensure that the values reflected in the Air-Side HVAC sheet are accurate and appropriately reflect the modeled fans.",null,null,null,null,null,null,null,null,null,null,null,null,null,null,null,{"$f":"IFERROR(IF(OR(((D350-F354)/MIN(D350,F354))>0.05,((F350-G354)/MIN(F350,G354))>0.05),TRUE,FALSE),TRUE)","v":true}]
[null,"The fan demand (as reported in the Performance Outputs tab) for the baseline and/or proposed is 60% less than the fan power as reported in the Air-Side HVAC tab, which is unexpected. Ensure that the values reflected in the Air-Side HVAC tab are accurate and appropriately reflect the modeled fans.",null,null,null,null,null,null,null,null,null,null,null,null,null,null,null,{"$f":"IFERROR(IF(OR(1-(D350/F354)>0.6,1-(F350/G354)>0.6),TRUE,FALSE),TRUE)","v":true}]
[null,"The total baseline and proposed capacities for the cooling and/or heating (as reported in the Air-Side HVAC tab) differ by more than 35%, making it unclear whether the baseline cooling and heating capacities have been met the G3.1.2.2 requirement for oversizing by 15% for cooling and 25% for heating. Verify that the proposed has been modeled as designed in accordance with Table G3.1.10(b) (proposed) and that the baseline has been sized in accordance with Appendix G requirements. Additionally, verify that the baseline capacities were oversized either at the system level or plant level, but not both, and that any other safety factors have been excluded from the baseline.",null,null,null,null,null,null,null,null,null,null,null,null,null,null,null,{"$f":"IFERROR(IF(OR(ABS(H354-I354)/MIN(H354,I354)>0.35,ABS(J354-K354)/MIN(J354,K354)>0.35),TRUE,FALSE),TRUE)","v":true}]
[null,"The outdoor airflow rate is higher in the baseline model compared to the proposed (as reported in the Air-Side HVAC tab). Section G3.1.2.6 exception (c) requires that if the proposed design has more outdoor air than required by the rating authority (in this case USGBC/GBCI), then the baseline must be modeled with the amount required per EQ Prerequisite Minimum Indoor Air Quality Performance, and will be less than the rate modeled in the proposed. Ensure that the baseline outdoor airflow rate is consistent with that required by EQ Prerequisite Minimum Indoor Air Quality Performance. If applying G3.1.2.6 exception (b), and using an Ez value of 1.0 for the Baseline Case, upload baseline design ventilation rate procedure calculations as described in Standard 62.1 and as required by ASHRAE 90.1 in order to claim credit for this exception.",null,null,null,null,null,null,null,null,null,null,null,null,null,null,null,{"$f":"IFERROR(IF(C356>D356,TRUE,FALSE),TRUE)","v":false}]
[null,"The equivalent full load hours (determined by dividing the total annual consumption by the total rated capacity/power as reported in the Performance Outputs tab) for the photovoltaic system is greater than 1,500 hours/year, which is unexpectedly high. Provide documentation explaining the calculation method used to estimate the annual energy generated, and indicate all factors influencing the performance, such as derate factor, tilt, orientation, etc.",null,null,null,null,null,null,null,null,null,null,null,null,null,null,null,{"$f":"IFERROR(IF(G350>1500,TRUE,FALSE),TRUE)","v":true}]
[null,"The virtual energy rate for one or more of the energy types varies by more than 10% (as reported in the Performance Outputs tab). Ensure that the energy rates have been determined using either actual rates or state average energy prices published by DOE's Energy Information Administration. Provide information regarding the utility rate structure including all demand and energy charges and the seasonal and time-of-use structure of the utility tariff.",null,null,null,null,null,null,null,null,null,null,null,null,null,null,null,{"$f":"IFERROR(IF(COUNTIF(INDEX(PO_Enrgy_8_Table,,MATCH($K$232,PO_Enrgy_8_Hdr,0)),\">0.1\")+COUNTIF(INDEX(PO_Enrgy_8_Table,,MATCH($K$232,PO_Enrgy_8_Hdr,0)),\"<-0.1\")>0,TRUE,FALSE),TRUE)","v":false}]
[null,"The virtual energy rate for the renewable energy varies from the virtual energy rate for the proposed by more than 5% (as reported in the Performance Outputs tab), which is unexpected.  Please correct or provide justification.",null,null,null,null,null,null,null,null,null,null,null,null,null,null,null,{"$f":"IFERROR(IF(PO_SiteRenewable=TRUE,IF(COUNTIF(INDEX(PO_renewable_table,,MATCH($U$32,PO_renewable_hdr,0)),\">0.05\")+COUNTIF(INDEX(PO_renewable_table,,MATCH($U$32,PO_renewable_hdr,0)),\"<-0.05\")>0,TRUE,FALSE),FALSE),TRUE)","v":false}]
[null,"The virtual energy rate for one or more exceptional calculation measures varies from the virtual energy rate for the proposed by more than 10% (as reported in the Performance Outputs tab), which is unexpected.  Please correct or provide justification.",null,null,null,null,null,null,null,null,null,null,null,null,null,null,null,{"$f":"IFERROR(IF(PO_ShowExCalc=TRUE,IF(COUNTIF(INDEX(PO_ExCalc_Table,,MATCH($U$56,PO_ExCalc_Hdr,0)),\">0.05\")+COUNTIF(INDEX(PO_ExCalc_Table,,MATCH($U$56,PO_ExCalc_Hdr,0)),\"<-0.05\")>0,TRUE,FALSE),FALSE),TRUE)","v":false}]
[null,"The proposed virtual energy rate for electricity is less than $0.06 per kWh or greater than $0.25 per kWh (as reported in the Performance Outputs tab), which is unexpected. Please correct or provide justification.",null,null,null,null,null,null,null,null,null,null,null,null,null,null,null,{"$f":"IFERROR(IF(OR(I350<0.06,I350>0.25),TRUE,FALSE),TRUE)","v":true}]
[null,"The proposed virtual energy rate for natural gas is less than $0.50 per therm or greater than $2.00 per therm (as reported in the Performance Outputs tab), which is unexpected.  Please correct or provide justification.",null,null,null,null,null,null,null,null,null,null,null,null,null,null,null,{"$f":"IFERROR(IF(OR(J350<0.5,J350>2),TRUE,FALSE),TRUE)","v":true}]
[null,"The Energy Modeling Output Reporting Method (as reported in the Performance Outputs tab) indicates that the baseline has not been rotated because the building orientation is dictated by site considerations, as allowed by Table G3.1.5 (a) (baseline) Exception 1. Provide a detailed narrative (and additional documentation as necessary) describing why this exception has been applied.",null,null,null,null,null,null,null,null,null,null,null,null,null,null,null,{"$f":"IFERROR(IF(PO_EnergyReportingMethod>2,TRUE,FALSE),FALSE)","v":true}]
[null,"Two different types of heating consumption (e.g. electricity and natural gas) are reported in the baseline results in the Performance Outputs tab, which is unexpected. If modeling system type 3, note that there should be no crankcase heating or electric space heaters modeled in the baseline. If modeling system type 1, 5, or 7, note that the hot water boiler must be modeled as a natural draft boiler and there should be no electric space heaters modeled in the baseline. Please note that there are some exceptions (e.g. G3.1.1 (a)) which allow this situation; therefore, please be cautious before changing the model as a result of this comment.",null,null,null,null,null,null,null,null,null,null,null,null,null,null,null,{"$f":"IFERROR(IF(AND(COUNTIFS(INDEX(PO_design_table,,MATCH($E$170,PO_design_hdr,0)),\"Electricity\",INDEX(PO_design_table,,MATCH($B$170,PO_design_hdr,0)),\"Space Heating\",INDEX(PO_design_table,,MATCH($G$170,PO_design_hdr,0)),\">0\")>0,COUNTIFS(INDEX(PO_design_table,,MATCH($E$170,PO_design_hdr,0)),\"<>Electricity\",INDEX(PO_design_table,,MATCH($B$170,PO_design_hdr,0)),\"Space Heating\",INDEX(PO_design_table,,MATCH($G$170,PO_design_hdr,0)),\">0\")>0),TRUE,FALSE),TRUE)","v":false}]
[null,"The unmet load hours exceed 300 hours for the baseline and/or proposed (as reported in the Performance Outputs tab), which is not in compliance with G3.1.2.3.  Please correct.",null,null,null,null,null,null,null,null,null,null,null,null,null,null,null,{"$f":"IFERROR(IF(MAX(F335:M335)>300,TRUE,FALSE),TRUE)","v":false}]
[null,{"$f":"\"The three largest end use contributors to the cost savings are \"&CONCATENATE(VLOOKUP(1,QCEnSaveRank,2,FALSE),\", \", VLOOKUP(2,QCEnSaveRank,2,FALSE), \", \",VLOOKUP(3,QCEnSaveRank,2,FALSE))&\" (as reported in the Performance Outputs tab). Please provide a narrative to justify the savings of these end uses, such as the energy conservation measures which contribute to the savings claimed.\"","v":"The three largest end use contributors to the cost savings are Interior lighting, Exterior lighting, Space heating (as reported in the Performance Outputs tab). Please provide a narrative to justify the savings of these end uses, such as the energy conservation measures which contribute to the savings claimed."},null,null,null,null,null,null,null,null,null,null,null,null,null,null,null,{"$f":"TRUE","v":true}]
[null,"The rating system requires that a minimum of 2% of the energy savings must come from building power and cooling infrastructure. Provide a narrative describing how this requirement has been met. If necessary, include additional modeling output reports.",null,null,null,null,null,null,null,null,null,null,null,null,null,null,null,{"$f":"IF(RatingSystemSelection=\"LEED v4 BD+C: Data Centers\",TRUE,FALSE)","v":false}]
[null,"Inputs for the Shading and Fenestration tab indicate that less than 10 zones were modeled for the building.  This is unusually low for a standard submission.  Revise the quantity of zones input or provide a narrative justifying the number of zones used.",null,null,null,null,null,null,null,null,null,null,null,null,null,null,null,{"$f":"IFERROR(IF(F344<10,TRUE,FALSE),TRUE)","v":false}]
[null,"The exterior lighting demand as reported in the Performance Outputs tab for the baseline and/or proposed exceeds the lighting power reported on the Lighting sheet (Summary section) by more than 5%. Ensure that the values reflected in the Lighting sheet are accurate and appropriately reflect the modeled exterior lighting power density.",null,null,null,null,null,null,null,null,null,null,null,null,null,null,null,{"$f":"IFERROR(IF(OR((K350-G342)/MIN(K350,G342)>0.05,(M350-G342)/MIN(M350,G342)>0.05),TRUE,FALSE),TRUE)","v":true}]
[null,"The total exterior lighting power allowance, including the base site allowance, is less than the designed lighting power as reported in the Lighting tab, violating mandatory Section 9.4.3. Verify that the inputs are accurate and modify the exterior lighting design as necessary to show compliance.",null,null,null,null,null,null,null,null,null,null,null,null,null,null,null,{"$f":"IFERROR(IF(H342>G342,TRUE,FALSE),TRUE)","v":false}]
[null,"The value for nontradable exterior lighting power (building facades, ATMs and night depositories, entrances and gatehouse inspection stations at guarded facilities, loading areas for law enforcement, fire, ambulance, and other emergency service vehicles, drive-through windows at fast food restaurants, and/or parking near 24-hour retail entrances) is less than the designed lighting power after adding in the unrestricted lighting power allowance as reported in the Lighting sheet, violating mandatory Section 9.4.3. Verify that the inputs are accurate and modify the exterior lighting design as necessary to show compliance.",null,null,null,null,null,null,null,null,null,null,null,null,null,null,null,{"$f":"IFERROR(IF(J342>I342,TRUE,FALSE),TRUE)","v":false}]

{"sheet":"Performance_Outputs_Summary","index":19,"n_rows":136,"n_cols":33,"rows_kept":136,"cut":false,"hidden":true,"merged":[[120,2,120,3],[120,10,120,11],[11,7,11,9],[11,10,11,11],[74,2,74,3],[74,10,74,11],[83,2,83,3],[83,4,83,6],[83,7,83,9],[83,10,83,12],[91,2,91,3],[91,10,91,11],[90,2,90,3],[90,10,90,11],[82,2,82,3],[82,4,82,6],[82,7,82,9],[82,10,82,12],[85,1,85,11],[86,1,87,1],[115,1,116,1],[115,2,116,3],[115,4,115,6],[115,7,115,9],[135,9,135,12],[106,13,106,15],[107,10,107,11],[109,2,109,3],[109,10,109,11],[110,2,110,3],[110,10,110,11],[101,1,101,3],[101,10,101,11],[102,1,102,11],[103,1,103,9],[103,10,103,12],[106,1,107,1],[106,2,107,3],[106,4,106,6],[106,7,106,9],[106,10,106,12],[133,9,133,12],[134,9,134,12],[131,1,131,8],[131,9,131,12],[132,1,132,8],[133,1,133,8],[134,1,134,8],[95,13,95,15],[96,10,96,11],[98,10,98,11],[99,2,99,3],[99,10,99,11],[98,2,98,3],[93,1,93,11],[95,1,96,1],[95,2,96,3],[95,4,95,6],[95,7,95,9],[95,10,95,12],[63,31,64,32],[65,1,66,2],[65,3,66,3],[65,4,66,4],[65,9,66,9],[65,10,66,11],[65,12,66,12],[65,31,66,32],[63,1,64,2],[63,3,64,3],[63,4,64,4],[63,9,64,9],[63,10,64,11],[63,12,64,12],[86,13,86,15],[87,10,87,11],[89,2,89,3],[89,10,89,11],[59,31,60,32],[61,1,62,2],[61,3,62,3],[61,4,62,4],[61,9,62,9],[61,10,62,11],[61,12,62,12],[61,31,62,32],[59,1,60,2],[59,3,60,3],[59,4,60,4],[59,9,60,9],[59,10,60,11],[59,12,60,12],[79,10,79,12],[72,2,72,3],[72,10,72,11],[73,2,73,3],[73,10,73,11],[75,1,75,3],[55,31,56,32],[57,1,58,2],[57,3,58,3],[57,4,58,4],[57,9,58,9],[57,10,58,11],[57,12,58,12],[57,31,58,32],[55,1,56,2],[55,3,56,3],[55,4,56,4],[55,9,56,9],[55,10,56,11],[55,12,56,12],[51,31,52,32],[53,1,54,2],[53,3,54,3],[53,4,54,4],[53,9,54,9],[53,10,54,11],[53,12,54,12],[53,31,54,32],[51,1,52,2],[51,3,52,3],[51,4,52,4],[51,9,52,9],[51,10,52,11],[51,12,52,12],[47,31,48,32],[49,1,50,2],[49,3,50,3],[49,4,50,4],[49,9,50,9],[49,10,50,11],[49,12,50,12],[49,31,50,32],[47,1,48,2],[47,3,48,3],[47,4,48,4],[47,9,48,9],[47,10,48,11],[47,12,48,12],[43,31,44,32],[45,1,46,2],[45,3,46,3],[45,4,46,4],[45,9,46,9],[45,10,46,11],[45,12,46,12],[45,31,46,32],[43,1,44,2],[43,3,44,3],[43,4,44,4],[43,9,44,9],[43,10,44,11],[43,12,44,12],[39,31,40,32],[41,1,42,2],[41,3,42,3],[41,4,42,4],[41,9,42,9],[41,10,42,11],[41,12,42,12],[41,31,42,32],[39,1,40,2],[39,3,40,3],[39,4,40,4],[39,9,40,9],[39,10,40,11],[39,12,40,12],[35,31,36,32],[37,1,38,2],[37,3,38,3],[37,4,38,4],[37,9,38,9],[37,10,38,11],[37,12,38,12],[37,31,38,32],[35,1,36,2],[35,3,36,3],[35,4,36,4],[35,9,36,9],[35,10,36,11],[35,12,36,12],[31,31,32,32],[33,1,34,2],[33,3,34,3],[33,4,34,4],[33,9,34,9],[33,10,34,11],[33,12,34,12],[33,31,34,32],[31,1,32,2],[31,3,32,3],[31,4,32,4],[31,9,32,9],[31,10,32,11],[31,12,32,12],[27,31,28,32],[29,1,30,2],[29,3,30,3],[29,4,30,4],[29,9,30,9],[29,10,30,11],[29,12,30,12],[29,31,30,32],[27,1,28,2],[27,3,28,3],[27,4,28,4],[27,9,28,9],[27,10,28,11],[27,12,28,12],[23,31,24,32],[25,1,26,2],[25,3,26,3],[25,4,26,4],[25,9,26,9],[25,10,26,11],[25,12,26,12],[25,31,26,32],[23,1,24,2],[23,3,24,3],[23,4,24,4],[23,9,24,9],[23,10,24,11],[23,12,24,12],[19,31,20,32],[21,1,22,2],[21,3,22,3],[21,4,22,4],[21,9,22,9],[21,10,22,11],[21,12,22,12],[21,31,22,32],[17,1,17,2],[17,10,17,11],[19,1,20,2],[19,3,20,3],[19,4,20,4],[19,9,20,9],[19,10,20,11],[19,12,20,12],[4,1,4,12],[5,1,5,12],[12,1,12,10],[12,11,12,12],[13,1,13,10],[13,11,13,12],[8,2,8,3],[9,2,9,3],[9,5,9,6],[9,7,9,9],[9,10,9,11],[10,2,10,3],[10,5,10,6],[10,7,10,9],[10,10,10,11],[6,1,7,1],[6,2,7,3],[6,4,7,4],[6,5,7,6],[6,7,7,9],[6,10,6,12],[7,10,7,11],[11,2,11,3],[11,5,11,6],[135,1,135,8],[78,1,78,11],[79,1,79,3],[79,4,79,6],[126,1,127,1],[128,1,129,1],[132,9,132,12],[125,1,125,12],[112,1,112,3],[112,10,112,11],[122,1,122,11],[118,2,118,3],[118,10,118,11],[119,2,119,3],[119,10,119,11],[121,1,121,3],[121,10,121,11],[86,2,87,3],[86,4,86,6],[86,7,86,9],[86,10,86,12],[81,2,81,3],[81,4,81,6],[81,7,81,9],[115,10,115,12],[116,10,116,11],[79,7,79,9],[75,10,75,11],[69,1,70,1],[69,2,70,3],[69,4,69,6],[69,7,69,9],[69,10,69,12],[70,10,70,11],[81,10,81,12],[92,1,92,3],[92,10,92,11],[100,2,100,3],[100,10,100,11],[111,2,111,3],[111,10,111,11]]}
["G"]
["G","Performance Rating Method Outputs"]
["G"]
["G"]
["G","Energy Sources"]
["G"]
["G","Energy Type","Energy Consumption Units",null,"Demand Units","Utility Rate Name",null,"Utility Rate Structure",null,null,"Unit Conversion Factors"]
["G",null,null,null,null,null,null,null,null,null,{"$f":"CONCATENATE(\"Energy Type Consumption Units to Site Energy Consumption (\",PO_SiteUnits,\")\")","v":"Energy Type Consumption Units to Site Energy Consumption (Btu x 10^6)"},null,{"$f":"CONCATENATE(\"Energy Type Consumption Units to Source Energy Consumption (\",PO_SourceUnits,\")\")","v":"Energy Type Consumption Units to Source Energy Consumption (Btu x 10^6)"}]
["G","Energy_Type","Energy_Consumption_Units",null,"Demand_Units","Utility_Rate_Name",null,"Utility_Rate_Structure",null,null,"Site_Energy_Conversion_Factor",null,"Source_Energy_Conversion_Factor"]
["G",{"$f":"IFERROR(IF(Performance_Outputs_1!B17<>\"\",Performance_Outputs_1!B17,\"\"),\"\")","v":"Electricity"},{"$f":"IFERROR(IF(Performance_Outputs_1!C17<>\"\",Performance_Outputs_1!C17,\"\"),\"\")","v":"kWh"},{"$f":"IFERROR(IF(Performance_Outputs_1!D17<>\"\",Performance_Outputs_1!D17,\"\"),\"\")","v":""},{"$f":"IFERROR(IF(Performance_Outputs_1!E17<>\"\",Performance_Outputs_1!E17,\"\"),\"\")","v":"kW"},{"$f":"IFERROR(IF(Performance_Outputs_1!F17<>\"\",Performance_Outputs_1!F17,\"\"),\"\")","v":""},{"$f":"IFERROR(IF(Performance_Outputs_1!G17<>\"\",Performance_Outputs_1!G17,\"\"),\"\")","v":""},{"$f":"IFERROR(IF(Performance_Outputs_1!H17<>\"\",Performance_Outputs_1!H17,\"\"),\"\")","v":""},{"$f":"IFERROR(IF(Performance_Outputs_1!I17<>\"\",Performance_Outputs_1!I17,\"\"),\"\")","v":""},{"$f":"IFERROR(IF(Performance_Outputs_1!J17<>\"\",Performance_Outputs_1!J17,\"\"),\"\")","v":""},{"$f":"IFERROR(VLOOKUP(\"kBtu\",EnergyUnitsTable,3,FALSE)/VLOOKUP(PO_SiteUnits,EnergyUnitsTable,3,FALSE)*VLOOKUP($C10,EnergyUnitsTable,3,FALSE),\"\")","v":3.4120000000000001E-3},null,{"$f":"IFERROR(VLOOKUP(\"kBtu\",EnergyUnitsTable,3,FALSE)/VLOOKUP(PO_SourceUnits,EnergyUnitsTable,3,FALSE)*VLOOKUP($C10,EnergyUnitsTable,3,FALSE)*VLOOKUP($B10,FuelTypesTable,2,FALSE),\"\")","v":1.0713680000000001E-2}]
["G",{"$f":"IFERROR(IF(Performance_Outputs_1!B18<>\"\",Performance_Outputs_1!B18,\"\"),\"\")","v":"Natural Gas"},{"$f":"IFERROR(IF(Performance_Outputs_1!C18<>\"\",Performance_Outputs_1!C18,\"\"),\"\")","v":"therm"},{"$f":"IFERROR(IF(Performance_Outputs_1!D18<>\"\",Performance_Outputs_1!D18,\"\"),\"\")","v":""},{"$f":"IFERROR(IF(Performance_Outputs_1!E18<>\"\",Performance_Outputs_1!E18,\"\"),\"\")","v":"Btuh x 10^6"},{"$f":"IFERROR(IF(Performance_Outputs_1!F18<>\"\",Performance_Outputs_1!F18,\"\"),\"\")","v":""},{"$f":"IFERROR(IF(Performance_Outputs_1!G18<>\"\",Performance_Outputs_1!G18,\"\"),\"\")","v":""},{"$f":"IFERROR(IF(Performance_Outputs_1!H18<>\"\",Performance_Outputs_1!H18,\"\"),\"\")","v":""},{"$f":"IFERROR(IF(Performance_Outputs_1!I18<>\"\",Performance_Outputs_1!I18,\"\"),\"\")","v":""},{"$f":"IFERROR(IF(Performance_Outputs_1!J18<>\"\",Performance_Outputs_1!J18,\"\"),\"\")","v":""},{"$f":"IFERROR(VLOOKUP(\"kBtu\",EnergyUnitsTable,3,FALSE)/VLOOKUP(PO_SiteUnits,EnergyUnitsTable,3,FALSE)*VLOOKUP($C11,EnergyUnitsTable,3,FALSE),\"\")","v":0.1},null,{"$f":"IFERROR(VLOOKUP(\"kBtu\",EnergyUnitsTable,3,FALSE)/VLOOKUP(PO_SourceUnits,EnergyUnitsTable,3,FALSE)*VLOOKUP($C11,EnergyUnitsTable,3,FALSE)*VLOOKUP($B11,FuelTypesTable,2,FALSE),\"\")","v":0.10500000000000001}]
["G",{"$f":"IFERROR(IF(Performance_Outputs_1!B19<>\"\",Performance_Outputs_1!B19,\"\"),\"\")","v":"District Cooling"},{"$f":"IFERROR(IF(Performance_Outputs_1!C19<>\"\",Performance_Outputs_1!C19,\"\"),\"\")","v":"MWh"},{"$f":"IFERROR(IF(Performance_Outputs_1!D19<>\"\",Performance_Outputs_1!D19,\"\"),\"\")","v":""},{"$f":"IFERROR(IF(Performance_Outputs_1!E19<>\"\",Performance_Outputs_1!E19,\"\"),\"\")","v":"MW"},{"$f":"IFERROR(IF(Performance_Outputs_1!F19<>\"\",Performance_Outputs_1!F19,\"\"),\"\")","v":""},{"$f":"IFERROR(IF(Performance_Outputs_1!G19<>\"\",Performance_Outputs_1!G19,\"\"),\"\")","v":""},{"$f":"IFERROR(IF(Performance_Outputs_1!H19<>\"\",Performance_Outputs_1!H19,\"\"),\"\")","v":""},{"$f":"IFERROR(IF(Performance_Outputs_1!I19<>\"\",Performance_Outputs_1!I19,\"\"),\"\")","v":""},{"$f":"IFERROR(IF(Performance_Outputs_1!J19<>\"\",Performance_Outputs_1!J19,\"\"),\"\")","v":""},{"$f":"IFERROR(VLOOKUP(\"kBtu\",EnergyUnitsTable,3,FALSE)/VLOOKUP(PO_SiteUnits,EnergyUnitsTable,3,FALSE)*VLOOKUP($C12,EnergyUnitsTable,3,FALSE),\"\")","v":3.4119999999999999},null,{"$f":"IFERROR(VLOOKUP(\"kBtu\",EnergyUnitsTable,3,FALSE)/VLOOKUP(PO_SourceUnits,EnergyUnitsTable,3,FALSE)*VLOOKUP($C12,EnergyUnitsTable,3,FALSE)*VLOOKUP($B12,FuelTypesTable,2,FALSE),\"\")","v":3.4119999999999999}]
["G","Site energy consumption units used to report energy consumption totals (sum of energy types)",null,null,null,null,null,null,null,null,null,{"$f":"IFERROR(IF(Performance_Outputs_1!L20<>\"\",Performance_Outputs_1!L20,\"\"),\"\")","v":"Btu x 10^6"},{"$f":"IFERROR(IF(Performance_Outputs_1!M20<>\"\",Performance_Outputs_1!M20,\"\"),\"\")","v":""}]
["G","Source energy consumption units used to report energy consumption totals (sum of energy types)",null,null,null,null,null,null,null,null,null,{"$f":"IFERROR(IF(Performance_Outputs_1!L21<>\"\",Performance_Outputs_1!L21,\"\"),\"\")","v":"Btu x 10^6"},{"$f":"IFERROR(IF(Performance_Outputs_1!M21<>\"\",Performance_Outputs_1!M21,\"\"),\"\")","v":""}]
["G"]
["G","Table: Proposed energy summary by end use"]
["G"]
["G","End Use",null,"Unregulated?","Energy Type","Units of \nAnnual Energy and Peak Demand","Baseline","Proposed","Energy / Demand Savings \nper End-Use","End Use \nPercent Contribution to Total Energy Savings","End Use \nPercent \nContribution to \nTotal Cost Savings",null,"Percent of Total Proposed  \nSite Energy Consumption",null,null,null,null,null,null,null,null,null,"contribution rank",null,"Rank with ties","rank no ties",null,null,null,null,null,null,"QC_EFLH"]
["G","End_Use",null,"Unregulated","Energy_Type","Energy_Units","Base_Consumption_Demand","Design_Consumption_Demand","End_Use_Savings","End_Use_Contribution_to_Energy_Savings","End_Use_Contribution_to_Cost_Savings",null,"Percent_Design_Site_Consumption",null,null,null,"Site_Unit_Conversion","Source_Unit_Conversion",null,null,null,null,"contribution rank",null,"Rank with ties","rank no ties"]
["G","Interior lighting",null,0,"Electricity",{"$f":"IFERROR(IF(ISBLANK(E20),\"\",\"Consumption (\" & VLOOKUP($E20,PO_Enrgy_1_Table,MATCH($C$9,PO_Enrgy_1_Hdr,0),FALSE) & \")\"),\"\")","v":"Consumption (kWh)"},0,0,{"$f":"IFERROR(1-H20/G20,\"\")","v":""},{"$f":"IFERROR(IF($E$122-$H$122<0,\"\",($G20-$H20)*VLOOKUP($E20,PO_Enrgy_1_Table,MATCH($K$9,PO_Enrgy_1_Hdr,0),FALSE)/($E$122-$H$122)),\"\")","v":""},{"$f":"IFERROR(IF($G$122-$J$122<0,\"\",($G20*VLOOKUP($E20,PO_Enrgy_8_Table,MATCH($E$81,PO_Enrgy_8_Hdr,0),FALSE)-($H20*VLOOKUP($E20,PO_Enrgy_8_Table,MATCH($H$81,PO_Enrgy_8_Hdr,0),FALSE)))/($G$122-$J$122)),\"\")","v":""},null,{"$f":"IFERROR(H20*VLOOKUP($E20,PO_Enrgy_1_Table,MATCH($K$9,PO_Enrgy_1_Hdr,0))/$H$76,\"\")","v":""},null,null,null,{"$f":"IFERROR(IF(ISBLANK($E20),\"\",VLOOKUP($E20,PO_Enrgy_1_Table,MATCH($K$9,PO_Enrgy_1_Hdr,0),FALSE)),\"\")","v":3.4120000000000001E-3},{"$f":"IFERROR(IF(ISBLANK($E20),\"\",VLOOKUP($E20,PO_Enrgy_1_Table,MATCH($M$9,PO_Enrgy_1_Hdr,0),FALSE)),\"\")","v":1.0713680000000001E-2},null,null,null,{"$f":"IFERROR($AN20*H20,0)","v":0},{"$f":"IFERROR(G20*VLOOKUP($AE20,PO_Enrgy_8_Table,4,FALSE),0)","v":0},{"$f":"IFERROR(H20*VLOOKUP($AE20,PO_Enrgy_8_Table,7,FALSE),0)","v":0},{"$f":"IFERROR(IF(D20=\"x\",IF(OR(G20/H20>1.03,G20/H20<0.97),TRUE,FALSE),FALSE),FALSE)","v":false},{"$f":"IFERROR(J20*100,)","v":0},null,{"$f":"RANK(Z20,$Z$20:$Z$67,0)","v":1},{"$f":"AB20","v":1},{"$f":"B20","v":"Interior lighting"},null,{"$f":"IFERROR(G20/Lighting!$L$43,\"\")","v":""}]
["G",null,null,null,null,{"$f":"IFERROR(IF(ISBLANK(E20),\"\",\"Demand (\" & VLOOKUP($E20,PO_Enrgy_1_Table,MATCH($E$9,PO_Enrgy_1_Hdr,0),FALSE) & \")\"),\"\")","v":"Demand (kW)"},0,0,{"$f":"IFERROR(1-H21/G21,\"\")","v":""},null,null,null,null,null,null,null,"","",null,null,null,0,0,0]
["G","Exterior lighting",null,0,"Electricity",{"$f":"IFERROR(IF(ISBLANK(E22),\"\",\"Consumption (\" & VLOOKUP($E22,PO_Enrgy_1_Table,MATCH($C$9,PO_Enrgy_1_Hdr,0),FALSE) & \")\"),\"\")","v":"Consumption (kWh)"},0,0,"",{"$f":"IFERROR(IF($E$122-$H$122<0,\"\",($G22-$H22)*VLOOKUP($E22,PO_Enrgy_1_Table,MATCH($K$9,PO_Enrgy_1_Hdr,0),FALSE)/($E$122-$H$122)),\"\")","v":""},{"$f":"IFERROR(IF($G$122-$J$122<0,\"\",($G22*VLOOKUP($E22,PO_Enrgy_8_Table,MATCH($E$81,PO_Enrgy_8_Hdr,0),FALSE)-($H22*VLOOKUP($E22,PO_Enrgy_8_Table,MATCH($H$81,PO_Enrgy_8_Hdr,0),FALSE)))/($G$122-$J$122)),\"\")","v":""},null,{"$f":"IFERROR(H22*VLOOKUP($E22,PO_Enrgy_1_Table,MATCH($K$9,PO_Enrgy_1_Hdr,0))/$H$76,\"\")","v":""},null,null,null,3.4120000000000001E-3,1.0713680000000001E-2,null,null,null,0,0,0,{"$f":"IFERROR(IF(D22=\"x\",IF(OR(G22/H22>1.03,G22/H22<0.97),TRUE,FALSE),FALSE),FALSE)","v":false},{"$f":"IFERROR(J22*100,)","v":0},null,{"$f":"RANK(Z22,$Z$20:$Z$67,0)","v":1},{"$f":"AB22+COUNTIF($AB$20:$AB21,AB22)","v":2},{"$f":"B22","v":"Exterior lighting"}]
["G",null,null,null,null,{"$f":"IFERROR(IF(ISBLANK(E22),\"\",\"Demand (\" & VLOOKUP($E22,PO_Enrgy_1_Table,MATCH($E$9,PO_Enrgy_1_Hdr,0),FALSE) & \")\"),\"\")","v":"Demand (kW)"},0,0,"",null,null,null,null,null,null,null,"","",null,null,null,0,0,0]
["G","Space heating",null,0,"Natural Gas",{"$f":"IFERROR(IF(ISBLANK(E24),\"\",\"Consumption (\" & VLOOKUP($E24,PO_Enrgy_1_Table,MATCH($C$9,PO_Enrgy_1_Hdr,0),FALSE) & \")\"),\"\")","v":"Consumption (therm)"},0,0,"",{"$f":"IFERROR(IF($E$122-$H$122<0,\"\",($G24-$H24)*VLOOKUP($E24,PO_Enrgy_1_Table,MATCH($K$9,PO_Enrgy_1_Hdr,0),FALSE)/($E$122-$H$122)),\"\")","v":""},{"$f":"IFERROR(IF($G$122-$J$122<0,\"\",($G24*VLOOKUP($E24,PO_Enrgy_8_Table,MATCH($E$81,PO_Enrgy_8_Hdr,0),FALSE)-($H24*VLOOKUP($E24,PO_Enrgy_8_Table,MATCH($H$81,PO_Enrgy_8_Hdr,0),FALSE)))/($G$122-$J$122)),\"\")","v":""},null,{"$f":"IFERROR(H24*VLOOKUP($E24,PO_Enrgy_1_Table,MATCH($K$9,PO_Enrgy_1_Hdr,0))/$H$76,\"\")","v":""},null,null,null,0.1,0.10500000000000001,null,null,null,0,0,0,{"$f":"IFERROR(IF(D24=\"x\",IF(OR(G24/H24>1.03,G24/H24<0.97),TRUE,FALSE),FALSE),FALSE)","v":false},{"$f":"IFERROR(J24*100,)","v":0},null,{"$f":"RANK(Z24,$Z$20:$Z$67,0)","v":1},{"$f":"AB24+COUNTIF($AB$20:$AB23,AB24)","v":3},{"$f":"B24","v":"Space heating"}]
["G",null,null,null,null,{"$f":"IFERROR(IF(ISBLANK(E24),\"\",\"Demand (\" & VLOOKUP($E24,PO_Enrgy_1_Table,MATCH($E$9,PO_Enrgy_1_Hdr,0),FALSE) & \")\"),\"\")","v":"Demand (Btuh x 10^6)"},0,0,"",null,null,null,null,null,null,null,"","",null,null,null,0,0,0]
["G","Space cooling",null,0,"Electricity",{"$f":"IFERROR(IF(ISBLANK(E26),\"\",\"Consumption (\" & VLOOKUP($E26,PO_Enrgy_1_Table,MATCH($C$9,PO_Enrgy_1_Hdr,0),FALSE) & \")\"),\"\")","v":"Consumption (kWh)"},0,0,"",{"$f":"IFERROR(IF($E$122-$H$122<0,\"\",($G26-$H26)*VLOOKUP($E26,PO_Enrgy_1_Table,MATCH($K$9,PO_Enrgy_1_Hdr,0),FALSE)/($E$122-$H$122)),\"\")","v":""},{"$f":"IFERROR(IF($G$122-$J$122<0,\"\",($G26*VLOOKUP($E26,PO_Enrgy_8_Table,MATCH($E$81,PO_Enrgy_8_Hdr,0),FALSE)-($H26*VLOOKUP($E26,PO_Enrgy_8_Table,MATCH($H$81,PO_Enrgy_8_Hdr,0),FALSE)))/($G$122-$J$122)),\"\")","v":""},null,{"$f":"IFERROR(H26*VLOOKUP($E26,PO_Enrgy_1_Table,MATCH($K$9,PO_Enrgy_1_Hdr,0))/$H$76,\"\")","v":""},null,null,null,3.4120000000000001E-3,1.0713680000000001E-2,null,null,null,0,0,0,{"$f":"IFERROR(IF(D26=\"x\",IF(OR(G26/H26>1.03,G26/H26<0.97),TRUE,FALSE),FALSE),FALSE)","v":false},{"$f":"IFERROR(J26*100,)","v":0},null,{"$f":"RANK(Z26,$Z$20:$Z$67,0)","v":1},{"$f":"AB26+COUNTIF($AB$20:$AB25,AB26)","v":4},{"$f":"B26","v":"Space cooling"}]
["G",null,null,null,null,{"$f":"IFERROR(IF(ISBLANK(E26),\"\",\"Demand (\" & VLOOKUP($E26,PO_Enrgy_1_Table,MATCH($E$9,PO_Enrgy_1_Hdr,0),FALSE) & \")\"),\"\")","v":"Demand (kW)"},0,0,"",null,null,null,null,null,null,null,"","",null,null,null,0,0,0]
["G","Pumps",null,0,"Electricity",{"$f":"IFERROR(IF(ISBLANK(E28),\"\",\"Consumption (\" & VLOOKUP($E28,PO_Enrgy_1_Table,MATCH($C$9,PO_Enrgy_1_Hdr,0),FALSE) & \")\"),\"\")","v":"Consumption (kWh)"},0,0,"",{"$f":"IFERROR(IF($E$122-$H$122<0,\"\",($G28-$H28)*VLOOKUP($E28,PO_Enrgy_1_Table,MATCH($K$9,PO_Enrgy_1_Hdr,0),FALSE)/($E$122-$H$122)),\"\")","v":""},{"$f":"IFERROR(IF($G$122-$J$122<0,\"\",($G28*VLOOKUP($E28,PO_Enrgy_8_Table,MATCH($E$81,PO_Enrgy_8_Hdr,0),FALSE)-($H28*VLOOKUP($E28,PO_Enrgy_8_Table,MATCH($H$81,PO_Enrgy_8_Hdr,0),FALSE)))/($G$122-$J$122)),\"\")","v":""},null,{"$f":"IFERROR(H28*VLOOKUP($E28,PO_Enrgy_1_Table,MATCH($K$9,PO_Enrgy_1_Hdr,0))/$H$76,\"\")","v":""},null,null,null,3.4120000000000001E-3,1.0713680000000001E-2,null,null,null,0,0,0,{"$f":"IFERROR(IF(D28=\"x\",IF(OR(G28/H28>1.03,G28/H28<0.97),TRUE,FALSE),FALSE),FALSE)","v":false},{"$f":"IFERROR(J28*100,)","v":0},null,{"$f":"RANK(Z28,$Z$20:$Z$67,0)","v":1},{"$f":"AB28+COUNTIF($AB$20:$AB27,AB28)","v":5},{"$f":"B28","v":"Pumps"}]
["G",null,null,null,null,{"$f":"IFERROR(IF(ISBLANK(E28),\"\",\"Demand (\" & VLOOKUP($E28,PO_Enrgy_1_Table,MATCH($E$9,PO_Enrgy_1_Hdr,0),FALSE) & \")\"),\"\")","v":"Demand (kW)"},0,0,"",null,null,null,null,null,null,null,"","",null,null,null,0,0,0]
["G","Heat rejection",null,0,"Electricity",{"$f":"IFERROR(IF(ISBLANK(E30),\"\",\"Consumption (\" & VLOOKUP($E30,PO_Enrgy_1_Table,MATCH($C$9,PO_Enrgy_1_Hdr,0),FALSE) & \")\"),\"\")","v":"Consumption (kWh)"},0,0,"",{"$f":"IFERROR(IF($E$122-$H$122<0,\"\",($G30-$H30)*VLOOKUP($E30,PO_Enrgy_1_Table,MATCH($K$9,PO_Enrgy_1_Hdr,0),FALSE)/($E$122-$H$122)),\"\")","v":""},{"$f":"IFERROR(IF($G$122-$J$122<0,\"\",($G30*VLOOKUP($E30,PO_Enrgy_8_Table,MATCH($E$81,PO_Enrgy_8_Hdr,0),FALSE)-($H30*VLOOKUP($E30,PO_Enrgy_8_Table,MATCH($H$81,PO_Enrgy_8_Hdr,0),FALSE)))/($G$122-$J$122)),\"\")","v":""},null,{"$f":"IFERROR(H30*VLOOKUP($E30,PO_Enrgy_1_Table,MATCH($K$9,PO_Enrgy_1_Hdr,0))/$H$76,\"\")","v":""},null,null,null,3.4120000000000001E-3,1.0713680000000001E-2,null,null,null,0,0,0,{"$f":"IFERROR(IF(D30=\"x\",IF(OR(G30/H30>1.03,G30/H30<0.97),TRUE,FALSE),FALSE),FALSE)","v":false},{"$f":"IFERROR(J30*100,)","v":0},null,{"$f":"RANK(Z30,$Z$20:$Z$67,0)","v":1},{"$f":"AB30+COUNTIF($AB$20:$AB29,AB30)","v":6},{"$f":"B30","v":"Heat rejection"}]
["G",null,null,null,null,{"$f":"IFERROR(IF(ISBLANK(E30),\"\",\"Demand (\" & VLOOKUP($E30,PO_Enrgy_1_Table,MATCH($E$9,PO_Enrgy_1_Hdr,0),FALSE) & \")\"),\"\")","v":"Demand (kW)"},0,0,"",null,null,null,null,null,null,null,"","",null,null,null,0,0,0]
["G","Fans - interior ventilation",null,0,"Electricity",{"$f":"IFERROR(IF(ISBLANK(E32),\"\",\"Consumption (\" & VLOOKUP($E32,PO_Enrgy_1_Table,MATCH($C$9,PO_Enrgy_1_Hdr,0),FALSE) & \")\"),\"\")","v":"Consumption (kWh)"},0,0,"",{"$f":"IFERROR(IF($E$122-$H$122<0,\"\",($G32-$H32)*VLOOKUP($E32,PO_Enrgy_1_Table,MATCH($K$9,PO_Enrgy_1_Hdr,0),FALSE)/($E$122-$H$122)),\"\")","v":""},{"$f":"IFERROR(IF($G$122-$J$122<0,\"\",($G32*VLOOKUP($E32,PO_Enrgy_8_Table,MATCH($E$81,PO_Enrgy_8_Hdr,0),FALSE)-($H32*VLOOKUP($E32,PO_Enrgy_8_Table,MATCH($H$81,PO_Enrgy_8_Hdr,0),FALSE)))/($G$122-$J$122)),\"\")","v":""},null,{"$f":"IFERROR(H32*VLOOKUP($E32,PO_Enrgy_1_Table,MATCH($K$9,PO_Enrgy_1_Hdr,0))/$H$76,\"\")","v":""},null,null,null,3.4120000000000001E-3,1.0713680000000001E-2,null,null,null,0,0,0,{"$f":"IFERROR(IF(D32=\"x\",IF(OR(G32/H32>1.03,G32/H32<0.97),TRUE,FALSE),FALSE),FALSE)","v":false},{"$f":"IFERROR(J32*100,)","v":0},null,{"$f":"RANK(Z32,$Z$20:$Z$67,0)","v":1},{"$f":"AB32+COUNTIF($AB$20:$AB31,AB32)","v":7},{"$f":"B32","v":"Fans - interior ventilation"}]
["G",null,null,null,null,{"$f":"IFERROR(IF(ISBLANK(E32),\"\",\"Demand (\" & VLOOKUP($E32,PO_Enrgy_1_Table,MATCH($E$9,PO_Enrgy_1_Hdr,0),FALSE) & \")\"),\"\")","v":"Demand (kW)"},0,0,"",null,null,null,null,null,null,null,"","",null,null,null,0,0,0]
["G","Fans - parking garage",null,"x","Electricity",{"$f":"IFERROR(IF(ISBLANK(E34),\"\",\"Consumption (\" & VLOOKUP($E34,PO_Enrgy_1_Table,MATCH($C$9,PO_Enrgy_1_Hdr,0),FALSE) & \")\"),\"\")","v":"Consumption (kWh)"},0,0,"",{"$f":"IFERROR(IF($E$122-$H$122<0,\"\",($G34-$H34)*VLOOKUP($E34,PO_Enrgy_1_Table,MATCH($K$9,PO_Enrgy_1_Hdr,0),FALSE)/($E$122-$H$122)),\"\")","v":""},{"$f":"IFERROR(IF($G$122-$J$122<0,\"\",($G34*VLOOKUP($E34,PO_Enrgy_8_Table,MATCH($E$81,PO_Enrgy_8_Hdr,0),FALSE)-($H34*VLOOKUP($E34,PO_Enrgy_8_Table,MATCH($H$81,PO_Enrgy_8_Hdr,0),FALSE)))/($G$122-$J$122)),\"\")","v":""},null,{"$f":"IFERROR(H34*VLOOKUP($E34,PO_Enrgy_1_Table,MATCH($K$9,PO_Enrgy_1_Hdr,0))/$H$76,\"\")","v":""},null,null,null,3.4120000000000001E-3,1.0713680000000001E-2,null,null,null,0,0,0,{"$f":"IFERROR(IF(D34=\"x\",IF(OR(G34/H34>1.03,G34/H34<0.97),TRUE,FALSE),FALSE),FALSE)","v":false},{"$f":"IFERROR(J34*100,)","v":0},null,{"$f":"RANK(Z34,$Z$20:$Z$67,0)","v":1},{"$f":"AB34+COUNTIF($AB$20:$AB33,AB34)","v":8},{"$f":"B34","v":"Fans - parking garage"}]
["G",null,null,null,null,{"$f":"IFERROR(IF(ISBLANK(E34),\"\",\"Demand (\" & VLOOKUP($E34,PO_Enrgy_1_Table,MATCH($E$9,PO_Enrgy_1_Hdr,0),FALSE) & \")\"),\"\")","v":"Demand (kW)"},0,0,"",null,null,null,null,null,null,null,"","",null,null,null,0,0,0]
["G","Service water heating",null,0,"Natural Gas",{"$f":"IFERROR(IF(ISBLANK(E36),\"\",\"Consumption (\" & VLOOKUP($E36,PO_Enrgy_1_Table,MATCH($C$9,PO_Enrgy_1_Hdr,0),FALSE) & \")\"),\"\")","v":"Consumption (therm)"},0,0,"",{"$f":"IFERROR(IF($E$122-$H$122<0,\"\",($G36-$H36)*VLOOKUP($E36,PO_Enrgy_1_Table,MATCH($K$9,PO_Enrgy_1_Hdr,0),FALSE)/($E$122-$H$122)),\"\")","v":""},{"$f":"IFERROR(IF($G$122-$J$122<0,\"\",($G36*VLOOKUP($E36,PO_Enrgy_8_Table,MATCH($E$81,PO_Enrgy_8_Hdr,0),FALSE)-($H36*VLOOKUP($E36,PO_Enrgy_8_Table,MATCH($H$81,PO_Enrgy_8_Hdr,0),FALSE)))/($G$122-$J$122)),\"\")","v":""},null,{"$f":"IFERROR(H36*VLOOKUP($E36,PO_Enrgy_1_Table,MATCH($K$9,PO_Enrgy_1_Hdr,0))/$H$76,\"\")","v":""},null,null,null,0.1,0.10500000000000001,null,null,null,0,0,0,{"$f":"IFERROR(IF(D36=\"x\",IF(OR(G36/H36>1.03,G36/H36<0.97),TRUE,FALSE),FALSE),FALSE)","v":false},{"$f":"IFERROR(J36*100,)","v":0},null,{"$f":"RANK(Z36,$Z$20:$Z$67,0)","v":1},{"$f":"AB36+COUNTIF($AB$20:$AB35,AB36)","v":9},{"$f":"B36","v":"Service water heating"}]
["G",null,null,null,null,{"$f":"IFERROR(IF(ISBLANK(E36),\"\",\"Demand (\" & VLOOKUP($E36,PO_Enrgy_1_Table,MATCH($E$9,PO_Enrgy_1_Hdr,0),FALSE) & \")\"),\"\")","v":"Demand (Btuh x 10^6)"},0,0,"",null,null,null,null,null,null,null,"","",null,null,null,0,0,0]
["G","Receptacle equipment",null,"x","Electricity",{"$f":"IFERROR(IF(ISBLANK(E38),\"\",\"Consumption (\" & VLOOKUP($E38,PO_Enrgy_1_Table,MATCH($C$9,PO_Enrgy_1_Hdr,0),FALSE) & \")\"),\"\")","v":"Consumption (kWh)"},0,0,"",{"$f":"IFERROR(IF($E$122-$H$122<0,\"\",($G38-$H38)*VLOOKUP($E38,PO_Enrgy_1_Table,MATCH($K$9,PO_Enrgy_1_Hdr,0),FALSE)/($E$122-$H$122)),\"\")","v":""},{"$f":"IFERROR(IF($G$122-$J$122<0,\"\",($G38*VLOOKUP($E38,PO_Enrgy_8_Table,MATCH($E$81,PO_Enrgy_8_Hdr,0),FALSE)-($H38*VLOOKUP($E38,PO_Enrgy_8_Table,MATCH($H$81,PO_Enrgy_8_Hdr,0),FALSE)))/($G$122-$J$122)),\"\")","v":""},null,{"$f":"IFERROR(H38*VLOOKUP($E38,PO_Enrgy_1_Table,MATCH($K$9,PO_Enrgy_1_Hdr,0))/$H$76,\"\")","v":""},null,null,null,3.4120000000000001E-3,1.0713680000000001E-2,null,null,null,0,0,0,{"$f":"IFERROR(IF(D38=\"x\",IF(OR(G38/H38>1.03,G38/H38<0.97),TRUE,FALSE),FALSE),FALSE)","v":false},{"$f":"IFERROR(J38*100,)","v":0},null,{"$f":"RANK(Z38,$Z$20:$Z$67,0)","v":1},{"$f":"AB38+COUNTIF($AB$20:$AB37,AB38)","v":10},{"$f":"B38","v":"Receptacle equipment"}]
["G",null,null,null,null,{"$f":"IFERROR(IF(ISBLANK(E38),\"\",\"Demand (\" & VLOOKUP($E38,PO_Enrgy_1_Table,MATCH($E$9,PO_Enrgy_1_Hdr,0),FALSE) & \")\"),\"\")","v":"Demand (kW)"},0,0,"",null,null,null,null,null,null,null,"","",null,null,null,0,0,0]
["G","IT equipment",null,"x","Electricity",{"$f":"IFERROR(IF(ISBLANK(E40),\"\",\"Consumption (\" & VLOOKUP($E40,PO_Enrgy_1_Table,MATCH($C$9,PO_Enrgy_1_Hdr,0),FALSE) & \")\"),\"\")","v":"Consumption (kWh)"},0,0,"",{"$f":"IFERROR(IF($E$122-$H$122<0,\"\",($G40-$H40)*VLOOKUP($E40,PO_Enrgy_1_Table,MATCH($K$9,PO_Enrgy_1_Hdr,0),FALSE)/($E$122-$H$122)),\"\")","v":""},{"$f":"IFERROR(IF($G$122-$J$122<0,\"\",($G40*VLOOKUP($E40,PO_Enrgy_8_Table,MATCH($E$81,PO_Enrgy_8_Hdr,0),FALSE)-($H40*VLOOKUP($E40,PO_Enrgy_8_Table,MATCH($H$81,PO_Enrgy_8_Hdr,0),FALSE)))/($G$122-$J$122)),\"\")","v":""},null,{"$f":"IFERROR(H40*VLOOKUP($E40,PO_Enrgy_1_Table,MATCH($K$9,PO_Enrgy_1_Hdr,0))/$H$76,\"\")","v":""},null,null,null,3.4120000000000001E-3,1.0713680000000001E-2,null,null,null,0,0,0,{"$f":"IFERROR(IF(D40=\"x\",IF(OR(G40/H40>1.03,G40/H40<0.97),TRUE,FALSE),FALSE),FALSE)","v":false},{"$f":"IFERROR(J40*100,)","v":0},null,{"$f":"RANK(Z40,$Z$20:$Z$67,0)","v":1},{"$f":"AB40+COUNTIF($AB$20:$AB39,AB40)","v":11},{"$f":"B40","v":"IT equipment"}]
["G",null,null,null,null,{"$f":"IFERROR(IF(ISBLANK(E40),\"\",\"Demand (\" & VLOOKUP($E40,PO_Enrgy_1_Table,MATCH($E$9,PO_Enrgy_1_Hdr,0),FALSE) & \")\"),\"\")","v":"Demand (kW)"},0,0,"",null,null,null,null,null,null,null,"","",null,null,null,0,0,0]
["G","Interior lighting - process",null,"x","Electricity",{"$f":"IFERROR(IF(ISBLANK(E42),\"\",\"Consumption (\" & VLOOKUP($E42,PO_Enrgy_1_Table,MATCH($C$9,PO_Enrgy_1_Hdr,0),FALSE) & \")\"),\"\")","v":"Consumption (kWh)"},0,0,"",{"$f":"IFERROR(IF($E$122-$H$122<0,\"\",($G42-$H42)*VLOOKUP($E42,PO_Enrgy_1_Table,MATCH($K$9,PO_Enrgy_1_Hdr,0),FALSE)/($E$122-$H$122)),\"\")","v":""},{"$f":"IFERROR(IF($G$122-$J$122<0,\"\",($G42*VLOOKUP($E42,PO_Enrgy_8_Table,MATCH($E$81,PO_Enrgy_8_Hdr,0),FALSE)-($H42*VLOOKUP($E42,PO_Enrgy_8_Table,MATCH($H$81,PO_Enrgy_8_Hdr,0),FALSE)))/($G$122-$J$122)),\"\")","v":""},null,{"$f":"IFERROR(H42*VLOOKUP($E42,PO_Enrgy_1_Table,MATCH($K$9,PO_Enrgy_1_Hdr,0))/$H$76,\"\")","v":""},null,null,null,3.4120000000000001E-3,1.0713680000000001E-2,null,null,null,0,0,0,{"$f":"IFERROR(IF(D42=\"x\",IF(OR(G42/H42>1.03,G42/H42<0.97),TRUE,FALSE),FALSE),FALSE)","v":false},{"$f":"IFERROR(J42*100,)","v":0},null,{"$f":"RANK(Z42,$Z$20:$Z$67,0)","v":1},{"$f":"AB42+COUNTIF($AB$20:$AB41,AB42)","v":12},{"$f":"B42","v":"Interior lighting - process"}]
["G",null,null,null,null,{"$f":"IFERROR(IF(ISBLANK(E42),\"\",\"Demand (\" & VLOOKUP($E42,PO_Enrgy_1_Table,MATCH($E$9,PO_Enrgy_1_Hdr,0),FALSE) & \")\"),\"\")","v":"Demand (kW)"},0,0,"",null,null,null,null,null,null,null,"","",null,null,null,0,0,0]
["G","Refrigeration equipment",null,"x","Electricity",{"$f":"IFERROR(IF(ISBLANK(E44),\"\",\"Consumption (\" & VLOOKUP($E44,PO_Enrgy_1_Table,MATCH($C$9,PO_Enrgy_1_Hdr,0),FALSE) & \")\"),\"\")","v":"Consumption (kWh)"},0,0,"",{"$f":"IFERROR(IF($E$122-$H$122<0,\"\",($G44-$H44)*VLOOKUP($E44,PO_Enrgy_1_Table,MATCH($K$9,PO_Enrgy_1_Hdr,0),FALSE)/($E$122-$H$122)),\"\")","v":""},{"$f":"IFERROR(IF($G$122-$J$122<0,\"\",($G44*VLOOKUP($E44,PO_Enrgy_8_Table,MATCH($E$81,PO_Enrgy_8_Hdr,0),FALSE)-($H44*VLOOKUP($E44,PO_Enrgy_8_Table,MATCH($H$81,PO_Enrgy_8_Hdr,0),FALSE)))/($G$122-$J$122)),\"\")","v":""},null,{"$f":"IFERROR(H44*VLOOKUP($E44,PO_Enrgy_1_Table,MATCH($K$9,PO_Enrgy_1_Hdr,0))/$H$76,\"\")","v":""},null,null,null,3.4120000000000001E-3,1.0713680000000001E-2,null,null,null,0,0,0,{"$f":"IFERROR(IF(D44=\"x\",IF(OR(G44/H44>1.03,G44/H44<0.97),TRUE,FALSE),FALSE),FALSE)","v":false},{"$f":"IFERROR(J44*100,)","v":0},null,{"$f":"RANK(Z44,$Z$20:$Z$67,0)","v":1},{"$f":"AB44+COUNTIF($AB$20:$AB43,AB44)","v":13},{"$f":"B44","v":"Refrigeration equipment"}]
["G",null,null,null,null,{"$f":"IFERROR(IF(ISBLANK(E44),\"\",\"Demand (\" & VLOOKUP($E44,PO_Enrgy_1_Table,MATCH($E$9,PO_Enrgy_1_Hdr,0),FALSE) & \")\"),\"\")","v":"Demand (kW)"},0,0,"",null,null,null,null,null,null,null,"","",null,null,null,0,0,0]
["G","Fans - Kitchen Ventilation",null,"x","Electricity",{"$f":"IFERROR(IF(ISBLANK(E46),\"\",\"Consumption (\" & VLOOKUP($E46,PO_Enrgy_1_Table,MATCH($C$9,PO_Enrgy_1_Hdr,0),FALSE) & \")\"),\"\")","v":"Consumption (kWh)"},0,0,"",{"$f":"IFERROR(IF($E$122-$H$122<0,\"\",($G46-$H46)*VLOOKUP($E46,PO_Enrgy_1_Table,MATCH($K$9,PO_Enrgy_1_Hdr,0),FALSE)/($E$122-$H$122)),\"\")","v":""},{"$f":"IFERROR(IF($G$122-$J$122<0,\"\",($G46*VLOOKUP($E46,PO_Enrgy_8_Table,MATCH($E$81,PO_Enrgy_8_Hdr,0),FALSE)-($H46*VLOOKUP($E46,PO_Enrgy_8_Table,MATCH($H$81,PO_Enrgy_8_Hdr,0),FALSE)))/($G$122-$J$122)),\"\")","v":""},null,{"$f":"IFERROR(H46*VLOOKUP($E46,PO_Enrgy_1_Table,MATCH($K$9,PO_Enrgy_1_Hdr,0))/$H$76,\"\")","v":""},null,null,null,3.4120000000000001E-3,1.0713680000000001E-2,null,null,null,0,0,0,{"$f":"IFERROR(IF(D46=\"x\",IF(OR(G46/H46>1.03,G46/H46<0.97),TRUE,FALSE),FALSE),FALSE)","v":false},{"$f":"IFERROR(J46*100,)","v":0},null,{"$f":"RANK(Z46,$Z$20:$Z$67,0)","v":1},{"$f":"AB46+COUNTIF($AB$20:$AB45,AB46)","v":14},{"$f":"B46","v":"Fans - Kitchen Ventilation"}]
["G",null,null,null,null,{"$f":"IFERROR(IF(ISBLANK(E46),\"\",\"Demand (\" & VLOOKUP($E46,PO_Enrgy_1_Table,MATCH($E$9,PO_Enrgy_1_Hdr,0),FALSE) & \")\"),\"\")","v":"Demand (kW)"},0,0,"",null,null,null,null,null,null,null,"","",null,null,null,0,0,0]
["G","Cooking",null,"x","Electricity",{"$f":"IFERROR(IF(ISBLANK(E48),\"\",\"Consumption (\" & VLOOKUP($E48,PO_Enrgy_1_Table,MATCH($C$9,PO_Enrgy_1_Hdr,0),FALSE) & \")\"),\"\")","v":"Consumption (kWh)"},0,0,"",{"$f":"IFERROR(IF($E$122-$H$122<0,\"\",($G48-$H48)*VLOOKUP($E48,PO_Enrgy_1_Table,MATCH($K$9,PO_Enrgy_1_Hdr,0),FALSE)/($E$122-$H$122)),\"\")","v":""},{"$f":"IFERROR(IF($G$122-$J$122<0,\"\",($G48*VLOOKUP($E48,PO_Enrgy_8_Table,MATCH($E$81,PO_Enrgy_8_Hdr,0),FALSE)-($H48*VLOOKUP($E48,PO_Enrgy_8_Table,MATCH($H$81,PO_Enrgy_8_Hdr,0),FALSE)))/($G$122-$J$122)),\"\")","v":""},null,{"$f":"IFERROR(H48*VLOOKUP($E48,PO_Enrgy_1_Table,MATCH($K$9,PO_Enrgy_1_Hdr,0))/$H$76,\"\")","v":""},null,null,null,3.4120000000000001E-3,1.0713680000000001E-2,null,null,null,0,0,0,{"$f":"IFERROR(IF(D48=\"x\",IF(OR(G48/H48>1.03,G48/H48<0.97),TRUE,FALSE),FALSE),FALSE)","v":false},{"$f":"IFERROR(J48*100,)","v":0},null,{"$f":"RANK(Z48,$Z$20:$Z$67,0)","v":1},{"$f":"AB48+COUNTIF($AB$20:$AB47,AB48)","v":15},{"$f":"B48","v":"Cooking"}]
["G",null,null,null,null,{"$f":"IFERROR(IF(ISBLANK(E48),\"\",\"Demand (\" & VLOOKUP($E48,PO_Enrgy_1_Table,MATCH($E$9,PO_Enrgy_1_Hdr,0),FALSE) & \")\"),\"\")","v":"Demand (kW)"},0,0,"",null,null,null,null,null,null,null,"","",null,null,null,0,0,0]
["G","Industrial Process",null,"x","Electricity",{"$f":"IFERROR(IF(ISBLANK(E50),\"\",\"Consumption (\" & VLOOKUP($E50,PO_Enrgy_1_Table,MATCH($C$9,PO_Enrgy_1_Hdr,0),FALSE) & \")\"),\"\")","v":"Consumption (kWh)"},0,0,"",{"$f":"IFERROR(IF($E$122-$H$122<0,\"\",($G50-$H50)*VLOOKUP($E50,PO_Enrgy_1_Table,MATCH($K$9,PO_Enrgy_1_Hdr,0),FALSE)/($E$122-$H$122)),\"\")","v":""},{"$f":"IFERROR(IF($G$122-$J$122<0,\"\",($G50*VLOOKUP($E50,PO_Enrgy_8_Table,MATCH($E$81,PO_Enrgy_8_Hdr,0),FALSE)-($H50*VLOOKUP($E50,PO_Enrgy_8_Table,MATCH($H$81,PO_Enrgy_8_Hdr,0),FALSE)))/($G$122-$J$122)),\"\")","v":""},null,{"$f":"IFERROR(H50*VLOOKUP($E50,PO_Enrgy_1_Table,MATCH($K$9,PO_Enrgy_1_Hdr,0))/$H$76,\"\")","v":""},null,null,null,3.4120000000000001E-3,1.0713680000000001E-2,null,null,null,0,0,0,{"$f":"IFERROR(IF(D50=\"x\",IF(OR(G50/H50>1.03,G50/H50<0.97),TRUE,FALSE),FALSE),FALSE)","v":false},{"$f":"IFERROR(J50*100,)","v":0},null,{"$f":"RANK(Z50,$Z$20:$Z$67,0)","v":1},{"$f":"AB50+COUNTIF($AB$20:$AB49,AB50)","v":16},{"$f":"B50","v":"Industrial Process"}]
["G",null,null,null,null,{"$f":"IFERROR(IF(ISBLANK(E50),\"\",\"Demand (\" & VLOOKUP($E50,PO_Enrgy_1_Table,MATCH($E$9,PO_Enrgy_1_Hdr,0),FALSE) & \")\"),\"\")","v":"Demand (kW)"},0,0,"",null,null,null,null,null,null,null,"","",null,null,null,0,0,0]
["G","Elevators and escalators",null,"x","Electricity",{"$f":"IFERROR(IF(ISBLANK(E52),\"\",\"Consumption (\" & VLOOKUP($E52,PO_Enrgy_1_Table,MATCH($C$9,PO_Enrgy_1_Hdr,0),FALSE) & \")\"),\"\")","v":"Consumption (kWh)"},0,0,"",{"$f":"IFERROR(IF($E$122-$H$122<0,\"\",($G52-$H52)*VLOOKUP($E52,PO_Enrgy_1_Table,MATCH($K$9,PO_Enrgy_1_Hdr,0),FALSE)/($E$122-$H$122)),\"\")","v":""},{"$f":"IFERROR(IF($G$122-$J$122<0,\"\",($G52*VLOOKUP($E52,PO_Enrgy_8_Table,MATCH($E$81,PO_Enrgy_8_Hdr,0),FALSE)-($H52*VLOOKUP($E52,PO_Enrgy_8_Table,MATCH($H$81,PO_Enrgy_8_Hdr,0),FALSE)))/($G$122-$J$122)),\"\")","v":""},null,{"$f":"IFERROR(H52*VLOOKUP($E52,PO_Enrgy_1_Table,MATCH($K$9,PO_Enrgy_1_Hdr,0))/$H$76,\"\")","v":""},null,null,null,3.4120000000000001E-3,1.0713680000000001E-2,null,null,null,0,0,0,{"$f":"IFERROR(IF(D52=\"x\",IF(OR(G52/H52>1.03,G52/H52<0.97),TRUE,FALSE),FALSE),FALSE)","v":false},{"$f":"IFERROR(J52*100,)","v":0},null,{"$f":"RANK(Z52,$Z$20:$Z$67,0)","v":1},{"$f":"AB52+COUNTIF($AB$20:$AB51,AB52)","v":17},{"$f":"B52","v":"Elevators and escalators"}]
["G",null,null,null,null,{"$f":"IFERROR(IF(ISBLANK(E52),\"\",\"Demand (\" & VLOOKUP($E52,PO_Enrgy_1_Table,MATCH($E$9,PO_Enrgy_1_Hdr,0),FALSE) & \")\"),\"\")","v":"Demand (kW)"},0,0,"",null,null,null,null,null,null,null,"","",null,null,null,0,0,0]
["G","Heat Pump Supplementary",null,0,"Electricity",{"$f":"IFERROR(IF(ISBLANK(E54),\"\",\"Consumption (\" & VLOOKUP($E54,PO_Enrgy_1_Table,MATCH($C$9,PO_Enrgy_1_Hdr,0),FALSE) & \")\"),\"\")","v":"Consumption (kWh)"},0,0,"",{"$f":"IFERROR(IF($E$122-$H$122<0,\"\",($G54-$H54)*VLOOKUP($E54,PO_Enrgy_1_Table,MATCH($K$9,PO_Enrgy_1_Hdr,0),FALSE)/($E$122-$H$122)),\"\")","v":""},{"$f":"IFERROR(IF($G$122-$J$122<0,\"\",($G54*VLOOKUP($E54,PO_Enrgy_8_Table,MATCH($E$81,PO_Enrgy_8_Hdr,0),FALSE)-($H54*VLOOKUP($E54,PO_Enrgy_8_Table,MATCH($H$81,PO_Enrgy_8_Hdr,0),FALSE)))/($G$122-$J$122)),\"\")","v":""},null,{"$f":"IFERROR(H54*VLOOKUP($E54,PO_Enrgy_1_Table,MATCH($K$9,PO_Enrgy_1_Hdr,0))/$H$76,\"\")","v":""},null,null,null,3.4120000000000001E-3,1.0713680000000001E-2,null,null,null,0,0,0,{"$f":"IFERROR(IF(D54=\"x\",IF(OR(G54/H54>1.03,G54/H54<0.97),TRUE,FALSE),FALSE),FALSE)","v":false},{"$f":"IFERROR(J54*100,)","v":0},null,{"$f":"RANK(Z54,$Z$20:$Z$67,0)","v":1},{"$f":"AB54+COUNTIF($AB$20:$AB53,AB54)","v":18},{"$f":"B54","v":"Heat Pump Supplementary"}]
["G",null,null,null,null,{"$f":"IFERROR(IF(ISBLANK(E54),\"\",\"Demand (\" & VLOOKUP($E54,PO_Enrgy_1_Table,MATCH($E$9,PO_Enrgy_1_Hdr,0),FALSE) & \")\"),\"\")","v":"Demand (kW)"},0,0,"",null,null,null,null,null,null,null,"","",null,null,null,0,0,0]
["G",0,null,0,0,{"$f":"IFERROR(IF(ISBLANK(E56),\"\",\"Consumption (\" & VLOOKUP($E56,PO_Enrgy_1_Table,MATCH($C$9,PO_Enrgy_1_Hdr,0),FALSE) & \")\"),\"\")","v":""},0,0,"",{"$f":"IFERROR(IF($E$122-$H$122<0,\"\",($G56-$H56)*VLOOKUP($E56,PO_Enrgy_1_Table,MATCH($K$9,PO_Enrgy_1_Hdr,0),FALSE)/($E$122-$H$122)),\"\")","v":""},{"$f":"IFERROR(IF($G$122-$J$122<0,\"\",($G56*VLOOKUP($E56,PO_Enrgy_8_Table,MATCH($E$81,PO_Enrgy_8_Hdr,0),FALSE)-($H56*VLOOKUP($E56,PO_Enrgy_8_Table,MATCH($H$81,PO_Enrgy_8_Hdr,0),FALSE)))/($G$122-$J$122)),\"\")","v":""},null,{"$f":"IFERROR(H56*VLOOKUP($E56,PO_Enrgy_1_Table,MATCH($K$9,PO_Enrgy_1_Hdr,0))/$H$76,\"\")","v":""},null,null,null,"","",null,null,null,0,0,0,{"$f":"IFERROR(IF(D56=\"x\",IF(OR(G56/H56>1.03,G56/H56<0.97),TRUE,FALSE),FALSE),FALSE)","v":false},{"$f":"IFERROR(J56*100,)","v":0},null,{"$f":"RANK(Z56,$Z$20:$Z$67,0)","v":1},{"$f":"AB56+COUNTIF($AB$20:$AB55,AB56)","v":19},{"$f":"B56","v":0}]
["G",null,null,null,null,{"$f":"IFERROR(IF(ISBLANK(E56),\"\",\"Demand (\" & VLOOKUP($E56,PO_Enrgy_1_Table,MATCH($E$9,PO_Enrgy_1_Hdr,0),FALSE) & \")\"),\"\")","v":""},0,0,"",null,null,null,null,null,null,null,"","",null,null,null,0,0,0]
["G",0,null,0,0,{"$f":"IFERROR(IF(ISBLANK(E58),\"\",\"Consumption (\" & VLOOKUP($E58,PO_Enrgy_1_Table,MATCH($C$9,PO_Enrgy_1_Hdr,0),FALSE) & \")\"),\"\")","v":""},0,0,"",{"$f":"IFERROR(IF($E$122-$H$122<0,\"\",($G58-$H58)*VLOOKUP($E58,PO_Enrgy_1_Table,MATCH($K$9,PO_Enrgy_1_Hdr,0),FALSE)/($E$122-$H$122)),\"\")","v":""},{"$f":"IFERROR(IF($G$122-$J$122<0,\"\",($G58*VLOOKUP($E58,PO_Enrgy_8_Table,MATCH($E$81,PO_Enrgy_8_Hdr,0),FALSE)-($H58*VLOOKUP($E58,PO_Enrgy_8_Table,MATCH($H$81,PO_Enrgy_8_Hdr,0),FALSE)))/($G$122-$J$122)),\"\")","v":""},null,{"$f":"IFERROR(H58*VLOOKUP($E58,PO_Enrgy_1_Table,MATCH($K$9,PO_Enrgy_1_Hdr,0))/$H$76,\"\")","v":""},null,null,null,"","",null,null,null,0,0,0,{"$f":"IFERROR(IF(D58=\"x\",IF(OR(G58/H58>1.03,G58/H58<0.97),TRUE,FALSE),FALSE),FALSE)","v":false},{"$f":"IFERROR(J58*100,)","v":0},null,{"$f":"RANK(Z58,$Z$20:$Z$67,0)","v":1},{"$f":"AB58+COUNTIF($AB$20:$AB57,AB58)","v":20},{"$f":"B58","v":0}]
["G",null,null,null,null,{"$f":"IFERROR(IF(ISBLANK(E58),\"\",\"Demand (\" & VLOOKUP($E58,PO_Enrgy_1_Table,MATCH($E$9,PO_Enrgy_1_Hdr,0),FALSE) & \")\"),\"\")","v":""},0,0,"",null,null,null,null,null,null,null,"","",null,null,null,0,0,0]
["G",0,null,0,0,{"$f":"IFERROR(IF(ISBLANK(E60),\"\",\"Consumption (\" & VLOOKUP($E60,PO_Enrgy_1_Table,MATCH($C$9,PO_Enrgy_1_Hdr,0),FALSE) & \")\"),\"\")","v":""},0,0,"",{"$f":"IFERROR(IF($E$122-$H$122<0,\"\",($G60-$H60)*VLOOKUP($E60,PO_Enrgy_1_Table,MATCH($K$9,PO_Enrgy_1_Hdr,0),FALSE)/($E$122-$H$122)),\"\")","v":""},{"$f":"IFERROR(IF($G$122-$J$122<0,\"\",($G60*VLOOKUP($E60,PO_Enrgy_8_Table,MATCH($E$81,PO_Enrgy_8_Hdr,0),FALSE)-($H60*VLOOKUP($E60,PO_Enrgy_8_Table,MATCH($H$81,PO_Enrgy_8_Hdr,0),FALSE)))/($G$122-$J$122)),\"\")","v":""},null,{"$f":"IFERROR(H60*VLOOKUP($E60,PO_Enrgy_1_Table,MATCH($K$9,PO_Enrgy_1_Hdr,0))/$H$76,\"\")","v":""},null,null,null,"","",null,null,null,0,0,0,{"$f":"IFERROR(IF(D60=\"x\",IF(OR(G60/H60>1.03,G60/H60<0.97),TRUE,FALSE),FALSE),FALSE)","v":false},{"$f":"IFERROR(J60*100,)","v":0},null,{"$f":"RANK(Z60,$Z$20:$Z$67,0)","v":1},{"$f":"AB60+COUNTIF($AB$20:$AB59,AB60)","v":21},{"$f":"B60","v":0}]
["G",null,null,null,null,{"$f":"IFERROR(IF(ISBLANK(E60),\"\",\"Demand (\" & VLOOKUP($E60,PO_Enrgy_1_Table,MATCH($E$9,PO_Enrgy_1_Hdr,0),FALSE) & \")\"),\"\")","v":""},0,0,"",null,null,null,null,null,null,null,"","",null,null,null,0,0,0]
["G",0,null,0,0,{"$f":"IFERROR(IF(ISBLANK(E62),\"\",\"Consumption (\" & VLOOKUP($E62,PO_Enrgy_1_Table,MATCH($C$9,PO_Enrgy_1_Hdr,0),FALSE) & \")\"),\"\")","v":""},0,0,"",{"$f":"IFERROR(IF($E$122-$H$122<0,\"\",($G62-$H62)*VLOOKUP($E62,PO_Enrgy_1_Table,MATCH($K$9,PO_Enrgy_1_Hdr,0),FALSE)/($E$122-$H$122)),\"\")","v":""},{"$f":"IFERROR(IF($G$122-$J$122<0,\"\",($G62*VLOOKUP($E62,PO_Enrgy_8_Table,MATCH($E$81,PO_Enrgy_8_Hdr,0),FALSE)-($H62*VLOOKUP($E62,PO_Enrgy_8_Table,MATCH($H$81,PO_Enrgy_8_Hdr,0),FALSE)))/($G$122-$J$122)),\"\")","v":""},null,{"$f":"IFERROR(H62*VLOOKUP($E62,PO_Enrgy_1_Table,MATCH($K$9,PO_Enrgy_1_Hdr,0))/$H$76,\"\")","v":""},null,null,null,"","",null,null,null,0,0,0,{"$f":"IFERROR(IF(D62=\"x\",IF(OR(G62/H62>1.03,G62/H62<0.97),TRUE,FALSE),FALSE),FALSE)","v":false},{"$f":"IFERROR(J62*100,)","v":0},null,{"$f":"RANK(Z62,$Z$20:$Z$67,0)","v":1},{"$f":"AB62+COUNTIF($AB$20:$AB61,AB62)","v":22},{"$f":"B62","v":0}]
["G",null,null,null,null,{"$f":"IFERROR(IF(ISBLANK(E62),\"\",\"Demand (\" & VLOOKUP($E62,PO_Enrgy_1_Table,MATCH($E$9,PO_Enrgy_1_Hdr,0),FALSE) & \")\"),\"\")","v":""},0,0,"",null,null,null,null,null,null,null,"","",null,null,null,0,0,0]
["G",0,null,0,0,{"$f":"IFERROR(IF(ISBLANK(E64),\"\",\"Consumption (\" & VLOOKUP($E64,PO_Enrgy_1_Table,MATCH($C$9,PO_Enrgy_1_Hdr,0),FALSE) & \")\"),\"\")","v":""},0,0,"",{"$f":"IFERROR(IF($E$122-$H$122<0,\"\",($G64-$H64)*VLOOKUP($E64,PO_Enrgy_1_Table,MATCH($K$9,PO_Enrgy_1_Hdr,0),FALSE)/($E$122-$H$122)),\"\")","v":""},{"$f":"IFERROR(IF($G$122-$J$122<0,\"\",($G64*VLOOKUP($E64,PO_Enrgy_8_Table,MATCH($E$81,PO_Enrgy_8_Hdr,0),FALSE)-($H64*VLOOKUP($E64,PO_Enrgy_8_Table,MATCH($H$81,PO_Enrgy_8_Hdr,0),FALSE)))/($G$122-$J$122)),\"\")","v":""},null,{"$f":"IFERROR(H64*VLOOKUP($E64,PO_Enrgy_1_Table,MATCH($K$9,PO_Enrgy_1_Hdr,0))/$H$76,\"\")","v":""},null,null,null,"","",null,null,null,0,0,0,{"$f":"IFERROR(IF(D64=\"x\",IF(OR(G64/H64>1.03,G64/H64<0.97),TRUE,FALSE),FALSE),FALSE)","v":false},{"$f":"IFERROR(J64*100,)","v":0},null,{"$f":"RANK(Z64,$Z$20:$Z$67,0)","v":1},{"$f":"AB64+COUNTIF($AB$20:$AB63,AB64)","v":23},{"$f":"B64","v":0}]
["G",null,null,null,null,{"$f":"IFERROR(IF(ISBLANK(E64),\"\",\"Demand (\" & VLOOKUP($E64,PO_Enrgy_1_Table,MATCH($E$9,PO_Enrgy_1_Hdr,0),FALSE) & \")\"),\"\")","v":""},0,0,"",null,null,null,null,null,null,null,"","",null,null,null,0,0,0]
["G",0,null,0,0,{"$f":"IFERROR(IF(ISBLANK(E66),\"\",\"Consumption (\" & VLOOKUP($E66,PO_Enrgy_1_Table,MATCH($C$9,PO_Enrgy_1_Hdr,0),FALSE) & \")\"),\"\")","v":""},0,0,"",{"$f":"IFERROR(IF($E$122-$H$122<0,\"\",($G66-$H66)*VLOOKUP($E66,PO_Enrgy_1_Table,MATCH($K$9,PO_Enrgy_1_Hdr,0),FALSE)/($E$122-$H$122)),\"\")","v":""},{"$f":"IFERROR(IF($G$122-$J$122<0,\"\",($G66*VLOOKUP($E66,PO_Enrgy_8_Table,MATCH($E$81,PO_Enrgy_8_Hdr,0),FALSE)-($H66*VLOOKUP($E66,PO_Enrgy_8_Table,MATCH($H$81,PO_Enrgy_8_Hdr,0),FALSE)))/($G$122-$J$122)),\"\")","v":""},null,{"$f":"IFERROR(H66*VLOOKUP($E66,PO_Enrgy_1_Table,MATCH($K$9,PO_Enrgy_1_Hdr,0))/$H$76,\"\")","v":""},null,null,null,"","",null,null,null,0,0,0,{"$f":"IFERROR(IF(D66=\"x\",IF(OR(G66/H66>1.03,G66/H66<0.97),TRUE,FALSE),FALSE),FALSE)","v":false},{"$f":"IFERROR(J66*100,)","v":0},null,{"$f":"RANK(Z66,$Z$20:$Z$67,0)","v":1},{"$f":"AB66+COUNTIF($AB$20:$AB65,AB66)","v":24},{"$f":"B66","v":0}]
["G",null,null,null,null,{"$f":"IFERROR(IF(ISBLANK(E66),\"\",\"Demand (\" & VLOOKUP($E66,PO_Enrgy_1_Table,MATCH($E$9,PO_Enrgy_1_Hdr,0),FALSE) & \")\"),\"\")","v":""},0,0,"",null,null,null,null,null,null,null,"","",null,null,null,0,0,0]
["G"]
["G","Table: Performance rating energy consumption and cost by fuel type"]
["G","Energy Type","Site Energy Units",null,"Baseline",null,null,"Proposed",null,null,"Percent Savings"]
["G",null,null,null,"Site Energy Use (Units shown per energy type)",{"$f":"\"Source Energy Use \n(\"  & PO_SourceUnits & \")\"","v":"Source Energy Use \n(Btu x 10^6)"},"Cost","Site Energy Use (Units shown per energy type)",{"$f":"\"Source Energy Use \n(\"  & PO_SourceUnits & \")\"","v":"Source Energy Use \n(Btu x 10^6)"},"Cost","Site Energy Use",null,"Cost"]
["G","Energy_Type","Energy_Units",null,"Base_Site_Energy","Base_Source_Energy","Base_Cost","Design_Site_Energy","Design_Source_Energy","Design_Cost","Percent_Savings_Site_Energy",null,"Percent_Savings_Cost",null,null,null,"Site_Unit_Conversion","Source_Unit_Conversion"]
["G",{"$f":"IFERROR(IF(ISBLANK(B10),\"\",B10),\"\")","v":"Electricity"},{"$f":"IFERROR(IF(ISBLANK($B73),\"\",VLOOKUP($B73,PO_Enrgy_1_Table,MATCH($C$9,PO_Enrgy_1_Hdr,0),FALSE) ),\"\")","v":"kWh"},{"$f":"IF(C73=\"\",\"\",VLOOKUP(C73,ProjectEnergyTypeTable,3,FALSE))","v":{"$error":"#NAME?"}},0,0,0,0,0,0,{"$f":"IFERROR(1-H73/E73,\"\")","v":""},null,{"$f":"IFERROR(1-J73/G73,\"\")","v":""},null,null,null,{"$f":"IFERROR(IF(ISBLANK($B73),\"\",VLOOKUP($B73,PO_Enrgy_1_Table,MATCH($K$9,PO_Enrgy_1_Hdr,0),FALSE)),\"\")","v":3.4120000000000001E-3},{"$f":"IFERROR(IF(ISBLANK($B73),\"\",VLOOKUP($B73,PO_Enrgy_1_Table,MATCH($M$9,PO_Enrgy_1_Hdr,0),FALSE)),\"\")","v":1.0713680000000001E-2}]
["G",{"$f":"IFERROR(IF(ISBLANK(B11),\"\",B11),\"\")","v":"Natural Gas"},{"$f":"IFERROR(IF(ISBLANK($B74),\"\",VLOOKUP($B74,PO_Enrgy_1_Table,MATCH($C$9,PO_Enrgy_1_Hdr,0),FALSE) ),\"\")","v":"therm"},{"$f":"IF(C74=\"\",\"\",VLOOKUP(C74,ProjectEnergyTypeTable,3,FALSE))","v":{"$error":"#NAME?"}},0,0,0,0,0,0,{"$f":"IFERROR(1-H74/E74,\"\")","v":""},null,{"$f":"IFERROR(1-J74/G74,\"\")","v":""},null,null,null,{"$f":"IFERROR(IF(ISBLANK($B74),\"\",VLOOKUP($B74,PO_Enrgy_1_Table,MATCH($K$9,PO_Enrgy_1_Hdr,0),FALSE)),\"\")","v":0.1},{"$f":"IFERROR(IF(ISBLANK($B74),\"\",VLOOKUP($B74,PO_Enrgy_1_Table,MATCH($M$9,PO_Enrgy_1_Hdr,0),FALSE)),\"\")","v":0.10500000000000001}]
["G",{"$f":"IFERROR(IF(ISBLANK(B12),\"\",B12),\"\")","v":"District Cooling"},{"$f":"IFERROR(IF(ISBLANK($B75),\"\",VLOOKUP($B75,PO_Enrgy_1_Table,MATCH($C$9,PO_Enrgy_1_Hdr,0),FALSE) ),\"\")","v":"MWh"},{"$f":"IF(C75=\"\",\"\",VLOOKUP(C75,ProjectEnergyTypeTable,3,FALSE))","v":{"$error":"#NAME?"}},0,0,0,0,0,0,{"$f":"IFERROR(1-H75/E75,\"\")","v":""},null,{"$f":"IFERROR(1-J75/G75,\"\")","v":""},null,null,null,{"$f":"IFERROR(IF(ISBLANK($B75),\"\",VLOOKUP($B75,PO_Enrgy_1_Table,MATCH($K$9,PO_Enrgy_1_Hdr,0),FALSE)),\"\")","v":3.4119999999999999},{"$f":"IFERROR(IF(ISBLANK($B75),\"\",VLOOKUP($B75,PO_Enrgy_1_Table,MATCH($M$9,PO_Enrgy_1_Hdr,0),FALSE)),\"\")","v":3.4119999999999999}]
["G",{"$f":"\"Energy model subtotal (\" & PO_SiteUnits & \")\"","v":"Energy model subtotal (Btu x 10^6)"},null,null,{"$f":"IFERROR(SUMPRODUCT(INDEX(PO_Enrgy_7_Table,0,MATCH(E$72,PO_Enrgy_7_Hdr,0)),INDEX(PO_Enrgy_7_Table,0,MATCH($Q$72,PO_Enrgy_7_Hdr,0))),\"\")","v":0},{"$f":"IFERROR(SUM(INDEX(PO_Enrgy_7_Table,0,MATCH(F$72,PO_Enrgy_7_Hdr,0))),\"\")","v":0},{"$f":"IFERROR(SUM(INDEX(PO_Enrgy_7_Table,0,MATCH(G$72,PO_Enrgy_7_Hdr,0))),\"\")","v":0},{"$f":"IFERROR(SUMPRODUCT(INDEX(PO_Enrgy_7_Table,0,MATCH(H$72,PO_Enrgy_7_Hdr,0)),INDEX(PO_Enrgy_7_Table,0,MATCH($Q$72,PO_Enrgy_7_Hdr,0))),\"\")","v":0},{"$f":"IFERROR(SUM(INDEX(PO_Enrgy_7_Table,0,MATCH(I$72,PO_Enrgy_7_Hdr,0))),\"\")","v":0},{"$f":"IFERROR(SUM(INDEX(PO_Enrgy_7_Table,0,MATCH(J$72,PO_Enrgy_7_Hdr,0))),\"\")","v":0},{"$f":"IFERROR(1-H76/E76,\"\")","v":""},null,{"$f":"IFERROR(1-J76/G76,\"\")","v":""}]
["G"]
["G"]
["G","Table: Virtual rate (average energy cost per unit energy)"]
["G","Energy Type",null,null,"Baseline",null,null,"Proposed",null,null,"Percent Variance"]
["G","Energy_Type","Units",null,"Base_Virtual_Rate",null,null,"Design_Virtual_Rate",null,null,"Percent_Variance",null,null,null,null,null,"Site_Unit_Conversion","Source_Unit_Conversion"]
["G",{"$f":"IFERROR(IF(ISBLANK(B10),\"\",B10),\"\")","v":"Electricity"},{"$f":"IFERROR(CONCATENATE(\"$ / \",VLOOKUP($B82,PO_Enrgy_1_Table,MATCH($C$9,PO_Enrgy_1_Hdr,0),FALSE)),\"\")","v":"$ / kWh"},{"$f":"IF(C82=\"\",\"\",VLOOKUP(C82,ProjectEnergyTypeTable,3,FALSE))","v":{"$error":"#NAME?"}},{"$f":"IFERROR(IF(AND(DESPath=3,OR($B82=\"District Cooling\",$B82=\"District Steam\",$B82=\"District Hot Water\")),IF($B82=\"District Cooling\",#REF!,#REF!),VLOOKUP($B82,PO_Enrgy_7_Table,MATCH($G$72,PO_Enrgy_7_Hdr,0),FALSE)/VLOOKUP($B82,PO_Enrgy_7_Table,MATCH($E$72,PO_Enrgy_7_Hdr,0),FALSE)),\"\")","v":""},null,null,{"$f":"IFERROR(IF(AND(DESPath=3,OR($B82=\"District Cooling\",$B82=\"District Steam\",$B82=\"District Hot Water\")),IF($B82=\"District Cooling\",#REF!,#REF!),VLOOKUP($B82,PO_Enrgy_7_Table,MATCH($J$72,PO_Enrgy_7_Hdr,0),FALSE)/VLOOKUP($B82,PO_Enrgy_7_Table,MATCH($H$72,PO_Enrgy_7_Hdr,0),FALSE)),\"\")","v":""},null,null,{"$f":"IFERROR(ABS(1-H82/E82),\"\")","v":""},null,null,null,null,null,{"$f":"IFERROR(IF(ISBLANK($B82),\"\",VLOOKUP($B82,PO_Enrgy_1_Table,MATCH($K$9,PO_Enrgy_1_Hdr,0),FALSE)),\"\")","v":3.4120000000000001E-3},{"$f":"IFERROR(IF(ISBLANK($B82),\"\",VLOOKUP($B82,PO_Enrgy_1_Table,MATCH($M$9,PO_Enrgy_1_Hdr,0),FALSE)),\"\")","v":1.0713680000000001E-2}]
["G",{"$f":"IFERROR(IF(ISBLANK(B11),\"\",B11),\"\")","v":"Natural Gas"},{"$f":"IFERROR(CONCATENATE(\"$ / \",VLOOKUP($B83,PO_Enrgy_1_Table,MATCH($C$9,PO_Enrgy_1_Hdr,0),FALSE)),\"\")","v":"$ / therm"},{"$f":"IF(C83=\"\",\"\",VLOOKUP(C83,ProjectEnergyTypeTable,3,FALSE))","v":{"$error":"#NAME?"}},{"$f":"IFERROR(IF(AND(DESPath=3,OR($B83=\"District Cooling\",$B83=\"District Steam\",$B83=\"District Hot Water\")),IF($B83=\"District Cooling\",#REF!,#REF!),VLOOKUP($B83,PO_Enrgy_7_Table,MATCH($G$72,PO_Enrgy_7_Hdr,0),FALSE)/VLOOKUP($B83,PO_Enrgy_7_Table,MATCH($E$72,PO_Enrgy_7_Hdr,0),FALSE)),\"\")","v":""},null,null,{"$f":"IFERROR(IF(AND(DESPath=3,OR($B83=\"District Cooling\",$B83=\"District Steam\",$B83=\"District Hot Water\")),IF($B83=\"District Cooling\",#REF!,#REF!),VLOOKUP($B83,PO_Enrgy_7_Table,MATCH($J$72,PO_Enrgy_7_Hdr,0),FALSE)/VLOOKUP($B83,PO_Enrgy_7_Table,MATCH($H$72,PO_Enrgy_7_Hdr,0),FALSE)),\"\")","v":""},null,null,{"$f":"IFERROR(ABS(1-H83/E83),\"\")","v":""},null,null,null,null,null,{"$f":"IFERROR(IF(ISBLANK($B83),\"\",VLOOKUP($B83,PO_Enrgy_1_Table,MATCH($K$9,PO_Enrgy_1_Hdr,0),FALSE)),\"\")","v":0.1},{"$f":"IFERROR(IF(ISBLANK($B83),\"\",VLOOKUP($B83,PO_Enrgy_1_Table,MATCH($M$9,PO_Enrgy_1_Hdr,0),FALSE)),\"\")","v":0.10500000000000001}]
["G",{"$f":"IFERROR(IF(ISBLANK(B12),\"\",B12),\"\")","v":"District Cooling"},{"$f":"IFERROR(CONCATENATE(\"$ / \",VLOOKUP($B84,PO_Enrgy_1_Table,MATCH($C$9,PO_Enrgy_1_Hdr,0),FALSE)),\"\")","v":"$ / MWh"},{"$f":"IF(C84=\"\",\"\",VLOOKUP(C84,ProjectEnergyTypeTable,3,FALSE))","v":{"$error":"#NAME?"}},{"$f":"IFERROR(IF(AND(DESPath=3,OR($B84=\"District Cooling\",$B84=\"District Steam\",$B84=\"District Hot Water\")),IF($B84=\"District Cooling\",#REF!,#REF!),VLOOKUP($B84,PO_Enrgy_7_Table,MATCH($G$72,PO_Enrgy_7_Hdr,0),FALSE)/VLOOKUP($B84,PO_Enrgy_7_Table,MATCH($E$72,PO_Enrgy_7_Hdr,0),FALSE)),\"\")","v":""},null,null,{"$f":"IFERROR(IF(AND(DESPath=3,OR($B84=\"District Cooling\",$B84=\"District Steam\",$B84=\"District Hot Water\")),IF($B84=\"District Cooling\",#REF!,#REF!),VLOOKUP($B84,PO_Enrgy_7_Table,MATCH($J$72,PO_Enrgy_7_Hdr,0),FALSE)/VLOOKUP($B84,PO_Enrgy_7_Table,MATCH($H$72,PO_Enrgy_7_Hdr,0),FALSE)),\"\")","v":""},null,null,{"$f":"IFERROR(ABS(1-H84/E84),\"\")","v":""},null,null,null,null,null,{"$f":"IFERROR(IF(ISBLANK($B84),\"\",VLOOKUP($B84,PO_Enrgy_1_Table,MATCH($K$9,PO_Enrgy_1_Hdr,0),FALSE)),\"\")","v":3.4119999999999999},{"$f":"IFERROR(IF(ISBLANK($B84),\"\",VLOOKUP($B84,PO_Enrgy_1_Table,MATCH($M$9,PO_Enrgy_1_Hdr,0),FALSE)),\"\")","v":3.4119999999999999}]
["G"]
["G","Table: Exceptional calculation methods"]
["G","Energy Type","Site Energy Units",null,"Baseline Energy Consumption \nwith Exceptional Calculation Methods",null,null,"Proposed Energy Consumption \nwith Exceptional Calculation Methods",null,null,"Percent Savings"]
["G",null,null,null,"Site Energy Use (Units shown per energy type)",{"$f":"\"Source Energy Use \n(\"  & PO_SourceUnits & \")\"","v":"Source Energy Use \n(Btu x 10^6)"},"Cost","Site Energy Use (Units shown per energy type)",{"$f":"\"Source Energy Use \n(\"  & PO_SourceUnits & \")\"","v":"Source Energy Use \n(Btu x 10^6)"},"Cost","Site Energy Use",null,"Cost"]
["G","Energy_Type","Energy_Units",null,"Base_Site_Energy","Base_Source_Energy","Base_Cost","Design_Site_Energy","Design_Source_Energy","Design_Cost","Percent_Savings_Site_Energy",null,"Percent_Savings_Cost",null,null,null,"Site_Unit_Conversion","Source_Unit_Conversion"]
["G",{"$f":"IFERROR(IF(ISBLANK(B10),\"\",B10),\"\")","v":"Electricity"},{"$f":"IFERROR(IF(ISBLANK($B90),\"\",VLOOKUP($B90,PO_Enrgy_1_Table,MATCH($C$9,PO_Enrgy_1_Hdr,0),FALSE) ),\"\")","v":"kWh"},{"$f":"IF(C90=\"\",\"\",VLOOKUP(C90,ProjectEnergyTypeTable,3,FALSE))","v":{"$error":"#NAME?"}},0,0,0,0,0,0,{"$f":"IFERROR(1-H90/E90,\"\")","v":""},null,{"$f":"IFERROR(1-J90/G90,\"\")","v":""},null,null,null,{"$f":"IFERROR(IF(ISBLANK($B90),\"\",VLOOKUP($B90,PO_Enrgy_1_Table,MATCH($K$9,PO_Enrgy_1_Hdr,0),FALSE)),\"\")","v":3.4120000000000001E-3},{"$f":"IFERROR(IF(ISBLANK($B90),\"\",VLOOKUP($B90,PO_Enrgy_1_Table,MATCH($M$9,PO_Enrgy_1_Hdr,0),FALSE)),\"\")","v":1.0713680000000001E-2}]
["G",{"$f":"IFERROR(IF(ISBLANK(B11),\"\",B11),\"\")","v":"Natural Gas"},{"$f":"IFERROR(IF(ISBLANK($B91),\"\",VLOOKUP($B91,PO_Enrgy_1_Table,MATCH($C$9,PO_Enrgy_1_Hdr,0),FALSE) ),\"\")","v":"therm"},{"$f":"IF(C91=\"\",\"\",VLOOKUP(C91,ProjectEnergyTypeTable,3,FALSE))","v":{"$error":"#NAME?"}},0,0,0,0,0,0,{"$f":"IFERROR(1-H91/E91,\"\")","v":""},null,{"$f":"IFERROR(1-J91/G91,\"\")","v":""},null,null,null,{"$f":"IFERROR(IF(ISBLANK($B91),\"\",VLOOKUP($B91,PO_Enrgy_1_Table,MATCH($K$9,PO_Enrgy_1_Hdr,0),FALSE)),\"\")","v":0.1},{"$f":"IFERROR(IF(ISBLANK($B91),\"\",VLOOKUP($B91,PO_Enrgy_1_Table,MATCH($M$9,PO_Enrgy_1_Hdr,0),FALSE)),\"\")","v":0.10500000000000001}]
["G",{"$f":"IFERROR(IF(ISBLANK(B12),\"\",B12),\"\")","v":"District Cooling"},{"$f":"IFERROR(IF(ISBLANK($B92),\"\",VLOOKUP($B92,PO_Enrgy_1_Table,MATCH($C$9,PO_Enrgy_1_Hdr,0),FALSE) ),\"\")","v":"MWh"},{"$f":"IF(C92=\"\",\"\",VLOOKUP(C92,ProjectEnergyTypeTable,3,FALSE))","v":{"$error":"#NAME?"}},0,0,0,0,0,0,{"$f":"IFERROR(1-H92/E92,\"\")","v":""},null,{"$f":"IFERROR(1-J92/G92,\"\")","v":""},null,null,null,{"$f":"IFERROR(IF(ISBLANK($B92),\"\",VLOOKUP($B92,PO_Enrgy_1_Table,MATCH($K$9,PO_Enrgy_1_Hdr,0),FALSE)),\"\")","v":3.4119999999999999},{"$f":"IFERROR(IF(ISBLANK($B92),\"\",VLOOKUP($B92,PO_Enrgy_1_Table,MATCH($M$9,PO_Enrgy_1_Hdr,0),FALSE)),\"\")","v":3.4119999999999999}]
["G",{"$f":"\"Energy model subtotal (\" & PO_SiteUnits & \")\"","v":"Energy model subtotal (Btu x 10^6)"},null,null,{"$f":"IFERROR(SUMPRODUCT(INDEX(PO_Enrgy_9_Table,0,MATCH(E$89,PO_Enrgy_9_Hdr,0)),INDEX(PO_Enrgy_9_Table,0,MATCH($Q$89,PO_Enrgy_9_Hdr,0))),\"\")","v":0},{"$f":"IFERROR(SUM(INDEX(PO_Enrgy_9_Table,0,MATCH(F$89,PO_Enrgy_9_Hdr,0))),\"\")","v":0},{"$f":"IFERROR(SUM(INDEX(PO_Enrgy_9_Table,0,MATCH(G$89,PO_Enrgy_9_Hdr,0))),\"\")","v":0},{"$f":"IFERROR(SUMPRODUCT(INDEX(PO_Enrgy_9_Table,0,MATCH(H$89,PO_Enrgy_9_Hdr,0)),INDEX(PO_Enrgy_9_Table,0,MATCH($Q$89,PO_Enrgy_9_Hdr,0))),\"\")","v":0},{"$f":"IFERROR(SUM(INDEX(PO_Enrgy_9_Table,0,MATCH(I$89,PO_Enrgy_9_Hdr,0))),\"\")","v":0},{"$f":"IFERROR(SUM(INDEX(PO_Enrgy_9_Table,0,MATCH(J$89,PO_Enrgy_9_Hdr,0))),\"\")","v":0},{"$f":"IFERROR(1-H93/E93,\"\")","v":""},null,{"$f":"IFERROR(1-J93/G93,\"\")","v":""}]
["G"]
["G","Table: Subtotal including DES Path 3 Streamlined calculations"]
["G","Energy Type","Site Energy Units",null,"Baseline Building Energy Consumption \nwith Exceptional Calculation Methods",null,null,"Proposed Building Energy Consumption \nwith Exceptional Calculation Methods",null,null,"Percent Savings"]
["G",null,null,null,"Site Energy Use (Units shown per energy type)",{"$f":"\"Source Energy Use (\"  & PO_SourceUnits & \")\"","v":"Source Energy Use (Btu x 10^6)"},"Cost","Site Energy Use (Units shown per energy type)",{"$f":"\"Source Energy Use (\"  & PO_SourceUnits & \")\"","v":"Source Energy Use (Btu x 10^6)"},"Cost","Site Energy Use",null,"Cost"]
["G","Energy_Type","Energy_Units",null,"Base_Site_Energy","Base_Source_Energy","Base_Cost","Design_Site_Energy","Design_Source_Energy","Design_Cost","Percent_Savings_Site",null,"Percent_Savings_Cost",null,null,null,"Site_Unit_Conversion","Source_Unit_Conversion"]
["G",{"$f":"IFERROR(IF(ISBLANK(B10),\"\",B10),\"\")","v":"Electricity"},{"$f":"IFERROR(IF(ISBLANK($B99),\"\",VLOOKUP($B99,PO_Enrgy_1_Table,MATCH($C$9,PO_Enrgy_1_Hdr,0),FALSE) ),\"\")","v":"kWh"},null,0,0,0,0,0,0,{"$f":"IFERROR(1-H99/E99,\"\")","v":""},null,{"$f":"IFERROR(1-J99/G99,\"\")","v":""},null,null,null,{"$f":"IFERROR(IF(ISBLANK($B99),\"\",VLOOKUP($B99,PO_Enrgy_1_Table,MATCH($K$9,PO_Enrgy_1_Hdr,0),FALSE)),\"\")","v":3.4120000000000001E-3},{"$f":"IFERROR(IF(ISBLANK($B99),\"\",VLOOKUP($B99,PO_Enrgy_1_Table,MATCH($M$9,PO_Enrgy_1_Hdr,0),FALSE)),\"\")","v":1.0713680000000001E-2}]
["G",{"$f":"IFERROR(IF(ISBLANK(B11),\"\",B11),\"\")","v":"Natural Gas"},{"$f":"IFERROR(IF(ISBLANK($B100),\"\",VLOOKUP($B100,PO_Enrgy_1_Table,MATCH($C$9,PO_Enrgy_1_Hdr,0),FALSE) ),\"\")","v":"therm"},{"$f":"IF(C100=\"\",\"\",VLOOKUP(C100,ProjectEnergyTypeTable,3,FALSE))","v":{"$error":"#NAME?"}},0,0,0,0,0,0,{"$f":"IFERROR(1-H100/E100,\"\")","v":""},null,{"$f":"IFERROR(1-J100/G100,\"\")","v":""},null,null,null,{"$f":"IFERROR(IF(ISBLANK($B100),\"\",VLOOKUP($B100,PO_Enrgy_1_Table,MATCH($K$9,PO_Enrgy_1_Hdr,0),FALSE)),\"\")","v":0.1},{"$f":"IFERROR(IF(ISBLANK($B100),\"\",VLOOKUP($B100,PO_Enrgy_1_Table,MATCH($M$9,PO_Enrgy_1_Hdr,0),FALSE)),\"\")","v":0.10500000000000001}]
["G",{"$f":"IFERROR(IF(ISBLANK(B12),\"\",B12),\"\")","v":"District Cooling"},{"$f":"IFERROR(IF(ISBLANK($B101),\"\",VLOOKUP($B101,PO_Enrgy_1_Table,MATCH($C$9,PO_Enrgy_1_Hdr,0),FALSE) ),\"\")","v":"MWh"},{"$f":"IF(C101=\"\",\"\",VLOOKUP(C101,ProjectEnergyTypeTable,3,FALSE))","v":{"$error":"#NAME?"}},0,0,0,0,0,0,{"$f":"IFERROR(1-H101/E101,\"\")","v":""},null,{"$f":"IFERROR(1-J101/G101,\"\")","v":""},null,null,null,{"$f":"IFERROR(IF(ISBLANK($B101),\"\",VLOOKUP($B101,PO_Enrgy_1_Table,MATCH($K$9,PO_Enrgy_1_Hdr,0),FALSE)),\"\")","v":3.4119999999999999},{"$f":"IFERROR(IF(ISBLANK($B101),\"\",VLOOKUP($B101,PO_Enrgy_1_Table,MATCH($M$9,PO_Enrgy_1_Hdr,0),FALSE)),\"\")","v":3.4119999999999999}]
["G",{"$f":"\"Energy Model Subtotal (\" & PO_SiteUnits & \")\"","v":"Energy Model Subtotal (Btu x 10^6)"},null,null,{"$f":"IFERROR(SUMPRODUCT(INDEX(PO_Enrgy_13_Table,0,MATCH(E$98,PO_Enrgy_13_Hdr,0)),INDEX(PO_Enrgy_13_Table,0,MATCH($Q$98,PO_Enrgy_13_Hdr,0))),\"\")","v":0},{"$f":"IFERROR(SUM(INDEX(PO_Enrgy_13_Table,0,MATCH(F$98,PO_Enrgy_12_Hdr,0))),\"\")","v":""},{"$f":"IFERROR(SUM(INDEX(PO_Enrgy_13_Table,0,MATCH(G$98,PO_Enrgy_12_Hdr,0))),\"\")","v":""},{"$f":"IFERROR(SUMPRODUCT(INDEX(PO_Enrgy_13_Table,0,MATCH(H$98,PO_Enrgy_13_Hdr,0)),INDEX(PO_Enrgy_13_Table,0,MATCH($Q$98,PO_Enrgy_13_Hdr,0))),\"\")","v":0},{"$f":"IFERROR(SUM(INDEX(PO_Enrgy_13_Table,0,MATCH(I$98,PO_Enrgy_12_Hdr,0))),\"\")","v":""},{"$f":"IFERROR(SUM(INDEX(PO_Enrgy_13_Table,0,MATCH(J$98,PO_Enrgy_12_Hdr,0))),\"\")","v":""},{"$f":"IFERROR(1-H102/E102,\"\")","v":""},null,{"$f":"IFERROR(1-J102/G102,\"\")","v":""}]
["G"]
["G","Total energy cost savings (excluding site-generated renewable energy) (%)",null,null,null,null,null,null,null,null,{"$f":"$M$102","v":""}]
["G"]
["G","Table: Renewable energy production"]
["G","Energy Type","Site Energy Units",null,"On-Site Renewable Savings",null,null,"Proposed with On-Site Renewable Energy",null,null,"Percent Cost Savings"]
["G",null,null,null,"Site Energy Use Savings ",{"$f":"\"Source Energy Use Savings \n(\"  & PO_SourceUnits & \")\"","v":"Source Energy Use Savings \n(Btu x 10^6)"},"Cost Savings","Site Energy Use (Units shown per energy type)",{"$f":"\"Source Energy Use \n(\"  & PO_SourceUnits & \")\"","v":"Source Energy Use \n(Btu x 10^6)"},"Cost","Site Energy Use",null,"Cost"]
["G","Energy_Type","Energy_Units",null,"Renewable_Site_Savings","Renewable_Source_Savings","Renewable_Cost_Savings","Design_Site_Energy","Design_Source_Energy","Design_Cost","Percent_Savings_Site",null,"Percent_Savings_Cost",null,null,null,"Site_Unit_Conversion","Source_Unit_Conversion"]
["G",{"$f":"IFERROR(IF(ISBLANK(B10),\"\",B10),\"\")","v":"Electricity"},{"$f":"IFERROR(IF(ISBLANK($B110),\"\",VLOOKUP($B110,PO_Enrgy_1_Table,MATCH($C$9,PO_Enrgy_1_Hdr,0),FALSE) ),\"\")","v":"kWh"},{"$f":"IF(C110=\"\",\"\",VLOOKUP(C110,ProjectEnergyTypeTable,3,FALSE))","v":{"$error":"#NAME?"}},0,0,0,0,0,0,{"$f":"IFERROR(1-$H110/VLOOKUP($B110,PO_Enrgy_13_Table,MATCH($E$98,PO_Enrgy_13_Hdr,0),FALSE),\"\")","v":""},null,{"$f":"IFERROR(1-$J110/VLOOKUP($B110,PO_Enrgy_13_Table,MATCH($G$98,PO_Enrgy_13_Hdr,0),FALSE),\"\")","v":""},null,null,null,{"$f":"IFERROR(IF(ISBLANK($B110),\"\",VLOOKUP($B110,PO_Enrgy_1_Table,MATCH($K$9,PO_Enrgy_1_Hdr,0),FALSE)),\"\")","v":3.4120000000000001E-3},{"$f":"IFERROR(IF(ISBLANK($B110),\"\",VLOOKUP($B110,PO_Enrgy_1_Table,MATCH($M$9,PO_Enrgy_1_Hdr,0),FALSE)),\"\")","v":1.0713680000000001E-2}]
["G",{"$f":"IFERROR(IF(ISBLANK(B11),\"\",B11),\"\")","v":"Natural Gas"},{"$f":"IFERROR(IF(ISBLANK($B111),\"\",VLOOKUP($B111,PO_Enrgy_1_Table,MATCH($C$9,PO_Enrgy_1_Hdr,0),FALSE) ),\"\")","v":"therm"},{"$f":"IF(C111=\"\",\"\",VLOOKUP(C111,ProjectEnergyTypeTable,3,FALSE))","v":{"$error":"#NAME?"}},0,0,0,0,0,0,{"$f":"IFERROR(1-$H111/VLOOKUP($B111,PO_Enrgy_13_Table,MATCH($E$98,PO_Enrgy_13_Hdr,0),FALSE),\"\")","v":""},null,{"$f":"IFERROR(1-$J111/VLOOKUP($B111,PO_Enrgy_13_Table,MATCH($G$98,PO_Enrgy_13_Hdr,0),FALSE),\"\")","v":""},null,null,null,{"$f":"IFERROR(IF(ISBLANK($B111),\"\",VLOOKUP($B111,PO_Enrgy_1_Table,MATCH($K$9,PO_Enrgy_1_Hdr,0),FALSE)),\"\")","v":0.1},{"$f":"IFERROR(IF(ISBLANK($B111),\"\",VLOOKUP($B111,PO_Enrgy_1_Table,MATCH($M$9,PO_Enrgy_1_Hdr,0),FALSE)),\"\")","v":0.10500000000000001}]
["G",{"$f":"IFERROR(IF(ISBLANK(B12),\"\",B12),\"\")","v":"District Cooling"},{"$f":"IFERROR(IF(ISBLANK($B112),\"\",VLOOKUP($B112,PO_Enrgy_1_Table,MATCH($C$9,PO_Enrgy_1_Hdr,0),FALSE) ),\"\")","v":"MWh"},{"$f":"IF(C112=\"\",\"\",VLOOKUP(C112,ProjectEnergyTypeTable,3,FALSE))","v":{"$error":"#NAME?"}},0,0,0,0,0,0,{"$f":"IFERROR(1-$H112/VLOOKUP($B112,PO_Enrgy_13_Table,MATCH($E$98,PO_Enrgy_13_Hdr,0),FALSE),\"\")","v":""},null,{"$f":"IFERROR(1-$J112/VLOOKUP($B112,PO_Enrgy_13_Table,MATCH($G$98,PO_Enrgy_13_Hdr,0),FALSE),\"\")","v":""},null,null,null,{"$f":"IFERROR(IF(ISBLANK($B112),\"\",VLOOKUP($B112,PO_Enrgy_1_Table,MATCH($K$9,PO_Enrgy_1_Hdr,0),FALSE)),\"\")","v":3.4119999999999999},{"$f":"IFERROR(IF(ISBLANK($B112),\"\",VLOOKUP($B112,PO_Enrgy_1_Table,MATCH($M$9,PO_Enrgy_1_Hdr,0),FALSE)),\"\")","v":3.4119999999999999}]
["G",{"$f":"\"Energy model subtotal (\" & PO_SiteUnits & \")\"","v":"Energy model subtotal (Btu x 10^6)"},null,null,{"$f":"IFERROR(SUMPRODUCT(INDEX(PO_Enrgy_14_Table,0,MATCH(E$109,PO_Enrgy_14_Hdr,0)),INDEX(PO_Enrgy_14_Table,0,MATCH($Q$109,PO_Enrgy_14_Hdr,0))),\"\")","v":0},{"$f":"IFERROR(SUM(INDEX(PO_Enrgy_14_Table,0,MATCH(F$109,PO_Enrgy_14_Hdr,0))),\"\")","v":0},{"$f":"IFERROR(SUM(INDEX(PO_Enrgy_14_Table,0,MATCH(G$109,PO_Enrgy_14_Hdr,0))),\"\")","v":0},{"$f":"IFERROR(SUMPRODUCT(INDEX(PO_Enrgy_14_Table,0,MATCH(H$109,PO_Enrgy_14_Hdr,0)),INDEX(PO_Enrgy_14_Table,0,MATCH($Q$109,PO_Enrgy_14_Hdr,0))),\"\")","v":0},{"$f":"IFERROR(SUM(INDEX(PO_Enrgy_14_Table,0,MATCH(I$109,PO_Enrgy_14_Hdr,0))),\"\")","v":0},{"$f":"IFERROR(SUM(INDEX(PO_Enrgy_14_Table,0,MATCH(J$109,PO_Enrgy_14_Hdr,0))),\"\")","v":0},{"$f":"IFERROR(1-$H113/$E$102,\"\")","v":""},null,{"$f":"IFERROR(1-$J113/$G$102,\"\")","v":""}]
["G"]
["G","Table: Total energy usage"]
["G","Energy Type","Site Energy Units",null,"Baseline",null,null,"Proposed",null,null,"Percent Savings"]
["G",null,null,null,"Site Energy Use (Units shown per energy type)",{"$f":"\"Source Energy Use \n(\"  & PO_SourceUnits & \")\"","v":"Source Energy Use \n(Btu x 10^6)"},"Cost","Site Energy Use (Units shown per energy type)",{"$f":"\"Source Energy Use \n(\"  & PO_SourceUnits & \")\"","v":"Source Energy Use \n(Btu x 10^6)"},"Cost","Site Energy Use",null,"Cost"]
["G","Energy_Type","Energy_Units",null,"Base_Site_Energy","Base_Source_Energy","Base_Cost","Design_Site_Energy","Design_Source_Energy","Design_Cost","Percent_Savings_Site",null,"Percent_Savings_Cost",null,null,null,"Site_Unit_Conversion","Source_Unit_Conversion"]
["G",{"$f":"IFERROR(IF(ISBLANK(B10),\"\",B10),\"\")","v":"Electricity"},{"$f":"IFERROR(IF(ISBLANK($B119),\"\",VLOOKUP($B119,PO_Enrgy_1_Table,MATCH($C$9,PO_Enrgy_1_Hdr,0),FALSE) ),\"\")","v":"kWh"},{"$f":"IF(C119=\"\",\"\",VLOOKUP(C119,ProjectEnergyTypeTable,3,FALSE))","v":{"$error":"#NAME?"}},0,0,0,0,0,0,{"$f":"IFERROR(1-H119/E119,\"\")","v":""},null,{"$f":"IFERROR(1-J119/G119,\"\")","v":""},null,null,null,{"$f":"IFERROR(IF(ISBLANK($B119),\"\",VLOOKUP($B119,PO_Enrgy_1_Table,MATCH($K$9,PO_Enrgy_1_Hdr,0),FALSE)),\"\")","v":3.4120000000000001E-3},{"$f":"IFERROR(IF(ISBLANK($B119),\"\",VLOOKUP($B119,PO_Enrgy_1_Table,MATCH($M$9,PO_Enrgy_1_Hdr,0),FALSE)),\"\")","v":1.0713680000000001E-2}]
["G",{"$f":"IFERROR(IF(ISBLANK(B11),\"\",B11),\"\")","v":"Natural Gas"},{"$f":"IFERROR(IF(ISBLANK($B120),\"\",VLOOKUP($B120,PO_Enrgy_1_Table,MATCH($C$9,PO_Enrgy_1_Hdr,0),FALSE) ),\"\")","v":"therm"},{"$f":"IF(C120=\"\",\"\",VLOOKUP(C120,ProjectEnergyTypeTable,3,FALSE))","v":{"$error":"#NAME?"}},0,0,0,0,0,0,{"$f":"IFERROR(1-H120/E120,\"\")","v":""},null,{"$f":"IFERROR(1-J120/G120,\"\")","v":""},null,null,null,{"$f":"IFERROR(IF(ISBLANK($B120),\"\",VLOOKUP($B120,PO_Enrgy_1_Table,MATCH($K$9,PO_Enrgy_1_Hdr,0),FALSE)),\"\")","v":0.1},{"$f":"IFERROR(IF(ISBLANK($B120),\"\",VLOOKUP($B120,PO_Enrgy_1_Table,MATCH($M$9,PO_Enrgy_1_Hdr,0),FALSE)),\"\")","v":0.10500000000000001}]
["G",{"$f":"IFERROR(IF(ISBLANK(B12),\"\",B12),\"\")","v":"District Cooling"},{"$f":"IFERROR(IF(ISBLANK($B121),\"\",VLOOKUP($B121,PO_Enrgy_1_Table,MATCH($C$9,PO_Enrgy_1_Hdr,0),FALSE) ),\"\")","v":"MWh"},{"$f":"IF(C121=\"\",\"\",VLOOKUP(C121,ProjectEnergyTypeTable,3,FALSE))","v":{"$error":"#NAME?"}},0,0,0,0,0,0,{"$f":"IFERROR(1-H121/E121,\"\")","v":""},null,{"$f":"IFERROR(1-J121/G121,\"\")","v":""},null,null,null,{"$f":"IFERROR(IF(ISBLANK($B121),\"\",VLOOKUP($B121,PO_Enrgy_1_Table,MATCH($K$9,PO_Enrgy_1_Hdr,0),FALSE)),\"\")","v":3.4119999999999999},{"$f":"IFERROR(IF(ISBLANK($B121),\"\",VLOOKUP($B121,PO_Enrgy_1_Table,MATCH($M$9,PO_Enrgy_1_Hdr,0),FALSE)),\"\")","v":3.4119999999999999}]
["G","Totals",null,null,{"$f":"IFERROR(SUMPRODUCT(INDEX(PO_Enrgy_16_Table,0,MATCH(E$118,PO_Enrgy_16_Hdr,0)),INDEX(PO_Enrgy_16_Table,0,MATCH($Q$118,PO_Enrgy_16_Hdr,0))),\"\")","v":0},{"$f":"IFERROR(SUM(INDEX(PO_Enrgy_16_Table,0,MATCH(F$118,PO_Enrgy_16_Hdr,0))),\"\")","v":0},{"$f":"IFERROR(SUM(INDEX(PO_Enrgy_16_Table,0,MATCH(G$118,PO_Enrgy_16_Hdr,0))),\"\")","v":0},{"$f":"IFERROR(SUMPRODUCT(INDEX(PO_Enrgy_16_Table,0,MATCH(H$118,PO_Enrgy_16_Hdr,0)),INDEX(PO_Enrgy_16_Table,0,MATCH($Q$118,PO_Enrgy_16_Hdr,0))),\"\")","v":0},{"$f":"IFERROR(SUM(INDEX(PO_Enrgy_16_Table,0,MATCH(I$118,PO_Enrgy_16_Hdr,0))),\"\")","v":0},{"$f":"IFERROR(SUM(INDEX(PO_Enrgy_16_Table,0,MATCH(J$118,PO_Enrgy_16_Hdr,0))),\"\")","v":0},{"$f":"IFERROR(1-H122/E122,\"\")","v":""},null,{"$f":"IFERROR(1-J122/G122,\"\")","v":""}]
["G","Total energy cost savings (including site-generated renewable energy) (%)",null,null,null,null,null,null,null,null,null,null,{"$f":"$M$122","v":""}]
["G"]
[null,"Quality Assurance Checks"]
[null,"The issues listed below were automatically generated based upon information provided in the input and output sections. The intent is to address common review issues before submitting for certification via changing the model and/or actual design. This section is not meant to catch all potential issues present within the submittal. Although responses are not required, the project team is strongly encouraged to address each issue noted, as this will reduce the number of review comments and increase the likelihood of awarding this prerequisite at the preliminary review stage."]
[null,"Lighting","BExt Ltg Demand","DExt Ltg Demand",null,"BNT Ext Ltg Max","DNT Ext Ltg Max","Exterior Compliant"]
[null,null,{"$f":"OFFSET(L_ExtSum_Table,1,MATCH(Lighting!$J$147,L_ExtSum_Hdr,0)-1,1,1)","v":0},{"$f":"OFFSET(L_ExtSum_Table,1,MATCH(Lighting!$M$147,L_ExtSum_Hdr,0)-1,1,1)","v":0},null,{"$f":"OFFSET(L_LtgZone_Table,1,MATCH(Lighting!$M$115,L_LtgZone_Hdr,0)-1,1,1)+OFFSET(L_NTSurface_Table,MATCH(Lighting!$B$143,L_NTSurface_Index,0)-1,MATCH(Lighting!$J$136,L_NTSurface_Hdr,0)-1,1,1)","v":{"$error":"#VALUE!"}},{"$f":"OFFSET(L_NTSurface_Table,MATCH(Lighting!$B$143,L_NTSurface_Index,0)-1,MATCH(Lighting!$M$136,L_NTSurface_Hdr,0)-1,1,1)","v":0},{"$f":"L_ELR_Response","v":0}]
[null,"Performace Outputs","Base Ext Ltg Demand","Design Ext Ltg Demand"]
[null,null,{"$f":"GetPerformanceOutputRangeSums(\"PO_QA_BaseExtLtgDem\")","v":0},{"$f":"GetPerformanceOutputRangeSums(\"PO_QA_DesignExtLtgDem\")","v":0},null,null,null,null,null,null,null,"z"]
[]
[null,"Issue",null,null,null,null,null,null,null,"Project Team Response",null,null,null,null,null,null,"Trigger","Issue Applicable to Project"]
[null,"The exterior lighting demand as reported in the Performance Outputs tab for the baseline and/or proposed exceeds the lighting power reported on the Lighting sheet (Summary section) by more than 5%. Ensure that the values reflected in the Lighting sheet are accurate and appropriately reflect the modeled exterior lighting power density.",null,null,null,null,null,null,null,null,null,null,null,null,null,null,null,{"$f":"IFERROR(IF(OR((C130-C128)/MIN(C130,C128)>0.05,(D130-D128)/MIN(D130,D128)>0.05),TRUE,FALSE),TRUE)","v":true}]
[null,"The total exterior lighting power allowance, including the base site allowance, is less than the designed lighting power as reported in the Lighting tab, violating mandatory Section 9.4.3. Verify that the inputs are accurate and modify the exterior lighting design as necessary to show compliance.",null,null,null,null,null,null,null,null,null,null,null,null,null,null,null,{"$f":"IFERROR(IF(D128>C128,TRUE,FALSE),TRUE)","v":false}]
[null,"The value for nontradable exterior lighting power (building facades, ATMs and night depositories, entrances and gatehouse inspection stations at guarded facilities, loading areas for law enforcement, fire, ambulance, and other emergency service vehicles, drive-through windows at fast food restaurants, and/or parking near 24-hour retail entrances) is less than the designed lighting power after adding in the unrestricted lighting power allowance as reported in the Lighting sheet, violating mandatory Section 9.4.3. Verify that the inputs are accurate and modify the exterior lighting design as necessary to show compliance.",null,null,null,null,null,null,null,null,null,null,null,null,null,null,null,{"$f":"IFERROR(IF(G128>F128,TRUE,FALSE),TRUE)","v":true}]
[null,"The exterior lighting inputs indicate that additional lighting power allowance has been claimed in the baseline for surfaces that are not provided with lighting in the actual design and/or lighting fixtures have been double-counted for different exterior surfaces.  Please review selection in LIghting tab or provide a narrative which explains the reasoning for this choice.",null,null,null,null,null,null,null,null,null,null,null,null,null,null,null,{"$f":"IFERROR(IF(H128<>\"Yes\",TRUE,FALSE),TRUE)","v":true}]

{"sheet":"Summary","index":20,"n_rows":20,"n_cols":33,"rows_kept":20,"cut":false,"hidden":false,"merged":[[19,31,19,32],[13,2,13,32],[5,31,5,32],[10,31,10,32],[15,2,15,32],[14,2,14,32]]}
[]
[]
[null,null,"Summary "]
[null,null,"Note: All information in this section is READ-ONLY. To edit, see previous tabs. "]
[]
[null,null,"Total energy cost savings (excluding site-generated renewable energy) (%)",null,null,null,null,null,null,null,null,null,null,null,null,null,null,null,null,null,null,null,null,null,null,null,null,null,null,null,null,{"$f":"IFERROR(IF(MultipleBuildingsExist=\"Yes\",ROUNDUP(Performance_Outputs_Summary!$K$104,3),ROUNDUP(Performance_Outputs_1!$K$297,3)),\"\")","v":""}]
[]
[]
[null,null,"For projects pursuing EA Credit Optimize Energy Performance"]
[]
[null,null,"Total energy cost savings (including site-generated renewable energy) (%)",null,null,null,null,null,null,null,null,null,null,null,null,null,null,null,null,null,null,null,null,null,null,null,null,null,null,null,null,{"$f":"IFERROR(IF(MultipleBuildingsExist=\"Yes\",ROUNDUP(Performance_Outputs_Summary!$M$123,3),ROUNDUP(Performance_Outputs_1!$K$328,3)),\"\")","v":0}]
[]
[]
[null,null,"Performance Threshold"]
[null,null,{"$f":"IF(proj_RatingSystem=\"Data Centers - New Construction\",\"Thresholds are based on the major renovation area as a percentage of total conditioned building area.  A minimum 2% of energy savings must come from building power and cooling infrastructure.\",IF(OR(\"A\"=1,proj_RatingSystem=\"Core and Shell\"),\"\",IF(proj_RatingSystem=\"Homes\",\"The performance thresholds in the table below are used in combination with the point adjustment on the multifamily details tab for a maximum of 30 points\",\"Thresholds are based on the major renovation area as a percentage of total conditioned building area.\")))","v":"Thresholds are based on the major renovation area as a percentage of total conditioned building area."}]
[null,null,"Performance Improvement  Threshold"]
[null,null,{"$f":"IF(proj_RatingSystem=\"Core and Shell\",0.02,IF(proj_RatingSystem=\"Homes\",0.05,IF(RatingSystem_IDC=TRUE,0.03,5*(pctNew/100)+3*(PctRenovation/100))))","v":0.05},{"$f":"C17+1%","v":6.0000000000000005E-2},{"$f":"IF(OR(RatingSystem_IDC=TRUE,proj_RatingSystem=\"Homes\"),D17+1%,D17+2%)","v":0.08},0.1,0.12000000000000001,0.14000000000000001,0.16,0.18,0.19999999999999998,0.21999999999999997,0.23999999999999996,0.25999999999999995,{"$f":"IF(OR(RatingSystem_IDC=TRUE,proj_RatingSystem=\"Homes\"),N17+1%,N17+3%)","v":0.28999999999999992},{"$f":"IF(OR(RatingSystem_IDC=TRUE,proj_RatingSystem=\"Homes\"),O17+1%,O17+3%)","v":0.31999999999999995},{"$f":"IF(OR(RatingSystem_IDC=TRUE,proj_RatingSystem=\"Homes\"),P17+1%,P17+3%)","v":0.35},{"$f":"IF(OR(RatingSystem_IDC=TRUE,proj_RatingSystem=\"Homes\"),Q17+1%,Q17+3%)","v":0.38},{"$f":"IF(proj_RatingSystem=\"Homes\",R17+2%,IF(RatingSystem_IDC=TRUE,R17+2%,R17+4%))","v":0.42},{"$f":"IF(proj_RatingSystem=\"Homes\",S17+2%,IF(RatingSystem_IDC=TRUE,S17+2%,IF(proj_RatingSystem=\"Schools - New Construction\",\"\",S17+4%)))","v":0.45999999999999996},{"$f":"IF(proj_RatingSystem=\"Homes\",T17+2%,IF(RatingSystem_IDC=TRUE,T17+2%,IF(proj_RatingSystem=\"Schools - New Construction\",\"\",T17+4%)))","v":0.49999999999999994},{"$f":"IF(proj_RatingSystem=\"Homes\",U17+2%,IF(RatingSystem_IDC=TRUE,U17+4%,\"\"))","v":""},{"$f":"IF(proj_RatingSystem=\"Homes\",V17+2%,\"\")","v":""},{"$f":"IF(proj_RatingSystem=\"Homes\",W17+3%,\"\")","v":""},"","","","","","","","",{"$f":"IF(proj_RatingSystem=\"Homes\",AF17+3%,MAX(C17:AF17)+4%)","v":0.53999999999999992}]
[null,null,"Y",{"$f":"IF(proj_RatingSystem=\"Healthcare\",3,IF(RatingSystem_IDC=TRUE,4,1))","v":1},{"$f":"IF(RatingSystem_IDC=TRUE,D18+2,D18+1)","v":2},{"$f":"IF(RatingSystem_IDC=TRUE,E18+2,E18+1)","v":3},{"$f":"IF(RatingSystem_IDC=TRUE,F18+2,F18+1)","v":4},{"$f":"G18+1","v":5},6,7,8,9,10,11,12,{"$f":"O18+1","v":13},{"$f":"P18+1","v":14},{"$f":"Q18+1","v":15},{"$f":"R18+1","v":16},{"$f":"IF(proj_RatingSystem=\"Schools - New Construction\",\"\",S18+1)","v":17},{"$f":"IF(proj_RatingSystem=\"Schools - New Construction\",\"\",T18+1)","v":18},{"$f":"IF(OR(proj_RatingSystem=\"Homes\",RatingSystem_IDC=TRUE),U18+1,\"\")","v":""},{"$f":"IF(proj_RatingSystem=\"Homes\",V18+1,\"\")","v":""},"","","","","","","","","",{"$f":"IF(proj_RatingSystem=\"Homes\",AF18+1,\"EP\")","v":"EP"}]
[]
[null,null,"Total points documented:",null,null,null,null,null,null,null,null,null,null,null,null,null,null,null,null,null,null,null,null,null,null,null,null,null,null,null,null,{"$f":"IF(AF11>=D17,MIN(MAX(HLOOKUP($AF$11+0.00005,$D$17:$AG$18,2,TRUE)+Homes_Point_Adjustment,0),30),0)","v":0}]

{"sheet":"DropdownData","index":21,"n_rows":218,"n_cols":122,"rows_kept":218,"cut":false,"hidden":true,"merged":[[212,5,212,6],[212,10,212,11],[213,5,213,6],[213,10,213,11],[214,1,216,4],[214,5,215,6],[214,7,214,8],[214,9,215,9],[214,10,214,12],[215,10,215,11],[216,5,216,6],[216,10,216,11],[206,1,206,3],[206,6,206,8],[206,9,206,12],[207,1,213,2],[207,3,208,3],[207,5,208,6],[207,7,207,8],[207,9,208,9],[207,10,207,12],[208,10,208,11],[209,5,209,6],[209,10,209,11],[210,5,210,6],[210,10,210,11],[211,5,211,6],[211,10,211,11],[177,2,177,3],[178,2,178,3],[203,1,203,3],[203,5,203,8],[203,9,203,12],[204,1,205,4],[204,6,204,8],[204,9,204,12],[205,6,205,8],[205,9,205,12]]}
[null,"Fuel Types","Site-to-source ratio","Considered \"Gas\" for District Plant Path 3 Calcs? (Note: Coal,coke, and wood are selected as gas to allow the lower efficiencies).","Energy Consumption Units","Units Spelled Out","Multiplier to convert to kBtu",null,null,"multiplier to convert to therm","Energy Demand Units","Units Spelled Out","Multiplier to convert to MBH",null,null,null,"Area Units",null,"Utility Rate Structure",null,null,null,null,null,"LEED Rating System","LEED Rating System",null,null,null,"Thresholds per Rating System:","NC","CS",null,null,null,null,null,null,null,"Renewable Source",null,null,"Simulation Program",null,null,"Energy Code",null,null,null,"ASHRAE Climate Zones","California Climate Zones",null,null,"ClimateZones",null,null,"Energy End-Uses","Unregulated?",null,"Energy Modeling Method:",null,null,null,"District Heating",null,"District Cooling",null,null,null,null,null,null,null,null,null,null,null,null,"Option Buttons:",null,null,"Start Cells for Utility Data:",null,null,null,null,null,null,null,"Output Sheet Names","BuildingNames",null,"Conversions for QC",null,null,null,"Baseline Orientation Exemptions",null,"Multifamily Dwelling Unit Equipment List",{"$f":"CONCATENATE(\"Base \",IF(SI_IP_Units=\"IP\",\"(kWh/year)\",\"kWh/year\"))","v":"Base (kWh/year)"},{"$f":"CONCATENATE(\"Energy Star \",IF(SI_IP_Units=\"IP\",\"(kWh/year)\",\"kWh/year\"))","v":"Energy Star (kWh/year)"},"Sensible ratio electric","Latent Ratio electric","Elec Nbr Multiplier",{"$f":"CONCATENATE(\"Base \",IF(SI_IP_Units=\"IP\",\"(Therms/year)\",\"kWh/year\"))","v":"Base (Therms/year)"},{"$f":"CONCATENATE(\"Energy Star \",IF(SI_IP_Units=\"IP\",\"(Therms/year)\",\"kWh/year\"))","v":"Energy Star (Therms/year)"},"Sensible ratio gas","Latent Ratio gas","Gas Nbr Multiplier","F","base Hot Water Load","Energy Star Hot Water Load",null,"Multifamily Non-Dwelling Unit Plug Loads","w/sf","kwh/sf",null,null,"General HVAC Baseline System Type List",null,null,"Building ID Lookup"]
[1,"Electricity",3.14,null,"kWh","Kilowatt hour",3.4119999999999999,null,null,{"$f":"G2/100","v":3.4119999999999998E-2},"kW","Kilowatt",3.4119999999999999,null,null,null,"square feet",null,"Default EIA Rates",null,null,null,null,null,"LEED v4 BD+C: New Construction","New Construction",null,null,null,null,null,null,null,null,null,null,null,null,null,"Photovoltaic system",null,null,"EnergyPlus",null,null,"ASHRAE 90.1 2010 Appendix G",null,null,null,"1A","CZ1",null,null,"1A",null,null,"Interior lighting",null,null,"One model per building",null,null,null,"Each building generates its own heating",null,"Each building generates its own cooling",null,null,null,null,null,null,null,null,null,null,null,null,"rbOutputReporting",1,null,"Number of Energy Sources",5,null,null,null,null,null,null,null,"All",null,"Energy Consumption Units","convert to kWh",null,null,"Vertical Fenestration varies by less than 5%",null,"Refrigerator",529,423,1,0,null,null,null,null,null,0,1,0,0,null,"Corridors",0.2,0.7,null,null,"Primary HVAC System",null,null,{"$f":"ROWS(IF(MBD_LEEDNDEMSubsetExist=TRUE,\nOFFSET(MBD_BSTotal_Index,1,0,ROWS(MBD_BSTotal_Index)-1,1),\nIF(MultipleBuildingsExist=\"YES\",OFFSET(MBD_BSTotal_Index,2,0,ROWS(MBD_BSTotal_Index)-2,1),\nOFFSET(MBD_BSTotal_Index,2,0,ROWS(MBD_BSTotal_Index)-2,1))))","v":2}]
[2,"Natural Gas",1.05,"Yes","MWh","Megawatt hour",3412,null,null,34.119999999999997,"MW","Megawatt",3412,null,null,null,"square meters",null,"Fixed Rates per unit of consumption",null,null,null,null,null,"LEED v4 BD+C: Core and Shell","Core and Shell",null,null,null,null,null,null,null,null,null,null,null,null,null,"Wind energy system",null,null,"EnergyPro",null,null,"California Title-24 2013, Part 6",null,null,null,"1B","CZ2",null,null,"1B",null,null,"Exterior lighting",null,null,"One energy model. Submeter buildings",null,null,null,"A central heating plant serves only buildings in this project",null,"A central cooling plant serves only the buildings in this project",null,null,null,null,null,null,null,null,null,null,null,null,"rbSiteRenewable",null,null,null,null,null,null,null,null,"NumBuildings",2,"PRM_Outputs(1)",0,null,"kWh",1,null,null,"Energy code does not require four orientations",null,"Dishwasher",206,164,0.6,0.15,0,null,null,null,null,0,1,{"$f":"IF(SI_IP_Units=\"IP\",1290,4883)","v":1290},{"$f":"IF(SI_IP_Units=\"IP\",860,3255)","v":860},null,"Restrooms",0.2,0.7,null,null,"All",null,null,{"$f":"IF(MBD_LEEDNDEMSubsetExist=TRUE,\nOFFSET(MBD_BSTotal_Index,1,0,ROWS(MBD_BSTotal_Index)-1,1),\nIF(MultipleBuildingsExist=\"YES\",OFFSET(MBD_BSTotal_Index,2,0,ROWS(MBD_BSTotal_Index)-2,1),\nOFFSET(MBD_BSTotal_Index,2,0,ROWS(MBD_BSTotal_Index)-2,1)))","v":"Project Name"}]
[3,"District Cooling",1,null,"kBtu","(British thermal unit) x 1,000",1,null,null,0.01,"Btuh","British thermal unit per hour",1E-3,null,null,null,null,null,"Fixed Rates per unit of consumption varying seasonally",null,null,null,null,null,"LEED v4 BD+C: Schools","Schools - New Construction",null,null,null,null,null,null,null,null,null,null,null,null,null,"Solar thermal system",null,null,"eQuest",null,null,"Other approved code",null,null,null,"2A","CZ3",null,null,"2A",null,null,"Space heating",null,null,null,null,null,null,"A district heating plant serves the buildings in this project, or an on-campus heating plant provides heating to buildings outside of this project",null,"A district cooling plant serves the buildings in this project, or an on-campus cooling plant provides heating to buildings outside of this project",null,null,null,null,null,null,null,null,null,null,null,null,"rbDES",1,null,"Sheet","Start Row","Range Start Row","End Row","TargetRow",null,null,null,"PRM_Outputs(2)",0,null,"MWh",1000,null,null,"Building is more than 50% existing based on floor area",null,"Clothes Washer (In-unit)",81,57,0.8,0,0,null,null,null,null,0,1,{"$f":"IF(SI_IP_Units=\"IP\",12179,46102)*0.2","v":2435.8000000000002},{"$f":"IF(SI_IP_Units=\"IP\",5637,21338)*0.2","v":1127.4000000000001},null,"Stairs",0.2,0.7,null,null,"Other HVAC System",null,null,"All"]
[4,"District Hot Water",1.2,null,"therm","therm",100,null,null,1,"MBH","(British thermal unit per hour) x 1,000",1,null,null,null,null,null,"Fixed Rates per unit of consumption and demand",null,null,null,null,null,"LEED v4 BD+C: Retail","Retail - New Construction",null,null,null,null,null,null,null,null,null,null,null,null,null,"Geothermal heating system (not geoexchange)",null,null,"HAP",null,null,null,null,null,null,"2B","CZ4",null,null,"2B",null,null,"Space cooling",null,null,null,null,null,null,null,null,null,null,null,null,null,null,null,null,null,null,null,null,null,"rbDESguide",1,null,"Project EAp2 Summary",40,{"$f":"CE5+1","v":41},{"$f":"CE5+$CE$2-1","v":44},{"$f":"CG5","v":44},null,null,null,null,null,null,"kBtu",0.29308323563892147,null,null,"Design is dictated by site consideration*",null,"Cooking (electric stove/range)",604,604,0.4,0.3,0,null,null,null,null,0,1,0,0,null,"Support areas",0.2,0.7,null,null,null,null,null,{"$error":"#N/A"}]
[5,"District Steam",1.2,null,"Btu x 10^6","(British thermal unit) x 1,000,000",1000,null,null,10,"Btuh x 10^3","(British thermal unit per hour) x 1,000",1,null,null,null,null,null,"Fixed Rates per unit of consumption and demand varying seasonally",null,null,null,null,null,"LEED v4 BD+C: Data Centers","Data Centers - New Construction",null,null,null,null,null,null,null,null,null,null,null,null,null,"Geothermal electric system",null,null,"IES",null,null,null,null,null,null,"3A","CZ5",null,null,"3A",null,null,"Pumps",null,null,null,null,null,null,null,null,null,null,null,null,null,null,null,null,null,null,null,null,null,"rbDESAvg",null,null,"Project EAp2 Summary",{"$f":"CE5+CE2+22","v":67},68,71,{"$f":"CH5-CF5+CF6","v":71},null,null,null,null,null,null,"therm",29.308323563892145,null,null,null,null,"Cooking (gas stove/range)",null,null,null,null,0,{"$f":"IF(SI_IP_Units=\"IP\",45,45/0.03412)","v":45},45,0.3,0.2,0,1,0,0,null,"Offices",1.5,4.9000000000000004,null,null,null,null,null,{"$error":"#N/A"}]
[6,"Fuel Oil / Diesel",1.01,null,"MJ","(Joules) x 1,000,000",0.94799999999999995,null,null,9.4799999999999988E-3,"Btuh x 10^6","(British thermal unit per hour) x 1,000,000",1000,null,null,null,null,null,"Time of Use Rates per unit of consumption",null,null,null,null,null,"LEED v4 BD+C: Warehouses and Distribution Centers","Warehouses and Distribution Centers - New Construction",null,null,null,null,null,null,null,null,null,null,null,null,null,"On-site untreated wood waste - thermal",null,null,"Trace",null,null,null,null,null,null,"3B","CZ6",null,null,"3B",null,null,"Heat rejection",null,null,null,null,null,null,null,null,null,null,null,null,null,null,null,null,null,null,null,null,null,null,null,null,"Outputs(1) Building Performance",31,32,35,{"$f":"CH6-CF6+CF7","v":35},null,null,null,null,null,null,"Btu x 10^6",293.08323563892145,null,null,null,null,"Clothes Dryer (In-unit electric)","418","418",0.15,0.05,139,null,null,null,null,0,1,0,0,null,"Other",0.5,1.6,null,null,null,null,null,{"$error":"#N/A"}]
[7,"Propane",1.01,"Yes","Ton Hours","Ton Hours",12,null,null,0.12,"MMBTUH","(British thermal unit per hour) x 1,000,000",1000,null,null,null,null,null,"Time of Use Rates per unit of consumption and demand",null,null,null,null,null,"LEED v4 BD+C: Hospitality","Hospitality - New Construction",null,null,null,null,null,null,null,null,null,null,null,null,null,"On-site untreated wood waste - electric generator",null,null,"Other",null,null,null,null,null,null,"3C","CZ7",null,null,"3C",null,null,"Fans - interior ventilation",null,null,null,null,null,null,null,null,null,null,null,null,null,null,null,null,null,null,null,null,null,null,null,null,"Outputs(1) Building Performance",{"$f":"CE7+CE2+58","v":94},95,98,{"$f":"CH7-CF7+CF8","v":98},null,null,null,null,null,null,"MJ",0.2778429073856975,null,null,null,null,"Clothes Dryer (In-unit gas)",26.5,26.5,1,0,8.8000000000000007,null,null,0.1,0.05,12.7,1,0,0,null,null,null,null,null,null,null,null,null,{"$error":"#N/A"}]
[8,"Fuel Oil (No. 5 & No.6)",1.01,null,null,null,null,null,null,null,"ton","ton",12,null,null,null,null,null,"Time of Use Rates per unit of consumption varying seasonally",null,null,null,null,null,"LEED v4 BD+C: Healthcare","Healthcare",null,null,null,null,null,null,null,null,null,null,null,null,null,"On-site agricultural crops or waste - thermal",null,null,null,null,null,null,null,null,null,"4A","CZ8",null,null,"4A",null,null,"Fans - parking garage",null,null,null,null,null,null,null,null,null,null,null,null,null,null,null,null,null,null,null,null,null,null,null,null,"Outputs(1) Building Performance",{"$f":"65+CE7+2*CE2","v":106},107,110,{"$f":"CH8-CF8+CF9","v":110},null,null,null,null,null,null,"Ton Hours",3.5169988276670576,null,null,null,null,{"$f":"CONCATENATE(\"Range hoood, \",IF(SI_IP_Units=\"IP\",\"up to 500 cfm\",\"up to 236 L/s\"))","v":"Range hoood, up to 500 cfm"},{"$f":"1/IF(SI_IP_Units=\"IP\",2.3,1.085)/1000*2*365","v":0.31739130434782614},{"$f":"1/IF(SI_IP_Units=\"IP\",2.8,1.321)/1000*2*365","v":0.26071428571428573},0,0,0,null,null,null,null,0,1,null,null,null,null,null,null,null,null,null,null,null,{"$error":"#N/A"}]
[9,"Kerosene",1.01,"Yes",null,null,null,null,null,null,null,null,null,null,null,null,null,null,"Time of Use Rates per unit of consumption and demand varying seasonally",null,null,null,null,null,"LEED v4 ID+C: Commercial Interiors","IDC",null,null,null,null,null,null,null,null,null,null,null,null,null,"On-site agricultural crops or waste - electric",null,null,null,null,null,null,null,null,null,"4B","CZ9",null,null,"4B",null,null,"Service water heating",null,null,null,null,null,null,null,null,null,null,null,null,null,null,null,null,null,null,null,null,null,null,null,null,"Outputs(1) Building Performance",{"$f":"123+CE7+3*CE2","v":169},170,173,{"$f":"CH9-CF9+CF10","v":173},null,null,null,null,null,null,"Energy Demand Units","convert to kWh",null,null,null,null,{"$f":"CONCATENATE(\"Bath / Utility Fan, \",IF(SI_IP_Units=\"IP\",\"10 to 89 cfm\",\"5 to 42 L/s\"))","v":"Bath / Utility Fan, 10 to 89 cfm"},{"$f":"1/IF(SI_IP_Units=\"IP\",1.2,0.566)/1000*2*365","v":0.60833333333333339},{"$f":"1/IF(SI_IP_Units=\"IP\",1.4,0.661)/1000*2*365","v":0.52142857142857146},0,0,0,null,null,null,null,0,1,null,null,null,null,null,null,null,null,null,null,null,{"$error":"#N/A"}]
[10,"Coal (anthracite)",1,"Yes","cf (Natural Gas)","cubic feet",1.0289999999999999,null,null,null,null,null,null,null,null,null,null,null,"Block Charges per unit of consumptoin",null,null,null,null,null,"LEED v4 ID+C: Retail","IDC",null,null,null,null,null,null,null,null,null,null,null,null,null,"On-site animal or organic waste - thermal",null,null,null,null,null,null,null,null,null,"4C","CZ10",null,null,"4C",null,null,"Receptacle equipment","x",null,null,null,null,null,null,null,null,null,null,null,null,null,null,null,null,null,null,null,null,null,null,null,null,null,null,null,null,null,null,null,null,null,null,"kW",1,null,null,null,null,{"$f":"CONCATENATE(\"Bath / Utility Fan, \",IF(SI_IP_Units=\"IP\",\"90 to 500 cfm\",\"43 to 236 L/s\"))","v":"Bath / Utility Fan, 90 to 500 cfm"},{"$f":"1/IF(SI_IP_Units=\"IP\",2.3,1.085)/1000*2*365","v":0.31739130434782614},{"$f":"1/IF(SI_IP_Units=\"IP\",2.8,1.321)/1000*2*365","v":0.26071428571428573},0,0,0,null,null,null,null,0,1,null,null,null,null,null,null,null,null,null,null,null,{"$error":"#N/A"}]
[11,"Coal (bituminous)",1,"Yes","ccf (Natural Gas)","(cubic feet) x 100",102.9,null,null,null,null,null,null,null,null,null,null,null,"Block charges per unit of consumption and demand",null,null,null,null,null,"LEED v4 ID+C: Hospitality","IDC",null,null,null,null,null,null,null,null,null,null,null,null,null,"On-site animal or organic waste - electric",null,null,null,null,null,null,null,null,null,"5A","CZ11",null,null,"5A",null,null,"IT equipment","x",null,null,null,null,null,null,null,null,null,null,null,null,null,null,null,null,null,null,null,null,null,null,null,null,null,null,null,null,null,null,null,null,null,null,"MW",1000,null,null,null,null,null,null,null,null,null,null,null,null,null,null,null,null,null,null,null,null,null,null,null,null,null,null,null,{"$error":"#N/A"}]
[12,"Coke",1,"Yes","kcf (Natural Gas)","(cubic feet) x 1,000",1029,null,null,null,null,null,null,null,null,null,null,null,"Block charges per unit of consumption varying seasonally",null,null,null,null,null,"LEED v4 BD+C: Multifamily Midrise","Homes",null,null,null,null,null,null,null,null,null,null,null,null,null,"On-site landfill gas - thermal",null,null,null,null,null,null,null,null,null,"5B","CZ12",null,null,"5B",null,null,"Interior lighting - process","x",null,null,null,null,null,null,null,null,null,null,null,null,null,null,null,null,null,null,null,null,null,null,null,null,null,null,null,null,null,null,null,null,null,null,"Btuh",2.9308323563892149E-4,null,null,null,null,null,null,null,null,null,null,null,null,null,null,null,null,null,null,null,null,null,null,null,null,null,null,null,{"$error":"#N/A"}]
[13,"Wood",1,"Yes","Mcf (Natural Gas)","(cubic feet) x 1,000,000",1029000,null,null,null,null,null,null,null,null,null,null,null,"Block charges per unit of consumption and demand varying seasonally",null,null,null,null,null,"LEED v4: Neighborhood Development","ND",null,null,null,null,null,null,null,null,null,null,null,null,null,"On-site landfill gas - electric",null,null,null,null,null,null,null,null,null,"5C","CZ13",null,null,"5C",null,null,"Refrigeration equipment","x",null,null,null,null,null,null,null,null,null,null,null,null,null,null,null,null,null,null,null,null,null,null,null,null,null,null,null,null,null,null,null,null,null,null,"MBH",0.29308323563892147,null,null,null,null,null,null,null,null,null,null,null,null,null,null,null,null,null,null,null,null,null,null,null,null,null,null,null,{"$error":"#N/A"}]
[null,null,null,null,"Lbs (District Steam)","Pounds (District Steam)",1.194,null,null,null,null,null,null,null,null,null,null,null,null,null,null,null,null,null,null,null,null,null,null,null,null,null,null,null,null,null,null,null,null,null,null,null,null,null,null,null,null,null,null,"6A","CZ14",null,null,"6A",null,null,"Cooking","x",null,null,null,null,null,null,null,null,null,null,null,null,null,null,null,null,null,null,null,null,null,null,null,null,null,null,null,null,null,null,null,null,null,null,"Btuh x 10^3",0.29308323563892147,null,null,null,null,null,null,null,null,null,null,null,null,null,null,null,null,null,null,null,null,null,null,null,null,null,null,null,{"$error":"#N/A"}]
[null,null,null,null,"kLbs (District Steam)","(Pounds) x 1,000",1194,null,null,null,null,null,null,null,null,null,null,null,null,null,null,null,null,null,null,null,null,null,null,null,null,null,null,null,null,null,null,null,null,null,null,null,null,null,null,null,null,null,null,"6B","CZ15",null,null,"6B",null,null,"Fans - Kitchen Ventilation","x",null,null,null,null,null,null,null,null,null,null,null,null,null,null,null,null,null,null,null,null,null,null,null,null,null,null,null,null,null,null,null,null,null,null,"Btuh x 10^6",293.08323563892145,null,null,null,null,"Multifamily Dwelling Unit Equipment List",{"$f":"CONCATENATE(\"Base \",IF(SI_IP_Units=\"IP\",\"(kWh/year)\",\"kWh/year\"))","v":"Base (kWh/year)"},{"$f":"CONCATENATE(\"Energy Star \",IF(SI_IP_Units=\"IP\",\"(kWh/year)\",\"kWh/year\"))","v":"Energy Star (kWh/year)"},"Sensible ratio electric","Latent Ratio electric","Elec Nbr Multiplier",{"$f":"CONCATENATE(\"Base \",IF(SI_IP_Units=\"IP\",\"(Therms/year)\",\"kWh/year\"))","v":"Base (Therms/year)"},{"$f":"CONCATENATE(\"Energy Star \",IF(SI_IP_Units=\"IP\",\"(Therms/year)\",\"kWh/year\"))","v":"Energy Star (Therms/year)"},"Sensible ratio gas","Latent Ratio gas","Gas Nbr Multiplier","F","base Hot Water Load","Energy Star Hot Water Load",null,null,null,null,null,null,null,null,null,{"$error":"#N/A"}]
[null,null,null,null,"MLbs (District Steam)","(Pounds) x 1,000,000",1194000,null,null,null,null,null,null,null,null,null,null,null,null,null,null,null,null,null,null,null,null,null,null,null,null,null,null,null,null,null,null,null,null,null,null,null,null,null,null,null,null,null,null,"7A","CZ16",null,null,"7A",null,null,"Industrial Process","x",null,null,null,null,null,null,null,null,null,null,null,null,null,null,null,null,null,null,null,null,null,null,null,null,null,null,null,null,null,null,null,null,null,null,"MMBTUH",293.08323563892145,null,null,null,null,"Clothes Washer (Commercial)",196,138,0.8,0,0,null,null,null,null,0,1,{"$f":"IF(SI_IP_Units=\"IP\",29515,111726)*0.2","v":5903},{"$f":"IF(SI_IP_Units=\"IP\",13661,51712)*0.2","v":2732.2000000000003},null,null,null,null,null,null,null,null,null,{"$error":"#N/A"}]
[null,null,null,null,"liters (fuel oil/diesel)",null,36.06,null,null,null,null,null,null,null,null,null,null,null,null,null,null,null,null,null,null,null,null,null,null,null,null,null,null,null,null,null,null,null,null,null,null,null,null,null,null,null,null,null,null,"7B",{"$f":"\"\"","v":""},null,null,"7B",null,null,"Elevators and escalators","x",null,null,null,null,null,null,null,null,null,null,null,null,null,null,null,null,null,null,null,null,null,null,null,null,null,null,null,null,null,null,null,null,null,null,"ton",3.5169988276670576,null,null,null,null,"Clothes Dryer (Commercial electric)",418,418,0.15,0.05,139,null,null,null,null,0,2.423,0,0,null,null,null,null,null,null,null,null,null,{"$error":"#N/A"}]
[null,null,null,null,"gallons (fuel oil/diesel)",null,138.69049999999999,null,null,null,null,null,null,null,null,null,null,null,null,null,null,null,null,null,null,null,null,null,null,null,null,null,null,null,null,null,null,null,null,null,null,null,null,null,null,null,null,null,null,8,{"$f":"\"\"","v":""},null,null,8,null,null,"Cogen - Electricity generated",null,null,null,null,null,null,null,null,null,null,null,null,null,null,null,null,null,null,null,null,null,null,null,null,null,null,null,null,null,null,null,null,null,null,null,null,null,null,null,null,null,"Clothes Dryer (Commercial gas)",26.5,26.5,1,0,8.8000000000000007,null,null,0.1,0.05,12.7,2.423,0,0,null,null,null,null,null,null,null,null,null,{"$error":"#N/A"}]
[null,null,null,null,"liters (fuel oil no. 5 or no. 6)",null,38.92,null,null,null,null,null,null,null,null,null,null,null,null,null,null,null,null,null,null,null,null,null,null,null,null,null,null,null,null,null,null,null,null,null,null,null,null,null,null,null,null,null,null,null,null,null,null,null,null,null,"Cogen - Fuel Input",null,null,null,null,null,null,null,null,null,null,null,null,null,null,null,null,null,null,null,null,null,null,null,null,null,null,null,null,null,null,null,null,null,null,null,null,null,null,null,null,null,null,null,null,null,null,null,null,null,null,null,null,null,null,null,null,null,null,null,null,null,null,null,null,{"$error":"#N/A"}]
[null,null,null,null,"gallons (fuel oil no. 5 or no. 6)",null,149.69,null,null,null,null,null,null,null,null,null,null,null,null,null,null,null,null,null,null,null,null,null,null,null,null,null,null,null,null,null,null,null,null,null,null,null,null,null,null,null,null,null,null,null,null,null,null,null,null,null,"Cogen - Parasitic energy",null,null,null,null,null,null,null,null,null,null,null,null,null,null,null,null,null,null,null,null,null,null,null,null,null,null,null,null,null,null,null,null,null,null,null,null,null,null,null,null,null,null,null,null,null,null,null,null,null,null,null,null,null,null,null,null,null,null,null,null,null,null,null,null,{"$error":"#N/A"}]
[null,null,null,null,"gallons (propane)",null,91.65,null,null,null,null,null,null,null,null,null,null,null,null,null,null,null,null,null,null,null,null,null,null,null,null,null,null,null,null,null,null,null,null,null,null,null,null,null,null,null,null,null,null,null,null,null,null,null,null,null,"Other (Please Specify)",null,null,null,null,null,null,null,null,null,null,null,null,null,null,null,null,null,null,null,null,null,null,null,null,null,null,null,null,null,null,null,null,null,null,null,null,null,null,null,null,null,null,null,null,null,null,null,null,null,null,null,null,null,null,null,null,null,null,null,null,null,null,null,null,{"$error":"#N/A"}]
[null,null,null,null,"liters (propane)",null,23.83,null,null,null,null,null,null,null,null,null,null,null,null,null,null,null,null,null,null,null,null,null,null,null,null,null,null,null,null,null,null,null,null,null,null,null,null,null,null,null,null,null,null,null,null,null,null,null,null,null,null,null,null,null,null,null,null,null,null,null,null,null,null,null,null,null,null,null,null,null,null,null,null,null,null,null,null,null,null,null,null,null,null,null,null,null,null,null,null,null,null,null,null,null,null,null,null,null,null,null,null,null,null,null,null,null,null,null,null,null,null,null,null,null,null,{"$error":"#N/A"}]
[null,null,null,null,"Lbs (anth. coal)","Pounds (Anthracite Coal)",12.545,null,null,null,null,null,null,null,null,null,null,null,null,null,null,null,null,null,null,null,null,null,null,null,null,null,null,null,null,null,null,null,null,null,null,null,null,null,null,null,null,null,null,null,null,null,null,null,null,null,null,null,null,null,null,null,null,null,null,null,null,null,null,null,null,null,null,null,null,null,null,null,null,null,null,null,null,null,null,null,null,null,null,null,null,null,null,null,null,null,null,null,null,null,null,null,null,null,null,null,null,null,null,null,null,null,null,null,null,null,null,null,null,null,null,{"$error":"#N/A"}]
[null,null,null,null,"kLbs (anth. coal)","(Pounds Anthracite Coal) x 1,000",12545,null,null,null,null,null,null,null,null,null,null,null,null,null,null,null,null,null,null,null,null,null,null,null,null,null,null,null,null,null,null,null,null,null,null,null,null,null,null,null,null,null,null,null,null,null,null,null,null,null,null,null,null,null,null,null,null,null,null,null,null,null,null,null,null,null,null,null,null,null,null,null,null,null,null,null,null,null,null,null,null,null,null,null,null,null,null,null,null,null,null,null,null,null,null,null,null,null,null,null,null,null,null,null,null,null,null,null,null,null,null,null,null,null,null,{"$error":"#N/A"}]
[null,null,null,null,"MLbs (anth. coal)","(Pounds Anthracite Coal) x 1,000,000",12545000,null,null,null,null,null,null,null,null,null,null,null,null,null,null,null,null,null,null,null,null,null,null,null,null,null,null,null,null,null,null,null,null,null,null,null,null,null,null,null,null,null,null,null,null,null,null,null,null,null,null,null,null,null,null,null,null,null,null,null,null,null,null,null,null,null,null,null,null,null,null,null,null,null,null,null,null,null,null,null,null,null,null,null,null,null,null,null,null,null,null,null,null,null,null,null,null,null,null,null,null,null,null,null,null,null,null,null,null,null,null,null,null,null,null,{"$error":"#N/A"}]
[null,null,null,null,"Tons (anth. coal)","Tons (Anthracite Coal)",24800,null,null,null,null,null,null,null,null,null,null,null,null,null,null,null,null,null,null,null,null,null,null,null,null,null,null,null,null,null,null,null,null,null,null,null,null,null,null,null,null,null,null,null,null,null,null,null,null,null,null,null,null,null,null,null,null,null,null,null,null,null,null,null,null,null,null,null,null,null,null,null,null,null,null,null,null,null,null,null,null,null,null,null,null,null,null,null,null,null,null,null,null,null,null,null,null,null,null,null,null,null,null,null,null,null,null,null,null,null,null,null,null,null,null,{"$error":"#N/A"}]
[null,null,null,null,"Lbs (bit. coal)","Pounds (Bituminous Coal)",12.465,null,null,null,null,null,null,null,null,null,null,null,null,null,null,null,null,null,null,null,null,null,null,null,null,null,null,null,null,null,null,null,null,null,null,null,null,null,null,null,null,null,null,null,null,null,null,null,null,null,null,null,null,null,null,null,null,null,null,null,null,null,null,null,null,null,null,null,null,null,null,null,null,null,null,null,null,null,null,null,null,null,null,null,null,null,null,null,null,null,null,null,null,null,null,null,null,null,null,null,null,null,null,null,null,null,null,null,null,null,null,null,null,null,null,{"$error":"#N/A"}]
[null,null,null,null,"kLbs (bit. coal)","(Pounds Bituminous Coal) x 1,000",12465,null,null,null,null,null,null,null,null,null,null,null,null,null,null,null,null,null,null,null,null,null,null,null,null,null,null,null,null,null,null,null,null,null,null,null,null,null,null,null,null,null,null,null,null,null,null,null,null,null,null,null,null,null,null,null,null,null,null,null,null,null,null,null,null,null,null,null,null,null,null,null,null,null,null,null,null,null,null,null,null,null,null,null,null,null,null,null,null,null,null,null,null,null,null,null,null,null,null,null,null,null,null,null,null,null,null,null,null,null,null,null,null,null,null,{"$error":"#N/A"}]
[null,null,null,null,"MLbs (bit. coal)","(Pounds Bituminous Coal) x 1,000,000",12465000,null,null,null,null,null,null,null,null,null,null,null,null,null,null,null,null,null,null,null,null,null,null,null,null,null,null,null,null,null,null,null,null,null,null,null,null,null,null,null,null,null,null,null,null,null,null,null,null,null,"Campus Plant End Uses",null,null,null,null,null,null,null,null,null,null,null,null,null,null,null,null,null,null,null,null,null,null,null,null,null,null,null,null,null,null,null,null,null,null,null,null,null,null,null,null,null,null,null,null,null,null,null,null,null,null,null,null,null,null,null,null,null,null,null,null,null,null,null,null,{"$error":"#N/A"}]
[null,null,null,null,"Tons (bit. coal)","Tons (Bituminous Coal)",24930,null,null,null,null,null,null,null,null,null,null,null,null,null,null,null,null,null,null,null,null,null,null,null,null,null,null,null,null,null,null,null,null,null,null,null,null,null,null,null,null,null,null,null,null,null,null,null,null,null,"Campus space cooling",null,null,null,null,null,null,null,null,null,null,null,null,null,null,null,null,null,null,null,null,null,null,null,null,null,null,null,null,null,null,null,null,null,null,null,null,null,null,null,null,null,null,null,null,null,null,null,null,null,null,null,null,null,null,null,null,null,null,null,null,null,null,null,null,{"$error":"#N/A"}]
[null,null,null,null,"Lbs (coke)","Pounds (coke)",12.4,null,null,null,null,null,null,null,null,null,null,null,null,null,null,null,null,null,null,null,null,null,null,null,null,null,null,null,null,null,null,null,null,null,null,null,null,null,null,null,null,null,null,null,null,null,null,null,null,null,"Campus heat rejection",null,null,null,null,null,null,null,null,null,null,null,null,null,null,null,null,null,null,null,null,null,null,null,null,null,null,null,null,null,null,null,null,null,null,null,null,null,null,null,null,null,null,null,null,null,null,null,null,null,null,null,null,null,null,null,null,null,null,null,null,null,null,null,null,{"$error":"#N/A"}]
[null,null,null,null,"kLbs (coke)","(Pounds coke) x 1,000",12400,null,null,null,null,null,null,null,null,null,null,null,null,null,null,null,null,null,null,null,null,null,null,null,null,null,null,null,null,null,null,null,null,null,null,null,null,null,null,null,null,null,null,null,null,null,null,null,null,null,"Campus pumps: Cooling & Heat Rejection",null,null,null,null,null,null,null,null,null,null,null,null,null,null,null,null,null,null,null,null,null,null,null,null,null,null,null,null,null,null,null,null,null,null,null,null,null,null,null,null,null,null,null,null,null,null,null,null,null,null,null,null,null,null,null,null,null,null,null,null,null,null,null,null,{"$error":"#N/A"}]
[null,null,null,null,"MLbs (coke)","(Pounds coke) x 1,000,000",12400000,null,null,null,null,null,null,null,null,null,null,null,null,null,null,null,null,null,null,null,null,null,null,null,null,null,null,null,null,null,null,null,null,null,null,null,null,null,null,null,null,null,null,null,null,null,null,null,null,null,"Campus space heating",null,null,null,null,null,null,null,null,null,null,null,null,null,null,null,null,null,null,null,null,null,null,null,null,null,null,null,null,null,null,null,null,null,null,null,null,null,null,null,null,null,null,null,null,null,null,null,null,null,null,null,null,null,null,null,null,null,null,null,null,null,null,null,null,{"$error":"#N/A"}]
[null,null,null,null,"Tons (coke)","Tons (coke)",24800,null,null,null,null,null,null,null,null,null,null,null,null,null,null,null,null,null,null,null,null,null,null,null,null,null,null,null,null,null,null,null,null,null,null,null,null,null,null,null,null,null,null,null,null,null,null,null,null,null,"Campus pumps: Heating",null,null,null,null,null,null,null,null,null,null,null,null,null,null,null,null,null,null,null,null,null,null,null,null,null,null,null,null,null,null,null,null,null,null,null,null,null,null,null,null,null,null,null,null,null,null,null,null,null,null,null,null,null,null,null,null,null,null,null,null,null,null,null,null,{"$error":"#N/A"}]
[null,null,null,null,"Lbs (wood)","Pounds (wood)",7.69,null,null,null,null,null,null,null,null,null,null,null,null,null,null,null,null,null,null,null,null,null,null,null,null,null,null,null,null,null,null,null,null,null,null,null,null,null,null,null,null,null,null,null,null,null,null,null,null,null,"Campus Cogen - Electricity generated",null,null,null,null,null,null,null,null,null,null,null,null,null,null,null,null,null,null,null,null,null,null,null,null,null,null,null,null,null,null,null,null,null,null,null,null,null,null,null,null,null,null,null,null,null,null,null,null,null,null,null,null,null,null,null,null,null,null,null,null,null,null,null,null,{"$error":"#N/A"}]
[null,null,null,null,"Tons (wood)","Tons (wood)",15380,null,null,null,null,null,null,null,null,null,null,null,null,null,null,null,null,null,null,null,null,null,null,null,null,null,null,null,null,null,null,null,null,null,null,null,null,null,null,null,null,null,null,null,null,null,null,null,null,null,"Campus Cogen - Fuel Input",null,null,null,null,null,null,null,null,null,null,null,null,null,null,null,null,null,null,null,null,null,null,null,null,null,null,null,null,null,null,null,null,null,null,null,null,null,null,null,null,null,null,null,null,null,null,null,null,null,null,null,null,null,null,null,null,null,null,null,null,null,null,null,null,{"$error":"#N/A"}]
[null,null,null,null,null,null,null,null,null,null,null,null,null,null,null,null,null,null,null,null,null,null,null,null,null,null,null,null,null,null,null,null,null,null,null,null,null,null,null,null,null,null,null,null,null,null,null,null,null,null,null,null,null,null,null,null,"Campus Cogen - Parasitic energy",null,null,null,null,null,null,null,null,null,null,null,null,null,null,null,null,null,null,null,null,null,null,null,null,null,null,null,null,null,null,null,null,null,null,null,null,null,null,null,null,null,null,null,null,null,null,null,null,null,null,null,null,null,null,null,null,null,null,null,null,null,null,null,null,{"$error":"#N/A"}]
[null,null,null,null,null,null,null,null,null,null,null,null,null,null,null,null,null,null,null,null,null,null,null,null,null,null,null,null,null,null,null,null,null,null,null,null,null,null,null,null,null,null,null,null,null,null,null,null,null,null,null,null,null,null,null,null,null,null,null,null,null,null,null,null,null,null,null,null,null,null,null,null,null,null,null,null,null,null,null,null,null,null,null,null,null,null,null,null,null,null,null,null,null,null,null,null,null,null,null,null,null,null,null,null,null,null,null,null,null,null,null,null,null,null,null,null,null,null,null,null,null,{"$error":"#N/A"}]
[null,null,null,null,null,null,null,null,null,null,null,null,null,null,null,null,null,null,null,null,null,null,null,null,null,null,null,null,null,null,null,null,null,null,null,null,null,null,null,null,null,null,null,null,null,null,null,null,null,null,null,null,null,null,null,null,null,null,null,null,null,null,null,null,null,null,null,null,null,null,null,null,null,null,null,null,null,null,null,null,null,null,null,null,null,null,null,null,null,null,null,null,null,null,null,null,null,null,null,null,null,null,null,null,null,null,null,null,null,null,null,null,null,null,null,null,null,null,null,null,null,{"$error":"#N/A"}]
[null,null,null,null,null,null,null,null,null,null,null,null,null,null,null,null,null,null,null,null,null,null,null,null,null,null,null,null,null,null,null,null,null,null,null,null,null,null,null,null,null,null,null,null,null,null,null,null,null,null,null,null,null,null,null,null,null,null,null,null,null,null,null,null,null,null,null,null,null,null,null,null,null,null,null,null,null,null,null,null,null,null,null,null,null,null,null,null,null,null,null,null,null,null,null,null,null,null,null,null,null,null,null,null,null,null,null,null,null,null,null,null,null,null,null,null,null,null,null,null,null,{"$error":"#N/A"}]
[null,null,null,null,null,null,null,null,null,null,null,null,null,null,null,null,null,null,null,null,null,null,null,null,null,null,null,null,null,null,null,null,null,null,null,null,null,null,null,null,null,null,null,null,null,null,null,null,null,null,null,null,null,null,null,null,null,null,null,null,null,null,null,null,null,null,null,null,null,null,null,null,null,null,null,null,null,null,null,null,null,null,null,null,null,null,null,null,null,null,null,null,null,null,null,null,null,null,null,null,null,null,null,null,null,null,null,null,null,null,null,null,null,null,null,null,null,null,null,null,null,{"$error":"#N/A"}]
[null,null,null,null,null,null,null,null,null,null,null,null,null,null,null,null,null,null,null,null,null,null,null,null,null,null,null,null,null,null,null,null,null,null,null,null,null,null,null,null,null,null,null,null,null,null,null,null,null,null,null,null,null,null,null,null,null,null,null,null,null,null,null,null,null,null,null,null,null,null,null,null,null,null,null,null,null,null,null,null,null,null,null,null,null,null,null,null,null,null,null,null,null,null,null,null,null,null,null,null,null,null,null,null,null,null,null,null,null,null,null,null,null,null,null,null,null,null,null,null,null,{"$error":"#N/A"}]
[null,null,null,null,null,null,null,null,null,null,null,null,null,null,null,null,null,null,null,null,null,null,null,null,null,null,null,null,null,null,null,null,null,null,null,null,null,null,null,null,null,null,null,null,null,null,null,null,null,null,null,null,null,null,null,null,null,null,null,null,null,null,null,null,null,null,null,null,null,null,null,null,null,null,null,null,null,null,null,null,null,null,null,null,null,null,null,null,null,null,null,null,null,null,null,null,null,null,null,null,null,null,null,null,null,null,null,null,null,null,null,null,null,null,null,null,null,null,null,null,null,{"$error":"#N/A"}]
[null,null,null,null,null,null,null,null,null,null,null,null,null,null,null,null,null,null,null,null,null,null,null,null,null,null,null,null,null,null,null,null,null,null,null,null,null,null,null,null,null,null,null,null,null,null,null,null,null,null,null,null,null,null,null,null,null,null,null,null,null,null,null,null,null,null,null,null,null,null,null,null,null,null,null,null,null,null,null,null,null,null,null,null,null,null,null,null,null,null,null,null,null,null,null,null,null,null,null,null,null,null,null,null,null,null,null,null,null,null,null,null,null,null,null,null,null,null,null,null,null,{"$error":"#N/A"}]
[null,null,null,null,null,null,null,null,null,null,null,null,null,null,null,null,null,null,null,null,null,null,null,null,null,null,null,null,null,null,null,null,null,null,null,null,null,null,null,null,null,null,null,null,null,null,null,null,null,null,null,null,null,null,null,null,null,null,null,null,null,null,null,null,null,null,null,null,null,null,null,null,null,null,null,null,null,null,null,null,null,null,null,null,null,null,null,null,null,null,null,null,null,null,null,null,null,null,null,null,null,null,null,null,null,null,null,null,null,null,null,null,null,null,null,null,null,null,null,null,null,{"$error":"#N/A"}]
[null,null,null,null,null,null,null,null,null,null,null,null,null,null,null,null,null,null,null,null,null,null,null,null,null,null,null,null,null,null,null,null,null,null,null,null,null,null,null,null,null,null,null,null,null,null,null,null,null,null,null,null,null,null,null,null,null,null,null,null,null,null,null,null,null,null,null,null,null,null,null,null,null,null,null,null,null,null,null,null,null,null,null,null,null,null,null,null,null,null,null,null,null,null,null,null,null,null,null,null,null,null,null,null,null,null,null,null,null,null,null,null,null,null,null,null,null,null,null,null,null,{"$error":"#N/A"}]
[null,null,null,null,null,null,null,null,null,null,null,null,null,null,null,null,null,null,null,null,null,null,null,null,null,null,null,null,null,null,null,null,null,null,null,null,null,null,null,null,null,null,null,null,null,null,null,null,null,null,null,null,null,null,null,null,null,null,null,null,null,null,null,null,null,null,null,null,null,null,null,null,null,null,null,null,null,null,null,null,null,null,null,null,null,null,null,null,null,null,null,null,null,null,null,null,null,null,null,null,null,null,null,null,null,null,null,null,null,null,null,null,null,null,null,null,null,null,null,null,null,{"$error":"#N/A"}]
[null,null,null,null,null,null,null,null,null,null,null,null,null,null,null,null,null,null,null,null,null,null,null,null,null,null,null,null,null,null,null,null,null,null,null,null,null,null,null,null,null,null,null,null,null,null,null,null,null,null,null,null,null,null,null,null,null,null,null,null,null,null,null,null,null,null,null,null,null,null,null,null,null,null,null,null,null,null,null,null,null,null,null,null,null,null,null,null,null,null,null,null,null,null,null,null,null,null,null,null,null,null,null,null,null,null,null,null,null,null,null,null,null,null,null,null,null,null,null,null,null,{"$error":"#N/A"}]
[null,null,null,null,null,null,null,null,null,null,null,null,null,null,null,null,null,null,null,null,null,null,null,null,null,null,null,null,null,null,null,null,null,null,null,null,null,null,null,null,null,null,null,null,null,null,null,null,null,null,null,null,null,null,null,null,null,null,null,null,null,null,null,null,null,null,null,null,null,null,null,null,null,null,null,null,null,null,null,null,null,null,null,null,null,null,null,null,null,null,null,null,null,null,null,null,null,null,null,null,null,null,null,null,null,null,null,null,null,null,null,null,null,null,null,null,null,null,null,null,null,{"$error":"#N/A"}]
[null,null,null,null,null,null,null,null,null,null,null,null,null,null,null,null,null,null,null,null,null,null,null,null,null,null,null,null,null,null,null,null,null,null,null,null,null,null,null,null,null,null,null,null,null,null,null,null,null,null,null,null,null,null,null,null,null,null,null,null,null,null,null,null,null,null,null,null,null,null,null,null,null,null,null,null,null,null,null,null,null,null,null,null,null,null,null,null,null,null,null,null,null,null,null,null,null,null,null,null,null,null,null,null,null,null,null,null,null,null,null,null,null,null,null,null,null,null,null,null,null,{"$error":"#N/A"}]
[null,null,null,null,null,null,null,null,null,null,null,null,null,null,null,null,null,null,null,null,null,null,null,null,null,null,null,null,null,null,null,null,null,null,null,null,null,null,null,null,null,null,null,null,null,null,null,null,null,null,null,null,null,null,null,null,null,null,null,null,null,null,null,null,null,null,null,null,null,null,null,null,null,null,null,null,null,null,null,null,null,null,null,null,null,null,null,null,null,null,null,null,null,null,null,null,null,null,null,null,null,null,null,null,null,null,null,null,null,null,null,null,null,null,null,null,null,null,null,null,null,{"$error":"#N/A"}]
[null,null,null,null,null,null,null,null,null,null,null,null,null,null,null,null,null,null,null,null,null,null,null,null,null,null,null,null,null,null,null,null,null,null,null,null,null,null,null,null,null,null,null,null,null,null,null,null,null,null,null,null,null,null,null,null,null,null,null,null,null,null,null,null,null,null,null,null,null,null,null,null,null,null,null,null,null,null,null,null,null,null,null,null,null,null,null,null,null,null,null,null,null,null,null,null,null,null,null,null,null,null,null,null,null,null,null,null,null,null,null,null,null,null,null,null,null,null,null,null,null,{"$error":"#N/A"}]
[null,null,null,null,null,null,null,null,null,null,null,null,null,null,null,null,null,null,null,null,null,null,null,null,null,null,null,null,null,null,null,null,null,null,null,null,null,null,null,null,null,null,null,null,null,null,null,null,null,null,null,null,null,null,null,null,null,null,null,null,null,null,null,null,null,null,null,null,null,null,null,null,null,null,null,null,null,null,null,null,null,null,null,null,null,null,null,null,null,null,null,null,null,null,null,null,null,null,null,null,null,null,null,null,null,null,null,null,null,null,null,null,null,null,null,null,null,null,null,null,null,{"$error":"#N/A"}]
[null,null,null,null,null,null,null,null,null,null,null,null,null,null,null,null,null,null,null,null,null,null,null,null,null,null,null,null,null,null,null,null,null,null,null,null,null,null,null,null,null,null,null,null,null,null,null,null,null,null,null,null,null,null,null,null,null,null,null,null,null,null,null,null,null,null,null,null,null,null,null,null,null,null,null,null,null,null,null,null,null,null,null,null,null,null,null,null,null,null,null,null,null,null,null,null,null,null,null,null,null,null,null,null,null,null,null,null,null,null,null,null,null,null,null,null,null,null,null,null,null,{"$error":"#N/A"}]
[null,null,null,null,null,null,null,null,null,null,null,null,null,null,null,null,null,null,null,null,null,null,null,null,null,null,null,null,null,null,null,null,null,null,null,null,null,null,null,null,null,null,null,null,null,null,null,null,null,null,null,null,null,null,null,null,null,null,null,null,null,null,null,null,null,null,null,null,null,null,null,null,null,null,null,null,null,null,null,null,null,null,null,null,null,null,null,null,null,null,null,null,null,null,null,null,null,null,null,null,null,null,null,null,null,null,null,null,null,null,null,null,null,null,null,null,null,null,null,null,null,{"$error":"#N/A"}]
[null,null,null,null,null,null,null,null,null,null,null,null,null,null,null,null,null,null,null,null,null,null,null,null,null,null,null,null,null,null,null,null,null,null,null,null,null,null,null,null,null,null,null,null,null,null,null,null,null,null,null,null,null,null,null,null,null,null,null,null,null,null,null,null,null,null,null,null,null,null,null,null,null,null,null,null,null,null,null,null,null,null,null,null,null,null,null,null,null,null,null,null,null,null,null,null,null,null,null,null,null,null,null,null,null,null,null,null,null,null,null,null,null,null,null,null,null,null,null,null,null,{"$error":"#N/A"}]
[null,null,null,null,null,null,null,null,null,null,null,null,null,null,null,null,null,null,null,null,null,null,null,null,null,null,null,null,null,null,null,null,null,null,null,null,null,null,null,null,null,null,null,null,null,null,null,null,null,null,null,null,null,null,null,null,null,null,null,null,null,null,null,null,null,null,null,null,null,null,null,null,null,null,null,null,null,null,null,null,null,null,null,null,null,null,null,null,null,null,null,null,null,null,null,null,null,null,null,null,null,null,null,null,null,null,null,null,null,null,null,null,null,null,null,null,null,null,null,null,null,{"$error":"#N/A"}]
[null,null,null,null,null,null,null,null,null,null,null,null,null,null,null,null,null,null,null,null,null,null,null,null,null,null,null,null,null,null,null,null,null,null,null,null,null,null,null,null,null,null,null,null,null,null,null,null,null,null,null,null,null,null,null,null,null,null,null,null,null,null,null,null,null,null,null,null,null,null,null,null,null,null,null,null,null,null,null,null,null,null,null,null,null,null,null,null,null,null,null,null,null,null,null,null,null,null,null,null,null,null,null,null,null,null,null,null,null,null,null,null,null,null,null,null,null,null,null,null,null,{"$error":"#N/A"}]
[null,null,null,null,null,null,null,null,null,null,null,null,null,null,null,null,null,null,null,null,null,null,null,null,null,null,null,null,null,null,null,null,null,null,null,null,null,null,null,null,null,null,null,null,null,null,null,null,null,null,null,null,null,null,null,null,null,null,null,null,null,null,null,null,null,null,null,null,null,null,null,null,null,null,null,null,null,null,null,null,null,null,null,null,null,null,null,null,null,null,null,null,null,null,null,null,null,null,null,null,null,null,null,null,null,null,null,null,null,null,null,null,null,null,null,null,null,null,null,null,null,{"$error":"#N/A"}]
[null,null,null,null,null,null,null,null,null,null,null,null,null,null,null,null,null,null,null,null,null,null,null,null,null,null,null,null,null,null,null,null,null,null,null,null,null,null,null,null,null,null,null,null,null,null,null,null,null,null,null,null,null,null,null,null,null,null,null,null,null,null,null,null,null,null,null,null,null,null,null,null,null,null,null,null,null,null,null,null,null,null,null,null,null,null,null,null,null,null,null,null,null,null,null,null,null,null,null,null,null,null,null,null,null,null,null,null,null,null,null,null,null,null,null,null,null,null,null,null,null,{"$error":"#N/A"}]
[null,null,null,null,null,null,null,null,null,null,null,null,null,null,null,null,null,null,null,null,null,null,null,null,null,null,null,null,null,null,null,null,null,null,null,null,null,null,null,null,null,null,null,null,null,null,null,null,null,null,null,null,null,null,null,null,null,null,null,null,null,null,null,null,null,null,null,null,null,null,null,null,null,null,null,null,null,null,null,null,null,null,null,null,null,null,null,null,null,null,null,null,null,null,null,null,null,null,null,null,null,null,null,null,null,null,null,null,null,null,null,null,null,null,null,null,null,null,null,null,null,{"$error":"#N/A"}]
[null,null,null,null,null,null,null,null,null,null,null,null,null,null,null,null,null,null,null,null,null,null,null,null,null,null,null,null,null,null,null,null,null,null,null,null,null,null,null,null,null,null,null,null,null,null,null,null,null,null,null,null,null,null,null,null,null,null,null,null,null,null,null,null,null,null,null,null,null,null,null,null,null,null,null,null,null,null,null,null,null,null,null,null,null,null,null,null,null,null,null,null,null,null,null,null,null,null,null,null,null,null,null,null,null,null,null,null,null,null,null,null,null,null,null,null,null,null,null,null,null,{"$error":"#N/A"}]
[null,null,null,null,null,null,null,null,null,null,null,null,null,null,null,null,null,null,null,null,null,null,null,null,null,null,null,null,null,null,null,null,null,null,null,null,null,null,null,null,null,null,null,null,null,null,null,null,null,null,null,null,null,null,null,null,null,null,null,null,null,null,null,null,null,null,null,null,null,null,null,null,null,null,null,null,null,null,null,null,null,null,null,null,null,null,null,null,null,null,null,null,null,null,null,null,null,null,null,null,null,null,null,null,null,null,null,null,null,null,null,null,null,null,null,null,null,null,null,null,null,{"$error":"#N/A"}]
[null,null,null,null,null,null,null,null,null,null,null,null,null,null,null,null,null,null,null,null,null,null,null,null,null,null,null,null,null,null,null,null,null,null,null,null,null,null,null,null,null,null,null,null,null,null,null,null,null,null,null,null,null,null,null,null,null,null,null,null,null,null,null,null,null,null,null,null,null,null,null,null,null,null,null,null,null,null,null,null,null,null,null,null,null,null,null,null,null,null,null,null,null,null,null,null,null,null,null,null,null,null,null,null,null,null,null,null,null,null,null,null,null,null,null,null,null,null,null,null,null,{"$error":"#N/A"}]
[null,null,null,null,null,null,null,null,null,null,null,null,null,null,null,null,null,null,null,null,null,null,null,null,null,null,null,null,null,null,null,null,null,null,null,null,null,null,null,null,null,null,null,null,null,null,null,null,null,null,null,null,null,null,null,null,null,null,null,null,null,null,null,null,null,null,null,null,null,null,null,null,null,null,null,null,null,null,null,null,null,null,null,null,null,null,null,null,null,null,null,null,null,null,null,null,null,null,null,null,null,null,null,null,null,null,null,null,null,null,null,null,null,null,null,null,null,null,null,null,null,{"$error":"#N/A"}]
[null,null,null,null,null,null,null,null,null,null,null,null,null,null,null,null,null,null,null,null,null,null,null,null,null,null,null,null,null,null,null,null,null,null,null,null,null,null,null,null,null,null,null,null,null,null,null,null,null,null,null,null,null,null,null,null,null,null,null,null,null,null,null,null,null,null,null,null,null,null,null,null,null,null,null,null,null,null,null,null,null,null,null,null,null,null,null,null,null,null,null,null,null,null,null,null,null,null,null,null,null,null,null,null,null,null,null,null,null,null,null,null,null,null,null,null,null,null,null,null,null,{"$error":"#N/A"}]
[null,null,null,null,null,null,null,null,null,null,null,null,null,null,null,null,null,null,null,null,null,null,null,null,null,null,null,null,null,null,null,null,null,null,null,null,null,null,null,null,null,null,null,null,null,null,null,null,null,null,null,null,null,null,null,null,null,null,null,null,null,null,null,null,null,null,null,null,null,null,null,null,null,null,null,null,null,null,null,null,null,null,null,null,null,null,null,null,null,null,null,null,null,null,null,null,null,null,null,null,null,null,null,null,null,null,null,null,null,null,null,null,null,null,null,null,null,null,null,null,null,{"$error":"#N/A"}]
[null,null,null,null,null,null,null,null,null,null,null,null,null,null,null,null,null,null,null,null,null,null,null,null,null,null,null,null,null,null,null,null,null,null,null,null,null,null,null,null,null,null,null,null,null,null,null,null,null,null,null,null,null,null,null,null,null,null,null,null,null,null,null,null,null,null,null,null,null,null,null,null,null,null,null,null,null,null,null,null,null,null,null,null,null,null,null,null,null,null,null,null,null,null,null,null,null,null,null,null,null,null,null,null,null,null,null,null,null,null,null,null,null,null,null,null,null,null,null,null,null,{"$error":"#N/A"}]
[null,null,null,null,null,null,null,null,null,null,null,null,null,null,null,null,null,null,null,null,null,null,null,null,null,null,null,null,null,null,null,null,null,null,null,null,null,null,null,null,null,null,null,null,null,null,null,null,null,null,null,null,null,null,null,null,null,null,null,null,null,null,null,null,null,null,null,null,null,null,null,null,null,null,null,null,null,null,null,null,null,null,null,null,null,null,null,null,null,null,null,null,null,null,null,null,null,null,null,null,null,null,null,null,null,null,null,null,null,null,null,null,null,null,null,null,null,null,null,null,null,{"$error":"#N/A"}]
[null,null,null,null,null,null,null,null,null,null,null,null,null,null,null,null,null,null,null,null,null,null,null,null,null,null,null,null,null,null,null,null,null,null,null,null,null,null,null,null,null,null,null,null,null,null,null,null,null,null,null,null,null,null,null,null,null,null,null,null,null,null,null,null,null,null,null,null,null,null,null,null,null,null,null,null,null,null,null,null,null,null,null,null,null,null,null,null,null,null,null,null,null,null,null,null,null,null,null,null,null,null,null,null,null,null,null,null,null,null,null,null,null,null,null,null,null,null,null,null,null,{"$error":"#N/A"}]
[null,null,null,null,null,null,null,null,null,null,null,null,null,null,null,null,null,null,null,null,null,null,null,null,null,null,null,null,null,null,null,null,null,null,null,null,null,null,null,null,null,null,null,null,null,null,null,null,null,null,null,null,null,null,null,null,null,null,null,null,null,null,null,null,null,null,null,null,null,null,null,null,null,null,null,null,null,null,null,null,null,null,null,null,null,null,null,null,null,null,null,null,null,null,null,null,null,null,null,null,null,null,null,null,null,null,null,null,null,null,null,null,null,null,null,null,null,null,null,null,null,{"$error":"#N/A"}]
[null,null,null,null,null,null,null,null,null,null,null,null,null,null,null,null,null,null,null,null,null,null,null,null,null,null,null,null,null,null,null,null,null,null,null,null,null,null,null,null,null,null,null,null,null,null,null,null,null,null,null,null,null,null,null,null,null,null,null,null,null,null,null,null,null,null,null,null,null,null,null,null,null,null,null,null,null,null,null,null,null,null,null,null,null,null,null,null,null,null,null,null,null,null,null,null,null,null,null,null,null,null,null,null,null,null,null,null,null,null,null,null,null,null,null,null,null,null,null,null,null,{"$error":"#N/A"}]
[null,null,null,null,null,null,null,null,null,null,null,null,null,null,null,null,null,null,null,null,null,null,null,null,null,null,null,null,null,null,null,null,null,null,null,null,null,null,null,null,null,null,null,null,null,null,null,null,null,null,null,null,null,null,null,null,null,null,null,null,null,null,null,null,null,null,null,null,null,null,null,null,null,null,null,null,null,null,null,null,null,null,null,null,null,null,null,null,null,null,null,null,null,null,null,null,null,null,null,null,null,null,null,null,null,null,null,null,null,null,null,null,null,null,null,null,null,null,null,null,null,{"$error":"#N/A"}]
[null,null,null,null,null,null,null,null,null,null,null,null,null,null,null,null,null,null,null,null,null,null,null,null,null,null,null,null,null,null,null,null,null,null,null,null,null,null,null,null,null,null,null,null,null,null,null,null,null,null,null,null,null,null,null,null,null,null,null,null,null,null,null,null,null,null,null,null,null,null,null,null,null,null,null,null,null,null,null,null,null,null,null,null,null,null,null,null,null,null,null,null,null,null,null,null,null,null,null,null,null,null,null,null,null,null,null,null,null,null,null,null,null,null,null,null,null,null,null,null,null,{"$error":"#N/A"}]
[null,null,null,null,null,null,null,null,null,null,null,null,null,null,null,null,null,null,null,null,null,null,null,null,null,null,null,null,null,null,null,null,null,null,null,null,null,null,null,null,null,null,null,null,null,null,null,null,null,null,null,null,null,null,null,null,null,null,null,null,null,null,null,null,null,null,null,null,null,null,null,null,null,null,null,null,null,null,null,null,null,null,null,null,null,null,null,null,null,null,null,null,null,null,null,null,null,null,null,null,null,null,null,null,null,null,null,null,null,null,null,null,null,null,null,null,null,null,null,null,null,{"$error":"#N/A"}]
[null,null,null,null,null,null,null,null,null,null,null,null,null,null,null,null,null,null,null,null,null,null,null,null,null,null,null,null,null,null,null,null,null,null,null,null,null,null,null,null,null,null,null,null,null,null,null,null,null,null,null,null,null,null,null,null,null,null,null,null,null,null,null,null,null,null,null,null,null,null,null,null,null,null,null,null,null,null,null,null,null,null,null,null,null,null,null,null,null,null,null,null,null,null,null,null,null,null,null,null,null,null,null,null,null,null,null,null,null,null,null,null,null,null,null,null,null,null,null,null,null,{"$error":"#N/A"}]
[null,null,null,null,null,null,null,null,null,null,null,null,null,null,null,null,null,null,null,null,null,null,null,null,null,null,null,null,null,null,null,null,null,null,null,null,null,null,null,null,null,null,null,null,null,null,null,null,null,null,null,null,null,null,null,null,null,null,null,null,null,null,null,null,null,null,null,null,null,null,null,null,null,null,null,null,null,null,null,null,null,null,null,null,null,null,null,null,null,null,null,null,null,null,null,null,null,null,null,null,null,null,null,null,null,null,null,null,null,null,null,null,null,null,null,null,null,null,null,null,null,{"$error":"#N/A"}]
[null,null,null,null,null,null,null,null,null,null,null,null,null,null,null,null,null,null,null,null,null,null,null,null,null,null,null,null,null,null,null,null,null,null,null,null,null,null,null,null,null,null,null,null,null,null,null,null,null,null,null,null,null,null,null,null,null,null,null,null,null,null,null,null,null,null,null,null,null,null,null,null,null,null,null,null,null,null,null,null,null,null,null,null,null,null,null,null,null,null,null,null,null,null,null,null,null,null,null,null,null,null,null,null,null,null,null,null,null,null,null,null,null,null,null,null,null,null,null,null,null,{"$error":"#N/A"}]
[null,null,null,null,null,null,null,null,null,null,null,null,null,null,null,null,null,null,null,null,null,null,null,null,null,null,null,null,null,null,null,null,null,null,null,null,null,null,null,null,null,null,null,null,null,null,null,null,null,null,null,null,null,null,null,null,null,null,null,null,null,null,null,null,null,null,null,null,null,null,null,null,null,null,null,null,null,null,null,null,null,null,null,null,null,null,null,null,null,null,null,null,null,null,null,null,null,null,null,null,null,null,null,null,null,null,null,null,null,null,null,null,null,null,null,null,null,null,null,null,null,{"$error":"#N/A"}]
[null,null,null,null,null,null,null,null,null,null,null,null,null,null,null,null,null,null,null,null,null,null,null,null,null,null,null,null,null,null,null,null,null,null,null,null,null,null,null,null,null,null,null,null,null,null,null,null,null,null,null,null,null,null,null,null,null,null,null,null,null,null,null,null,null,null,null,null,null,null,null,null,null,null,null,null,null,null,null,null,null,null,null,null,null,null,null,null,null,null,null,null,null,null,null,null,null,null,null,null,null,null,null,null,null,null,null,null,null,null,null,null,null,null,null,null,null,null,null,null,null,{"$error":"#N/A"}]
[null,null,null,null,null,null,null,null,null,null,null,null,null,null,null,null,null,null,null,null,null,null,null,null,null,null,null,null,null,null,null,null,null,null,null,null,null,null,null,null,null,null,null,null,null,null,null,null,null,null,null,null,null,null,null,null,null,null,null,null,null,null,null,null,null,null,null,null,null,null,null,null,null,null,null,null,null,null,null,null,null,null,null,null,null,null,null,null,null,null,null,null,null,null,null,null,null,null,null,null,null,null,null,null,null,null,null,null,null,null,null,null,null,null,null,null,null,null,null,null,null,{"$error":"#N/A"}]
[null,null,null,null,null,null,null,null,null,null,null,null,null,null,null,null,null,null,null,null,null,null,null,null,null,null,null,null,null,null,null,null,null,null,null,null,null,null,null,null,null,null,null,null,null,null,null,null,null,null,null,null,null,null,null,null,null,null,null,null,null,null,null,null,null,null,null,null,null,null,null,null,null,null,null,null,null,null,null,null,null,null,null,null,null,null,null,null,null,null,null,null,null,null,null,null,null,null,null,null,null,null,null,null,null,null,null,null,null,null,null,null,null,null,null,null,null,null,null,null,null,{"$error":"#N/A"}]
[null,null,null,null,null,null,null,null,null,null,null,null,null,null,null,null,null,null,null,null,null,null,null,null,null,null,null,null,null,null,null,null,null,null,null,null,null,null,null,null,null,null,null,null,null,null,null,null,null,null,null,null,null,null,null,null,null,null,null,null,null,null,null,null,null,null,null,null,null,null,null,null,null,null,null,null,null,null,null,null,null,null,null,null,null,null,null,null,null,null,null,null,null,null,null,null,null,null,null,null,null,null,null,null,null,null,null,null,null,null,null,null,null,null,null,null,null,null,null,null,null,{"$error":"#N/A"}]
[null,null,null,null,null,null,null,null,null,null,null,null,null,null,null,null,null,null,null,null,null,null,null,null,null,null,null,null,null,null,null,null,null,null,null,null,null,null,null,null,null,null,null,null,null,null,null,null,null,null,null,null,null,null,null,null,null,null,null,null,null,null,null,null,null,null,null,null,null,null,null,null,null,null,null,null,null,null,null,null,null,null,null,null,null,null,null,null,null,null,null,null,null,null,null,null,null,null,null,null,null,null,null,null,null,null,null,null,null,null,null,null,null,null,null,null,null,null,null,null,null,{"$error":"#N/A"}]
[null,null,null,null,null,null,null,null,null,null,null,null,null,null,null,null,null,null,null,null,null,null,null,null,null,null,null,null,null,null,null,null,null,null,null,null,null,null,null,null,null,null,null,null,null,null,null,null,null,null,null,null,null,null,null,null,null,null,null,null,null,null,null,null,null,null,null,null,null,null,null,null,null,null,null,null,null,null,null,null,null,null,null,null,null,null,null,null,null,null,null,null,null,null,null,null,null,null,null,null,null,null,null,null,null,null,null,null,null,null,null,null,null,null,null,null,null,null,null,null,null,{"$error":"#N/A"}]
[null,null,null,null,null,null,null,null,null,null,null,null,null,null,null,null,null,null,null,null,null,null,null,null,null,null,null,null,null,null,null,null,null,null,null,null,null,null,null,null,null,null,null,null,null,null,null,null,null,null,null,null,null,null,null,null,null,null,null,null,null,null,null,null,null,null,null,null,null,null,null,null,null,null,null,null,null,null,null,null,null,null,null,null,null,null,null,null,null,null,null,null,null,null,null,null,null,null,null,null,null,null,null,null,null,null,null,null,null,null,null,null,null,null,null,null,null,null,null,null,null,{"$error":"#N/A"}]
[null,null,null,null,null,null,null,null,null,null,null,null,null,null,null,null,null,null,null,null,null,null,null,null,null,null,null,null,null,null,null,null,null,null,null,null,null,null,null,null,null,null,null,null,null,null,null,null,null,null,null,null,null,null,null,null,null,null,null,null,null,null,null,null,null,null,null,null,null,null,null,null,null,null,null,null,null,null,null,null,null,null,null,null,null,null,null,null,null,null,null,null,null,null,null,null,null,null,null,null,null,null,null,null,null,null,null,null,null,null,null,null,null,null,null,null,null,null,null,null,null,{"$error":"#N/A"}]
[null,null,null,null,null,null,null,null,null,null,null,null,null,null,null,null,null,null,null,null,null,null,null,null,null,null,null,null,null,null,null,null,null,null,null,null,null,null,null,null,null,null,null,null,null,null,null,null,null,null,null,null,null,null,null,null,null,null,null,null,null,null,null,null,null,null,null,null,null,null,null,null,null,null,null,null,null,null,null,null,null,null,null,null,null,null,null,null,null,null,null,null,null,null,null,null,null,null,null,null,null,null,null,null,null,null,null,null,null,null,null,null,null,null,null,null,null,null,null,null,null,{"$error":"#N/A"}]
[null,"DESPath",{"$f":"IFERROR(IF('General Information'!I60,1,IF('General Information'!J60,2,IF('General Information'!K60,3,IF('General Information'!L60,4,0)))),\"\")","v":0},null,null,null,null,null,null,null,null,null,null,null,null,null,null,null,null,null,null,null,null,null,null,null,null,null,null,null,null,null,null,null,null,null,null,null,null,null,null,null,null,null,null,null,null,null,null,null,null,null,null,null,null,null,null,null,null,null,null,null,null,null,null,null,null,null,null,null,null,null,null,null,null,null,null,null,null,null,null,null,null,null,null,null,null,null,null,null,null,null,null,null,null,null,null,null,null,null,null,null,null,null,null,null,null,null,null,null,null,null,null,null,null,null,null,null,null,null,null,{"$error":"#N/A"}]
[null,"0 = No DES",null,null,null,null,null,null,null,null,null,null,null,null,null,null,null,null,null,null,null,null,null,null,null,null,null,null,null,null,null,null,null,null,null,null,null,null,null,null,null,null,null,null,null,null,null,null,null,null,null,null,null,null,null,null,null,null,null,null,null,null,null,null,null,null,null,null,null,null,null,null,null,null,null,null,null,null,null,null,null,null,null,null,null,null,null,null,null,null,null,null,null,null,null,null,null,null,null,null,null,null,null,null,null,null,null,null,null,null,null,null,null,null,null,null,null,null,null,null,null,{"$error":"#N/A"}]
[null,"1 = ASHRAE 90.1 without Addenda (Path 1)",null,null,null,null,null,null,null,null,null,null,null,null,null,null,null,null,null,null,null,null,null,null,null,null,null,null,null,null,null,null,null,null,null,null,null,null,null,null,null,null,null,null,null,null,null,null,null,null,null,null,null,null,null,null,null,null,null,null,null,null,null,null,null,null,null,null,null,null,null,null,null,null,null,null,null,null,null,null,null,null,null,null,null,null,null,null,null,null,null,null,null,null,null,null,null,null,null,null,null,null,null,null,null,null,null,null,null,null,null,null,null,null,null,null,null,null,null,null,null,{"$error":"#N/A"}]
[null,"2 = Full DES Performance Accounting Method (Path 2)",null,null,null,null,null,null,null,null,null,null,null,null,null,null,null,null,null,null,null,null,null,null,null,null,null,null,null,null,null,null,null,null,null,null,null,null,null,null,null,null,null,null,null,null,null,null,null,null,null,null,null,null,null,null,null,null,null,null,null,null,null,null,null,null,null,null,null,null,null,null,null,null,null,null,null,null,null,null,null,null,null,null,null,null,null,null,null,null,null,null,null,null,null,null,null,null,null,null,null,null,null,null,null,null,null,null,null,null,null,null,null,null,null,null,null,null,null,null,null,{"$error":"#N/A"}]
[null,"3 = Streamlined DES Accounting Method (Path3)",null,null,null,null,null,null,null,null,null,null,null,null,null,null,null,null,null,null,null,null,null,null,null,null,null,null,null,null,null,null,null,null,null,null,null,null,null,null,null,null,null,null,null,null,null,null,null,null,null,null,null,null,null,null,null,null,null,null,null,null,null,null,null,null,null,null,null,null,null,null,null,null,null,null,null,null,null,null,null,null,null,null,null,null,null,null,null,null,null,null,null,null,null,null,null,null,null,null,null,null,null,null,null,null,null,null,null,null,null,null,null,null,null,null,null,null,null,null,null,{"$error":"#N/A"}]
[null,null,null,null,null,null,null,null,null,null,null,null,null,null,null,null,null,null,null,null,null,null,null,null,null,null,null,null,null,null,null,null,null,null,null,null,null,null,null,null,null,null,null,null,null,null,null,null,null,null,null,null,null,null,null,null,null,null,null,null,null,null,null,null,null,null,null,null,null,null,null,null,null,null,null,null,null,null,null,null,null,null,null,null,null,null,null,null,null,null,null,null,null,null,null,null,null,null,null,null,null,null,null,null,null,null,null,null,null,null,null,null,null,null,null,null,null,null,null,null,null,{"$error":"#N/A"}]
[null,"DistrictHeating",{"$f":"'General Information'!J59","v":false},null,null,null,null,null,null,null,null,null,null,null,null,null,null,null,null,null,null,null,null,null,null,null,null,null,null,null,null,null,null,null,null,null,null,null,null,null,null,null,null,null,null,null,null,null,null,null,null,null,null,null,null,null,null,null,null,null,null,null,null,null,null,null,null,null,null,null,null,null,null,null,null,null,null,null,null,null,null,null,null,null,null,null,null,null,null,null,null,null,null,null,null,null,null,null,null,null,null,null,null,null,null,null,null,null,null,null,null,null,null,null,null,null,null,null,null,null,null,{"$error":"#N/A"}]
[null,null,null,null,null,null,null,null,null,null,null,null,null,null,null,null,null,null,null,null,null,null,null,null,null,null,null,null,null,null,null,null,null,null,null,null,null,null,null,null,null,null,null,null,null,null,null,null,null,null,null,null,null,null,null,null,null,null,null,null,null,null,null,null,null,null,null,null,null,null,null,null,null,null,null,null,null,null,null,null,null,null,null,null,null,null,null,null,null,null,null,null,null,null,null,null,null,null,null,null,null,null,null,null,null,null,null,null,null,null,null,null,null,null,null,null,null,null,null,null,null,{"$error":"#N/A"}]
[null,"DistrictCooling",{"$f":"'General Information'!I59","v":false},null,null,null,null,null,null,null,null,null,null,null,null,null,null,null,null,null,null,null,null,null,null,null,null,null,null,null,null,null,null,null,null,null,null,null,null,null,null,null,null,null,null,null,null,null,null,null,null,null,null,null,null,null,null,null,null,null,null,null,null,null,null,null,null,null,null,null,null,null,null,null,null,null,null,null,null,null,null,null,null,null,null,null,null,null,null,null,null,null,null,null,null,null,null,null,null,null,null,null,null,null,null,null,null,null,null,null,null,null,null,null,null,null,null,null,null,null,null,{"$error":"#N/A"}]
[null,null,null,null,null,null,null,null,null,null,null,null,null,null,null,null,null,null,null,null,null,null,null,null,null,null,null,null,null,null,null,null,null,null,null,null,null,null,null,null,null,null,null,null,null,null,null,null,null,null,null,null,null,null,null,null,null,null,null,null,null,null,null,null,null,null,null,null,null,null,null,null,null,null,null,null,null,null,null,null,null,null,null,null,null,null,null,null,null,null,null,null,null,null,null,null,null,null,null,null,null,null,null,null,null,null,null,null,null,null,null,null,null,null,null,null,null,null,null,null,null,{"$error":"#N/A"}]
[null,"ENERGY SOURCES 1",null,null,null,null,null,null,null,null,null,null,null,null,null,null,null,null,null,null,null,null,null,null,null,null,null,null,null,null,null,null,null,null,null,null,null,null,null,null,null,null,null,null,null,null,null,null,null,null,null,null,null,null,null,null,null,null,null,null,null,null,null,null,null,null,null,null,null,null,null,null,null,null,null,null,null,null,null,null,null,null,null,null,null,null,null,null,null,null,null,null,null,null,null,null,null,null,null,null,null,null,null,null,null,null,null,null,null,null,null,null,null,null,null,null,null,null,null,null,null,{"$error":"#N/A"}]
[null,"",null,"",null,""]
[null,"Electricity","kWh","kW","Standard energy sources"]
[null,"Natural Gas","therm","Btuh"]
[null,"",null,"",null,""]
[null,{"$f":"IF(DESPath=3,IF(DistrictHeating,\"District Heating\",IF(DistrictCooling,\"District Cooling\",\"\")),\"\")","v":""},null,null,"District energy sources"]
[null,{"$f":"IF(DESPath=3,IF(AND(DistrictHeating,DistrictCooling),\"District Cooling\",\"\"),\"\")","v":""}]
[]
[]
[]
[]
[]
[]
[]
[]
[]
[]
[]
[]
[]
[]
[]
[]
[]
[]
[]
[]
[]
[]
[]
[]
[]
[]
[]
[]
[]
[]
[]
[]
[]
[]
[]
[]
[]
[]
[]
[]
[]
[]
[]
[]
[]
[]
[]
[]
[]
[]
[]
[]
[]
[]
[]
[]
[]
[]
[]
[]
[]
[]
[]
[]
[]
[]
[]
[]
[]
[]
[]
[]
[]
[]
[]
[]
[]
[]
[]
[]
[]
[]
[]
[]
[]
[]
[]
[]
[]
[]
[]
[]
[]
[]
[]
[]
[null,"Building:",0]
[null,"Model Input Parameter",null,null,null,"Baseline Case",null,null,null,"Proposed Case"]
[null,"Shading Devices",null,null,null,null,"No shading projections, manual shading devices, or self-shading have been modeled for the Baseline building"]
[null,null,null,null,null,"\n","Any shading by adjacent structures and terrain has been modeled identically to the Proposed case (if applicable)"]
[null,"Building Shape & Orientation",null,null,null,null,"The Baseline building is modeled with the same shape and orientation as the Proposed building, and for new construction rotated 90°, 180°, and 270°"]
[null,"Above-Grade Wall & Vertical Glazing Area by Orientation",null,"Orientation",null,"Above-Grade Wall Area (ft2)",null,"Vertical Glazing Area",null,"Above-Grade Wall Area (ft2)","Vertical Glazing Area"]
[null,null,null,null,null,null,null,"(ft2)","(%)",null,"(ft2)",null,"(%)"]
[null,null,null,"North",null,{"$f":"IF(J210=0,\"Identical to Proposed case\",J210)","v":"Identical to Proposed case"},null,null,{"$f":"IF(J210=0,\"\",H210/F210)","v":""},null,null,null,{"$f":"IF(J210=0,\"\",K210/J210)","v":""}]
[null,null,null,"East",null,{"$f":"IF(J211=0,\"Identical to Proposed case\",J211)","v":"Identical to Proposed case"},null,null,{"$f":"IF(J211=0,\"\",H211/F211)","v":""},null,null,null,{"$f":"IF(J211=0,\"\",K211/J211)","v":""}]
[null,null,null,"South",null,{"$f":"IF(J212=0,\"Identical to Proposed case\",J212)","v":"Identical to Proposed case"},null,null,{"$f":"IF(J212=0,\"\",H212/F212)","v":""},null,null,null,{"$f":"IF(J212=0,\"\",K212/J212)","v":""}]
[null,null,null,"West",null,{"$f":"IF(J213=0,\"Identical to Proposed case\",J213)","v":"Identical to Proposed case"},null,null,{"$f":"IF(J213=0,\"\",H213/F213)","v":""},null,null,null,{"$f":"IF(J213=0,\"\",K213/J213)","v":""}]
[null,null,null,"Total",null,{"$f":"IF(J214=0,\"Identical to Proposed case\",J214)","v":"Identical to Proposed case"},null,{"$f":"SUM(H210:H213)","v":0},{"$f":"IF(J214=0,\"\",H214/F214)","v":""},{"$f":"SUM(J210:J213)","v":0},{"$f":"SUM(K210:K213)","v":0},null,{"$f":"IF(J214=0,\"\",K214/J214)","v":""}]
[null,"Roof & Skylight Area",null,null,null,"Roof Area (ft2)",null,"Skylight Area",null,"Roof Area (ft2)","Skylight Area"]
[null,null,null,null,null,null,null,"(ft2)","(%)",null,"(ft2)",null,"(%)"]
[null,null,null,null,null,{"$f":"IF(J217=0,\"Identical to Proposed case\",J217)","v":"Identical to Proposed case"},null,null,{"$f":"IF(J217=0,\"\",H217/F217)","v":""},null,null,null,{"$f":"IF(J217=0,\"\",K217/J217)","v":""}]
[null,{"$f":"IF(I214=\"\",\"\",IF(I214<=0.4,\"\",\"**Baseline vertical glazing areas limited to 40% of gross above-grade wall area per Table G3.1#5(c)\"))","v":""}]

{"sheet":"HVAC Lookup","index":22,"n_rows":30,"n_cols":21,"rows_kept":30,"cut":false,"hidden":true,"merged":[[7,6,8,6],[7,20,8,20],[6,16,6,20],[29,16,29,19],[7,7,8,7],[7,8,8,8],[6,10,6,14],[7,17,8,17],[7,18,8,18],[7,19,8,19],[7,10,7,11],[7,12,8,12],[7,13,8,13],[7,16,8,16]]}
["District Cooling",{"$f":"'General Information'!I59","v":false}]
["District Heating",{"$f":"'General Information'!J59","v":false}]
["ASHRAE 90.1-2010 (Path 1)",{"$f":"'General Information'!I60","v":false},null,null,null,null,null,null,null,null,null,null,null,"Q = fan flow"]
["Full DES (Path 2)",{"$f":"'General Information'!J60","v":false}]
["Streamlined DES (Path 3)",{"$f":"'General Information'!K60","v":false},3,4,5,6,7,8,9,10,11,12,13,14,15,16,17,18,19,20]
["California Title-24 (Path 4)",{"$f":"'General Information'!L60","v":false}]
[null,null,null,null,null,null,null,null,null,null,"Allowed Fan Power: Power = p x Q + A",null,null,null,null,null,"Motor Horsepower Nominal Efficiency"]
["Applicability to Project",{"$f":"IF(AND(C8=FALSE,D8=FALSE,E8=FALSE,F8=FALSE),TRUE,FALSE)","v":true},{"$f":"AND(B1=TRUE,B2=FALSE,OR(B3=TRUE,B5=TRUE))","v":false},{"$f":"AND(B1=FALSE,B2=TRUE,OR(B3=TRUE,B5=TRUE))","v":false},{"$f":"AND(B1=TRUE,B2=TRUE,OR(B3=TRUE,B5=TRUE))","v":false},{"$f":"B6","v":false},"System Number","Project-Specific \nPrimary Systems","Project-Specific \nSecondary System",null,"Fan Power Multiplier (p)",null,"Multiply\nx A","Multiplier \nx Motor Efficiency","Additional fan power for non-mechanical coolling",null,"Motor Horsepower (IP)","Motor \nKilowatts (SI)","Min. Nominal Full-load Efficiency*","Next Motor Size Up HP","Multiplier to convert from input power to allowable fan power"]
["Systems","• No DES\n• ASHRAE 90.1 (Path 1)\n• Full DES (Path 2)","• ASHRAE 90.1 (Path 1)\n• Streamlined DES (Path 3)\n• District Cooling Only","• ASHRAE 90.1 (Path 1)\n• Streamlined DES (Path 3)\n• District Heating Only","• ASHRAE 90.1 (Path 1)\n• Streamlined DES (Path 3)\n• District Cooling and Heating","California Title-24 Baseline default efficiencies (Path 4)",null,null,null,null,"cfm (IP)","L/s (SI)",null,null,"IP"]
[{"$f":"IF($C$8=TRUE,C10,IF($D$8=TRUE,D10,IF($E$8=TRUE,E10,IF($F$8=TRUE,F10,B10))))","v":"System 1 - PTAC"},"System 1 - PTAC","System 1 (District Cooling) - 4-pipe CV Fan Coil with HW Boiler","System 1 (District Heating) - PTAC","System 1 (District Heating & Cooling) - 4-pipe CV Fan Coil","Describe the California Title-24 Baseline System Type",1,{"$f":"IFERROR(INDEX($A$10:$A$19,SMALL((IF(LEN($A$10:$A$19),ROW(INDIRECT(\"1:\"&ROWS($A$10:$A$19))))),ROW(A1)),1),\"\")","v":"System 1 - PTAC"},{"$f":"IFERROR(INDEX($A$10:$A$29,SMALL((IF(LEN($A$10:$A$29),ROW(INDIRECT(\"1:\"&ROWS($A$10:$A$29))))),ROW(A1)),1),\"\")","v":"System 1 - PTAC"},null,2.9999999999999997E-4,6.4000000000000005E-4,0,0,0,null,0,0,null,0.82499999999999996,{"$f":"IF(SI_IP_Units=\"SI\",1/T10,0.746/T10)","v":0.90424242424242429}]
[{"$f":"IF($C$8=TRUE,C11,IF($D$8=TRUE,D11,IF($E$8=TRUE,E11,IF($F$8=TRUE,F11,B11))))","v":"System 2 - PTHP"},"System 2 - PTHP","System 2 (District Cooling) - 4-pipe CV Fan Coil with HW Boiler",{"$f":"\"\"","v":""},{"$f":"\"\"","v":""},{"$f":"\"\"","v":""},2,{"$f":"IFERROR(INDEX($A$10:$A$19,SMALL((IF(LEN($A$10:$A$19),ROW(INDIRECT(\"1:\"&ROWS($A$10:$A$19))))),ROW(A2)),1),\"\")","v":"System 2 - PTHP"},{"$f":"IFERROR(INDEX($A$10:$A$29,SMALL((IF(LEN($A$10:$A$29),ROW(INDIRECT(\"1:\"&ROWS($A$10:$A$29))))),ROW(A2)),1),\"\")","v":"System 2 - PTHP"},null,2.9999999999999997E-4,6.4000000000000005E-4,0,0,0,null,1,0.8,0.82499999999999996,0.84,0.88809523809523816]
["System 3 - PSZ-AC","System 3 - PSZ-AC","System 3 (District Cooling) - 2-pipe CV AHU with Fossil Fuel Furnace","System 3 (District Heating) - PSZ-AC with District Heating","System 3 (District Heating & Cooling) - 4-pipe CV AHU",{"$f":"\"\"","v":""},3,{"$f":"IFERROR(INDEX($A$10:$A$19,SMALL((IF(LEN($A$10:$A$19),ROW(INDIRECT(\"1:\"&ROWS($A$10:$A$19))))),ROW(A3)),1),\"\")","v":"System 3 - PSZ-AC"},{"$f":"IFERROR(INDEX($A$10:$A$29,SMALL((IF(LEN($A$10:$A$29),ROW(INDIRECT(\"1:\"&ROWS($A$10:$A$29))))),ROW(A3)),1),\"\")","v":"System 3 - PSZ-AC"},null,9.3999999999999997E-4,1.5E-3,1,1,0,null,1.5,1.1000000000000001,0.84,0.84,0.88809523809523816]
["System 4 - PSZ-HP","System 4 - PSZ-HP","System 4 (District Cooling) - 2-pipe CV AHU with Fossil Fuel Furnace",{"$f":"\"\"","v":""},{"$f":"\"\"","v":""},{"$f":"\"\"","v":""},4,{"$f":"IFERROR(INDEX($A$10:$A$19,SMALL((IF(LEN($A$10:$A$19),ROW(INDIRECT(\"1:\"&ROWS($A$10:$A$19))))),ROW(A4)),1),\"\")","v":"System 4 - PSZ-HP"},{"$f":"IFERROR(INDEX($A$10:$A$29,SMALL((IF(LEN($A$10:$A$29),ROW(INDIRECT(\"1:\"&ROWS($A$10:$A$29))))),ROW(A4)),1),\"\")","v":"System 4 - PSZ-HP"},null,9.3999999999999997E-4,1.5E-3,1,1,0,null,2,1.5,0.84,0.875,0.85257142857142854]
["System 5 - Packaged VAV with Reheat","System 5 - Packaged VAV with Reheat","System 5 (District Cooling) - Change to System 7 - VAV with Reheat","System 5 (District Heating) - Packaged VAV with Reheat","System 5 (District Heating & Cooling) - Change to System 7 - VAV with Reheat",{"$f":"\"\"","v":""},5,{"$f":"IFERROR(INDEX($A$10:$A$19,SMALL((IF(LEN($A$10:$A$19),ROW(INDIRECT(\"1:\"&ROWS($A$10:$A$19))))),ROW(A5)),1),\"\")","v":"System 5 - Packaged VAV with Reheat"},{"$f":"IFERROR(INDEX($A$10:$A$29,SMALL((IF(LEN($A$10:$A$29),ROW(INDIRECT(\"1:\"&ROWS($A$10:$A$29))))),ROW(A5)),1),\"\")","v":"System 5 - Packaged VAV with Reheat"},null,1.2999999999999999E-3,2.0999999999999999E-3,1,1,0,null,3,2.2000000000000002,0.875,0.875,0.85257142857142854]
["System 6 - Packaged VAV with PFP Boxes","System 6 - Packaged VAV with PFP Boxes","System 6 (District Cooling) - Change to System 8 - VAV with PFP Boxes",{"$f":"\"\"","v":""},{"$f":"\"\"","v":""},{"$f":"\"\"","v":""},6,{"$f":"IFERROR(INDEX($A$10:$A$19,SMALL((IF(LEN($A$10:$A$19),ROW(INDIRECT(\"1:\"&ROWS($A$10:$A$19))))),ROW(A6)),1),\"\")","v":"System 6 - Packaged VAV with PFP Boxes"},{"$f":"IFERROR(INDEX($A$10:$A$29,SMALL((IF(LEN($A$10:$A$29),ROW(INDIRECT(\"1:\"&ROWS($A$10:$A$29))))),ROW(A6)),1),\"\")","v":"System 6 - Packaged VAV with PFP Boxes"},null,1.2999999999999999E-3,2.0999999999999999E-3,1,1,0,null,5,3.7,0.875,0.89500000000000002,0.83351955307262571]
["System 7 - VAV with Reheat","System 7 - VAV with Reheat","System 7 (District Cooling) - VAV with Reheat","System 7 (District Heating) - VAV with Reheat","System 7 (District Heating & Cooling) - VAV with Reheat",{"$f":"\"\"","v":""},7,{"$f":"IFERROR(INDEX($A$10:$A$19,SMALL((IF(LEN($A$10:$A$19),ROW(INDIRECT(\"1:\"&ROWS($A$10:$A$19))))),ROW(A7)),1),\"\")","v":"System 7 - VAV with Reheat"},{"$f":"IFERROR(INDEX($A$10:$A$29,SMALL((IF(LEN($A$10:$A$29),ROW(INDIRECT(\"1:\"&ROWS($A$10:$A$29))))),ROW(A7)),1),\"\")","v":"System 7 - VAV with Reheat"},null,1.2999999999999999E-3,2.0999999999999999E-3,1,1,0,null,7.5,5.6,0.89500000000000002,0.89500000000000002,0.83351955307262571]
["System 8 - VAV with PFP Boxes","System 8 - VAV with PFP Boxes","System 8 (District Cooling) - VAV with PFP Boxes",{"$f":"\"\"","v":""},{"$f":"\"\"","v":""},{"$f":"\"\"","v":""},8,{"$f":"IFERROR(INDEX($A$10:$A$19,SMALL((IF(LEN($A$10:$A$19),ROW(INDIRECT(\"1:\"&ROWS($A$10:$A$19))))),ROW(A8)),1),\"\")","v":"System 8 - VAV with PFP Boxes"},{"$f":"IFERROR(INDEX($A$10:$A$29,SMALL((IF(LEN($A$10:$A$29),ROW(INDIRECT(\"1:\"&ROWS($A$10:$A$29))))),ROW(A8)),1),\"\")","v":"System 8 - VAV with PFP Boxes"},null,1.2999999999999999E-3,2.0999999999999999E-3,1,1,0,null,10,7.5,0.89500000000000002,0.91,0.81978021978021975]
["System 9 - Heating and Ventilation","System 9 - Heating and Ventilation","System 9 - Heating and Ventilation","System 9 (District Heating) - Heating and Ventilation","System 9 (District Heating) - Heating and Ventilation",{"$f":"\"\"","v":""},9,{"$f":"IFERROR(INDEX($A$10:$A$19,SMALL((IF(LEN($A$10:$A$19),ROW(INDIRECT(\"1:\"&ROWS($A$10:$A$19))))),ROW(A9)),1),\"\")","v":"System 9 - Heating and Ventilation"},{"$f":"IFERROR(INDEX($A$10:$A$29,SMALL((IF(LEN($A$10:$A$29),ROW(INDIRECT(\"1:\"&ROWS($A$10:$A$29))))),ROW(A9)),1),\"\")","v":"System 9 - Heating and Ventilation"},null,2.9999999999999997E-4,6.4000000000000005E-4,0,0,1,null,15,11.1,0.91,0.91,0.81978021978021975]
["System 10 - Heating and Ventilation","System 10 - Heating and Ventilation","System 10 - Heating and Ventilation",{"$f":"\"\"","v":""},{"$f":"\"\"","v":""},{"$f":"\"\"","v":""},10,{"$f":"IFERROR(INDEX($A$10:$A$19,SMALL((IF(LEN($A$10:$A$19),ROW(INDIRECT(\"1:\"&ROWS($A$10:$A$19))))),ROW(A10)),1),\"\")","v":"System 10 - Heating and Ventilation"},{"$f":"IFERROR(INDEX($A$10:$A$29,SMALL((IF(LEN($A$10:$A$29),ROW(INDIRECT(\"1:\"&ROWS($A$10:$A$29))))),ROW(A10)),1),\"\")","v":"System 10 - Heating and Ventilation"},null,2.9999999999999997E-4,6.4000000000000005E-4,0,0,1,null,20,14.9,0.91,0.92400000000000004,0.80735930735930728]
["",{"$f":"\"\"","v":""},"System 1 - PTAC","System 1 - PTAC","System 1 - PTAC",{"$f":"\"\"","v":""},1,{"$f":"IFERROR(INDEX($A$10:$A$19,SMALL((IF(LEN($A$10:$A$19),ROW(INDIRECT(\"1:\"&ROWS($A$10:$A$19))))),ROW(A11)),1),\"\")","v":""},{"$f":"IFERROR(INDEX($A$10:$A$29,SMALL((IF(LEN($A$10:$A$29),ROW(INDIRECT(\"1:\"&ROWS($A$10:$A$29))))),ROW(A11)),1),\"\")","v":""},null,2.9999999999999997E-4,6.4000000000000005E-4,0,0,0,null,25,18.7,0.92400000000000004,0.92400000000000004,0.80735930735930728]
["",{"$f":"\"\"","v":""},"System 2 - PTHP","System 2 - PTHP","System 2 - PTHP",{"$f":"\"\"","v":""},2,{"$f":"IFERROR(INDEX($A$10:$A$19,SMALL((IF(LEN($A$10:$A$19),ROW(INDIRECT(\"1:\"&ROWS($A$10:$A$19))))),ROW(A12)),1),\"\")","v":""},{"$f":"IFERROR(INDEX($A$10:$A$29,SMALL((IF(LEN($A$10:$A$29),ROW(INDIRECT(\"1:\"&ROWS($A$10:$A$29))))),ROW(A12)),1),\"\")","v":""},null,2.9999999999999997E-4,6.4000000000000005E-4,0,0,0,null,30,22.4,0.92400000000000004,0.93,0.80215053763440858]
["",{"$f":"\"\"","v":""},"System 3 - PSZ-AC","System 3 - PSZ-AC","System 3 - PSZ-AC",{"$f":"\"\"","v":""},3,{"$f":"IFERROR(INDEX($A$10:$A$19,SMALL((IF(LEN($A$10:$A$19),ROW(INDIRECT(\"1:\"&ROWS($A$10:$A$19))))),ROW(A13)),1),\"\")","v":""},{"$f":"IFERROR(INDEX($A$10:$A$29,SMALL((IF(LEN($A$10:$A$29),ROW(INDIRECT(\"1:\"&ROWS($A$10:$A$29))))),ROW(A13)),1),\"\")","v":""},null,9.3999999999999997E-4,1.5E-3,1,1,0,null,40,29.8,0.93,0.93,0.80215053763440858]
["",{"$f":"\"\"","v":""},"System 4 - PSZ-HP","System 4 - PSZ-HP","System 4 - PSZ-HP",{"$f":"\"\"","v":""},4,{"$f":"IFERROR(INDEX($A$10:$A$19,SMALL((IF(LEN($A$10:$A$19),ROW(INDIRECT(\"1:\"&ROWS($A$10:$A$19))))),ROW(A14)),1),\"\")","v":""},{"$f":"IFERROR(INDEX($A$10:$A$29,SMALL((IF(LEN($A$10:$A$29),ROW(INDIRECT(\"1:\"&ROWS($A$10:$A$29))))),ROW(A14)),1),\"\")","v":""},null,9.3999999999999997E-4,1.5E-3,1,1,0,null,50,37.299999999999997,0.93,0.93600000000000005,0.79700854700854695]
["",{"$f":"\"\"","v":""},"System 5 - Packaged VAV with Reheat","System 5 - Packaged VAV with Reheat","System 5 - Packaged VAV with Reheat",{"$f":"\"\"","v":""},5,{"$f":"IFERROR(INDEX($A$10:$A$19,SMALL((IF(LEN($A$10:$A$19),ROW(INDIRECT(\"1:\"&ROWS($A$10:$A$19))))),ROW(A15)),1),\"\")","v":""},{"$f":"IFERROR(INDEX($A$10:$A$29,SMALL((IF(LEN($A$10:$A$29),ROW(INDIRECT(\"1:\"&ROWS($A$10:$A$29))))),ROW(A15)),1),\"\")","v":""},null,1.2999999999999999E-3,2.0999999999999999E-3,1,1,0,null,60,44.8,0.93600000000000005,0.94099999999999995,0.7927736450584485]
["",{"$f":"\"\"","v":""},"System 6 - Packaged VAV with PFP Boxes","System 6 - Packaged VAV with PFP Boxes","System 6 - Packaged VAV with PFP Boxes",{"$f":"\"\"","v":""},6,{"$f":"IFERROR(INDEX($A$10:$A$19,SMALL((IF(LEN($A$10:$A$19),ROW(INDIRECT(\"1:\"&ROWS($A$10:$A$19))))),ROW(A16)),1),\"\")","v":""},{"$f":"IFERROR(INDEX($A$10:$A$29,SMALL((IF(LEN($A$10:$A$29),ROW(INDIRECT(\"1:\"&ROWS($A$10:$A$29))))),ROW(A16)),1),\"\")","v":""},null,1.2999999999999999E-3,2.0999999999999999E-3,1,1,0,null,75,56,0.94099999999999995,0.94499999999999995,0.78941798941798946]
["",{"$f":"\"\"","v":""},"System 7 - VAV with Reheat","System 7 - VAV with Reheat","System 7 - VAV with Reheat",{"$f":"\"\"","v":""},7,{"$f":"IFERROR(INDEX($A$10:$A$19,SMALL((IF(LEN($A$10:$A$19),ROW(INDIRECT(\"1:\"&ROWS($A$10:$A$19))))),ROW(A17)),1),\"\")","v":""},{"$f":"IFERROR(INDEX($A$10:$A$29,SMALL((IF(LEN($A$10:$A$29),ROW(INDIRECT(\"1:\"&ROWS($A$10:$A$29))))),ROW(A17)),1),\"\")","v":""},null,1.2999999999999999E-3,2.0999999999999999E-3,1,1,0,null,100,74.599999999999994,0.94499999999999995,0.94499999999999995,0.78941798941798946]
["",{"$f":"\"\"","v":""},"System 8 - VAV with PFP Boxes","System 8 - VAV with PFP Boxes","System 8 - VAV with PFP Boxes",{"$f":"\"\"","v":""},8,{"$f":"IFERROR(INDEX($A$10:$A$19,SMALL((IF(LEN($A$10:$A$19),ROW(INDIRECT(\"1:\"&ROWS($A$10:$A$19))))),ROW(A18)),1),\"\")","v":""},{"$f":"IFERROR(INDEX($A$10:$A$29,SMALL((IF(LEN($A$10:$A$29),ROW(INDIRECT(\"1:\"&ROWS($A$10:$A$29))))),ROW(A18)),1),\"\")","v":""},null,1.2999999999999999E-3,2.0999999999999999E-3,1,1,0,null,125,93.3,0.94499999999999995,0.95,0.78526315789473689]
["",{"$f":"\"\"","v":""},{"$f":"\"\"","v":""},"System 9 - Heating and Ventilation","System 9 - Heating and Ventilation",{"$f":"\"\"","v":""},9,{"$f":"IFERROR(INDEX($A$10:$A$19,SMALL((IF(LEN($A$10:$A$19),ROW(INDIRECT(\"1:\"&ROWS($A$10:$A$19))))),ROW(A19)),1),\"\")","v":""},{"$f":"IFERROR(INDEX($A$10:$A$29,SMALL((IF(LEN($A$10:$A$29),ROW(INDIRECT(\"1:\"&ROWS($A$10:$A$29))))),ROW(A19)),1),\"\")","v":""},null,2.9999999999999997E-4,6.4000000000000005E-4,0,0,1,null,150,111.9,0.95,0.95,0.78526315789473689]
["",{"$f":"\"\"","v":""},{"$f":"\"\"","v":""},"System 10 - Heating and Ventilation","System 10 - Heating and Ventilation",{"$f":"\"\"","v":""},10,{"$f":"IFERROR(INDEX($A$10:$A$19,SMALL((IF(LEN($A$10:$A$19),ROW(INDIRECT(\"1:\"&ROWS($A$10:$A$19))))),ROW(A20)),1),\"\")","v":""},{"$f":"IFERROR(INDEX($A$10:$A$29,SMALL((IF(LEN($A$10:$A$29),ROW(INDIRECT(\"1:\"&ROWS($A$10:$A$29))))),ROW(A20)),1),\"\")","v":""},null,2.9999999999999997E-4,6.4000000000000005E-4,0,0,1,null,200,149.19999999999999,0.95,0.95,0.78526315789473689]
[null,null,null,null,null,null,null,null,null,null,null,null,null,null,null,null,"*Note: Values provided for enclosed motors @ 1800 rpm as specified in ASHRAE 90.1-2010 Appendix G, Section G3.1.2.10"]

{"sheet":"District Energy Path 3","index":23,"n_rows":126,"n_cols":18,"rows_kept":126,"cut":false,"hidden":true,"merged":[[57,1,57,2],[57,6,57,15],[112,1,113,2],[112,3,112,4],[112,6,112,7],[112,8,114,8],[113,3,113,4],[113,6,113,7]]}
["Chilled Water Assumptions Used to Derive Average Efficiencies:"]
[]
[null,"3,000 Hours of CHW Plant Operation per year"]
[null,"1500 Equivalent full load hours of CHW operation per year"]
[null,"2 gpm/ton Chilled Water (ARI conditions)"]
[null,"90% fan motor efficiency for cooling tower"]
[null,"3 gpm/ton Chilled Water (ARI conditions)"]
[null,"Assume IPLV = Average chiller efficiency (kWh/ton-hr)"]
[null,"Assume 2-speed cooling towers use 38% of the energy that a 1-speed cooling tower would use"]
[null,"   (source: VSDs and their Effect on System Components (http://www.trane.com/Commercial/Uploads/PDF/ContinuingEducation/ENL_VSDsystemeffects_handouts.pdf)"]
[null,"Assume 50% of CHW pump power is used in primary loop, 50% in secondary loop"]
[null,"Assume average part-load performance of 72% for secondary CHW pumps riding the curve (up to 300 tons capacity)"]
[null,"Assume average part-load performance of 42% for secondary CHW pumps with VSD (above 300 tons capacity)"]
[]
[null,"Hours of Operation Assumed:"]
[null,null,"Total Annual Hours:",null,3000]
[null,null,"EFLH:",null,1500]
[]
[]
[null,null,null,"Chiller 1","Chiller 2","Chiller 3","PCHWP1","PCHWP2","PCHWP3+","SCHWP","CWP1","CWP2","CWP3+"]
[null,null,"1 Chiller",{"$f":"$E$16","v":3000},null,null,{"$f":"$E$16","v":3000},null,null,{"$f":"$E$16","v":3000},3000]
[null,null,"2 Chillers",{"$f":"$E$16","v":3000},{"$f":"40%*D21","v":1200},null,{"$f":"$E$16","v":3000},{"$f":"40%*G21","v":1200},null,3000,3000,{"$f":"40%*K21","v":1200}]
[null,null,"3 Chillers",{"$f":"$E$16","v":3000},{"$f":"50%*D22","v":1500},{"$f":"20%*D23","v":600},{"$f":"$E$16","v":3000},{"$f":"50%*G22","v":1500},{"$f":"20%*G23","v":600},3000,3000,{"$f":"50%*K22","v":1500},{"$f":"20%*K23","v":600}]
[]
[null,"ASHRAE 90.1 Appendix G requirement (assume Chiller Path A, Use IPLV)"]
[]
[null,"Cooling Tower Fans",38.200000000000003,"gpm/hp"]
[]
[null,null,"Calculated","kW/ton","=",3,"gpm/ton","/",{"$f":"C27","v":38.200000000000003},"gpm/hp","/",0.9,"fan motor efficiency",null,null,"x",0.746,"kW/hp"]
[null,null,{"$f":"3/38.2/90%*0.746","v":6.5095986038394421E-2},"kW/ton"]
[]
[null,null,"Calculated","kWh/ton-hr","=",{"$f":"C30","v":6.5095986038394421E-2},"kW/ton","x",0.38,"Average efficiency",null,"x",{"$f":"$E$16","v":3000},"Hours of Operation",null,"/",{"$f":"$E$17","v":1500},"Equivalent Full Load Hours of Operation"]
[null,null,{"$f":"F32*I32*M32/Q32","v":4.9472949389179753E-2},"kWh/ton-hr"]
[]
[]
[null,"CW Pump Power"]
[null,null,19,"W/gpm"]
[]
[null,null,"Calculated","kW/ton","-",{"$f":"C37","v":19},"W/gpm","x",3,"gpm/ton","/","1000 W/kW"]
[null,null,{"$f":"F39*I39/1000","v":5.7000000000000002E-2},"kW/ton"]
[]
[null,"Primary CHW Pump Power"]
[null,null,11,"W/gpm"]
[]
[null,null,"Calculated","kW/ton","-",{"$f":"C43","v":11},"W/gpm","x",2,"gpm/ton","/","1000 W/kW"]
[null,null,{"$f":"F45*I45/1000","v":2.1999999999999999E-2},"kW/ton"]
[]
[null,"Secondary CHW Pump Power"]
[null,null,11,"W/gpm"]
[]
[null,null,"Calculated","kW/ton","-",{"$f":"C49","v":11},"W/gpm","x",2,"gpm/ton","/","1000 W/kW"]
[null,null,{"$f":"F51*I51/1000","v":2.1999999999999999E-2},"kW/ton"]
[]
[null,"Chiller Type, Quantity, and Efficiency, and Pump Consumption"]
[null,"*Peak CHW Load assumes baseline chilled water system is 15% oversized, so it is 15% less than the chiller equipment thresholds in ASHRAE 90.1 Table 6.8"]
[null,null,"Oversize factor",1.1499999999999999,null,null,null,"*columns below include conversion factor of 0.2844 to convert from kWh/ton-hr to kWh/kWh",null,null,null,null,null,null,null,{"$f":"3413/12000","v":0.28441666666666665}]
[]
[null,"Min CHW Peak Load in this Range",null,null,null,null,"Average chilled water system efficiency Cooling Energy Input Ratio (kWh/kWh)",null,null,null,null,null,null,null,null,null,"Average COP"]
[null,"tons","kW","Qty Chillers","Type Chillers","IPLV (kW/kW)","Chillers","PCHWP1","PCHWP2","PCHWP3","SCHWP","CWP1","CWP2","CWP3","Tower Fans","Total:"]
[null,0,0,1,"Screw",5.5819999999999999,{"$f":"1/F60","v":0.1791472590469366},{"$f":"C$46*$G$21/$E$17*$P56","v":1.2514333333333332E-2},null,null,{"$f":"0.72*$C$52*$J$21/$E$17*$P56","v":9.0103199999999987E-3},{"$f":"$C$40/$D60*K$21/$E$17*$P56","v":3.2423500000000001E-2},null,null,{"$f":"$C$33*$P56","v":1.4070931355439208E-2},{"$f":"SUM(G60:O60)","v":0.24716634373570912},{"$f":"1/P60","v":4.0458582867143251}]
[null,{"$f":"75/$D$56","v":65.217391304347828},{"$f":"264/$D$56","v":229.56521739130437},1,"Screw",5.718,0.17488632388947184,{"$f":"C$46*$G$21/$E$17*$P56","v":1.2514333333333332E-2},null,null,{"$f":"0.72*$C$52*$J$21/$E$17*$P56","v":9.0103199999999987E-3},{"$f":"$C$40/$D61*K$21/$E$17*$P56","v":3.2423500000000001E-2},null,null,{"$f":"$C$33*$P56","v":1.4070931355439208E-2},0.24290540857824436,4.1168288752939866]
[null,{"$f":"150/$D$56","v":130.43478260869566},{"$f":"528/$D$56","v":459.13043478260875},1,"Screw",6.0640000000000001,0.16490765171503957,{"$f":"C$46*$G$21/$E$17*$P56","v":1.2514333333333332E-2},null,null,{"$f":"0.72*$C$52*$J$21/$E$17*$P56","v":9.0103199999999987E-3},{"$f":"$C$40/$D62*K$21/$E$17*$P56","v":3.2423500000000001E-2},null,null,{"$f":"$C$33*$P56","v":1.4070931355439208E-2},0.23292673640381209,4.2931954289109848]
[null,{"$f":"300/$D$56","v":260.86956521739131},{"$f":"1055/$D$56","v":917.39130434782612},2,"Screw",6.0640000000000001,0.16490765171503957,{"$f":"C$46/D63*$G$22/$E$17*$P56","v":6.2571666666666661E-3},{"$f":"C$46/D63*$H$22/$E$17*$P56","v":2.5028666666666662E-3},null,{"$f":"$C$52*0.42*$J$22/$E$17*$P56","v":5.2560199999999993E-3},{"$f":"$C$40/$D63*K$22/$E$17*$P56","v":1.621175E-2},{"$f":"$C$40/$D63*L$22/$E$17*$P56","v":6.4846999999999995E-3},null,{"$f":"$C$33*$P56","v":1.4070931355439208E-2},0.21569108640381213,4.6362602028338893]
[null,{"$f":"600/$D$56","v":521.73913043478262},{"$f":"2110/$D$56","v":1834.7826086956522},2,"Centrifugal",5.9009999999999998,0.16946280291476021,{"$f":"C$46/D64*$G$22/$E$17*$P56","v":6.2571666666666661E-3},{"$f":"C$46/D64*$H$22/$E$17*$P56","v":2.5028666666666662E-3},null,{"$f":"$C$52*0.42*$J$22/$E$17*$P56","v":5.2560199999999993E-3},{"$f":"$C$40/$D64*K$22/$E$17*$P56","v":1.621175E-2},{"$f":"$C$40/$D64*L$22/$E$17*$P56","v":6.4846999999999995E-3},null,{"$f":"$C$33*$P56","v":1.4070931355439208E-2},0.22024623760353276,4.5403726796010426]
[null,{"$f":"1200/$D$56","v":1043.4782608695652},{"$f":"4220/$D$56","v":3669.5652173913045},3,"Centrifugal",6.4059999999999997,0.15610365282547611,{"$f":"C$46/D65*$G$23/$E$17*$P56","v":4.1714444444444438E-3},{"$f":"C$46/D65*$H$23/$E$17*$P56","v":2.0857222222222219E-3},{"$f":"C$46/D65*$I$23/$E$17*$P56","v":8.3428888888888891E-4},{"$f":"$C$52*0.42*$J$23/$E$17*$P56","v":5.2560199999999993E-3},{"$f":"$C$40/$D65*K$23/$E$17*$P56","v":1.0807833333333332E-2},{"$f":"$C$40/D$65*L$23/$E$17*$P56","v":5.4039166666666662E-3},{"$f":"$C$40/D$65*M$23/$E$17*$P56","v":2.1615666666666665E-3},{"$f":"$C$33*$P56","v":1.4070931355439208E-2},0.20089537640313757,4.977715355645099]
[]
[null,"BUILDING SPECIFIC DES CHW Average Efficiency:"]
[]
[null,null,"Building CHW Peak Baseline Load from PRM Outputs (use 1,200 tons if not yet entered, or if units are not entered for District Chilled Water Demand)"]
[null,null,{"$f":"IF(OR(SUMIF(Performance_Outputs_1!$R$171:$R$218,\"District Cooling\",Performance_Outputs_1!$G$171:$G$218)=0,ISERROR(VLOOKUP(VLOOKUP(\"District Cooling\",Performance_Outputs_1!$B$17:$F$18,5,FALSE),DemandTable,3,FALSE)/12)),1200,(SUMIF(Performance_Outputs_1!$R$171:$R$218,\"District Cooling\",Performance_Outputs_1!$G$171:$G$218)*VLOOKUP(VLOOKUP(\"District Cooling\",Performance_Outputs_1!$B$17:$F$18,5,FALSE),DemandTable,3,FALSE)/12))","v":1200},"tons"]
[]
[null,null,"Average CHW Plant Efficiency for Project based on Building CHW Peak Load (includes chillers, cooling towers, condenser water pumps and chilled water pumps)"]
[null,null,{"$f":"IF(ISERROR(VLOOKUP($C$70,DESBaseCHWTable,16)),$Q$65,VLOOKUP($C$70,DESBaseCHWTable,16))","v":4.977715355645099},"COP"]
[]
["Hot Water Assumptions Used to Derive Average Efficiencies:"]
[]
[null,"3,000 Hours of HHW Plant Operation per year"]
[null,"1500 Equivalent full load hours of HHW operation per year"]
[null,"40 gpm / (Btuh*10^6) hot water flow (or 0.1366 gpm/kW) (based on 50 deg. loop delta T required by ASHRAE 90.1-2010)"]
[null,"Assume Average thermal efficiency (including part-load operation) = AFUE = Et = Ec)"]
[null,"Assume average part-load performance of 72% for secondary CHW pumps riding the curve (up to 300 tons capacity)"]
[null,"Assume average part-load performance of 42% for secondary CHW pumps with VSD (above 300 tons capacity)"]
[null,"Assume a capacity of 300,000 Btuh is roughly equivalent to a building size of 120,000 square feet (to allow average efficiency based on capacity range only rather than building size)"]
[]
[]
[null,"Relevant ASHRAE 90.1-2010 Requirements:"]
[null,"19 W/gpm pump power"]
[null,"Variable primary pumping"]
[null,"Variable speed pumps for buildings with 120,000 square feet or more"]
[null,"Riding the pump curve for buildings less than 120,000 square feet"]
[]
[null,"Boiler Efficiencies:"]
[null,"Gas-Fired:","<300,000 Btuh","80% AFUE"]
[null,null,"300,000 to 2,500,000","80% Et"]
[null,null,">=2500000","82% Ec"]
[]
[null,"Oil-Fired:","<300,000 Btuh","80% AFUE"]
[null,null,"300,000 to 2,500,000","82% Et"]
[null,null,">=2500000","84% Ec"]
[]
[]
[null,"HHW Pump Power"]
[null,null,19,"W/gpm"]
[null,null,"."]
[null,null,"Calculated","kW/kW","=",{"$f":"C103","v":19},"W/gpm","x",0.1366,"gpm/kW","/","1000 W/kW"]
[null,null,{"$f":"F105*I105/1000","v":2.5954000000000003E-3},"kW/kW"]
[]
[]
[null,"Boiler and HHW Loop Pump Average Efficiency"]
[null,"*Peak HHW Load assumes baseline HHW water system is 25% oversized, so it is 25% less than the chiller equipment thresholds in ASHRAE 90.1 Table 6.8"]
[null,null,"Oversize factor",1.25]
[]
[null,"Min HHW Peak Load in this Range",null,"Average Fuel Efficiency",null,"Average Pump Efficiency \n(electricity kWh/chilled water kWh)","Average Fuel COP",null,"Average Electrical COP"]
[null,null,null,"Fuel-type",null,"PHHWP","Fuel-type"]
[null,"Btuh","kW","Gas-Fired","Oil-Fired",null,"Gas-Fired","Oil-Fired"]
[null,0,0,0.8,0.8,{"$f":"$C$106*3000/1500*0.72","v":3.7373760000000002E-3},{"$f":"D116","v":0.8},0.8,{"$f":"1/F116","v":267.5674055808139}]
[null,{"$f":"300000/$D$111","v":240000},88,0.8,0.82,{"$f":"$C$106*3000/1500*0.42","v":2.1801360000000001E-3},0.8,0.82,{"$f":"1/F117","v":458.68698099568098}]
[null,{"$f":"2500000/$D$111","v":2000000},733,0.82,0.84,{"$f":"$C$106*3000/1500*0.42","v":2.1801360000000001E-3},0.82,0.84,{"$f":"1/F118","v":458.68698099568098}]
[]
[null,"BUILDING SPECIFIC DES Heating Average Efficiency:"]
[]
[null,null,"Building Heating Peak Baseline Load from PRM Outputs (use 2,000,000 Btuh if not yet entered, or if units are not entered for District Heating Demand)"]
[null,null,{"$f":"IF(SUMIF(Performance_Outputs_1!$R$171:$R$218,\"District Hot Water\",Performance_Outputs_1!$G$171:$G$218)+SUMIF(Performance_Outputs_1!$R$171:$R$218,\"District Steam\",Performance_Outputs_1!$G$171:$G$218)=0,3000000,IF(ISERROR(VLOOKUP(VLOOKUP(\"District Hot Water\",Performance_Outputs_1!$B$17:$F$18,5,FALSE),DemandTable,3,FALSE)),IF(ISERROR(VLOOKUP(VLOOKUP(\"District Steam\",Performance_Outputs_1!$B$17:$F$18,5,FALSE),DemandTable,3,FALSE)),3000000,(SUMIF(Performance_Outputs_1!$R$171:$R$218,\"District Steam\",Performance_Outputs_1!$G$171:$G$218)*(VLOOKUP(VLOOKUP(\"District Steam\",Performance_Outputs_1!$B$17:$F$18,5,FALSE),DemandTable,3,FALSE))/VLOOKUP(\"Btuh\",DemandTable,3,FALSE))),(SUMIF(Performance_Outputs_1!$R$171:$R$218,\"District Hot Water\",Performance_Outputs_1!$G$171:$G$218)*(VLOOKUP(VLOOKUP(\"District Hot Water\",Performance_Outputs_1!$B$17:$F$18,5,FALSE),DemandTable,3,FALSE))/VLOOKUP(\"Btuh\",DemandTable,3,FALSE))))","v":3000000},"Btuh"]
[]
[null,null,"Average District Heating Plant Efficiency for Project based on Building District Heating Peak Load (includes boilers, pumps). Use Max efficiency if central plant fuel source isn't defined, or maximum capacity is not listed."]
[null,null,{"$f":"(IF(ISERROR(VLOOKUP(Performance_Outputs_1!$B$253,DropdownData!$B$2:$D$14,3,FALSE)),$H$118,IF(VLOOKUP(Performance_Outputs_1!$B$253,DropdownData!$B$2:$D$14,3,FALSE)=\"Yes\",IF(ISERROR(VLOOKUP($C$123,DESBaseHHWTable,6)),$H$118,VLOOKUP($C$123,DESBaseHHWTable,6)),IF(ISERROR(VLOOKUP($C$123,DESBaseHHWTable,7)),$H$118,VLOOKUP($C$123,DESBaseHHWTable,7)))))","v":0.84},"Average Fuel COP",null,{"$f":"IF(ISERROR(VLOOKUP($C$123,DESBaseHHWTable,8)),$I$118,VLOOKUP($C$123,DESBaseHHWTable,8))","v":458.68698099568098},"Average Electrical COP"]